{"text_format":"3","workbook":"xlsx","n_sheets":1,"sheets":["表７－輸出入コンテナ仕向国・仕出国表"],"not_rendered":{"external_links":2,"defined_names":3},"read":"whole","date_system":"1900"}

{"sheet":"表７－輸出入コンテナ仕向国・仕出国表","index":0,"n_rows":2653,"n_cols":13,"rows_kept":2653}
["年","都道府県名","港湾コード","港名","港湾種別１","港湾種別２","輸出入","国名","地域","合計（TEU）","T/Sの内数（TEU）","コンテナ個数（TEU）","空コンテナ個数（TEU）"]
["H15","京都",26001,"舞鶴","甲種港湾","重要港湾","輸出","韓国","アジア",{"v":2935,"d":"2,935"},0,465,{"v":2470,"d":"2,470"}]
["H15","京都",26001,"舞鶴","甲種港湾","重要港湾","輸出","中国","アジア",680,0,129,551]
["H15","京都",26001,"舞鶴","甲種港湾","重要港湾","輸入","韓国","アジア",{"v":3052,"d":"3,052"},0,{"v":3032,"d":"3,032"},20]
["H15","京都",26001,"舞鶴","甲種港湾","重要港湾","輸入","中国","アジア",937,0,937,0]
["H15","大阪",27001,"大阪","甲種港湾","特定重要港湾","輸出","アメリカ合衆国","北米",{"v":52773,"d":"52,773"},{"v":6015,"d":"6,015"},{"v":48430,"d":"48,430"},{"v":4343,"d":"4,343"}]
["H15","大阪",27001,"大阪","甲種港湾","特定重要港湾","輸出","イギリス","ヨーロッパ",{"v":1185,"d":"1,185"},0,{"v":1185,"d":"1,185"},0]
["H15","大阪",27001,"大阪","甲種港湾","特定重要港湾","輸出","イスラエル","アジア",62,0,48,14]
["H15","大阪",27001,"大阪","甲種港湾","特定重要港湾","輸出","インドネシア","アジア",{"v":1810,"d":"1,810"},0,{"v":1810,"d":"1,810"},0]
["H15","大阪",27001,"大阪","甲種港湾","特定重要港湾","輸出","オーストラリア","オセアニア",{"v":22320,"d":"22,320"},0,{"v":14882,"d":"14,882"},{"v":7438,"d":"7,438"}]
["H15","大阪",27001,"大阪","甲種港湾","特定重要港湾","輸出","オランダ","ヨーロッパ",{"v":5463,"d":"5,463"},0,{"v":5460,"d":"5,460"},3]
["H15","大阪",27001,"大阪","甲種港湾","特定重要港湾","輸出","カナダ","北米",{"v":3942,"d":"3,942"},57,{"v":3624,"d":"3,624"},318]
["H15","大阪",27001,"大阪","甲種港湾","特定重要港湾","輸出","ジャマイカ","北米",{"v":2572,"d":"2,572"},8,{"v":2530,"d":"2,530"},42]
["H15","大阪",27001,"大阪","甲種港湾","特定重要港湾","輸出","シンガポール","アジア",{"v":13566,"d":"13,566"},1,{"v":10904,"d":"10,904"},{"v":2662,"d":"2,662"}]
["H15","大阪",27001,"大阪","甲種港湾","特定重要港湾","輸出","スリランカ","アジア",{"v":1104,"d":"1,104"},0,{"v":1104,"d":"1,104"},0]
["H15","大阪",27001,"大阪","甲種港湾","特定重要港湾","輸出","タイ","アジア",{"v":26846,"d":"26,846"},0,{"v":15892,"d":"15,892"},{"v":10954,"d":"10,954"}]
["H15","大阪",27001,"大阪","甲種港湾","特定重要港湾","輸出","ドイツ","ヨーロッパ",{"v":4501,"d":"4,501"},0,{"v":4501,"d":"4,501"},0]
["H15","大阪",27001,"大阪","甲種港湾","特定重要港湾","輸出","ニュージーランド","オセアニア",904,0,737,167]
["H15","大阪",27001,"大阪","甲種港湾","特定重要港湾","輸出","パナマ","北米",{"v":4199,"d":"4,199"},{"v":2125,"d":"2,125"},{"v":3885,"d":"3,885"},314]
["H15","大阪",27001,"大阪","甲種港湾","特定重要港湾","輸出","フィジー","オセアニア",1,0,1,0]
["H15","大阪",27001,"大阪","甲種港湾","特定重要港湾","輸出","フィリピン","アジア",{"v":3051,"d":"3,051"},0,{"v":2757,"d":"2,757"},294]
["H15","大阪",27001,"大阪","甲種港湾","特定重要港湾","輸出","フランス","ヨーロッパ",{"v":1213,"d":"1,213"},0,{"v":1213,"d":"1,213"},0]
["H15","大阪",27001,"大阪","甲種港湾","特定重要港湾","輸出","ベトナム","アジア",{"v":3849,"d":"3,849"},76,{"v":2724,"d":"2,724"},{"v":1125,"d":"1,125"}]
["H15","大阪",27001,"大阪","甲種港湾","特定重要港湾","輸出","ベルギー","ヨーロッパ",665,0,661,4]
["H15","大阪",27001,"大阪","甲種港湾","特定重要港湾","輸出","マレーシア","アジア",{"v":7222,"d":"7,222"},0,{"v":7066,"d":"7,066"},156]
["H15","大阪",27001,"大阪","甲種港湾","特定重要港湾","輸出","メキシコ","北米",1,0,1,0]
["H15","大阪",27001,"大阪","甲種港湾","特定重要港湾","輸出","韓国","アジア",{"v":73879,"d":"73,879"},67,{"v":36539,"d":"36,539"},{"v":37340,"d":"37,340"}]
["H15","大阪",27001,"大阪","甲種港湾","特定重要港湾","輸出","香港","アジア",{"v":57581,"d":"57,581"},130,{"v":46922,"d":"46,922"},{"v":10659,"d":"10,659"}]
["H15","大阪",27001,"大阪","甲種港湾","特定重要港湾","輸出","台湾","アジア",{"v":89033,"d":"89,033"},32,{"v":52511,"d":"52,511"},{"v":36522,"d":"36,522"}]
["H15","大阪",27001,"大阪","甲種港湾","特定重要港湾","輸出","中国","アジア",{"v":347265,"d":"347,265"},{"v":3900,"d":"3,900"},{"v":77186,"d":"77,186"},{"v":270077,"d":"270,077"}]
["H15","大阪",27001,"大阪","甲種港湾","特定重要港湾","輸入","アメリカ合衆国","北米",{"v":52896,"d":"52,896"},{"v":3890,"d":"3,890"},{"v":46305,"d":"46,305"},{"v":6591,"d":"6,591"}]
["H15","大阪",27001,"大阪","甲種港湾","特定重要港湾","輸入","イギリス","ヨーロッパ",848,1,770,78]
["H15","大阪",27001,"大阪","甲種港湾","特定重要港湾","輸入","イスラエル","アジア",33,0,33,0]
["H15","大阪",27001,"大阪","甲種港湾","特定重要港湾","輸入","インド","アジア",2,0,2,0]
["H15","大阪",27001,"大阪","甲種港湾","特定重要港湾","輸入","インドネシア","アジア",{"v":17392,"d":"17,392"},0,{"v":17392,"d":"17,392"},0]
["H15","大阪",27001,"大阪","甲種港湾","特定重要港湾","輸入","オーストラリア","オセアニア",{"v":37842,"d":"37,842"},77,{"v":34500,"d":"34,500"},{"v":3342,"d":"3,342"}]
["H15","大阪",27001,"大阪","甲種港湾","特定重要港湾","輸入","オランダ","ヨーロッパ",{"v":8949,"d":"8,949"},3,{"v":8935,"d":"8,935"},14]
["H15","大阪",27001,"大阪","甲種港湾","特定重要港湾","輸入","カナダ","北米",{"v":18099,"d":"18,099"},10,{"v":17990,"d":"17,990"},109]
["H15","大阪",27001,"大阪","甲種港湾","特定重要港湾","輸入","ジャマイカ","北米",185,0,70,115]
["H15","大阪",27001,"大阪","甲種港湾","特定重要港湾","輸入","シンガポール","アジア",{"v":20289,"d":"20,289"},3,{"v":20255,"d":"20,255"},34]
["H15","大阪",27001,"大阪","甲種港湾","特定重要港湾","輸入","スリランカ","アジア",468,0,468,0]
["H15","大阪",27001,"大阪","甲種港湾","特定重要港湾","輸入","タイ","アジア",{"v":49793,"d":"49,793"},0,{"v":49778,"d":"49,778"},15]
["H15","大阪",27001,"大阪","甲種港湾","特定重要港湾","輸入","ドイツ","ヨーロッパ",{"v":19935,"d":"19,935"},1,{"v":19875,"d":"19,875"},60]
["H15","大阪",27001,"大阪","甲種港湾","特定重要港湾","輸入","ニュージーランド","オセアニア",603,0,602,1]
["H15","大阪",27001,"大阪","甲種港湾","特定重要港湾","輸入","パキスタン","アジア",21,0,21,0]
["H15","大阪",27001,"大阪","甲種港湾","特定重要港湾","輸入","パナマ","北米",794,46,619,175]
["H15","大阪",27001,"大阪","甲種港湾","特定重要港湾","輸入","フィリピン","アジア",{"v":12786,"d":"12,786"},0,{"v":12683,"d":"12,683"},103]
["H15","大阪",27001,"大阪","甲種港湾","特定重要港湾","輸入","フランス","ヨーロッパ",{"v":1872,"d":"1,872"},0,{"v":1856,"d":"1,856"},16]
["H15","大阪",27001,"大阪","甲種港湾","特定重要港湾","輸入","ベトナム","アジア",{"v":6966,"d":"6,966"},0,{"v":6965,"d":"6,965"},1]
["H15","大阪",27001,"大阪","甲種港湾","特定重要港湾","輸入","ベルギー","ヨーロッパ",{"v":1347,"d":"1,347"},0,{"v":1347,"d":"1,347"},0]
["H15","大阪",27001,"大阪","甲種港湾","特定重要港湾","輸入","マレーシア","アジア",{"v":14798,"d":"14,798"},0,{"v":14789,"d":"14,789"},9]
["H15","大阪",27001,"大阪","甲種港湾","特定重要港湾","輸入","韓国","アジア",{"v":63354,"d":"63,354"},94,{"v":58639,"d":"58,639"},{"v":4715,"d":"4,715"}]
["H15","大阪",27001,"大阪","甲種港湾","特定重要港湾","輸入","香港","アジア",{"v":95310,"d":"95,310"},255,{"v":94912,"d":"94,912"},398]
["H15","大阪",27001,"大阪","甲種港湾","特定重要港湾","輸入","台湾","アジア",{"v":61124,"d":"61,124"},125,{"v":59785,"d":"59,785"},{"v":1339,"d":"1,339"}]
["H15","大阪",27001,"大阪","甲種港湾","特定重要港湾","輸入","中国","アジア",{"v":398917,"d":"398,917"},{"v":7906,"d":"7,906"},{"v":397463,"d":"397,463"},{"v":1454,"d":"1,454"}]
["H15","大阪",27002,"堺泉北","甲種港湾","特定重要港湾","輸出","アメリカ合衆国","北米",436,0,32,404]
["H15","大阪",27002,"堺泉北","甲種港湾","特定重要港湾","輸出","エクアドル","南米",366,0,14,352]
["H15","大阪",27002,"堺泉北","甲種港湾","特定重要港湾","輸出","ペルー","南米",32,0,32,0]
["H15","大阪",27002,"堺泉北","甲種港湾","特定重要港湾","輸出","香港","アジア",464,0,464,0]
["H15","大阪",27002,"堺泉北","甲種港湾","特定重要港湾","輸出","台湾","アジア",118,0,90,28]
["H15","大阪",27002,"堺泉北","甲種港湾","特定重要港湾","輸出","中国","アジア",{"v":5068,"d":"5,068"},0,486,{"v":4582,"d":"4,582"}]
["H15","大阪",27002,"堺泉北","甲種港湾","特定重要港湾","輸入","アメリカ合衆国","北米",48,0,4,44]
["H15","大阪",27002,"堺泉北","甲種港湾","特定重要港湾","輸入","エクアドル","南米",24,0,20,4]
["H15","大阪",27002,"堺泉北","甲種港湾","特定重要港湾","輸入","チリ","南米",2,0,2,0]
["H15","大阪",27002,"堺泉北","甲種港湾","特定重要港湾","輸入","香港","アジア",995,0,995,0]
["H15","大阪",27002,"堺泉北","甲種港湾","特定重要港湾","輸入","台湾","アジア",{"v":2320,"d":"2,320"},0,{"v":2316,"d":"2,316"},4]
["H15","大阪",27002,"堺泉北","甲種港湾","特定重要港湾","輸入","中国","アジア",{"v":3550,"d":"3,550"},0,{"v":3522,"d":"3,522"},28]
["H15","兵庫",28001,"神戸","甲種港湾","特定重要港湾","輸出","アメリカ合衆国","北米",{"v":124460,"d":"124,460"},0,{"v":113297,"d":"113,297"},{"v":11163,"d":"11,163"}]
["H15","兵庫",28001,"神戸","甲種港湾","特定重要港湾","輸出","アラブ首長国連邦","アジア",31,0,31,0]
["H15","兵庫",28001,"神戸","甲種港湾","特定重要港湾","輸出","アルゼンチン","南米",721,0,721,0]
["H15","兵庫",28001,"神戸","甲種港湾","特定重要港湾","輸出","イギリス","ヨーロッパ",{"v":14832,"d":"14,832"},0,{"v":14757,"d":"14,757"},75]
["H15","兵庫",28001,"神戸","甲種港湾","特定重要港湾","輸出","イタリア","ヨーロッパ",{"v":9175,"d":"9,175"},0,{"v":9151,"d":"9,151"},24]
["H15","兵庫",28001,"神戸","甲種港湾","特定重要港湾","輸出","インドネシア","アジア",{"v":10849,"d":"10,849"},0,{"v":10715,"d":"10,715"},134]
["H15","兵庫",28001,"神戸","甲種港湾","特定重要港湾","輸出","ウルグアイ","南米",47,0,47,0]
["H15","兵庫",28001,"神戸","甲種港湾","特定重要港湾","輸出","エクアドル","南米",56,0,56,0]
["H15","兵庫",28001,"神戸","甲種港湾","特定重要港湾","輸出","エジプト","アフリカ",{"v":2876,"d":"2,876"},0,{"v":2856,"d":"2,856"},20]
["H15","兵庫",28001,"神戸","甲種港湾","特定重要港湾","輸出","エルサルバドル","北米",366,0,366,0]
["H15","兵庫",28001,"神戸","甲種港湾","特定重要港湾","輸出","オーストラリア","オセアニア",669,0,122,547]
["H15","兵庫",28001,"神戸","甲種港湾","特定重要港湾","輸出","オランダ","ヨーロッパ",{"v":34236,"d":"34,236"},0,{"v":33274,"d":"33,274"},962]
["H15","兵庫",28001,"神戸","甲種港湾","特定重要港湾","輸出","カナダ","北米",{"v":8111,"d":"8,111"},0,{"v":6962,"d":"6,962"},{"v":1149,"d":"1,149"}]
["H15","兵庫",28001,"神戸","甲種港湾","特定重要港湾","輸出","キリバス","オセアニア",5,0,5,0]
["H15","兵庫",28001,"神戸","甲種港湾","特定重要港湾","輸出","グアテマラ","北米",560,0,560,0]
["H15","兵庫",28001,"神戸","甲種港湾","特定重要港湾","輸出","グアム","オセアニア",98,0,98,0]
["H15","兵庫",28001,"神戸","甲種港湾","特定重要港湾","輸出","コスタリカ","北米",350,0,178,172]
["H15","兵庫",28001,"神戸","甲種港湾","特定重要港湾","輸出","コロンビア","南米",325,0,325,0]
["H15","兵庫",28001,"神戸","甲種港湾","特定重要港湾","輸出","サウジアラビア","アジア",3,0,3,0]
["H15","兵庫",28001,"神戸","甲種港湾","特定重要港湾","輸出","サモア独立国","オセアニア",10,0,10,0]
["H15","兵庫",28001,"神戸","甲種港湾","特定重要港湾","輸出","シンガポール","アジア",{"v":67891,"d":"67,891"},0,{"v":64729,"d":"64,729"},{"v":3162,"d":"3,162"}]
["H15","兵庫",28001,"神戸","甲種港湾","特定重要港湾","輸出","スウェーデン","ヨーロッパ",843,0,839,4]
["H15","兵庫",28001,"神戸","甲種港湾","特定重要港湾","輸出","スペイン","ヨーロッパ",{"v":2462,"d":"2,462"},0,{"v":2390,"d":"2,390"},72]
["H15","兵庫",28001,"神戸","甲種港湾","特定重要港湾","輸出","ソロモン諸島","オセアニア",7,0,7,0]
["H15","兵庫",28001,"神戸","甲種港湾","特定重要港湾","輸出","タイ","アジア",{"v":34472,"d":"34,472"},0,{"v":28939,"d":"28,939"},{"v":5533,"d":"5,533"}]
["H15","兵庫",28001,"神戸","甲種港湾","特定重要港湾","輸出","チリ","南米",439,0,250,189]
["H15","兵庫",28001,"神戸","甲種港湾","特定重要港湾","輸出","デンマーク","ヨーロッパ",22,0,20,2]
["H15","兵庫",28001,"神戸","甲種港湾","特定重要港湾","輸出","ドイツ","ヨーロッパ",{"v":15529,"d":"15,529"},0,{"v":15343,"d":"15,343"},186]
["H15","兵庫",28001,"神戸","甲種港湾","特定重要港湾","輸出","トルコ","アジア",8,0,8,0]
["H15","兵庫",28001,"神戸","甲種港湾","特定重要港湾","輸出","トンガ","オセアニア",6,0,6,0]
["H15","兵庫",28001,"神戸","甲種港湾","特定重要港湾","輸出","ニカラグア","北米",344,0,344,0]
["H15","兵庫",28001,"神戸","甲種港湾","特定重要港湾","輸出","ニューカレドニア","オセアニア",88,0,79,9]
["H15","兵庫",28001,"神戸","甲種港湾","特定重要港湾","輸出","ニュージーランド","オセアニア",{"v":3886,"d":"3,886"},0,{"v":1956,"d":"1,956"},{"v":1930,"d":"1,930"}]
["H15","兵庫",28001,"神戸","甲種港湾","特定重要港湾","輸出","パナマ","北米",{"v":6860,"d":"6,860"},0,{"v":6564,"d":"6,564"},296]
["H15","兵庫",28001,"神戸","甲種港湾","特定重要港湾","輸出","バヌアツ","オセアニア",11,0,11,0]
["H15","兵庫",28001,"神戸","甲種港湾","特定重要港湾","輸出","パプアニューギニア","オセアニア",63,0,62,1]
["H15","兵庫",28001,"神戸","甲種港湾","特定重要港湾","輸出","パラオ","オセアニア",11,0,11,0]
["H15","兵庫",28001,"神戸","甲種港湾","特定重要港湾","輸出","フィジー","オセアニア",202,0,172,30]
["H15","兵庫",28001,"神戸","甲種港湾","特定重要港湾","輸出","フィリピン","アジア",{"v":11243,"d":"11,243"},0,{"v":8586,"d":"8,586"},{"v":2657,"d":"2,657"}]
["H15","兵庫",28001,"神戸","甲種港湾","特定重要港湾","輸出","ブラジル","南米",{"v":2650,"d":"2,650"},0,{"v":2136,"d":"2,136"},514]
["H15","兵庫",28001,"神戸","甲種港湾","特定重要港湾","輸出","フランス","ヨーロッパ",{"v":4125,"d":"4,125"},0,{"v":3853,"d":"3,853"},272]
["H15","兵庫",28001,"神戸","甲種港湾","特定重要港湾","輸出","ベトナム","アジア",{"v":7008,"d":"7,008"},0,{"v":5471,"d":"5,471"},{"v":1537,"d":"1,537"}]
["H15","兵庫",28001,"神戸","甲種港湾","特定重要港湾","輸出","ペルー","南米",122,0,122,0]
["H15","兵庫",28001,"神戸","甲種港湾","特定重要港湾","輸出","ベルギー","ヨーロッパ",25,0,25,0]
["H15","兵庫",28001,"神戸","甲種港湾","特定重要港湾","輸出","ホンジュラス","北米",89,0,89,0]
["H15","兵庫",28001,"神戸","甲種港湾","特定重要港湾","輸出","マーシャル諸島","オセアニア",20,0,20,0]
["H15","兵庫",28001,"神戸","甲種港湾","特定重要港湾","輸出","マルタ","ヨーロッパ",{"v":1334,"d":"1,334"},0,{"v":1331,"d":"1,331"},3]
["H15","兵庫",28001,"神戸","甲種港湾","特定重要港湾","輸出","マレーシア","アジア",{"v":28257,"d":"28,257"},0,{"v":27283,"d":"27,283"},974]
["H15","兵庫",28001,"神戸","甲種港湾","特定重要港湾","輸出","ミクロネシア","オセアニア",100,0,90,10]
["H15","兵庫",28001,"神戸","甲種港湾","特定重要港湾","輸出","メキシコ","北米",{"v":2492,"d":"2,492"},0,{"v":1824,"d":"1,824"},668]
["H15","兵庫",28001,"神戸","甲種港湾","特定重要港湾","輸出","モーリシャス","アフリカ",407,0,407,0]
["H15","兵庫",28001,"神戸","甲種港湾","特定重要港湾","輸出","ロシア","ヨーロッパ",{"v":1681,"d":"1,681"},0,{"v":1680,"d":"1,680"},1]
["H15","兵庫",28001,"神戸","甲種港湾","特定重要港湾","輸出","韓国","アジア",{"v":51970,"d":"51,970"},0,{"v":38413,"d":"38,413"},{"v":13557,"d":"13,557"}]
["H15","兵庫",28001,"神戸","甲種港湾","特定重要港湾","輸出","香港","アジア",{"v":104723,"d":"104,723"},0,{"v":87026,"d":"87,026"},{"v":17695,"d":"17,695"}]
["H15","兵庫",28001,"神戸","甲種港湾","特定重要港湾","輸出","台湾","アジア",{"v":86611,"d":"86,611"},0,{"v":74432,"d":"74,432"},{"v":12179,"d":"12,179"}]
["H15","兵庫",28001,"神戸","甲種港湾","特定重要港湾","輸出","中国","アジア",{"v":258306,"d":"258,306"},0,{"v":152010,"d":"152,010"},{"v":106297,"d":"106,297"}]
["H15","兵庫",28001,"神戸","甲種港湾","特定重要港湾","輸出","南アフリカ","アフリカ",341,0,299,42]
["H15","兵庫",28001,"神戸","甲種港湾","特定重要港湾","輸出","仏領ポリネシア","オセアニア",94,0,94,0]
["H15","兵庫",28001,"神戸","甲種港湾","特定重要港湾","輸出","米領サモア","オセアニア",11,0,11,0]
["H15","兵庫",28001,"神戸","甲種港湾","特定重要港湾","輸出","北マリアナ諸島","オセアニア",50,0,50,0]
["H15","兵庫",28001,"神戸","甲種港湾","特定重要港湾","輸出","北朝鮮","アジア",39,0,36,3]
["H15","兵庫",28001,"神戸","甲種港湾","特定重要港湾","輸入","アメリカ合衆国","北米",{"v":209221,"d":"209,221"},{"v":3660,"d":"3,660"},{"v":193902,"d":"193,902"},{"v":15318,"d":"15,318"}]
["H15","兵庫",28001,"神戸","甲種港湾","特定重要港湾","輸入","アルゼンチン","南米",427,0,370,57]
["H15","兵庫",28001,"神戸","甲種港湾","特定重要港湾","輸入","イギリス","ヨーロッパ",{"v":10794,"d":"10,794"},4,{"v":8459,"d":"8,459"},{"v":2335,"d":"2,335"}]
["H15","兵庫",28001,"神戸","甲種港湾","特定重要港湾","輸入","イタリア","ヨーロッパ",{"v":10901,"d":"10,901"},92,{"v":10709,"d":"10,709"},192]
["H15","兵庫",28001,"神戸","甲種港湾","特定重要港湾","輸入","インドネシア","アジア",{"v":2839,"d":"2,839"},0,{"v":2725,"d":"2,725"},114]
["H15","兵庫",28001,"神戸","甲種港湾","特定重要港湾","輸入","ウルグアイ","南米",22,0,20,2]
["H15","兵庫",28001,"神戸","甲種港湾","特定重要港湾","輸入","エクアドル","南米",5,0,5,0]
["H15","兵庫",28001,"神戸","甲種港湾","特定重要港湾","輸入","エジプト","アフリカ",947,0,794,153]
["H15","兵庫",28001,"神戸","甲種港湾","特定重要港湾","輸入","エルサルバドル","北米",179,0,84,95]
["H15","兵庫",28001,"神戸","甲種港湾","特定重要港湾","輸入","オーストラリア","オセアニア",1,0,1,0]
["H15","兵庫",28001,"神戸","甲種港湾","特定重要港湾","輸入","オランダ","ヨーロッパ",{"v":29812,"d":"29,812"},5,{"v":28474,"d":"28,474"},{"v":1338,"d":"1,338"}]
["H15","兵庫",28001,"神戸","甲種港湾","特定重要港湾","輸入","カナダ","北米",{"v":29705,"d":"29,705"},{"v":1496,"d":"1,496"},{"v":29259,"d":"29,259"},446]
["H15","兵庫",28001,"神戸","甲種港湾","特定重要港湾","輸入","グアテマラ","北米",608,0,494,114]
["H15","兵庫",28001,"神戸","甲種港湾","特定重要港湾","輸入","グアム","オセアニア",22,0,2,20]
["H15","兵庫",28001,"神戸","甲種港湾","特定重要港湾","輸入","コスタリカ","北米",99,0,17,82]
["H15","兵庫",28001,"神戸","甲種港湾","特定重要港湾","輸入","コロンビア","南米",299,0,276,23]
["H15","兵庫",28001,"神戸","甲種港湾","特定重要港湾","輸入","サモア独立国","オセアニア",4,0,4,0]
["H15","兵庫",28001,"神戸","甲種港湾","特定重要港湾","輸入","シンガポール","アジア",{"v":55158,"d":"55,158"},352,{"v":51316,"d":"51,316"},{"v":3842,"d":"3,842"}]
["H15","兵庫",28001,"神戸","甲種港湾","特定重要港湾","輸入","スペイン","ヨーロッパ",{"v":1781,"d":"1,781"},0,{"v":1699,"d":"1,699"},82]
["H15","兵庫",28001,"神戸","甲種港湾","特定重要港湾","輸入","ソロモン諸島","オセアニア",9,0,9,0]
["H15","兵庫",28001,"神戸","甲種港湾","特定重要港湾","輸入","タイ","アジア",{"v":23369,"d":"23,369"},2,{"v":22842,"d":"22,842"},527]
["H15","兵庫",28001,"神戸","甲種港湾","特定重要港湾","輸入","チリ","南米",{"v":1058,"d":"1,058"},0,{"v":1022,"d":"1,022"},36]
["H15","兵庫",28001,"神戸","甲種港湾","特定重要港湾","輸入","ドイツ","ヨーロッパ",{"v":62304,"d":"62,304"},12,{"v":61015,"d":"61,015"},{"v":1289,"d":"1,289"}]
["H15","兵庫",28001,"神戸","甲種港湾","特定重要港湾","輸入","トンガ","オセアニア",3,0,3,0]
["H15","兵庫",28001,"神戸","甲種港湾","特定重要港湾","輸入","ニカラグア","北米",119,0,36,83]
["H15","兵庫",28001,"神戸","甲種港湾","特定重要港湾","輸入","ニューカレドニア","オセアニア",5,0,5,0]
["H15","兵庫",28001,"神戸","甲種港湾","特定重要港湾","輸入","ニュージーランド","オセアニア",{"v":8562,"d":"8,562"},151,{"v":7386,"d":"7,386"},{"v":1176,"d":"1,176"}]
["H15","兵庫",28001,"神戸","甲種港湾","特定重要港湾","輸入","パナマ","北米",{"v":8989,"d":"8,989"},41,{"v":7739,"d":"7,739"},{"v":1250,"d":"1,250"}]
["H15","兵庫",28001,"神戸","甲種港湾","特定重要港湾","輸入","バヌアツ","オセアニア",31,0,31,0]
["H15","兵庫",28001,"神戸","甲種港湾","特定重要港湾","輸入","パプアニューギニア","オセアニア",40,0,40,0]
["H15","兵庫",28001,"神戸","甲種港湾","特定重要港湾","輸入","パラオ","オセアニア",9,0,0,9]
["H15","兵庫",28001,"神戸","甲種港湾","特定重要港湾","輸入","フィジー","オセアニア",5,0,5,0]
["H15","兵庫",28001,"神戸","甲種港湾","特定重要港湾","輸入","フィリピン","アジア",{"v":7050,"d":"7,050"},{"v":1588,"d":"1,588"},{"v":6947,"d":"6,947"},103]
["H15","兵庫",28001,"神戸","甲種港湾","特定重要港湾","輸入","ブラジル","南米",{"v":4558,"d":"4,558"},0,{"v":4373,"d":"4,373"},185]
["H15","兵庫",28001,"神戸","甲種港湾","特定重要港湾","輸入","フランス","ヨーロッパ",{"v":9364,"d":"9,364"},7,{"v":8140,"d":"8,140"},{"v":1224,"d":"1,224"}]
["H15","兵庫",28001,"神戸","甲種港湾","特定重要港湾","輸入","ベトナム","アジア",{"v":8524,"d":"8,524"},0,{"v":8467,"d":"8,467"},57]
["H15","兵庫",28001,"神戸","甲種港湾","特定重要港湾","輸入","ペルー","南米",933,0,892,41]
["H15","兵庫",28001,"神戸","甲種港湾","特定重要港湾","輸入","ホンジュラス","北米",59,0,32,27]
["H15","兵庫",28001,"神戸","甲種港湾","特定重要港湾","輸入","マルタ","ヨーロッパ",673,0,673,0]
["H15","兵庫",28001,"神戸","甲種港湾","特定重要港湾","輸入","マレーシア","アジア",{"v":18437,"d":"18,437"},227,{"v":17622,"d":"17,622"},815]
["H15","兵庫",28001,"神戸","甲種港湾","特定重要港湾","輸入","ミクロネシア","オセアニア",75,1,2,73]
["H15","兵庫",28001,"神戸","甲種港湾","特定重要港湾","輸入","メキシコ","北米",{"v":6692,"d":"6,692"},0,{"v":5748,"d":"5,748"},944]
["H15","兵庫",28001,"神戸","甲種港湾","特定重要港湾","輸入","モーリシャス","アフリカ",718,0,11,707]
["H15","兵庫",28001,"神戸","甲種港湾","特定重要港湾","輸入","ロシア","ヨーロッパ",{"v":1919,"d":"1,919"},0,{"v":1321,"d":"1,321"},598]
["H15","兵庫",28001,"神戸","甲種港湾","特定重要港湾","輸入","韓国","アジア",{"v":39014,"d":"39,014"},672,{"v":28600,"d":"28,600"},{"v":10414,"d":"10,414"}]
["H15","兵庫",28001,"神戸","甲種港湾","特定重要港湾","輸入","香港","アジア",{"v":61454,"d":"61,454"},262,{"v":57858,"d":"57,858"},{"v":3596,"d":"3,596"}]
["H15","兵庫",28001,"神戸","甲種港湾","特定重要港湾","輸入","台湾","アジア",{"v":43015,"d":"43,015"},68,{"v":40376,"d":"40,376"},{"v":2639,"d":"2,639"}]
["H15","兵庫",28001,"神戸","甲種港湾","特定重要港湾","輸入","中国","アジア",{"v":201936,"d":"201,936"},{"v":11581,"d":"11,581"},{"v":193414,"d":"193,414"},{"v":8522,"d":"8,522"}]
["H15","兵庫",28001,"神戸","甲種港湾","特定重要港湾","輸入","南アフリカ","アフリカ",950,0,334,616]
["H15","兵庫",28001,"神戸","甲種港湾","特定重要港湾","輸入","仏領ポリネシア","オセアニア",14,0,14,0]
["H15","兵庫",28001,"神戸","甲種港湾","特定重要港湾","輸入","米領サモア","オセアニア",27,0,27,0]
["H15","兵庫",28001,"神戸","甲種港湾","特定重要港湾","輸入","北マリアナ諸島","オセアニア",48,0,1,47]
["H15","兵庫",28002,"姫路","甲種港湾","特定重要港湾","輸出","韓国","アジア",{"v":1462,"d":"1,462"},0,345,{"v":1117,"d":"1,117"}]
["H15","兵庫",28002,"姫路","甲種港湾","特定重要港湾","輸出","香港","アジア",4,0,4,0]
["H15","兵庫",28002,"姫路","甲種港湾","特定重要港湾","輸出","中国","アジア",1,0,1,0]
["H15","兵庫",28002,"姫路","甲種港湾","特定重要港湾","輸入","韓国","アジア",{"v":1139,"d":"1,139"},0,{"v":1119,"d":"1,119"},20]
["H15","兵庫",28002,"姫路","甲種港湾","特定重要港湾","輸入","中国","アジア",456,0,456,0]
["H15","和歌山",30001,"和歌山下津","甲種港湾","特定重要港湾","輸出","韓国","アジア",{"v":1131,"d":"1,131"},0,0,{"v":1131,"d":"1,131"}]
["H15","和歌山",30001,"和歌山下津","甲種港湾","特定重要港湾","輸出","諸国","未分類",{"v":2670,"d":"2,670"},0,0,{"v":2670,"d":"2,670"}]
["H15","和歌山",30001,"和歌山下津","甲種港湾","特定重要港湾","輸入","諸国","未分類",{"v":3400,"d":"3,400"},0,0,{"v":3400,"d":"3,400"}]
["H16","京都",26001,"舞鶴","甲種港湾","重要港湾","輸出","韓国","アジア",{"v":2529,"d":"2,529"},0,662,{"v":1867,"d":"1,867"}]
["H16","京都",26001,"舞鶴","甲種港湾","重要港湾","輸出","中国","アジア",{"v":3176,"d":"3,176"},0,327,{"v":2849,"d":"2,849"}]
["H16","京都",26001,"舞鶴","甲種港湾","重要港湾","輸入","韓国","アジア",{"v":2700,"d":"2,700"},0,{"v":2694,"d":"2,694"},6]
["H16","京都",26001,"舞鶴","甲種港湾","重要港湾","輸入","中国","アジア",{"v":3007,"d":"3,007"},0,{"v":3007,"d":"3,007"},0]
["H16","大阪",27001,"大阪","甲種港湾","特定重要港湾","輸出","アメリカ合衆国","北米",{"v":55025,"d":"55,025"},{"v":3517,"d":"3,517"},{"v":53915,"d":"53,915"},{"v":1110,"d":"1,110"}]
["H16","大阪",27001,"大阪","甲種港湾","特定重要港湾","輸出","イギリス","ヨーロッパ",{"v":1149,"d":"1,149"},64,{"v":1149,"d":"1,149"},0]
["H16","大阪",27001,"大阪","甲種港湾","特定重要港湾","輸出","イスラエル","アジア",45,0,43,2]
["H16","大阪",27001,"大阪","甲種港湾","特定重要港湾","輸出","インドネシア","アジア",{"v":1955,"d":"1,955"},0,{"v":1955,"d":"1,955"},0]
["H16","大阪",27001,"大阪","甲種港湾","特定重要港湾","輸出","エジプト","アフリカ",1,0,1,0]
["H16","大阪",27001,"大阪","甲種港湾","特定重要港湾","輸出","オーストラリア","オセアニア",{"v":21327,"d":"21,327"},0,{"v":13973,"d":"13,973"},{"v":7354,"d":"7,354"}]
["H16","大阪",27001,"大阪","甲種港湾","特定重要港湾","輸出","オランダ","ヨーロッパ",{"v":5820,"d":"5,820"},139,{"v":5812,"d":"5,812"},8]
["H16","大阪",27001,"大阪","甲種港湾","特定重要港湾","輸出","カナダ","北米",{"v":5154,"d":"5,154"},{"v":1379,"d":"1,379"},{"v":5110,"d":"5,110"},44]
["H16","大阪",27001,"大阪","甲種港湾","特定重要港湾","輸出","ジャマイカ","北米",{"v":4797,"d":"4,797"},0,{"v":4771,"d":"4,771"},26]
["H16","大阪",27001,"大阪","甲種港湾","特定重要港湾","輸出","シンガポール","アジア",{"v":10262,"d":"10,262"},0,{"v":9812,"d":"9,812"},450]
["H16","大阪",27001,"大阪","甲種港湾","特定重要港湾","輸出","スリランカ","アジア",{"v":1368,"d":"1,368"},0,{"v":1368,"d":"1,368"},0]
["H16","大阪",27001,"大阪","甲種港湾","特定重要港湾","輸出","タイ","アジア",{"v":19782,"d":"19,782"},0,{"v":15053,"d":"15,053"},{"v":4729,"d":"4,729"}]
["H16","大阪",27001,"大阪","甲種港湾","特定重要港湾","輸出","ドイツ","ヨーロッパ",{"v":4594,"d":"4,594"},36,{"v":4594,"d":"4,594"},0]
["H16","大阪",27001,"大阪","甲種港湾","特定重要港湾","輸出","ニューカレドニア","オセアニア",2,0,2,0]
["H16","大阪",27001,"大阪","甲種港湾","特定重要港湾","輸出","ニュージーランド","オセアニア",994,0,962,32]
["H16","大阪",27001,"大阪","甲種港湾","特定重要港湾","輸出","パナマ","北米",{"v":2198,"d":"2,198"},186,{"v":2098,"d":"2,098"},100]
["H16","大阪",27001,"大阪","甲種港湾","特定重要港湾","輸出","パプアニューギニア","オセアニア",6,0,6,0]
["H16","大阪",27001,"大阪","甲種港湾","特定重要港湾","輸出","フィリピン","アジア",{"v":2195,"d":"2,195"},0,{"v":1894,"d":"1,894"},301]
["H16","大阪",27001,"大阪","甲種港湾","特定重要港湾","輸出","フランス","ヨーロッパ",{"v":1334,"d":"1,334"},0,{"v":1334,"d":"1,334"},0]
["H16","大阪",27001,"大阪","甲種港湾","特定重要港湾","輸出","ベトナム","アジア",{"v":4597,"d":"4,597"},32,{"v":3779,"d":"3,779"},818]
["H16","大阪",27001,"大阪","甲種港湾","特定重要港湾","輸出","ベルギー","ヨーロッパ",510,4,510,0]
["H16","大阪",27001,"大阪","甲種港湾","特定重要港湾","輸出","マレーシア","アジア",{"v":7126,"d":"7,126"},103,{"v":6679,"d":"6,679"},447]
["H16","大阪",27001,"大阪","甲種港湾","特定重要港湾","輸出","ロシア","ヨーロッパ",3,0,3,0]
["H16","大阪",27001,"大阪","甲種港湾","特定重要港湾","輸出","韓国","アジア",{"v":87223,"d":"87,223"},4,{"v":41073,"d":"41,073"},{"v":46150,"d":"46,150"}]
["H16","大阪",27001,"大阪","甲種港湾","特定重要港湾","輸出","香港","アジア",{"v":65916,"d":"65,916"},72,{"v":53191,"d":"53,191"},{"v":12725,"d":"12,725"}]
["H16","大阪",27001,"大阪","甲種港湾","特定重要港湾","輸出","台湾","アジア",{"v":86577,"d":"86,577"},0,{"v":55056,"d":"55,056"},{"v":31521,"d":"31,521"}]
["H16","大阪",27001,"大阪","甲種港湾","特定重要港湾","輸出","中国","アジア",{"v":379185,"d":"379,185"},{"v":1103,"d":"1,103"},{"v":88527,"d":"88,527"},{"v":290658,"d":"290,658"}]
["H16","大阪",27001,"大阪","甲種港湾","特定重要港湾","輸入","アメリカ合衆国","北米",{"v":48443,"d":"48,443"},{"v":1133,"d":"1,133"},{"v":36830,"d":"36,830"},{"v":11613,"d":"11,613"}]
["H16","大阪",27001,"大阪","甲種港湾","特定重要港湾","輸入","アラブ首長国連邦","アジア",2,0,2,0]
["H16","大阪",27001,"大阪","甲種港湾","特定重要港湾","輸入","イギリス","ヨーロッパ",{"v":1775,"d":"1,775"},0,{"v":1689,"d":"1,689"},86]
["H16","大阪",27001,"大阪","甲種港湾","特定重要港湾","輸入","インド","アジア",4,0,4,0]
["H16","大阪",27001,"大阪","甲種港湾","特定重要港湾","輸入","インドネシア","アジア",{"v":14172,"d":"14,172"},2,{"v":14153,"d":"14,153"},19]
["H16","大阪",27001,"大阪","甲種港湾","特定重要港湾","輸入","オーストラリア","オセアニア",{"v":40255,"d":"40,255"},33,{"v":35101,"d":"35,101"},{"v":5154,"d":"5,154"}]
["H16","大阪",27001,"大阪","甲種港湾","特定重要港湾","輸入","オランダ","ヨーロッパ",{"v":7394,"d":"7,394"},1,{"v":7384,"d":"7,384"},10]
["H16","大阪",27001,"大阪","甲種港湾","特定重要港湾","輸入","カナダ","北米",{"v":14637,"d":"14,637"},0,{"v":13955,"d":"13,955"},682]
["H16","大阪",27001,"大阪","甲種港湾","特定重要港湾","輸入","サウジアラビア","アジア",3,0,3,0]
["H16","大阪",27001,"大阪","甲種港湾","特定重要港湾","輸入","ジャマイカ","北米",584,0,174,410]
["H16","大阪",27001,"大阪","甲種港湾","特定重要港湾","輸入","シンガポール","アジア",{"v":21158,"d":"21,158"},0,{"v":21083,"d":"21,083"},75]
["H16","大阪",27001,"大阪","甲種港湾","特定重要港湾","輸入","スウェーデン","ヨーロッパ",21,0,21,0]
["H16","大阪",27001,"大阪","甲種港湾","特定重要港湾","輸入","スリランカ","アジア",551,22,551,0]
["H16","大阪",27001,"大阪","甲種港湾","特定重要港湾","輸入","タイ","アジア",{"v":54088,"d":"54,088"},0,{"v":54034,"d":"54,034"},54]
["H16","大阪",27001,"大阪","甲種港湾","特定重要港湾","輸入","デンマーク","ヨーロッパ",2,0,2,0]
["H16","大阪",27001,"大阪","甲種港湾","特定重要港湾","輸入","ドイツ","ヨーロッパ",{"v":18032,"d":"18,032"},0,{"v":18024,"d":"18,024"},8]
["H16","大阪",27001,"大阪","甲種港湾","特定重要港湾","輸入","ニュージーランド","オセアニア",426,42,351,75]
["H16","大阪",27001,"大阪","甲種港湾","特定重要港湾","輸入","ノルウェー","ヨーロッパ",1,0,1,0]
["H16","大阪",27001,"大阪","甲種港湾","特定重要港湾","輸入","バーレーン","アジア",5,0,5,0]
["H16","大阪",27001,"大阪","甲種港湾","特定重要港湾","輸入","パナマ","北米",{"v":2463,"d":"2,463"},0,{"v":1613,"d":"1,613"},850]
["H16","大阪",27001,"大阪","甲種港湾","特定重要港湾","輸入","フィリピン","アジア",{"v":12677,"d":"12,677"},0,{"v":12639,"d":"12,639"},38]
["H16","大阪",27001,"大阪","甲種港湾","特定重要港湾","輸入","フィンランド","ヨーロッパ",50,0,50,0]
["H16","大阪",27001,"大阪","甲種港湾","特定重要港湾","輸入","フランス","ヨーロッパ",{"v":1266,"d":"1,266"},0,{"v":1228,"d":"1,228"},38]
["H16","大阪",27001,"大阪","甲種港湾","特定重要港湾","輸入","ベトナム","アジア",{"v":7764,"d":"7,764"},0,{"v":7761,"d":"7,761"},3]
["H16","大阪",27001,"大阪","甲種港湾","特定重要港湾","輸入","ベルギー","ヨーロッパ",{"v":1230,"d":"1,230"},0,{"v":1230,"d":"1,230"},0]
["H16","大阪",27001,"大阪","甲種港湾","特定重要港湾","輸入","ポーランド","ヨーロッパ",10,0,10,0]
["H16","大阪",27001,"大阪","甲種港湾","特定重要港湾","輸入","マレーシア","アジア",{"v":14986,"d":"14,986"},253,{"v":14986,"d":"14,986"},0]
["H16","大阪",27001,"大阪","甲種港湾","特定重要港湾","輸入","韓国","アジア",{"v":73563,"d":"73,563"},14,{"v":66745,"d":"66,745"},{"v":6819,"d":"6,819"}]
["H16","大阪",27001,"大阪","甲種港湾","特定重要港湾","輸入","香港","アジア",{"v":110122,"d":"110,122"},{"v":1011,"d":"1,011"},{"v":109674,"d":"109,674"},448]
["H16","大阪",27001,"大阪","甲種港湾","特定重要港湾","輸入","台湾","アジア",{"v":66654,"d":"66,654"},{"v":1032,"d":"1,032"},{"v":64709,"d":"64,709"},{"v":1944,"d":"1,944"}]
["H16","大阪",27001,"大阪","甲種港湾","特定重要港湾","輸入","中国","アジア",{"v":444084,"d":"444,084"},{"v":3096,"d":"3,096"},{"v":441779,"d":"441,779"},{"v":2306,"d":"2,306"}]
["H16","大阪",27002,"堺泉北","甲種港湾","特定重要港湾","輸出","アメリカ合衆国","北米",454,0,94,360]
["H16","大阪",27002,"堺泉北","甲種港湾","特定重要港湾","輸出","エクアドル","南米",192,0,56,136]
["H16","大阪",27002,"堺泉北","甲種港湾","特定重要港湾","輸出","香港","アジア",149,0,149,0]
["H16","大阪",27002,"堺泉北","甲種港湾","特定重要港湾","輸出","台湾","アジア",152,0,152,0]
["H16","大阪",27002,"堺泉北","甲種港湾","特定重要港湾","輸出","中国","アジア",{"v":8630,"d":"8,630"},0,724,{"v":7906,"d":"7,906"}]
["H16","大阪",27002,"堺泉北","甲種港湾","特定重要港湾","輸入","アメリカ合衆国","北米",92,0,51,41]
["H16","大阪",27002,"堺泉北","甲種港湾","特定重要港湾","輸入","エクアドル","南米",24,0,24,0]
["H16","大阪",27002,"堺泉北","甲種港湾","特定重要港湾","輸入","ペルー","南米",40,0,0,40]
["H16","大阪",27002,"堺泉北","甲種港湾","特定重要港湾","輸入","香港","アジア",{"v":2099,"d":"2,099"},0,{"v":2099,"d":"2,099"},0]
["H16","大阪",27002,"堺泉北","甲種港湾","特定重要港湾","輸入","台湾","アジア",{"v":3094,"d":"3,094"},0,{"v":3094,"d":"3,094"},0]
["H16","大阪",27002,"堺泉北","甲種港湾","特定重要港湾","輸入","中国","アジア",{"v":5135,"d":"5,135"},0,{"v":5098,"d":"5,098"},37]
["H16","兵庫",28001,"神戸","甲種港湾","特定重要港湾","輸出","アメリカ合衆国","北米",{"v":123845,"d":"123,845"},0,{"v":119101,"d":"119,101"},{"v":4744,"d":"4,744"}]
["H16","兵庫",28001,"神戸","甲種港湾","特定重要港湾","輸出","アラブ首長国連邦","アジア",39,0,39,0]
["H16","兵庫",28001,"神戸","甲種港湾","特定重要港湾","輸出","アルゼンチン","南米",955,0,955,0]
["H16","兵庫",28001,"神戸","甲種港湾","特定重要港湾","輸出","イギリス","ヨーロッパ",{"v":15744,"d":"15,744"},0,{"v":15682,"d":"15,682"},62]
["H16","兵庫",28001,"神戸","甲種港湾","特定重要港湾","輸出","イタリア","ヨーロッパ",{"v":3836,"d":"3,836"},0,{"v":3836,"d":"3,836"},0]
["H16","兵庫",28001,"神戸","甲種港湾","特定重要港湾","輸出","イラン","アジア",130,0,130,0]
["H16","兵庫",28001,"神戸","甲種港湾","特定重要港湾","輸出","インドネシア","アジア",{"v":12346,"d":"12,346"},0,{"v":12219,"d":"12,219"},127]
["H16","兵庫",28001,"神戸","甲種港湾","特定重要港湾","輸出","ウルグアイ","南米",78,0,78,0]
["H16","兵庫",28001,"神戸","甲種港湾","特定重要港湾","輸出","エクアドル","南米",31,0,31,0]
["H16","兵庫",28001,"神戸","甲種港湾","特定重要港湾","輸出","エジプト","アフリカ",{"v":2699,"d":"2,699"},0,{"v":2689,"d":"2,689"},10]
["H16","兵庫",28001,"神戸","甲種港湾","特定重要港湾","輸出","エルサルバドル","北米",213,0,213,0]
["H16","兵庫",28001,"神戸","甲種港湾","特定重要港湾","輸出","オーストラリア","オセアニア",297,0,86,211]
["H16","兵庫",28001,"神戸","甲種港湾","特定重要港湾","輸出","オランダ","ヨーロッパ",{"v":36316,"d":"36,316"},0,{"v":35231,"d":"35,231"},{"v":1085,"d":"1,085"}]
["H16","兵庫",28001,"神戸","甲種港湾","特定重要港湾","輸出","カナダ","北米",{"v":7212,"d":"7,212"},0,{"v":6719,"d":"6,719"},493]
["H16","兵庫",28001,"神戸","甲種港湾","特定重要港湾","輸出","キリバス","オセアニア",8,0,8,0]
["H16","兵庫",28001,"神戸","甲種港湾","特定重要港湾","輸出","グアテマラ","北米",345,0,285,60]
["H16","兵庫",28001,"神戸","甲種港湾","特定重要港湾","輸出","グアム","オセアニア",128,0,60,68]
["H16","兵庫",28001,"神戸","甲種港湾","特定重要港湾","輸出","コスタリカ","北米",146,0,136,10]
["H16","兵庫",28001,"神戸","甲種港湾","特定重要港湾","輸出","コロンビア","南米",117,0,117,0]
["H16","兵庫",28001,"神戸","甲種港湾","特定重要港湾","輸出","サモア独立国","オセアニア",9,0,9,0]
["H16","兵庫",28001,"神戸","甲種港湾","特定重要港湾","輸出","シンガポール","アジア",{"v":73936,"d":"73,936"},0,{"v":71713,"d":"71,713"},{"v":2223,"d":"2,223"}]
["H16","兵庫",28001,"神戸","甲種港湾","特定重要港湾","輸出","スウェーデン","ヨーロッパ",762,0,756,6]
["H16","兵庫",28001,"神戸","甲種港湾","特定重要港湾","輸出","スペイン","ヨーロッパ",{"v":1235,"d":"1,235"},0,{"v":1235,"d":"1,235"},0]
["H16","兵庫",28001,"神戸","甲種港湾","特定重要港湾","輸出","ソロモン諸島","オセアニア",24,0,19,5]
["H16","兵庫",28001,"神戸","甲種港湾","特定重要港湾","輸出","タイ","アジア",{"v":37152,"d":"37,152"},0,{"v":34006,"d":"34,006"},{"v":3146,"d":"3,146"}]
["H16","兵庫",28001,"神戸","甲種港湾","特定重要港湾","輸出","チリ","南米",306,0,232,74]
["H16","兵庫",28001,"神戸","甲種港湾","特定重要港湾","輸出","デンマーク","ヨーロッパ",131,0,131,0]
["H16","兵庫",28001,"神戸","甲種港湾","特定重要港湾","輸出","ドイツ","ヨーロッパ",{"v":20111,"d":"20,111"},0,{"v":19814,"d":"19,814"},297]
["H16","兵庫",28001,"神戸","甲種港湾","特定重要港湾","輸出","トンガ","オセアニア",4,0,4,0]
["H16","兵庫",28001,"神戸","甲種港湾","特定重要港湾","輸出","ニカラグア","北米",40,0,40,0]
["H16","兵庫",28001,"神戸","甲種港湾","特定重要港湾","輸出","ニューカレドニア","オセアニア",136,0,128,8]
["H16","兵庫",28001,"神戸","甲種港湾","特定重要港湾","輸出","ニュージーランド","オセアニア",{"v":3816,"d":"3,816"},0,{"v":2338,"d":"2,338"},{"v":1478,"d":"1,478"}]
["H16","兵庫",28001,"神戸","甲種港湾","特定重要港湾","輸出","パナマ","北米",{"v":6365,"d":"6,365"},0,{"v":6215,"d":"6,215"},150]
["H16","兵庫",28001,"神戸","甲種港湾","特定重要港湾","輸出","バヌアツ","オセアニア",23,0,13,10]
["H16","兵庫",28001,"神戸","甲種港湾","特定重要港湾","輸出","パプアニューギニア","オセアニア",107,0,107,0]
["H16","兵庫",28001,"神戸","甲種港湾","特定重要港湾","輸出","パラオ","オセアニア",13,0,13,0]
["H16","兵庫",28001,"神戸","甲種港湾","特定重要港湾","輸出","フィジー","オセアニア",160,0,159,1]
["H16","兵庫",28001,"神戸","甲種港湾","特定重要港湾","輸出","フィリピン","アジア",{"v":11889,"d":"11,889"},0,{"v":8370,"d":"8,370"},{"v":3519,"d":"3,519"}]
["H16","兵庫",28001,"神戸","甲種港湾","特定重要港湾","輸出","ブラジル","南米",{"v":4358,"d":"4,358"},0,{"v":3445,"d":"3,445"},913]
["H16","兵庫",28001,"神戸","甲種港湾","特定重要港湾","輸出","フランス","ヨーロッパ",{"v":2977,"d":"2,977"},0,{"v":2733,"d":"2,733"},244]
["H16","兵庫",28001,"神戸","甲種港湾","特定重要港湾","輸出","ベトナム","アジア",{"v":6948,"d":"6,948"},0,{"v":5993,"d":"5,993"},955]
["H16","兵庫",28001,"神戸","甲種港湾","特定重要港湾","輸出","ペルー","南米",268,0,238,30]
["H16","兵庫",28001,"神戸","甲種港湾","特定重要港湾","輸出","マーシャル諸島","オセアニア",17,0,17,0]
["H16","兵庫",28001,"神戸","甲種港湾","特定重要港湾","輸出","マレーシア","アジア",{"v":39740,"d":"39,740"},0,{"v":38418,"d":"38,418"},{"v":1322,"d":"1,322"}]
["H16","兵庫",28001,"神戸","甲種港湾","特定重要港湾","輸出","ミクロネシア","オセアニア",52,0,51,1]
["H16","兵庫",28001,"神戸","甲種港湾","特定重要港湾","輸出","メキシコ","北米",{"v":1725,"d":"1,725"},0,538,{"v":1187,"d":"1,187"}]
["H16","兵庫",28001,"神戸","甲種港湾","特定重要港湾","輸出","モーリシャス","アフリカ",327,0,327,0]
["H16","兵庫",28001,"神戸","甲種港湾","特定重要港湾","輸出","ロシア","ヨーロッパ",{"v":1824,"d":"1,824"},0,{"v":1822,"d":"1,822"},2]
["H16","兵庫",28001,"神戸","甲種港湾","特定重要港湾","輸出","韓国","アジア",{"v":55790,"d":"55,790"},0,{"v":43128,"d":"43,128"},{"v":12662,"d":"12,662"}]
["H16","兵庫",28001,"神戸","甲種港湾","特定重要港湾","輸出","香港","アジア",{"v":116537,"d":"116,537"},0,{"v":106960,"d":"106,960"},{"v":9577,"d":"9,577"}]
["H16","兵庫",28001,"神戸","甲種港湾","特定重要港湾","輸出","台湾","アジア",{"v":92147,"d":"92,147"},0,{"v":83766,"d":"83,766"},{"v":8381,"d":"8,381"}]
["H16","兵庫",28001,"神戸","甲種港湾","特定重要港湾","輸出","中国","アジア",{"v":271771,"d":"271,771"},0,{"v":161723,"d":"161,723"},{"v":110047,"d":"110,047"}]
["H16","兵庫",28001,"神戸","甲種港湾","特定重要港湾","輸出","南アフリカ","アフリカ",314,0,304,10]
["H16","兵庫",28001,"神戸","甲種港湾","特定重要港湾","輸出","仏領ポリネシア","オセアニア",98,0,98,0]
["H16","兵庫",28001,"神戸","甲種港湾","特定重要港湾","輸出","米領サモア","オセアニア",10,0,10,0]
["H16","兵庫",28001,"神戸","甲種港湾","特定重要港湾","輸出","北マリアナ諸島","オセアニア",41,0,41,0]
["H16","兵庫",28001,"神戸","甲種港湾","特定重要港湾","輸出","北朝鮮","アジア",42,0,41,1]
["H16","兵庫",28001,"神戸","甲種港湾","特定重要港湾","輸入","アメリカ合衆国","北米",{"v":192078,"d":"192,078"},{"v":2735,"d":"2,735"},{"v":170415,"d":"170,415"},{"v":21663,"d":"21,663"}]
["H16","兵庫",28001,"神戸","甲種港湾","特定重要港湾","輸入","アルゼンチン","南米",895,0,764,131]
["H16","兵庫",28001,"神戸","甲種港湾","特定重要港湾","輸入","イギリス","ヨーロッパ",{"v":9555,"d":"9,555"},0,{"v":7975,"d":"7,975"},{"v":1580,"d":"1,580"}]
["H16","兵庫",28001,"神戸","甲種港湾","特定重要港湾","輸入","イタリア","ヨーロッパ",197,0,165,32]
["H16","兵庫",28001,"神戸","甲種港湾","特定重要港湾","輸入","イラン","アジア",8,0,8,0]
["H16","兵庫",28001,"神戸","甲種港湾","特定重要港湾","輸入","インドネシア","アジア",{"v":2525,"d":"2,525"},0,{"v":2429,"d":"2,429"},96]
["H16","兵庫",28001,"神戸","甲種港湾","特定重要港湾","輸入","ウルグアイ","南米",83,0,47,36]
["H16","兵庫",28001,"神戸","甲種港湾","特定重要港湾","輸入","エクアドル","南米",48,0,46,2]
["H16","兵庫",28001,"神戸","甲種港湾","特定重要港湾","輸入","エルサルバドル","北米",97,0,54,43]
["H16","兵庫",28001,"神戸","甲種港湾","特定重要港湾","輸入","オーストラリア","オセアニア",5,0,5,0]
["H16","兵庫",28001,"神戸","甲種港湾","特定重要港湾","輸入","オランダ","ヨーロッパ",{"v":31853,"d":"31,853"},22,{"v":31079,"d":"31,079"},774]
["H16","兵庫",28001,"神戸","甲種港湾","特定重要港湾","輸入","カナダ","北米",{"v":38023,"d":"38,023"},{"v":2164,"d":"2,164"},{"v":36857,"d":"36,857"},{"v":1166,"d":"1,166"}]
["H16","兵庫",28001,"神戸","甲種港湾","特定重要港湾","輸入","グアテマラ","北米",413,0,358,55]
["H16","兵庫",28001,"神戸","甲種港湾","特定重要港湾","輸入","グアム","オセアニア",21,0,0,21]
["H16","兵庫",28001,"神戸","甲種港湾","特定重要港湾","輸入","コスタリカ","北米",30,0,23,7]
["H16","兵庫",28001,"神戸","甲種港湾","特定重要港湾","輸入","コロンビア","南米",283,0,281,2]
["H16","兵庫",28001,"神戸","甲種港湾","特定重要港湾","輸入","サモア独立国","オセアニア",1,0,1,0]
["H16","兵庫",28001,"神戸","甲種港湾","特定重要港湾","輸入","シンガポール","アジア",{"v":59538,"d":"59,538"},53,{"v":57320,"d":"57,320"},{"v":2218,"d":"2,218"}]
["H16","兵庫",28001,"神戸","甲種港湾","特定重要港湾","輸入","スウェーデン","ヨーロッパ",966,0,966,0]
["H16","兵庫",28001,"神戸","甲種港湾","特定重要港湾","輸入","スペイン","ヨーロッパ",{"v":8581,"d":"8,581"},0,{"v":8211,"d":"8,211"},370]
["H16","兵庫",28001,"神戸","甲種港湾","特定重要港湾","輸入","ソロモン諸島","オセアニア",11,0,11,0]
["H16","兵庫",28001,"神戸","甲種港湾","特定重要港湾","輸入","タイ","アジア",{"v":31893,"d":"31,893"},56,{"v":31417,"d":"31,417"},476]
["H16","兵庫",28001,"神戸","甲種港湾","特定重要港湾","輸入","チリ","南米",{"v":1218,"d":"1,218"},0,{"v":1154,"d":"1,154"},64]
["H16","兵庫",28001,"神戸","甲種港湾","特定重要港湾","輸入","デンマーク","ヨーロッパ",{"v":1525,"d":"1,525"},0,{"v":1525,"d":"1,525"},0]
["H16","兵庫",28001,"神戸","甲種港湾","特定重要港湾","輸入","ドイツ","ヨーロッパ",{"v":62719,"d":"62,719"},14,{"v":62171,"d":"62,171"},548]
["H16","兵庫",28001,"神戸","甲種港湾","特定重要港湾","輸入","トンガ","オセアニア",2,0,2,0]
["H16","兵庫",28001,"神戸","甲種港湾","特定重要港湾","輸入","ニカラグア","北米",54,0,23,31]
["H16","兵庫",28001,"神戸","甲種港湾","特定重要港湾","輸入","ニューカレドニア","オセアニア",10,0,0,10]
["H16","兵庫",28001,"神戸","甲種港湾","特定重要港湾","輸入","ニュージーランド","オセアニア",{"v":9438,"d":"9,438"},211,{"v":8248,"d":"8,248"},{"v":1190,"d":"1,190"}]
["H16","兵庫",28001,"神戸","甲種港湾","特定重要港湾","輸入","パナマ","北米",{"v":11577,"d":"11,577"},29,{"v":8823,"d":"8,823"},{"v":2754,"d":"2,754"}]
["H16","兵庫",28001,"神戸","甲種港湾","特定重要港湾","輸入","バヌアツ","オセアニア",32,0,32,0]
["H16","兵庫",28001,"神戸","甲種港湾","特定重要港湾","輸入","パプアニューギニア","オセアニア",51,0,51,0]
["H16","兵庫",28001,"神戸","甲種港湾","特定重要港湾","輸入","パラオ","オセアニア",1,0,1,0]
["H16","兵庫",28001,"神戸","甲種港湾","特定重要港湾","輸入","フィジー","オセアニア",16,0,16,0]
["H16","兵庫",28001,"神戸","甲種港湾","特定重要港湾","輸入","フィリピン","アジア",{"v":7316,"d":"7,316"},{"v":1642,"d":"1,642"},{"v":7251,"d":"7,251"},65]
["H16","兵庫",28001,"神戸","甲種港湾","特定重要港湾","輸入","ブラジル","南米",{"v":5975,"d":"5,975"},0,{"v":5460,"d":"5,460"},515]
["H16","兵庫",28001,"神戸","甲種港湾","特定重要港湾","輸入","フランス","ヨーロッパ",{"v":7216,"d":"7,216"},0,{"v":6676,"d":"6,676"},540]
["H16","兵庫",28001,"神戸","甲種港湾","特定重要港湾","輸入","ベトナム","アジア",{"v":8711,"d":"8,711"},0,{"v":8691,"d":"8,691"},20]
["H16","兵庫",28001,"神戸","甲種港湾","特定重要港湾","輸入","ペルー","南米",405,0,271,134]
["H16","兵庫",28001,"神戸","甲種港湾","特定重要港湾","輸入","マレーシア","アジア",{"v":19902,"d":"19,902"},15,{"v":19178,"d":"19,178"},724]
["H16","兵庫",28001,"神戸","甲種港湾","特定重要港湾","輸入","ミクロネシア","オセアニア",62,0,17,45]
["H16","兵庫",28001,"神戸","甲種港湾","特定重要港湾","輸入","メキシコ","北米",{"v":8354,"d":"8,354"},161,{"v":5730,"d":"5,730"},{"v":2624,"d":"2,624"}]
["H16","兵庫",28001,"神戸","甲種港湾","特定重要港湾","輸入","モーリシャス","アフリカ",316,0,12,304]
["H16","兵庫",28001,"神戸","甲種港湾","特定重要港湾","輸入","ロシア","ヨーロッパ",{"v":1719,"d":"1,719"},0,{"v":1034,"d":"1,034"},685]
["H16","兵庫",28001,"神戸","甲種港湾","特定重要港湾","輸入","韓国","アジア",{"v":45013,"d":"45,013"},705,{"v":33821,"d":"33,821"},{"v":11192,"d":"11,192"}]
["H16","兵庫",28001,"神戸","甲種港湾","特定重要港湾","輸入","香港","アジア",{"v":63406,"d":"63,406"},874,{"v":58052,"d":"58,052"},{"v":5354,"d":"5,354"}]
["H16","兵庫",28001,"神戸","甲種港湾","特定重要港湾","輸入","台湾","アジア",{"v":48153,"d":"48,153"},559,{"v":45598,"d":"45,598"},{"v":2555,"d":"2,555"}]
["H16","兵庫",28001,"神戸","甲種港湾","特定重要港湾","輸入","中国","アジア",{"v":212822,"d":"212,822"},{"v":6585,"d":"6,585"},{"v":202501,"d":"202,501"},{"v":10321,"d":"10,321"}]
["H16","兵庫",28001,"神戸","甲種港湾","特定重要港湾","輸入","南アフリカ","アフリカ",{"v":1771,"d":"1,771"},0,692,{"v":1079,"d":"1,079"}]
["H16","兵庫",28001,"神戸","甲種港湾","特定重要港湾","輸入","仏領ポリネシア","オセアニア",12,0,12,0]
["H16","兵庫",28001,"神戸","甲種港湾","特定重要港湾","輸入","米領サモア","オセアニア",44,0,44,0]
["H16","兵庫",28001,"神戸","甲種港湾","特定重要港湾","輸入","北マリアナ諸島","オセアニア",3,0,0,3]
["H16","兵庫",28002,"姫路","甲種港湾","特定重要港湾","輸出","韓国","アジア",{"v":1338,"d":"1,338"},0,124,{"v":1214,"d":"1,214"}]
["H16","兵庫",28002,"姫路","甲種港湾","特定重要港湾","輸出","中国","アジア",11,0,11,0]
["H16","兵庫",28002,"姫路","甲種港湾","特定重要港湾","輸入","韓国","アジア",{"v":1172,"d":"1,172"},0,{"v":1172,"d":"1,172"},0]
["H16","兵庫",28002,"姫路","甲種港湾","特定重要港湾","輸入","中国","アジア",438,0,438,0]
["H16","和歌山",30001,"和歌山下津","甲種港湾","特定重要港湾","輸出","韓国","アジア",{"v":4119,"d":"4,119"},0,{"v":1762,"d":"1,762"},{"v":2357,"d":"2,357"}]
["H16","和歌山",30001,"和歌山下津","甲種港湾","特定重要港湾","輸入","韓国","アジア",{"v":3767,"d":"3,767"},0,{"v":3443,"d":"3,443"},324]
["H17","京都",26001,"舞鶴","甲種港湾","重要港湾","輸出","韓国","アジア",{"v":2189,"d":"2,189"},0,603,{"v":1586,"d":"1,586"}]
["H17","京都",26001,"舞鶴","甲種港湾","重要港湾","輸出","中国","アジア",{"v":1554,"d":"1,554"},0,112,{"v":1442,"d":"1,442"}]
["H17","京都",26001,"舞鶴","甲種港湾","重要港湾","輸入","韓国","アジア",{"v":2486,"d":"2,486"},0,{"v":2472,"d":"2,472"},14]
["H17","京都",26001,"舞鶴","甲種港湾","重要港湾","輸入","中国","アジア",{"v":1712,"d":"1,712"},0,{"v":1712,"d":"1,712"},0]
["H17","大阪",27001,"大阪","甲種港湾","特定重要港湾","輸出","アメリカ合衆国","北米",{"v":51840,"d":"51,840"},11,{"v":50886,"d":"50,886"},954]
["H17","大阪",27001,"大阪","甲種港湾","特定重要港湾","輸出","イギリス","ヨーロッパ",250,33,240,10]
["H17","大阪",27001,"大阪","甲種港湾","特定重要港湾","輸出","イスラエル","アジア",52,0,49,3]
["H17","大阪",27001,"大阪","甲種港湾","特定重要港湾","輸出","インドネシア","アジア",{"v":1878,"d":"1,878"},0,{"v":1878,"d":"1,878"},0]
["H17","大阪",27001,"大阪","甲種港湾","特定重要港湾","輸出","オーストラリア","オセアニア",{"v":21630,"d":"21,630"},2,{"v":14292,"d":"14,292"},{"v":7338,"d":"7,338"}]
["H17","大阪",27001,"大阪","甲種港湾","特定重要港湾","輸出","オランダ","ヨーロッパ",{"v":5884,"d":"5,884"},75,{"v":5876,"d":"5,876"},8]
["H17","大阪",27001,"大阪","甲種港湾","特定重要港湾","輸出","カナダ","北米",{"v":4545,"d":"4,545"},20,{"v":4539,"d":"4,539"},6]
["H17","大阪",27001,"大阪","甲種港湾","特定重要港湾","輸出","ジャマイカ","北米",{"v":6558,"d":"6,558"},92,{"v":6532,"d":"6,532"},26]
["H17","大阪",27001,"大阪","甲種港湾","特定重要港湾","輸出","シンガポール","アジア",{"v":9508,"d":"9,508"},0,{"v":9287,"d":"9,287"},221]
["H17","大阪",27001,"大阪","甲種港湾","特定重要港湾","輸出","スリランカ","アジア",{"v":1496,"d":"1,496"},0,{"v":1324,"d":"1,324"},172]
["H17","大阪",27001,"大阪","甲種港湾","特定重要港湾","輸出","タイ","アジア",{"v":17869,"d":"17,869"},0,{"v":12892,"d":"12,892"},{"v":4977,"d":"4,977"}]
["H17","大阪",27001,"大阪","甲種港湾","特定重要港湾","輸出","ドイツ","ヨーロッパ",{"v":5846,"d":"5,846"},209,{"v":5837,"d":"5,837"},9]
["H17","大阪",27001,"大阪","甲種港湾","特定重要港湾","輸出","ニュージーランド","オセアニア",648,0,592,56]
["H17","大阪",27001,"大阪","甲種港湾","特定重要港湾","輸出","パナマ","北米",{"v":1647,"d":"1,647"},2,{"v":1645,"d":"1,645"},2]
["H17","大阪",27001,"大阪","甲種港湾","特定重要港湾","輸出","フィリピン","アジア",{"v":2264,"d":"2,264"},4,{"v":2118,"d":"2,118"},146]
["H17","大阪",27001,"大阪","甲種港湾","特定重要港湾","輸出","フランス","ヨーロッパ",{"v":1811,"d":"1,811"},0,{"v":1811,"d":"1,811"},0]
["H17","大阪",27001,"大阪","甲種港湾","特定重要港湾","輸出","ベトナム","アジア",{"v":4329,"d":"4,329"},0,{"v":3854,"d":"3,854"},475]
["H17","大阪",27001,"大阪","甲種港湾","特定重要港湾","輸出","ベルギー","ヨーロッパ",496,17,496,0]
["H17","大阪",27001,"大阪","甲種港湾","特定重要港湾","輸出","マレーシア","アジア",{"v":5688,"d":"5,688"},31,{"v":4953,"d":"4,953"},735]
["H17","大阪",27001,"大阪","甲種港湾","特定重要港湾","輸出","韓国","アジア",{"v":107250,"d":"107,250"},2,{"v":45127,"d":"45,127"},{"v":62123,"d":"62,123"}]
["H17","大阪",27001,"大阪","甲種港湾","特定重要港湾","輸出","香港","アジア",{"v":69607,"d":"69,607"},1,{"v":57323,"d":"57,323"},{"v":12284,"d":"12,284"}]
["H17","大阪",27001,"大阪","甲種港湾","特定重要港湾","輸出","台湾","アジア",{"v":85251,"d":"85,251"},2,{"v":50421,"d":"50,421"},{"v":34830,"d":"34,830"}]
["H17","大阪",27001,"大阪","甲種港湾","特定重要港湾","輸出","中国","アジア",{"v":403549,"d":"403,549"},6,{"v":94896,"d":"94,896"},{"v":308655,"d":"308,655"}]
["H17","大阪",27001,"大阪","甲種港湾","特定重要港湾","輸入","アメリカ合衆国","北米",{"v":41351,"d":"41,351"},4,{"v":34765,"d":"34,765"},{"v":6586,"d":"6,586"}]
["H17","大阪",27001,"大阪","甲種港湾","特定重要港湾","輸入","イギリス","ヨーロッパ",{"v":1388,"d":"1,388"},0,{"v":1359,"d":"1,359"},29]
["H17","大阪",27001,"大阪","甲種港湾","特定重要港湾","輸入","インドネシア","アジア",{"v":11348,"d":"11,348"},0,{"v":11347,"d":"11,347"},1]
["H17","大阪",27001,"大阪","甲種港湾","特定重要港湾","輸入","オーストラリア","オセアニア",{"v":40653,"d":"40,653"},0,{"v":35652,"d":"35,652"},{"v":5001,"d":"5,001"}]
["H17","大阪",27001,"大阪","甲種港湾","特定重要港湾","輸入","オランダ","ヨーロッパ",{"v":7536,"d":"7,536"},7,{"v":7339,"d":"7,339"},197]
["H17","大阪",27001,"大阪","甲種港湾","特定重要港湾","輸入","カナダ","北米",{"v":13137,"d":"13,137"},0,{"v":12812,"d":"12,812"},325]
["H17","大阪",27001,"大阪","甲種港湾","特定重要港湾","輸入","ジャマイカ","北米",561,0,251,310]
["H17","大阪",27001,"大阪","甲種港湾","特定重要港湾","輸入","シンガポール","アジア",{"v":18234,"d":"18,234"},0,{"v":18174,"d":"18,174"},60]
["H17","大阪",27001,"大阪","甲種港湾","特定重要港湾","輸入","スリランカ","アジア",503,0,473,30]
["H17","大阪",27001,"大阪","甲種港湾","特定重要港湾","輸入","タイ","アジア",{"v":57696,"d":"57,696"},0,{"v":57650,"d":"57,650"},46]
["H17","大阪",27001,"大阪","甲種港湾","特定重要港湾","輸入","ドイツ","ヨーロッパ",{"v":17826,"d":"17,826"},0,{"v":17662,"d":"17,662"},164]
["H17","大阪",27001,"大阪","甲種港湾","特定重要港湾","輸入","ニュージーランド","オセアニア",176,0,168,8]
["H17","大阪",27001,"大阪","甲種港湾","特定重要港湾","輸入","パナマ","北米",{"v":1212,"d":"1,212"},0,{"v":1044,"d":"1,044"},168]
["H17","大阪",27001,"大阪","甲種港湾","特定重要港湾","輸入","フィリピン","アジア",{"v":11752,"d":"11,752"},0,{"v":11705,"d":"11,705"},47]
["H17","大阪",27001,"大阪","甲種港湾","特定重要港湾","輸入","フランス","ヨーロッパ",{"v":1485,"d":"1,485"},0,{"v":1465,"d":"1,465"},20]
["H17","大阪",27001,"大阪","甲種港湾","特定重要港湾","輸入","ベトナム","アジア",{"v":9033,"d":"9,033"},0,{"v":9030,"d":"9,030"},3]
["H17","大阪",27001,"大阪","甲種港湾","特定重要港湾","輸入","ベルギー","ヨーロッパ",{"v":1300,"d":"1,300"},0,{"v":1300,"d":"1,300"},0]
["H17","大阪",27001,"大阪","甲種港湾","特定重要港湾","輸入","マレーシア","アジア",{"v":13115,"d":"13,115"},0,{"v":13094,"d":"13,094"},21]
["H17","大阪",27001,"大阪","甲種港湾","特定重要港湾","輸入","韓国","アジア",{"v":73272,"d":"73,272"},102,{"v":67519,"d":"67,519"},{"v":5753,"d":"5,753"}]
["H17","大阪",27001,"大阪","甲種港湾","特定重要港湾","輸入","香港","アジア",{"v":122570,"d":"122,570"},1,{"v":122348,"d":"122,348"},222]
["H17","大阪",27001,"大阪","甲種港湾","特定重要港湾","輸入","台湾","アジア",{"v":64320,"d":"64,320"},0,{"v":62265,"d":"62,265"},{"v":2055,"d":"2,055"}]
["H17","大阪",27001,"大阪","甲種港湾","特定重要港湾","輸入","中国","アジア",{"v":483938,"d":"483,938"},393,{"v":482969,"d":"482,969"},969]
["H17","大阪",27002,"堺泉北","甲種港湾","特定重要港湾","輸出","アメリカ合衆国","北米",276,0,0,276]
["H17","大阪",27002,"堺泉北","甲種港湾","特定重要港湾","輸出","イラン","アジア",97,0,97,0]
["H17","大阪",27002,"堺泉北","甲種港湾","特定重要港湾","輸出","エクアドル","南米",158,0,0,158]
["H17","大阪",27002,"堺泉北","甲種港湾","特定重要港湾","輸出","香港","アジア",368,0,28,340]
["H17","大阪",27002,"堺泉北","甲種港湾","特定重要港湾","輸出","台湾","アジア",73,0,60,13]
["H17","大阪",27002,"堺泉北","甲種港湾","特定重要港湾","輸出","中国","アジア",{"v":8609,"d":"8,609"},0,844,{"v":7765,"d":"7,765"}]
["H17","大阪",27002,"堺泉北","甲種港湾","特定重要港湾","輸入","アメリカ合衆国","北米",70,0,70,0]
["H17","大阪",27002,"堺泉北","甲種港湾","特定重要港湾","輸入","エクアドル","南米",12,0,12,0]
["H17","大阪",27002,"堺泉北","甲種港湾","特定重要港湾","輸入","香港","アジア",562,0,562,0]
["H17","大阪",27002,"堺泉北","甲種港湾","特定重要港湾","輸入","台湾","アジア",{"v":1061,"d":"1,061"},0,{"v":1061,"d":"1,061"},0]
["H17","大阪",27002,"堺泉北","甲種港湾","特定重要港湾","輸入","中国","アジア",{"v":6089,"d":"6,089"},0,{"v":5476,"d":"5,476"},613]
["H17","兵庫",28001,"神戸","甲種港湾","特定重要港湾","輸出","アメリカ合衆国","北米",{"v":133810,"d":"133,810"},0,{"v":128428,"d":"128,428"},{"v":5382,"d":"5,382"}]
["H17","兵庫",28001,"神戸","甲種港湾","特定重要港湾","輸出","アラブ首長国連邦","アジア",2,0,2,0]
["H17","兵庫",28001,"神戸","甲種港湾","特定重要港湾","輸出","アルゼンチン","南米",749,0,744,5]
["H17","兵庫",28001,"神戸","甲種港湾","特定重要港湾","輸出","イギリス","ヨーロッパ",{"v":13193,"d":"13,193"},0,{"v":13141,"d":"13,141"},52]
["H17","兵庫",28001,"神戸","甲種港湾","特定重要港湾","輸出","インドネシア","アジア",{"v":11116,"d":"11,116"},0,{"v":11116,"d":"11,116"},0]
["H17","兵庫",28001,"神戸","甲種港湾","特定重要港湾","輸出","ウルグアイ","南米",69,0,59,10]
["H17","兵庫",28001,"神戸","甲種港湾","特定重要港湾","輸出","エクアドル","南米",2,0,2,0]
["H17","兵庫",28001,"神戸","甲種港湾","特定重要港湾","輸出","エジプト","アフリカ",{"v":1577,"d":"1,577"},0,{"v":1572,"d":"1,572"},5]
["H17","兵庫",28001,"神戸","甲種港湾","特定重要港湾","輸出","エルサルバドル","北米",192,0,192,0]
["H17","兵庫",28001,"神戸","甲種港湾","特定重要港湾","輸出","オーストラリア","オセアニア",21,0,21,0]
["H17","兵庫",28001,"神戸","甲種港湾","特定重要港湾","輸出","オランダ","ヨーロッパ",{"v":36794,"d":"36,794"},0,{"v":36035,"d":"36,035"},759]
["H17","兵庫",28001,"神戸","甲種港湾","特定重要港湾","輸出","カナダ","北米",{"v":5819,"d":"5,819"},0,{"v":4754,"d":"4,754"},{"v":1065,"d":"1,065"}]
["H17","兵庫",28001,"神戸","甲種港湾","特定重要港湾","輸出","キリバス","オセアニア",14,0,8,6]
["H17","兵庫",28001,"神戸","甲種港湾","特定重要港湾","輸出","グアテマラ","北米",262,0,262,0]
["H17","兵庫",28001,"神戸","甲種港湾","特定重要港湾","輸出","グアム","オセアニア",78,0,78,0]
["H17","兵庫",28001,"神戸","甲種港湾","特定重要港湾","輸出","クウェート","アジア",18,0,18,0]
["H17","兵庫",28001,"神戸","甲種港湾","特定重要港湾","輸出","コスタリカ","北米",242,0,162,80]
["H17","兵庫",28001,"神戸","甲種港湾","特定重要港湾","輸出","コロンビア","南米",14,0,14,0]
["H17","兵庫",28001,"神戸","甲種港湾","特定重要港湾","輸出","サウジアラビア","アジア",19,0,19,0]
["H17","兵庫",28001,"神戸","甲種港湾","特定重要港湾","輸出","サモア独立国","オセアニア",15,0,15,0]
["H17","兵庫",28001,"神戸","甲種港湾","特定重要港湾","輸出","シンガポール","アジア",{"v":64165,"d":"64,165"},0,{"v":63155,"d":"63,155"},{"v":1010,"d":"1,010"}]
["H17","兵庫",28001,"神戸","甲種港湾","特定重要港湾","輸出","スウェーデン","ヨーロッパ",{"v":1211,"d":"1,211"},0,{"v":1151,"d":"1,151"},60]
["H17","兵庫",28001,"神戸","甲種港湾","特定重要港湾","輸出","ソロモン諸島","オセアニア",9,0,9,0]
["H17","兵庫",28001,"神戸","甲種港湾","特定重要港湾","輸出","タイ","アジア",{"v":40310,"d":"40,310"},0,{"v":37168,"d":"37,168"},{"v":3142,"d":"3,142"}]
["H17","兵庫",28001,"神戸","甲種港湾","特定重要港湾","輸出","チリ","南米",197,0,157,40]
["H17","兵庫",28001,"神戸","甲種港湾","特定重要港湾","輸出","デンマーク","ヨーロッパ",114,0,114,0]
["H17","兵庫",28001,"神戸","甲種港湾","特定重要港湾","輸出","ドイツ","ヨーロッパ",{"v":21698,"d":"21,698"},0,{"v":21478,"d":"21,478"},220]
["H17","兵庫",28001,"神戸","甲種港湾","特定重要港湾","輸出","トンガ","オセアニア",4,0,4,0]
["H17","兵庫",28001,"神戸","甲種港湾","特定重要港湾","輸出","ニカラグア","北米",55,0,55,0]
["H17","兵庫",28001,"神戸","甲種港湾","特定重要港湾","輸出","ニューカレドニア","オセアニア",102,0,102,0]
["H17","兵庫",28001,"神戸","甲種港湾","特定重要港湾","輸出","ニュージーランド","オセアニア",{"v":3687,"d":"3,687"},0,{"v":2347,"d":"2,347"},{"v":1340,"d":"1,340"}]
["H17","兵庫",28001,"神戸","甲種港湾","特定重要港湾","輸出","パナマ","北米",{"v":7571,"d":"7,571"},0,{"v":6911,"d":"6,911"},660]
["H17","兵庫",28001,"神戸","甲種港湾","特定重要港湾","輸出","バヌアツ","オセアニア",33,0,15,18]
["H17","兵庫",28001,"神戸","甲種港湾","特定重要港湾","輸出","パプアニューギニア","オセアニア",200,0,200,0]
["H17","兵庫",28001,"神戸","甲種港湾","特定重要港湾","輸出","パラオ","オセアニア",18,0,18,0]
["H17","兵庫",28001,"神戸","甲種港湾","特定重要港湾","輸出","フィジー","オセアニア",164,0,161,3]
["H17","兵庫",28001,"神戸","甲種港湾","特定重要港湾","輸出","フィリピン","アジア",{"v":10724,"d":"10,724"},0,{"v":9379,"d":"9,379"},{"v":1345,"d":"1,345"}]
["H17","兵庫",28001,"神戸","甲種港湾","特定重要港湾","輸出","ブラジル","南米",{"v":4248,"d":"4,248"},0,{"v":3420,"d":"3,420"},828]
["H17","兵庫",28001,"神戸","甲種港湾","特定重要港湾","輸出","フランス","ヨーロッパ",{"v":3018,"d":"3,018"},0,{"v":2770,"d":"2,770"},248]
["H17","兵庫",28001,"神戸","甲種港湾","特定重要港湾","輸出","ベトナム","アジア",{"v":7368,"d":"7,368"},0,{"v":6840,"d":"6,840"},528]
["H17","兵庫",28001,"神戸","甲種港湾","特定重要港湾","輸出","ペルー","南米",10,0,10,0]
["H17","兵庫",28001,"神戸","甲種港湾","特定重要港湾","輸出","マーシャル諸島","オセアニア",16,0,16,0]
["H17","兵庫",28001,"神戸","甲種港湾","特定重要港湾","輸出","マレーシア","アジア",{"v":51457,"d":"51,457"},0,{"v":49924,"d":"49,924"},{"v":1533,"d":"1,533"}]
["H17","兵庫",28001,"神戸","甲種港湾","特定重要港湾","輸出","ミクロネシア","オセアニア",66,0,66,0]
["H17","兵庫",28001,"神戸","甲種港湾","特定重要港湾","輸出","メキシコ","北米",822,0,380,442]
["H17","兵庫",28001,"神戸","甲種港湾","特定重要港湾","輸出","ロシア","ヨーロッパ",{"v":1548,"d":"1,548"},0,{"v":1547,"d":"1,547"},1]
["H17","兵庫",28001,"神戸","甲種港湾","特定重要港湾","輸出","韓国","アジア",{"v":54934,"d":"54,934"},0,{"v":45138,"d":"45,138"},{"v":9796,"d":"9,796"}]
["H17","兵庫",28001,"神戸","甲種港湾","特定重要港湾","輸出","香港","アジア",{"v":124237,"d":"124,237"},0,{"v":117474,"d":"117,474"},{"v":6763,"d":"6,763"}]
["H17","兵庫",28001,"神戸","甲種港湾","特定重要港湾","輸出","台湾","アジア",{"v":87157,"d":"87,157"},0,{"v":77503,"d":"77,503"},{"v":9654,"d":"9,654"}]
["H17","兵庫",28001,"神戸","甲種港湾","特定重要港湾","輸出","中国","アジア",{"v":282897,"d":"282,897"},0,{"v":170760,"d":"170,760"},{"v":112136,"d":"112,136"}]
["H17","兵庫",28001,"神戸","甲種港湾","特定重要港湾","輸出","南アフリカ","アフリカ",641,0,637,4]
["H17","兵庫",28001,"神戸","甲種港湾","特定重要港湾","輸出","仏領ポリネシア","オセアニア",88,0,88,0]
["H17","兵庫",28001,"神戸","甲種港湾","特定重要港湾","輸出","米領サモア","オセアニア",12,0,8,4]
["H17","兵庫",28001,"神戸","甲種港湾","特定重要港湾","輸出","北マリアナ諸島","オセアニア",44,0,44,0]
["H17","兵庫",28001,"神戸","甲種港湾","特定重要港湾","輸出","北朝鮮","アジア",37,0,30,7]
["H17","兵庫",28001,"神戸","甲種港湾","特定重要港湾","輸入","アメリカ合衆国","北米",{"v":184636,"d":"184,636"},{"v":1165,"d":"1,165"},{"v":166658,"d":"166,658"},{"v":17978,"d":"17,978"}]
["H17","兵庫",28001,"神戸","甲種港湾","特定重要港湾","輸入","アルゼンチン","南米",335,0,266,69]
["H17","兵庫",28001,"神戸","甲種港湾","特定重要港湾","輸入","イギリス","ヨーロッパ",{"v":10237,"d":"10,237"},9,{"v":7920,"d":"7,920"},{"v":2317,"d":"2,317"}]
["H17","兵庫",28001,"神戸","甲種港湾","特定重要港湾","輸入","インドネシア","アジア",{"v":2602,"d":"2,602"},8,{"v":2512,"d":"2,512"},90]
["H17","兵庫",28001,"神戸","甲種港湾","特定重要港湾","輸入","ウルグアイ","南米",84,0,63,21]
["H17","兵庫",28001,"神戸","甲種港湾","特定重要港湾","輸入","エジプト","アフリカ",191,0,21,170]
["H17","兵庫",28001,"神戸","甲種港湾","特定重要港湾","輸入","エルサルバドル","北米",90,0,87,3]
["H17","兵庫",28001,"神戸","甲種港湾","特定重要港湾","輸入","オーストラリア","オセアニア",1,0,1,0]
["H17","兵庫",28001,"神戸","甲種港湾","特定重要港湾","輸入","オランダ","ヨーロッパ",{"v":33402,"d":"33,402"},6,{"v":32846,"d":"32,846"},556]
["H17","兵庫",28001,"神戸","甲種港湾","特定重要港湾","輸入","カナダ","北米",{"v":33404,"d":"33,404"},{"v":2118,"d":"2,118"},{"v":31219,"d":"31,219"},{"v":2185,"d":"2,185"}]
["H17","兵庫",28001,"神戸","甲種港湾","特定重要港湾","輸入","キリバス","オセアニア",3,0,0,3]
["H17","兵庫",28001,"神戸","甲種港湾","特定重要港湾","輸入","グアテマラ","北米",314,0,312,2]
["H17","兵庫",28001,"神戸","甲種港湾","特定重要港湾","輸入","グアム","オセアニア",109,0,0,109]
["H17","兵庫",28001,"神戸","甲種港湾","特定重要港湾","輸入","コスタリカ","北米",48,0,42,6]
["H17","兵庫",28001,"神戸","甲種港湾","特定重要港湾","輸入","コロンビア","南米",114,0,22,92]
["H17","兵庫",28001,"神戸","甲種港湾","特定重要港湾","輸入","シンガポール","アジア",{"v":60647,"d":"60,647"},87,{"v":57803,"d":"57,803"},{"v":2844,"d":"2,844"}]
["H17","兵庫",28001,"神戸","甲種港湾","特定重要港湾","輸入","スウェーデン","ヨーロッパ",{"v":2695,"d":"2,695"},2,{"v":2695,"d":"2,695"},0]
["H17","兵庫",28001,"神戸","甲種港湾","特定重要港湾","輸入","スペイン","ヨーロッパ",{"v":11495,"d":"11,495"},61,{"v":11197,"d":"11,197"},298]
["H17","兵庫",28001,"神戸","甲種港湾","特定重要港湾","輸入","ソロモン諸島","オセアニア",10,0,10,0]
["H17","兵庫",28001,"神戸","甲種港湾","特定重要港湾","輸入","タイ","アジア",{"v":31613,"d":"31,613"},0,{"v":31018,"d":"31,018"},595]
["H17","兵庫",28001,"神戸","甲種港湾","特定重要港湾","輸入","チリ","南米",199,0,138,61]
["H17","兵庫",28001,"神戸","甲種港湾","特定重要港湾","輸入","デンマーク","ヨーロッパ",{"v":2834,"d":"2,834"},0,{"v":2834,"d":"2,834"},0]
["H17","兵庫",28001,"神戸","甲種港湾","特定重要港湾","輸入","ドイツ","ヨーロッパ",{"v":58502,"d":"58,502"},18,{"v":57358,"d":"57,358"},{"v":1144,"d":"1,144"}]
["H17","兵庫",28001,"神戸","甲種港湾","特定重要港湾","輸入","トンガ","オセアニア",1,0,1,0]
["H17","兵庫",28001,"神戸","甲種港湾","特定重要港湾","輸入","ニカラグア","北米",117,0,81,36]
["H17","兵庫",28001,"神戸","甲種港湾","特定重要港湾","輸入","ニューカレドニア","オセアニア",13,0,3,10]
["H17","兵庫",28001,"神戸","甲種港湾","特定重要港湾","輸入","ニュージーランド","オセアニア",{"v":10951,"d":"10,951"},57,{"v":8357,"d":"8,357"},{"v":2594,"d":"2,594"}]
["H17","兵庫",28001,"神戸","甲種港湾","特定重要港湾","輸入","パナマ","北米",{"v":17364,"d":"17,364"},109,{"v":11599,"d":"11,599"},{"v":5765,"d":"5,765"}]
["H17","兵庫",28001,"神戸","甲種港湾","特定重要港湾","輸入","バヌアツ","オセアニア",40,0,40,0]
["H17","兵庫",28001,"神戸","甲種港湾","特定重要港湾","輸入","パプアニューギニア","オセアニア",46,0,46,0]
["H17","兵庫",28001,"神戸","甲種港湾","特定重要港湾","輸入","フィジー","オセアニア",2,0,2,0]
["H17","兵庫",28001,"神戸","甲種港湾","特定重要港湾","輸入","フィリピン","アジア",{"v":6546,"d":"6,546"},{"v":1039,"d":"1,039"},{"v":6467,"d":"6,467"},79]
["H17","兵庫",28001,"神戸","甲種港湾","特定重要港湾","輸入","ブラジル","南米",{"v":5159,"d":"5,159"},0,{"v":5030,"d":"5,030"},129]
["H17","兵庫",28001,"神戸","甲種港湾","特定重要港湾","輸入","フランス","ヨーロッパ",{"v":8213,"d":"8,213"},2,{"v":7770,"d":"7,770"},443]
["H17","兵庫",28001,"神戸","甲種港湾","特定重要港湾","輸入","ベトナム","アジア",{"v":8194,"d":"8,194"},2,{"v":8159,"d":"8,159"},35]
["H17","兵庫",28001,"神戸","甲種港湾","特定重要港湾","輸入","ペルー","南米",5,0,5,0]
["H17","兵庫",28001,"神戸","甲種港湾","特定重要港湾","輸入","マレーシア","アジア",{"v":23763,"d":"23,763"},36,{"v":23265,"d":"23,265"},498]
["H17","兵庫",28001,"神戸","甲種港湾","特定重要港湾","輸入","ミクロネシア","オセアニア",12,0,2,10]
["H17","兵庫",28001,"神戸","甲種港湾","特定重要港湾","輸入","メキシコ","北米",{"v":2710,"d":"2,710"},8,973,{"v":1737,"d":"1,737"}]
["H17","兵庫",28001,"神戸","甲種港湾","特定重要港湾","輸入","ロシア","ヨーロッパ",{"v":1446,"d":"1,446"},0,959,487]
["H17","兵庫",28001,"神戸","甲種港湾","特定重要港湾","輸入","韓国","アジア",{"v":42584,"d":"42,584"},109,{"v":33275,"d":"33,275"},{"v":9309,"d":"9,309"}]
["H17","兵庫",28001,"神戸","甲種港湾","特定重要港湾","輸入","香港","アジア",{"v":70357,"d":"70,357"},859,{"v":63966,"d":"63,966"},{"v":6391,"d":"6,391"}]
["H17","兵庫",28001,"神戸","甲種港湾","特定重要港湾","輸入","台湾","アジア",{"v":48274,"d":"48,274"},2,{"v":46193,"d":"46,193"},{"v":2081,"d":"2,081"}]
["H17","兵庫",28001,"神戸","甲種港湾","特定重要港湾","輸入","中国","アジア",{"v":231125,"d":"231,125"},{"v":9445,"d":"9,445"},{"v":224105,"d":"224,105"},{"v":7020,"d":"7,020"}]
["H17","兵庫",28001,"神戸","甲種港湾","特定重要港湾","輸入","南アフリカ","アフリカ",{"v":1220,"d":"1,220"},0,{"v":1102,"d":"1,102"},118]
["H17","兵庫",28001,"神戸","甲種港湾","特定重要港湾","輸入","仏領ポリネシア","オセアニア",15,0,15,0]
["H17","兵庫",28001,"神戸","甲種港湾","特定重要港湾","輸入","米領サモア","オセアニア",66,0,46,20]
["H17","兵庫",28001,"神戸","甲種港湾","特定重要港湾","輸入","北マリアナ諸島","オセアニア",15,0,0,15]
["H17","兵庫",28002,"姫路","甲種港湾","特定重要港湾","輸出","韓国","アジア",220,0,115,105]
["H17","兵庫",28002,"姫路","甲種港湾","特定重要港湾","輸出","中国","アジア",6,0,6,0]
["H17","兵庫",28002,"姫路","甲種港湾","特定重要港湾","輸入","韓国","アジア",{"v":1088,"d":"1,088"},0,{"v":1088,"d":"1,088"},0]
["H17","兵庫",28002,"姫路","甲種港湾","特定重要港湾","輸入","香港","アジア",1,0,1,0]
["H17","兵庫",28002,"姫路","甲種港湾","特定重要港湾","輸入","中国","アジア",398,0,398,0]
["H17","和歌山",30001,"和歌山下津","甲種港湾","特定重要港湾","輸出","韓国","アジア",{"v":3611,"d":"3,611"},0,{"v":1731,"d":"1,731"},{"v":1880,"d":"1,880"}]
["H17","和歌山",30001,"和歌山下津","甲種港湾","特定重要港湾","輸入","韓国","アジア",{"v":4015,"d":"4,015"},0,{"v":3946,"d":"3,946"},69]
["H18","京都",26001,"舞鶴","甲種港湾","重要港湾","輸出","韓国","アジア",{"v":2695,"d":"2,695"},0,683,{"v":2012,"d":"2,012"}]
["H18","京都",26001,"舞鶴","甲種港湾","重要港湾","輸入","韓国","アジア",{"v":2692,"d":"2,692"},0,{"v":2677,"d":"2,677"},15]
["H18","大阪",27001,"大阪","甲種港湾","特定重要港湾","輸出","アメリカ合衆国","北米",{"v":56630,"d":"56,630"},395,{"v":55732,"d":"55,732"},898]
["H18","大阪",27001,"大阪","甲種港湾","特定重要港湾","輸出","イギリス","ヨーロッパ",121,0,121,0]
["H18","大阪",27001,"大阪","甲種港湾","特定重要港湾","輸出","イスラエル","アジア",54,0,54,0]
["H18","大阪",27001,"大阪","甲種港湾","特定重要港湾","輸出","インドネシア","アジア",{"v":1705,"d":"1,705"},0,{"v":1565,"d":"1,565"},140]
["H18","大阪",27001,"大阪","甲種港湾","特定重要港湾","輸出","オーストラリア","オセアニア",{"v":18792,"d":"18,792"},0,{"v":13253,"d":"13,253"},{"v":5539,"d":"5,539"}]
["H18","大阪",27001,"大阪","甲種港湾","特定重要港湾","輸出","オランダ","ヨーロッパ",{"v":5415,"d":"5,415"},0,{"v":5411,"d":"5,411"},4]
["H18","大阪",27001,"大阪","甲種港湾","特定重要港湾","輸出","カナダ","北米",{"v":5732,"d":"5,732"},0,{"v":5732,"d":"5,732"},0]
["H18","大阪",27001,"大阪","甲種港湾","特定重要港湾","輸出","ジャマイカ","北米",{"v":9558,"d":"9,558"},77,{"v":9556,"d":"9,556"},2]
["H18","大阪",27001,"大阪","甲種港湾","特定重要港湾","輸出","シンガポール","アジア",{"v":10672,"d":"10,672"},0,{"v":10449,"d":"10,449"},223]
["H18","大阪",27001,"大阪","甲種港湾","特定重要港湾","輸出","スリランカ","アジア",{"v":1011,"d":"1,011"},0,{"v":1011,"d":"1,011"},0]
["H18","大阪",27001,"大阪","甲種港湾","特定重要港湾","輸出","タイ","アジア",{"v":18609,"d":"18,609"},4,{"v":14067,"d":"14,067"},{"v":4542,"d":"4,542"}]
["H18","大阪",27001,"大阪","甲種港湾","特定重要港湾","輸出","ドイツ","ヨーロッパ",{"v":5881,"d":"5,881"},90,{"v":5881,"d":"5,881"},0]
["H18","大阪",27001,"大阪","甲種港湾","特定重要港湾","輸出","ニュージーランド","オセアニア",703,0,702,1]
["H18","大阪",27001,"大阪","甲種港湾","特定重要港湾","輸出","パナマ","北米",{"v":2196,"d":"2,196"},0,{"v":2166,"d":"2,166"},30]
["H18","大阪",27001,"大阪","甲種港湾","特定重要港湾","輸出","フィリピン","アジア",{"v":2440,"d":"2,440"},0,{"v":2400,"d":"2,400"},40]
["H18","大阪",27001,"大阪","甲種港湾","特定重要港湾","輸出","フランス","ヨーロッパ",{"v":1749,"d":"1,749"},0,{"v":1749,"d":"1,749"},0]
["H18","大阪",27001,"大阪","甲種港湾","特定重要港湾","輸出","ベトナム","アジア",{"v":5534,"d":"5,534"},0,{"v":5086,"d":"5,086"},448]
["H18","大阪",27001,"大阪","甲種港湾","特定重要港湾","輸出","ベルギー","ヨーロッパ",760,0,754,6]
["H18","大阪",27001,"大阪","甲種港湾","特定重要港湾","輸出","マレーシア","アジア",{"v":6990,"d":"6,990"},0,{"v":6583,"d":"6,583"},407]
["H18","大阪",27001,"大阪","甲種港湾","特定重要港湾","輸出","ロシア","ヨーロッパ",41,0,41,0]
["H18","大阪",27001,"大阪","甲種港湾","特定重要港湾","輸出","韓国","アジア",{"v":95423,"d":"95,423"},1,{"v":50574,"d":"50,574"},{"v":44848,"d":"44,848"}]
["H18","大阪",27001,"大阪","甲種港湾","特定重要港湾","輸出","香港","アジア",{"v":71871,"d":"71,871"},0,{"v":62823,"d":"62,823"},{"v":9048,"d":"9,048"}]
["H18","大阪",27001,"大阪","甲種港湾","特定重要港湾","輸出","台湾","アジア",{"v":76547,"d":"76,547"},4,{"v":51945,"d":"51,945"},{"v":24602,"d":"24,602"}]
["H18","大阪",27001,"大阪","甲種港湾","特定重要港湾","輸出","中国","アジア",{"v":455572,"d":"455,572"},4,{"v":107023,"d":"107,023"},{"v":348549,"d":"348,549"}]
["H18","大阪",27001,"大阪","甲種港湾","特定重要港湾","輸入","アメリカ合衆国","北米",{"v":43579,"d":"43,579"},4,{"v":37747,"d":"37,747"},{"v":5832,"d":"5,832"}]
["H18","大阪",27001,"大阪","甲種港湾","特定重要港湾","輸入","イギリス","ヨーロッパ",552,0,552,0]
["H18","大阪",27001,"大阪","甲種港湾","特定重要港湾","輸入","インドネシア","アジア",{"v":9634,"d":"9,634"},0,{"v":9594,"d":"9,594"},40]
["H18","大阪",27001,"大阪","甲種港湾","特定重要港湾","輸入","オーストラリア","オセアニア",{"v":40941,"d":"40,941"},0,{"v":35403,"d":"35,403"},{"v":5538,"d":"5,538"}]
["H18","大阪",27001,"大阪","甲種港湾","特定重要港湾","輸入","オランダ","ヨーロッパ",{"v":7540,"d":"7,540"},0,{"v":7538,"d":"7,538"},2]
["H18","大阪",27001,"大阪","甲種港湾","特定重要港湾","輸入","カナダ","北米",{"v":12983,"d":"12,983"},2,{"v":12539,"d":"12,539"},444]
["H18","大阪",27001,"大阪","甲種港湾","特定重要港湾","輸入","ジャマイカ","北米",{"v":1545,"d":"1,545"},0,146,{"v":1399,"d":"1,399"}]
["H18","大阪",27001,"大阪","甲種港湾","特定重要港湾","輸入","シンガポール","アジア",{"v":20642,"d":"20,642"},0,{"v":20615,"d":"20,615"},27]
["H18","大阪",27001,"大阪","甲種港湾","特定重要港湾","輸入","スリランカ","アジア",521,0,521,0]
["H18","大阪",27001,"大阪","甲種港湾","特定重要港湾","輸入","タイ","アジア",{"v":56205,"d":"56,205"},0,{"v":56156,"d":"56,156"},49]
["H18","大阪",27001,"大阪","甲種港湾","特定重要港湾","輸入","ドイツ","ヨーロッパ",{"v":14025,"d":"14,025"},0,{"v":14023,"d":"14,023"},2]
["H18","大阪",27001,"大阪","甲種港湾","特定重要港湾","輸入","ニュージーランド","オセアニア",206,0,87,119]
["H18","大阪",27001,"大阪","甲種港湾","特定重要港湾","輸入","パナマ","北米",{"v":1264,"d":"1,264"},0,669,595]
["H18","大阪",27001,"大阪","甲種港湾","特定重要港湾","輸入","フィリピン","アジア",{"v":11042,"d":"11,042"},0,{"v":11030,"d":"11,030"},12]
["H18","大阪",27001,"大阪","甲種港湾","特定重要港湾","輸入","フランス","ヨーロッパ",{"v":1416,"d":"1,416"},0,{"v":1416,"d":"1,416"},0]
["H18","大阪",27001,"大阪","甲種港湾","特定重要港湾","輸入","ベトナム","アジア",{"v":10634,"d":"10,634"},0,{"v":10615,"d":"10,615"},19]
["H18","大阪",27001,"大阪","甲種港湾","特定重要港湾","輸入","ベルギー","ヨーロッパ",{"v":1273,"d":"1,273"},0,{"v":1273,"d":"1,273"},0]
["H18","大阪",27001,"大阪","甲種港湾","特定重要港湾","輸入","マレーシア","アジア",{"v":11661,"d":"11,661"},0,{"v":11659,"d":"11,659"},2]
["H18","大阪",27001,"大阪","甲種港湾","特定重要港湾","輸入","韓国","アジア",{"v":73966,"d":"73,966"},562,{"v":66812,"d":"66,812"},{"v":7154,"d":"7,154"}]
["H18","大阪",27001,"大阪","甲種港湾","特定重要港湾","輸入","香港","アジア",{"v":133698,"d":"133,698"},1,{"v":133191,"d":"133,191"},507]
["H18","大阪",27001,"大阪","甲種港湾","特定重要港湾","輸入","台湾","アジア",{"v":62099,"d":"62,099"},0,{"v":60214,"d":"60,214"},{"v":1885,"d":"1,885"}]
["H18","大阪",27001,"大阪","甲種港湾","特定重要港湾","輸入","中国","アジア",{"v":536689,"d":"536,689"},6,{"v":533705,"d":"533,705"},{"v":2984,"d":"2,984"}]
["H18","大阪",27002,"堺泉北","甲種港湾","特定重要港湾","輸出","アメリカ合衆国","北米",142,0,0,142]
["H18","大阪",27002,"堺泉北","甲種港湾","特定重要港湾","輸出","エクアドル","南米",2,0,0,2]
["H18","大阪",27002,"堺泉北","甲種港湾","特定重要港湾","輸出","ペルー","南米",2,0,2,0]
["H18","大阪",27002,"堺泉北","甲種港湾","特定重要港湾","輸出","香港","アジア",260,0,0,260]
["H18","大阪",27002,"堺泉北","甲種港湾","特定重要港湾","輸出","中国","アジア",{"v":11077,"d":"11,077"},0,{"v":1103,"d":"1,103"},{"v":9974,"d":"9,974"}]
["H18","大阪",27002,"堺泉北","甲種港湾","特定重要港湾","輸入","アメリカ合衆国","北米",58,0,58,0]
["H18","大阪",27002,"堺泉北","甲種港湾","特定重要港湾","輸入","エクアドル","南米",16,0,16,0]
["H18","大阪",27002,"堺泉北","甲種港湾","特定重要港湾","輸入","チリ","南米",2,0,2,0]
["H18","大阪",27002,"堺泉北","甲種港湾","特定重要港湾","輸入","中国","アジア",{"v":8024,"d":"8,024"},0,{"v":7298,"d":"7,298"},726]
["H18","兵庫",28001,"神戸","甲種港湾","特定重要港湾","輸出","アメリカ合衆国","北米",{"v":131936,"d":"131,936"},0,{"v":127036,"d":"127,036"},{"v":4900,"d":"4,900"}]
["H18","兵庫",28001,"神戸","甲種港湾","特定重要港湾","輸出","アルゼンチン","南米",571,0,486,85]
["H18","兵庫",28001,"神戸","甲種港湾","特定重要港湾","輸出","イギリス","ヨーロッパ",{"v":14503,"d":"14,503"},0,{"v":14327,"d":"14,327"},176]
["H18","兵庫",28001,"神戸","甲種港湾","特定重要港湾","輸出","インド","アジア",821,0,821,0]
["H18","兵庫",28001,"神戸","甲種港湾","特定重要港湾","輸出","インドネシア","アジア",{"v":10142,"d":"10,142"},0,{"v":10130,"d":"10,130"},12]
["H18","兵庫",28001,"神戸","甲種港湾","特定重要港湾","輸出","ウルグアイ","南米",99,0,79,20]
["H18","兵庫",28001,"神戸","甲種港湾","特定重要港湾","輸出","エジプト","アフリカ",878,0,878,0]
["H18","兵庫",28001,"神戸","甲種港湾","特定重要港湾","輸出","エルサルバドル","北米",34,0,34,0]
["H18","兵庫",28001,"神戸","甲種港湾","特定重要港湾","輸出","オーストラリア","オセアニア",3,0,3,0]
["H18","兵庫",28001,"神戸","甲種港湾","特定重要港湾","輸出","オランダ","ヨーロッパ",{"v":45589,"d":"45,589"},0,{"v":44977,"d":"44,977"},612]
["H18","兵庫",28001,"神戸","甲種港湾","特定重要港湾","輸出","カナダ","北米",{"v":3645,"d":"3,645"},0,{"v":2661,"d":"2,661"},984]
["H18","兵庫",28001,"神戸","甲種港湾","特定重要港湾","輸出","キリバス","オセアニア",7,0,7,0]
["H18","兵庫",28001,"神戸","甲種港湾","特定重要港湾","輸出","グアテマラ","北米",17,0,17,0]
["H18","兵庫",28001,"神戸","甲種港湾","特定重要港湾","輸出","グアム","オセアニア",102,0,102,0]
["H18","兵庫",28001,"神戸","甲種港湾","特定重要港湾","輸出","コスタリカ","北米",49,0,44,5]
["H18","兵庫",28001,"神戸","甲種港湾","特定重要港湾","輸出","サモア独立国","オセアニア",19,0,19,0]
["H18","兵庫",28001,"神戸","甲種港湾","特定重要港湾","輸出","シンガポール","アジア",{"v":69210,"d":"69,210"},0,{"v":67436,"d":"67,436"},{"v":1774,"d":"1,774"}]
["H18","兵庫",28001,"神戸","甲種港湾","特定重要港湾","輸出","スウェーデン","ヨーロッパ",{"v":1188,"d":"1,188"},0,{"v":1188,"d":"1,188"},0]
["H18","兵庫",28001,"神戸","甲種港湾","特定重要港湾","輸出","スペイン","ヨーロッパ",904,0,268,636]
["H18","兵庫",28001,"神戸","甲種港湾","特定重要港湾","輸出","ソロモン諸島","オセアニア",18,0,17,1]
["H18","兵庫",28001,"神戸","甲種港湾","特定重要港湾","輸出","タイ","アジア",{"v":47042,"d":"47,042"},0,{"v":40609,"d":"40,609"},{"v":6433,"d":"6,433"}]
["H18","兵庫",28001,"神戸","甲種港湾","特定重要港湾","輸出","タンザニア","アフリカ",4,0,4,0]
["H18","兵庫",28001,"神戸","甲種港湾","特定重要港湾","輸出","デンマーク","ヨーロッパ",160,0,160,0]
["H18","兵庫",28001,"神戸","甲種港湾","特定重要港湾","輸出","ドイツ","ヨーロッパ",{"v":25881,"d":"25,881"},0,{"v":25639,"d":"25,639"},242]
["H18","兵庫",28001,"神戸","甲種港湾","特定重要港湾","輸出","トンガ","オセアニア",2,0,2,0]
["H18","兵庫",28001,"神戸","甲種港湾","特定重要港湾","輸出","ニカラグア","北米",4,0,4,0]
["H18","兵庫",28001,"神戸","甲種港湾","特定重要港湾","輸出","ニューカレドニア","オセアニア",128,0,126,2]
["H18","兵庫",28001,"神戸","甲種港湾","特定重要港湾","輸出","ニュージーランド","オセアニア",{"v":3418,"d":"3,418"},0,{"v":2279,"d":"2,279"},{"v":1139,"d":"1,139"}]
["H18","兵庫",28001,"神戸","甲種港湾","特定重要港湾","輸出","パキスタン","アジア",536,0,536,0]
["H18","兵庫",28001,"神戸","甲種港湾","特定重要港湾","輸出","パナマ","北米",{"v":4825,"d":"4,825"},0,{"v":4483,"d":"4,483"},342]
["H18","兵庫",28001,"神戸","甲種港湾","特定重要港湾","輸出","バヌアツ","オセアニア",15,0,11,4]
["H18","兵庫",28001,"神戸","甲種港湾","特定重要港湾","輸出","パプアニューギニア","オセアニア",160,0,157,3]
["H18","兵庫",28001,"神戸","甲種港湾","特定重要港湾","輸出","パラオ","オセアニア",35,0,35,0]
["H18","兵庫",28001,"神戸","甲種港湾","特定重要港湾","輸出","フィジー","オセアニア",138,0,131,7]
["H18","兵庫",28001,"神戸","甲種港湾","特定重要港湾","輸出","フィリピン","アジア",{"v":11031,"d":"11,031"},0,{"v":9886,"d":"9,886"},{"v":1145,"d":"1,145"}]
["H18","兵庫",28001,"神戸","甲種港湾","特定重要港湾","輸出","ブラジル","南米",{"v":3011,"d":"3,011"},0,{"v":2541,"d":"2,541"},470]
["H18","兵庫",28001,"神戸","甲種港湾","特定重要港湾","輸出","フランス","ヨーロッパ",{"v":3817,"d":"3,817"},0,{"v":3660,"d":"3,660"},157]
["H18","兵庫",28001,"神戸","甲種港湾","特定重要港湾","輸出","ベトナム","アジア",{"v":10199,"d":"10,199"},0,{"v":9287,"d":"9,287"},912]
["H18","兵庫",28001,"神戸","甲種港湾","特定重要港湾","輸出","マーシャル諸島","オセアニア",20,0,20,0]
["H18","兵庫",28001,"神戸","甲種港湾","特定重要港湾","輸出","マレーシア","アジア",{"v":60018,"d":"60,018"},0,{"v":58320,"d":"58,320"},{"v":1698,"d":"1,698"}]
["H18","兵庫",28001,"神戸","甲種港湾","特定重要港湾","輸出","ミクロネシア","オセアニア",72,0,72,0]
["H18","兵庫",28001,"神戸","甲種港湾","特定重要港湾","輸出","メキシコ","北米",537,0,117,420]
["H18","兵庫",28001,"神戸","甲種港湾","特定重要港湾","輸出","ロシア","ヨーロッパ",{"v":1794,"d":"1,794"},0,{"v":1709,"d":"1,709"},85]
["H18","兵庫",28001,"神戸","甲種港湾","特定重要港湾","輸出","韓国","アジア",{"v":62461,"d":"62,461"},0,{"v":51848,"d":"51,848"},{"v":10613,"d":"10,613"}]
["H18","兵庫",28001,"神戸","甲種港湾","特定重要港湾","輸出","香港","アジア",{"v":117983,"d":"117,983"},0,{"v":112360,"d":"112,360"},{"v":5623,"d":"5,623"}]
["H18","兵庫",28001,"神戸","甲種港湾","特定重要港湾","輸出","台湾","アジア",{"v":85734,"d":"85,734"},0,{"v":72740,"d":"72,740"},{"v":12994,"d":"12,994"}]
["H18","兵庫",28001,"神戸","甲種港湾","特定重要港湾","輸出","中国","アジア",{"v":308272,"d":"308,272"},0,{"v":194440,"d":"194,440"},{"v":113833,"d":"113,833"}]
["H18","兵庫",28001,"神戸","甲種港湾","特定重要港湾","輸出","南アフリカ","アフリカ",{"v":1081,"d":"1,081"},0,{"v":1081,"d":"1,081"},0]
["H18","兵庫",28001,"神戸","甲種港湾","特定重要港湾","輸出","仏領ポリネシア","オセアニア",90,0,85,5]
["H18","兵庫",28001,"神戸","甲種港湾","特定重要港湾","輸出","米領サモア","オセアニア",11,0,11,0]
["H18","兵庫",28001,"神戸","甲種港湾","特定重要港湾","輸出","北マリアナ諸島","オセアニア",60,0,60,0]
["H18","兵庫",28001,"神戸","甲種港湾","特定重要港湾","輸出","北朝鮮","アジア",8,0,8,0]
["H18","兵庫",28001,"神戸","甲種港湾","特定重要港湾","輸入","アメリカ合衆国","北米",{"v":192543,"d":"192,543"},879,{"v":173279,"d":"173,279"},{"v":19263,"d":"19,263"}]
["H18","兵庫",28001,"神戸","甲種港湾","特定重要港湾","輸入","アルゼンチン","南米",789,0,441,348]
["H18","兵庫",28001,"神戸","甲種港湾","特定重要港湾","輸入","イギリス","ヨーロッパ",{"v":11133,"d":"11,133"},12,{"v":9106,"d":"9,106"},{"v":2027,"d":"2,027"}]
["H18","兵庫",28001,"神戸","甲種港湾","特定重要港湾","輸入","インド","アジア",54,0,38,16]
["H18","兵庫",28001,"神戸","甲種港湾","特定重要港湾","輸入","インドネシア","アジア",{"v":2285,"d":"2,285"},0,{"v":2266,"d":"2,266"},19]
["H18","兵庫",28001,"神戸","甲種港湾","特定重要港湾","輸入","ウルグアイ","南米",26,0,26,0]
["H18","兵庫",28001,"神戸","甲種港湾","特定重要港湾","輸入","エジプト","アフリカ",5,0,5,0]
["H18","兵庫",28001,"神戸","甲種港湾","特定重要港湾","輸入","エルサルバドル","北米",19,0,19,0]
["H18","兵庫",28001,"神戸","甲種港湾","特定重要港湾","輸入","オランダ","ヨーロッパ",{"v":40969,"d":"40,969"},94,{"v":39946,"d":"39,946"},{"v":1023,"d":"1,023"}]
["H18","兵庫",28001,"神戸","甲種港湾","特定重要港湾","輸入","カナダ","北米",{"v":35087,"d":"35,087"},{"v":1905,"d":"1,905"},{"v":34237,"d":"34,237"},850]
["H18","兵庫",28001,"神戸","甲種港湾","特定重要港湾","輸入","グアテマラ","北米",92,0,92,0]
["H18","兵庫",28001,"神戸","甲種港湾","特定重要港湾","輸入","グアム","オセアニア",16,0,0,16]
["H18","兵庫",28001,"神戸","甲種港湾","特定重要港湾","輸入","コスタリカ","北米",6,0,6,0]
["H18","兵庫",28001,"神戸","甲種港湾","特定重要港湾","輸入","コロンビア","南米",178,0,78,100]
["H18","兵庫",28001,"神戸","甲種港湾","特定重要港湾","輸入","シンガポール","アジア",{"v":61239,"d":"61,239"},{"v":1038,"d":"1,038"},{"v":59201,"d":"59,201"},{"v":2038,"d":"2,038"}]
["H18","兵庫",28001,"神戸","甲種港湾","特定重要港湾","輸入","スウェーデン","ヨーロッパ",{"v":5660,"d":"5,660"},8,{"v":5565,"d":"5,565"},95]
["H18","兵庫",28001,"神戸","甲種港湾","特定重要港湾","輸入","スペイン","ヨーロッパ",{"v":13313,"d":"13,313"},4,{"v":11372,"d":"11,372"},{"v":1941,"d":"1,941"}]
["H18","兵庫",28001,"神戸","甲種港湾","特定重要港湾","輸入","スリランカ","アジア",223,0,223,0]
["H18","兵庫",28001,"神戸","甲種港湾","特定重要港湾","輸入","ソロモン諸島","オセアニア",9,0,9,0]
["H18","兵庫",28001,"神戸","甲種港湾","特定重要港湾","輸入","タイ","アジア",{"v":33343,"d":"33,343"},23,{"v":32992,"d":"32,992"},351]
["H18","兵庫",28001,"神戸","甲種港湾","特定重要港湾","輸入","デンマーク","ヨーロッパ",{"v":2453,"d":"2,453"},2,{"v":2265,"d":"2,265"},188]
["H18","兵庫",28001,"神戸","甲種港湾","特定重要港湾","輸入","ドイツ","ヨーロッパ",{"v":60477,"d":"60,477"},49,{"v":58888,"d":"58,888"},{"v":1589,"d":"1,589"}]
["H18","兵庫",28001,"神戸","甲種港湾","特定重要港湾","輸入","ドミニカ共和国","北米",312,0,212,100]
["H18","兵庫",28001,"神戸","甲種港湾","特定重要港湾","輸入","トンガ","オセアニア",1,0,1,0]
["H18","兵庫",28001,"神戸","甲種港湾","特定重要港湾","輸入","ニカラグア","北米",40,0,40,0]
["H18","兵庫",28001,"神戸","甲種港湾","特定重要港湾","輸入","ニューカレドニア","オセアニア",16,0,3,13]
["H18","兵庫",28001,"神戸","甲種港湾","特定重要港湾","輸入","ニュージーランド","オセアニア",{"v":9013,"d":"9,013"},1,{"v":7485,"d":"7,485"},{"v":1528,"d":"1,528"}]
["H18","兵庫",28001,"神戸","甲種港湾","特定重要港湾","輸入","パキスタン","アジア",1,0,1,0]
["H18","兵庫",28001,"神戸","甲種港湾","特定重要港湾","輸入","パナマ","北米",{"v":9742,"d":"9,742"},315,{"v":5781,"d":"5,781"},{"v":3961,"d":"3,961"}]
["H18","兵庫",28001,"神戸","甲種港湾","特定重要港湾","輸入","バヌアツ","オセアニア",39,0,39,0]
["H18","兵庫",28001,"神戸","甲種港湾","特定重要港湾","輸入","パプアニューギニア","オセアニア",110,0,110,0]
["H18","兵庫",28001,"神戸","甲種港湾","特定重要港湾","輸入","パラオ","オセアニア",1,0,0,1]
["H18","兵庫",28001,"神戸","甲種港湾","特定重要港湾","輸入","フィジー","オセアニア",15,0,5,10]
["H18","兵庫",28001,"神戸","甲種港湾","特定重要港湾","輸入","フィリピン","アジア",{"v":7478,"d":"7,478"},955,{"v":7175,"d":"7,175"},303]
["H18","兵庫",28001,"神戸","甲種港湾","特定重要港湾","輸入","ブラジル","南米",{"v":4199,"d":"4,199"},0,{"v":4103,"d":"4,103"},96]
["H18","兵庫",28001,"神戸","甲種港湾","特定重要港湾","輸入","フランス","ヨーロッパ",{"v":7835,"d":"7,835"},0,{"v":7581,"d":"7,581"},254]
["H18","兵庫",28001,"神戸","甲種港湾","特定重要港湾","輸入","ベトナム","アジア",{"v":10656,"d":"10,656"},6,{"v":10483,"d":"10,483"},173]
["H18","兵庫",28001,"神戸","甲種港湾","特定重要港湾","輸入","マレーシア","アジア",{"v":19544,"d":"19,544"},5,{"v":19081,"d":"19,081"},463]
["H18","兵庫",28001,"神戸","甲種港湾","特定重要港湾","輸入","ミクロネシア","オセアニア",50,0,0,50]
["H18","兵庫",28001,"神戸","甲種港湾","特定重要港湾","輸入","メキシコ","北米",247,0,128,119]
["H18","兵庫",28001,"神戸","甲種港湾","特定重要港湾","輸入","ロシア","ヨーロッパ",{"v":1524,"d":"1,524"},0,695,829]
["H18","兵庫",28001,"神戸","甲種港湾","特定重要港湾","輸入","韓国","アジア",{"v":50583,"d":"50,583"},34,{"v":37225,"d":"37,225"},{"v":13358,"d":"13,358"}]
["H18","兵庫",28001,"神戸","甲種港湾","特定重要港湾","輸入","香港","アジア",{"v":76520,"d":"76,520"},339,{"v":73292,"d":"73,292"},{"v":3228,"d":"3,228"}]
["H18","兵庫",28001,"神戸","甲種港湾","特定重要港湾","輸入","台湾","アジア",{"v":43223,"d":"43,223"},2,{"v":41190,"d":"41,190"},{"v":2033,"d":"2,033"}]
["H18","兵庫",28001,"神戸","甲種港湾","特定重要港湾","輸入","中国","アジア",{"v":254567,"d":"254,567"},{"v":9927,"d":"9,927"},{"v":241850,"d":"241,850"},{"v":12716,"d":"12,716"}]
["H18","兵庫",28001,"神戸","甲種港湾","特定重要港湾","輸入","南アフリカ","アフリカ",667,0,653,14]
["H18","兵庫",28001,"神戸","甲種港湾","特定重要港湾","輸入","仏領ポリネシア","オセアニア",5,0,4,1]
["H18","兵庫",28001,"神戸","甲種港湾","特定重要港湾","輸入","米領サモア","オセアニア",65,0,65,0]
["H18","兵庫",28001,"神戸","甲種港湾","特定重要港湾","輸入","北マリアナ諸島","オセアニア",24,0,0,24]
["H18","兵庫",28002,"姫路","甲種港湾","特定重要港湾","輸出","韓国","アジア",760,0,124,636]
["H18","兵庫",28002,"姫路","甲種港湾","特定重要港湾","輸出","香港","アジア",4,0,4,0]
["H18","兵庫",28002,"姫路","甲種港湾","特定重要港湾","輸入","韓国","アジア",{"v":1079,"d":"1,079"},0,{"v":1060,"d":"1,060"},19]
["H18","兵庫",28002,"姫路","甲種港湾","特定重要港湾","輸入","韓国","アジア",715,0,146,569]
["H18","兵庫",28002,"姫路","甲種港湾","特定重要港湾","輸入","中国","アジア",367,0,367,0]
["H18","和歌山",30001,"和歌山下津","甲種港湾","特定重要港湾","輸出","韓国","アジア",{"v":3261,"d":"3,261"},0,{"v":1554,"d":"1,554"},{"v":1707,"d":"1,707"}]
["H18","和歌山",30001,"和歌山下津","甲種港湾","特定重要港湾","輸入","韓国","アジア",{"v":4115,"d":"4,115"},0,{"v":3669,"d":"3,669"},446]
["H19","京都",26001,"舞鶴","甲種港湾","重要港湾","輸出","韓国","アジア",{"v":2125,"d":"2,125"},0,979,{"v":1146,"d":"1,146"}]
["H19","京都",26001,"舞鶴","甲種港湾","重要港湾","輸出","中国","アジア",{"v":1790,"d":"1,790"},0,463,{"v":1327,"d":"1,327"}]
["H19","京都",26001,"舞鶴","甲種港湾","重要港湾","輸入","韓国","アジア",{"v":1971,"d":"1,971"},0,{"v":1915,"d":"1,915"},56]
["H19","京都",26001,"舞鶴","甲種港湾","重要港湾","輸入","中国","アジア",{"v":1958,"d":"1,958"},0,{"v":1958,"d":"1,958"},0]
["H19","大阪",27001,"大阪","甲種港湾","特定重要港湾","輸出","アメリカ合衆国","北米",{"v":55857,"d":"55,857"},733,{"v":51365,"d":"51,365"},{"v":4492,"d":"4,492"}]
["H19","大阪",27001,"大阪","甲種港湾","特定重要港湾","輸出","イギリス","ヨーロッパ",55,0,55,0]
["H19","大阪",27001,"大阪","甲種港湾","特定重要港湾","輸出","イタリア","ヨーロッパ",{"v":1176,"d":"1,176"},0,{"v":1176,"d":"1,176"},0]
["H19","大阪",27001,"大阪","甲種港湾","特定重要港湾","輸出","インドネシア","アジア",{"v":1418,"d":"1,418"},0,{"v":1418,"d":"1,418"},0]
["H19","大阪",27001,"大阪","甲種港湾","特定重要港湾","輸出","エジプト","アフリカ",40,0,40,0]
["H19","大阪",27001,"大阪","甲種港湾","特定重要港湾","輸出","オーストラリア","オセアニア",{"v":16700,"d":"16,700"},0,{"v":12698,"d":"12,698"},{"v":4002,"d":"4,002"}]
["H19","大阪",27001,"大阪","甲種港湾","特定重要港湾","輸出","オランダ","ヨーロッパ",{"v":1044,"d":"1,044"},0,{"v":1044,"d":"1,044"},0]
["H19","大阪",27001,"大阪","甲種港湾","特定重要港湾","輸出","カナダ","北米",{"v":6482,"d":"6,482"},0,{"v":6416,"d":"6,416"},66]
["H19","大阪",27001,"大阪","甲種港湾","特定重要港湾","輸出","ジャマイカ","北米",{"v":13490,"d":"13,490"},726,{"v":13475,"d":"13,475"},15]
["H19","大阪",27001,"大阪","甲種港湾","特定重要港湾","輸出","シンガポール","アジア",{"v":17926,"d":"17,926"},0,{"v":17313,"d":"17,313"},613]
["H19","大阪",27001,"大阪","甲種港湾","特定重要港湾","輸出","スペイン","ヨーロッパ",165,1,165,0]
["H19","大阪",27001,"大阪","甲種港湾","特定重要港湾","輸出","スリランカ","アジア",336,0,336,0]
["H19","大阪",27001,"大阪","甲種港湾","特定重要港湾","輸出","タイ","アジア",{"v":19292,"d":"19,292"},59,{"v":16203,"d":"16,203"},{"v":3089,"d":"3,089"}]
["H19","大阪",27001,"大阪","甲種港湾","特定重要港湾","輸出","ドイツ","ヨーロッパ",819,0,819,0]
["H19","大阪",27001,"大阪","甲種港湾","特定重要港湾","輸出","ニュージーランド","オセアニア",805,0,805,0]
["H19","大阪",27001,"大阪","甲種港湾","特定重要港湾","輸出","パナマ","北米",{"v":3432,"d":"3,432"},555,{"v":3432,"d":"3,432"},0]
["H19","大阪",27001,"大阪","甲種港湾","特定重要港湾","輸出","フィリピン","アジア",{"v":2679,"d":"2,679"},0,{"v":2649,"d":"2,649"},30]
["H19","大阪",27001,"大阪","甲種港湾","特定重要港湾","輸出","ベトナム","アジア",{"v":6896,"d":"6,896"},0,{"v":6417,"d":"6,417"},479]
["H19","大阪",27001,"大阪","甲種港湾","特定重要港湾","輸出","ベルギー","ヨーロッパ",149,0,149,0]
["H19","大阪",27001,"大阪","甲種港湾","特定重要港湾","輸出","マレーシア","アジア",{"v":5104,"d":"5,104"},0,{"v":5063,"d":"5,063"},41]
["H19","大阪",27001,"大阪","甲種港湾","特定重要港湾","輸出","ロシア","ヨーロッパ",19,0,19,0]
["H19","大阪",27001,"大阪","甲種港湾","特定重要港湾","輸出","韓国","アジア",{"v":109878,"d":"109,878"},2,{"v":67250,"d":"67,250"},{"v":42628,"d":"42,628"}]
["H19","大阪",27001,"大阪","甲種港湾","特定重要港湾","輸出","香港","アジア",{"v":70474,"d":"70,474"},0,{"v":63175,"d":"63,175"},{"v":7299,"d":"7,299"}]
["H19","大阪",27001,"大阪","甲種港湾","特定重要港湾","輸出","台湾","アジア",{"v":81780,"d":"81,780"},2,{"v":59179,"d":"59,179"},{"v":22601,"d":"22,601"}]
["H19","大阪",27001,"大阪","甲種港湾","特定重要港湾","輸出","中国","アジア",{"v":471166,"d":"471,166"},0,{"v":122550,"d":"122,550"},{"v":348616,"d":"348,616"}]
["H19","大阪",27001,"大阪","甲種港湾","特定重要港湾","輸入","アメリカ合衆国","北米",{"v":54757,"d":"54,757"},5,{"v":37412,"d":"37,412"},{"v":17345,"d":"17,345"}]
["H19","大阪",27001,"大阪","甲種港湾","特定重要港湾","輸入","イギリス","ヨーロッパ",51,0,51,0]
["H19","大阪",27001,"大阪","甲種港湾","特定重要港湾","輸入","イタリア","ヨーロッパ",{"v":1479,"d":"1,479"},0,{"v":1334,"d":"1,334"},145]
["H19","大阪",27001,"大阪","甲種港湾","特定重要港湾","輸入","インドネシア","アジア",{"v":10708,"d":"10,708"},0,{"v":10346,"d":"10,346"},362]
["H19","大阪",27001,"大阪","甲種港湾","特定重要港湾","輸入","エジプト","アフリカ",30,0,30,0]
["H19","大阪",27001,"大阪","甲種港湾","特定重要港湾","輸入","オーストラリア","オセアニア",{"v":37351,"d":"37,351"},0,{"v":31127,"d":"31,127"},{"v":6224,"d":"6,224"}]
["H19","大阪",27001,"大阪","甲種港湾","特定重要港湾","輸入","オランダ","ヨーロッパ",{"v":2940,"d":"2,940"},0,{"v":2939,"d":"2,939"},1]
["H19","大阪",27001,"大阪","甲種港湾","特定重要港湾","輸入","カナダ","北米",{"v":11508,"d":"11,508"},0,{"v":11065,"d":"11,065"},443]
["H19","大阪",27001,"大阪","甲種港湾","特定重要港湾","輸入","ジャマイカ","北米",{"v":4027,"d":"4,027"},18,{"v":1303,"d":"1,303"},{"v":2724,"d":"2,724"}]
["H19","大阪",27001,"大阪","甲種港湾","特定重要港湾","輸入","シンガポール","アジア",{"v":28271,"d":"28,271"},4,{"v":27849,"d":"27,849"},422]
["H19","大阪",27001,"大阪","甲種港湾","特定重要港湾","輸入","スペイン","ヨーロッパ",342,1,304,38]
["H19","大阪",27001,"大阪","甲種港湾","特定重要港湾","輸入","スリランカ","アジア",373,0,373,0]
["H19","大阪",27001,"大阪","甲種港湾","特定重要港湾","輸入","タイ","アジア",{"v":57318,"d":"57,318"},0,{"v":57273,"d":"57,273"},45]
["H19","大阪",27001,"大阪","甲種港湾","特定重要港湾","輸入","ドイツ","ヨーロッパ",{"v":2609,"d":"2,609"},0,{"v":2457,"d":"2,457"},152]
["H19","大阪",27001,"大阪","甲種港湾","特定重要港湾","輸入","ニュージーランド","オセアニア",456,0,368,88]
["H19","大阪",27001,"大阪","甲種港湾","特定重要港湾","輸入","パナマ","北米",{"v":1681,"d":"1,681"},0,958,723]
["H19","大阪",27001,"大阪","甲種港湾","特定重要港湾","輸入","フィリピン","アジア",{"v":9690,"d":"9,690"},1,{"v":8506,"d":"8,506"},{"v":1184,"d":"1,184"}]
["H19","大阪",27001,"大阪","甲種港湾","特定重要港湾","輸入","ベトナム","アジア",{"v":11766,"d":"11,766"},0,{"v":11681,"d":"11,681"},85]
["H19","大阪",27001,"大阪","甲種港湾","特定重要港湾","輸入","ベルギー","ヨーロッパ",749,0,739,10]
["H19","大阪",27001,"大阪","甲種港湾","特定重要港湾","輸入","マレーシア","アジア",{"v":12420,"d":"12,420"},0,{"v":12415,"d":"12,415"},5]
["H19","大阪",27001,"大阪","甲種港湾","特定重要港湾","輸入","韓国","アジア",{"v":79115,"d":"79,115"},{"v":1200,"d":"1,200"},{"v":67952,"d":"67,952"},{"v":11163,"d":"11,163"}]
["H19","大阪",27001,"大阪","甲種港湾","特定重要港湾","輸入","香港","アジア",{"v":138858,"d":"138,858"},0,{"v":138041,"d":"138,041"},817]
["H19","大阪",27001,"大阪","甲種港湾","特定重要港湾","輸入","台湾","アジア",{"v":61506,"d":"61,506"},0,{"v":60872,"d":"60,872"},634]
["H19","大阪",27001,"大阪","甲種港湾","特定重要港湾","輸入","中国","アジア",{"v":557492,"d":"557,492"},849,{"v":546242,"d":"546,242"},{"v":11250,"d":"11,250"}]
["H19","大阪",27002,"堺泉北","甲種港湾","特定重要港湾","輸出","韓国","アジア",122,0,0,122]
["H19","大阪",27002,"堺泉北","甲種港湾","特定重要港湾","輸出","中国","アジア",{"v":8533,"d":"8,533"},0,773,{"v":7760,"d":"7,760"}]
["H19","大阪",27002,"堺泉北","甲種港湾","特定重要港湾","輸入","エクアドル","南米",2,0,2,0]
["H19","大阪",27002,"堺泉北","甲種港湾","特定重要港湾","輸入","中国","アジア",{"v":5735,"d":"5,735"},0,{"v":5735,"d":"5,735"},0]
["H19","兵庫",28001,"神戸","甲種港湾","特定重要港湾","輸出","アメリカ合衆国","北米",{"v":120408,"d":"120,408"},0,{"v":114636,"d":"114,636"},{"v":5772,"d":"5,772"}]
["H19","兵庫",28001,"神戸","甲種港湾","特定重要港湾","輸出","アルジェリア","アフリカ",9,0,9,0]
["H19","兵庫",28001,"神戸","甲種港湾","特定重要港湾","輸出","アルゼンチン","南米",846,0,711,135]
["H19","兵庫",28001,"神戸","甲種港湾","特定重要港湾","輸出","イギリス","ヨーロッパ",{"v":14132,"d":"14,132"},0,{"v":13693,"d":"13,693"},439]
["H19","兵庫",28001,"神戸","甲種港湾","特定重要港湾","輸出","インド","アジア",{"v":2207,"d":"2,207"},0,{"v":2207,"d":"2,207"},0]
["H19","兵庫",28001,"神戸","甲種港湾","特定重要港湾","輸出","インドネシア","アジア",{"v":13446,"d":"13,446"},0,{"v":13446,"d":"13,446"},0]
["H19","兵庫",28001,"神戸","甲種港湾","特定重要港湾","輸出","ウルグアイ","南米",66,0,62,4]
["H19","兵庫",28001,"神戸","甲種港湾","特定重要港湾","輸出","エジプト","アフリカ",{"v":1062,"d":"1,062"},0,{"v":1062,"d":"1,062"},0]
["H19","兵庫",28001,"神戸","甲種港湾","特定重要港湾","輸出","オーストラリア","オセアニア",45,0,25,20]
["H19","兵庫",28001,"神戸","甲種港湾","特定重要港湾","輸出","オランダ","ヨーロッパ",{"v":61860,"d":"61,860"},0,{"v":61189,"d":"61,189"},671]
["H19","兵庫",28001,"神戸","甲種港湾","特定重要港湾","輸出","カナダ","北米",{"v":1870,"d":"1,870"},0,{"v":1817,"d":"1,817"},53]
["H19","兵庫",28001,"神戸","甲種港湾","特定重要港湾","輸出","キリバス","オセアニア",4,0,4,0]
["H19","兵庫",28001,"神戸","甲種港湾","特定重要港湾","輸出","グアム","オセアニア",96,0,96,0]
["H19","兵庫",28001,"神戸","甲種港湾","特定重要港湾","輸出","サモア独立国","オセアニア",29,0,29,0]
["H19","兵庫",28001,"神戸","甲種港湾","特定重要港湾","輸出","シンガポール","アジア",{"v":68176,"d":"68,176"},0,{"v":66787,"d":"66,787"},{"v":1389,"d":"1,389"}]
["H19","兵庫",28001,"神戸","甲種港湾","特定重要港湾","輸出","スウェーデン","ヨーロッパ",{"v":1748,"d":"1,748"},0,{"v":1447,"d":"1,447"},301]
["H19","兵庫",28001,"神戸","甲種港湾","特定重要港湾","輸出","スペイン","ヨーロッパ",63,0,63,0]
["H19","兵庫",28001,"神戸","甲種港湾","特定重要港湾","輸出","スリランカ","アジア",16,0,16,0]
["H19","兵庫",28001,"神戸","甲種港湾","特定重要港湾","輸出","ソロモン諸島","オセアニア",22,0,22,0]
["H19","兵庫",28001,"神戸","甲種港湾","特定重要港湾","輸出","タイ","アジア",{"v":46340,"d":"46,340"},0,{"v":42528,"d":"42,528"},{"v":3812,"d":"3,812"}]
["H19","兵庫",28001,"神戸","甲種港湾","特定重要港湾","輸出","デンマーク","ヨーロッパ",196,0,146,50]
["H19","兵庫",28001,"神戸","甲種港湾","特定重要港湾","輸出","ドイツ","ヨーロッパ",{"v":16474,"d":"16,474"},0,{"v":15944,"d":"15,944"},530]
["H19","兵庫",28001,"神戸","甲種港湾","特定重要港湾","輸出","ニューカレドニア","オセアニア",129,0,114,15]
["H19","兵庫",28001,"神戸","甲種港湾","特定重要港湾","輸出","ニュージーランド","オセアニア",{"v":4165,"d":"4,165"},0,{"v":3209,"d":"3,209"},956]
["H19","兵庫",28001,"神戸","甲種港湾","特定重要港湾","輸出","パキスタン","アジア",775,0,775,0]
["H19","兵庫",28001,"神戸","甲種港湾","特定重要港湾","輸出","パナマ","北米",{"v":6507,"d":"6,507"},0,{"v":5947,"d":"5,947"},560]
["H19","兵庫",28001,"神戸","甲種港湾","特定重要港湾","輸出","バヌアツ","オセアニア",19,0,19,0]
["H19","兵庫",28001,"神戸","甲種港湾","特定重要港湾","輸出","パプアニューギニア","オセアニア",125,0,125,0]
["H19","兵庫",28001,"神戸","甲種港湾","特定重要港湾","輸出","パラオ","オセアニア",24,0,24,0]
["H19","兵庫",28001,"神戸","甲種港湾","特定重要港湾","輸出","フィジー","オセアニア",66,0,63,3]
["H19","兵庫",28001,"神戸","甲種港湾","特定重要港湾","輸出","フィリピン","アジア",{"v":11460,"d":"11,460"},0,{"v":10153,"d":"10,153"},{"v":1307,"d":"1,307"}]
["H19","兵庫",28001,"神戸","甲種港湾","特定重要港湾","輸出","ブラジル","南米",{"v":2817,"d":"2,817"},0,{"v":2310,"d":"2,310"},507]
["H19","兵庫",28001,"神戸","甲種港湾","特定重要港湾","輸出","フランス","ヨーロッパ",{"v":5362,"d":"5,362"},0,{"v":5212,"d":"5,212"},150]
["H19","兵庫",28001,"神戸","甲種港湾","特定重要港湾","輸出","ベトナム","アジア",{"v":12286,"d":"12,286"},0,{"v":11682,"d":"11,682"},604]
["H19","兵庫",28001,"神戸","甲種港湾","特定重要港湾","輸出","マーシャル諸島","オセアニア",24,0,24,0]
["H19","兵庫",28001,"神戸","甲種港湾","特定重要港湾","輸出","マレーシア","アジア",{"v":62239,"d":"62,239"},0,{"v":61551,"d":"61,551"},688]
["H19","兵庫",28001,"神戸","甲種港湾","特定重要港湾","輸出","ミクロネシア","オセアニア",81,0,81,0]
["H19","兵庫",28001,"神戸","甲種港湾","特定重要港湾","輸出","ロシア","ヨーロッパ",{"v":1708,"d":"1,708"},0,{"v":1705,"d":"1,705"},3]
["H19","兵庫",28001,"神戸","甲種港湾","特定重要港湾","輸出","韓国","アジア",{"v":65945,"d":"65,945"},0,{"v":55517,"d":"55,517"},{"v":10428,"d":"10,428"}]
["H19","兵庫",28001,"神戸","甲種港湾","特定重要港湾","輸出","香港","アジア",{"v":115767,"d":"115,767"},0,{"v":107872,"d":"107,872"},{"v":7895,"d":"7,895"}]
["H19","兵庫",28001,"神戸","甲種港湾","特定重要港湾","輸出","台湾","アジア",{"v":83886,"d":"83,886"},0,{"v":75353,"d":"75,353"},{"v":8533,"d":"8,533"}]
["H19","兵庫",28001,"神戸","甲種港湾","特定重要港湾","輸出","中国","アジア",{"v":332129,"d":"332,129"},0,{"v":217994,"d":"217,994"},{"v":114135,"d":"114,135"}]
["H19","兵庫",28001,"神戸","甲種港湾","特定重要港湾","輸出","南アフリカ","アフリカ",69,0,69,0]
["H19","兵庫",28001,"神戸","甲種港湾","特定重要港湾","輸出","仏領ポリネシア","オセアニア",93,0,90,3]
["H19","兵庫",28001,"神戸","甲種港湾","特定重要港湾","輸出","米領サモア","オセアニア",11,0,11,0]
["H19","兵庫",28001,"神戸","甲種港湾","特定重要港湾","輸出","北マリアナ諸島","オセアニア",41,0,41,0]
["H19","兵庫",28001,"神戸","甲種港湾","特定重要港湾","輸入","アメリカ合衆国","北米",{"v":183953,"d":"183,953"},{"v":1356,"d":"1,356"},{"v":162231,"d":"162,231"},{"v":21721,"d":"21,721"}]
["H19","兵庫",28001,"神戸","甲種港湾","特定重要港湾","輸入","アルゼンチン","南米",587,0,482,105]
["H19","兵庫",28001,"神戸","甲種港湾","特定重要港湾","輸入","イギリス","ヨーロッパ",{"v":17280,"d":"17,280"},71,{"v":9323,"d":"9,323"},{"v":7957,"d":"7,957"}]
["H19","兵庫",28001,"神戸","甲種港湾","特定重要港湾","輸入","インド","アジア",569,0,561,8]
["H19","兵庫",28001,"神戸","甲種港湾","特定重要港湾","輸入","インドネシア","アジア",{"v":3008,"d":"3,008"},0,{"v":2964,"d":"2,964"},44]
["H19","兵庫",28001,"神戸","甲種港湾","特定重要港湾","輸入","ウルグアイ","南米",216,0,196,20]
["H19","兵庫",28001,"神戸","甲種港湾","特定重要港湾","輸入","エジプト","アフリカ",{"v":1549,"d":"1,549"},21,978,571]
["H19","兵庫",28001,"神戸","甲種港湾","特定重要港湾","輸入","オーストラリア","オセアニア",131,0,59,72]
["H19","兵庫",28001,"神戸","甲種港湾","特定重要港湾","輸入","オランダ","ヨーロッパ",{"v":57352,"d":"57,352"},279,{"v":48818,"d":"48,818"},{"v":8534,"d":"8,534"}]
["H19","兵庫",28001,"神戸","甲種港湾","特定重要港湾","輸入","カナダ","北米",{"v":34184,"d":"34,184"},{"v":2183,"d":"2,183"},{"v":33936,"d":"33,936"},248]
["H19","兵庫",28001,"神戸","甲種港湾","特定重要港湾","輸入","キリバス","オセアニア",1,0,1,0]
["H19","兵庫",28001,"神戸","甲種港湾","特定重要港湾","輸入","グアム","オセアニア",65,0,0,65]
["H19","兵庫",28001,"神戸","甲種港湾","特定重要港湾","輸入","シンガポール","アジア",{"v":71736,"d":"71,736"},16,{"v":68074,"d":"68,074"},{"v":3662,"d":"3,662"}]
["H19","兵庫",28001,"神戸","甲種港湾","特定重要港湾","輸入","スウェーデン","ヨーロッパ",{"v":5758,"d":"5,758"},0,{"v":5483,"d":"5,483"},275]
["H19","兵庫",28001,"神戸","甲種港湾","特定重要港湾","輸入","スペイン","ヨーロッパ",{"v":6977,"d":"6,977"},4,{"v":6863,"d":"6,863"},114]
["H19","兵庫",28001,"神戸","甲種港湾","特定重要港湾","輸入","スリランカ","アジア",528,0,528,0]
["H19","兵庫",28001,"神戸","甲種港湾","特定重要港湾","輸入","ソロモン諸島","オセアニア",27,0,5,22]
["H19","兵庫",28001,"神戸","甲種港湾","特定重要港湾","輸入","タイ","アジア",{"v":38976,"d":"38,976"},0,{"v":38453,"d":"38,453"},523]
["H19","兵庫",28001,"神戸","甲種港湾","特定重要港湾","輸入","デンマーク","ヨーロッパ",{"v":4821,"d":"4,821"},0,{"v":3868,"d":"3,868"},953]
["H19","兵庫",28001,"神戸","甲種港湾","特定重要港湾","輸入","ドイツ","ヨーロッパ",{"v":55888,"d":"55,888"},0,{"v":52491,"d":"52,491"},{"v":3397,"d":"3,397"}]
["H19","兵庫",28001,"神戸","甲種港湾","特定重要港湾","輸入","トンガ","オセアニア",2,0,2,0]
["H19","兵庫",28001,"神戸","甲種港湾","特定重要港湾","輸入","ニューカレドニア","オセアニア",7,0,0,7]
["H19","兵庫",28001,"神戸","甲種港湾","特定重要港湾","輸入","ニュージーランド","オセアニア",{"v":11719,"d":"11,719"},12,{"v":7499,"d":"7,499"},{"v":4220,"d":"4,220"}]
["H19","兵庫",28001,"神戸","甲種港湾","特定重要港湾","輸入","パキスタン","アジア",101,0,99,2]
["H19","兵庫",28001,"神戸","甲種港湾","特定重要港湾","輸入","パナマ","北米",{"v":4918,"d":"4,918"},274,{"v":1607,"d":"1,607"},{"v":3311,"d":"3,311"}]
["H19","兵庫",28001,"神戸","甲種港湾","特定重要港湾","輸入","バヌアツ","オセアニア",36,0,34,2]
["H19","兵庫",28001,"神戸","甲種港湾","特定重要港湾","輸入","パプアニューギニア","オセアニア",71,0,71,0]
["H19","兵庫",28001,"神戸","甲種港湾","特定重要港湾","輸入","パラオ","オセアニア",19,0,0,19]
["H19","兵庫",28001,"神戸","甲種港湾","特定重要港湾","輸入","フィジー","オセアニア",20,0,15,5]
["H19","兵庫",28001,"神戸","甲種港湾","特定重要港湾","輸入","フィリピン","アジア",{"v":7462,"d":"7,462"},539,{"v":7255,"d":"7,255"},207]
["H19","兵庫",28001,"神戸","甲種港湾","特定重要港湾","輸入","ブラジル","南米",{"v":4970,"d":"4,970"},0,{"v":4614,"d":"4,614"},356]
["H19","兵庫",28001,"神戸","甲種港湾","特定重要港湾","輸入","フランス","ヨーロッパ",{"v":10980,"d":"10,980"},104,{"v":9329,"d":"9,329"},{"v":1651,"d":"1,651"}]
["H19","兵庫",28001,"神戸","甲種港湾","特定重要港湾","輸入","ベトナム","アジア",{"v":10326,"d":"10,326"},0,{"v":10145,"d":"10,145"},181]
["H19","兵庫",28001,"神戸","甲種港湾","特定重要港湾","輸入","ベルギー","ヨーロッパ",514,0,514,0]
["H19","兵庫",28001,"神戸","甲種港湾","特定重要港湾","輸入","マレーシア","アジア",{"v":16791,"d":"16,791"},2,{"v":15702,"d":"15,702"},{"v":1089,"d":"1,089"}]
["H19","兵庫",28001,"神戸","甲種港湾","特定重要港湾","輸入","ミクロネシア","オセアニア",49,0,1,48]
["H19","兵庫",28001,"神戸","甲種港湾","特定重要港湾","輸入","メキシコ","北米",693,0,522,171]
["H19","兵庫",28001,"神戸","甲種港湾","特定重要港湾","輸入","ロシア","ヨーロッパ",{"v":1280,"d":"1,280"},0,467,813]
["H19","兵庫",28001,"神戸","甲種港湾","特定重要港湾","輸入","韓国","アジア",{"v":52998,"d":"52,998"},151,{"v":35135,"d":"35,135"},{"v":17863,"d":"17,863"}]
["H19","兵庫",28001,"神戸","甲種港湾","特定重要港湾","輸入","香港","アジア",{"v":66352,"d":"66,352"},445,{"v":64420,"d":"64,420"},{"v":1932,"d":"1,932"}]
["H19","兵庫",28001,"神戸","甲種港湾","特定重要港湾","輸入","台湾","アジア",{"v":38035,"d":"38,035"},0,{"v":35932,"d":"35,932"},{"v":2103,"d":"2,103"}]
["H19","兵庫",28001,"神戸","甲種港湾","特定重要港湾","輸入","中国","アジア",{"v":252536,"d":"252,536"},{"v":7895,"d":"7,895"},{"v":242653,"d":"242,653"},{"v":9884,"d":"9,884"}]
["H19","兵庫",28001,"神戸","甲種港湾","特定重要港湾","輸入","南アフリカ","アフリカ",550,0,495,55]
["H19","兵庫",28001,"神戸","甲種港湾","特定重要港湾","輸入","仏領ポリネシア","オセアニア",11,0,3,8]
["H19","兵庫",28001,"神戸","甲種港湾","特定重要港湾","輸入","米領サモア","オセアニア",39,0,39,0]
["H19","兵庫",28001,"神戸","甲種港湾","特定重要港湾","輸入","北マリアナ諸島","オセアニア",55,0,0,55]
["H19","兵庫",28002,"姫路","甲種港湾","特定重要港湾","輸出","韓国","アジア",715,0,146,569]
["H19","兵庫",28002,"姫路","甲種港湾","特定重要港湾","輸入","韓国","アジア",{"v":1033,"d":"1,033"},0,{"v":1014,"d":"1,014"},19]
["H19","兵庫",28002,"姫路","甲種港湾","特定重要港湾","輸入","中国","アジア",314,0,314,0]
["H19","和歌山",30001,"和歌山下津","甲種港湾","特定重要港湾","輸出","韓国","アジア",{"v":4078,"d":"4,078"},0,919,{"v":3159,"d":"3,159"}]
["H19","和歌山",30001,"和歌山下津","甲種港湾","特定重要港湾","輸入","韓国","アジア",{"v":4758,"d":"4,758"},0,{"v":3859,"d":"3,859"},899]
["H20","京都",26001,"舞鶴","甲種港湾","重要港湾","輸出","韓国","アジア",309,0,157,152]
["H20","京都",26001,"舞鶴","甲種港湾","重要港湾","輸出","中国","アジア",{"v":2098,"d":"2,098"},0,506,{"v":1592,"d":"1,592"}]
["H20","京都",26001,"舞鶴","甲種港湾","重要港湾","輸入","韓国","アジア",380,0,372,8]
["H20","京都",26001,"舞鶴","甲種港湾","重要港湾","輸入","中国","アジア",{"v":2373,"d":"2,373"},0,{"v":2373,"d":"2,373"},0]
["H20","大阪",27001,"大阪","甲種港湾","特定重要港湾","輸出","アメリカ合衆国","北米",{"v":47554,"d":"47,554"},497,{"v":40908,"d":"40,908"},{"v":6646,"d":"6,646"}]
["H20","大阪",27001,"大阪","甲種港湾","特定重要港湾","輸出","イタリア","ヨーロッパ",{"v":2130,"d":"2,130"},0,{"v":2130,"d":"2,130"},0]
["H20","大阪",27001,"大阪","甲種港湾","特定重要港湾","輸出","インドネシア","アジア",{"v":1591,"d":"1,591"},0,{"v":1591,"d":"1,591"},0]
["H20","大阪",27001,"大阪","甲種港湾","特定重要港湾","輸出","エジプト","アフリカ",51,0,51,0]
["H20","大阪",27001,"大阪","甲種港湾","特定重要港湾","輸出","オーストラリア","オセアニア",{"v":14636,"d":"14,636"},0,{"v":10779,"d":"10,779"},{"v":3857,"d":"3,857"}]
["H20","大阪",27001,"大阪","甲種港湾","特定重要港湾","輸出","カナダ","北米",{"v":4724,"d":"4,724"},0,{"v":4658,"d":"4,658"},66]
["H20","大阪",27001,"大阪","甲種港湾","特定重要港湾","輸出","ジャマイカ","北米",{"v":11142,"d":"11,142"},188,{"v":11120,"d":"11,120"},22]
["H20","大阪",27001,"大阪","甲種港湾","特定重要港湾","輸出","シンガポール","アジア",{"v":15788,"d":"15,788"},0,{"v":14899,"d":"14,899"},889]
["H20","大阪",27001,"大阪","甲種港湾","特定重要港湾","輸出","スペイン","ヨーロッパ",934,0,934,0]
["H20","大阪",27001,"大阪","甲種港湾","特定重要港湾","輸出","タイ","アジア",{"v":20098,"d":"20,098"},49,{"v":17854,"d":"17,854"},{"v":2244,"d":"2,244"}]
["H20","大阪",27001,"大阪","甲種港湾","特定重要港湾","輸出","ニュージーランド","オセアニア",360,0,347,13]
["H20","大阪",27001,"大阪","甲種港湾","特定重要港湾","輸出","パナマ","北米",{"v":1524,"d":"1,524"},94,840,684]
["H20","大阪",27001,"大阪","甲種港湾","特定重要港湾","輸出","フィリピン","アジア",{"v":2238,"d":"2,238"},0,{"v":2203,"d":"2,203"},35]
["H20","大阪",27001,"大阪","甲種港湾","特定重要港湾","輸出","ベトナム","アジア",{"v":6521,"d":"6,521"},0,{"v":6314,"d":"6,314"},207]
["H20","大阪",27001,"大阪","甲種港湾","特定重要港湾","輸出","マレーシア","アジア",{"v":4593,"d":"4,593"},0,{"v":4492,"d":"4,492"},101]
["H20","大阪",27001,"大阪","甲種港湾","特定重要港湾","輸出","韓国","アジア",{"v":114834,"d":"114,834"},8,{"v":70759,"d":"70,759"},{"v":44075,"d":"44,075"}]
["H20","大阪",27001,"大阪","甲種港湾","特定重要港湾","輸出","香港","アジア",{"v":73296,"d":"73,296"},0,{"v":60850,"d":"60,850"},{"v":12446,"d":"12,446"}]
["H20","大阪",27001,"大阪","甲種港湾","特定重要港湾","輸出","台湾","アジア",{"v":85043,"d":"85,043"},0,{"v":61417,"d":"61,417"},{"v":23626,"d":"23,626"}]
["H20","大阪",27001,"大阪","甲種港湾","特定重要港湾","輸出","中国","アジア",{"v":470320,"d":"470,320"},0,{"v":121700,"d":"121,700"},{"v":348620,"d":"348,620"}]
["H20","大阪",27001,"大阪","甲種港湾","特定重要港湾","輸入","アメリカ合衆国","北米",{"v":45616,"d":"45,616"},0,{"v":34032,"d":"34,032"},{"v":11584,"d":"11,584"}]
["H20","大阪",27001,"大阪","甲種港湾","特定重要港湾","輸入","イタリア","ヨーロッパ",{"v":4783,"d":"4,783"},0,{"v":4780,"d":"4,780"},3]
["H20","大阪",27001,"大阪","甲種港湾","特定重要港湾","輸入","インドネシア","アジア",{"v":10189,"d":"10,189"},124,{"v":10189,"d":"10,189"},0]
["H20","大阪",27001,"大阪","甲種港湾","特定重要港湾","輸入","エジプト","アフリカ",90,0,10,80]
["H20","大阪",27001,"大阪","甲種港湾","特定重要港湾","輸入","オーストラリア","オセアニア",{"v":43008,"d":"43,008"},0,{"v":30030,"d":"30,030"},{"v":12978,"d":"12,978"}]
["H20","大阪",27001,"大阪","甲種港湾","特定重要港湾","輸入","カナダ","北米",{"v":10056,"d":"10,056"},0,{"v":9708,"d":"9,708"},348]
["H20","大阪",27001,"大阪","甲種港湾","特定重要港湾","輸入","ジャマイカ","北米",{"v":3950,"d":"3,950"},8,{"v":2227,"d":"2,227"},{"v":1723,"d":"1,723"}]
["H20","大阪",27001,"大阪","甲種港湾","特定重要港湾","輸入","シンガポール","アジア",{"v":33176,"d":"33,176"},0,{"v":33126,"d":"33,126"},50]
["H20","大阪",27001,"大阪","甲種港湾","特定重要港湾","輸入","スペイン","ヨーロッパ",{"v":1287,"d":"1,287"},0,{"v":1286,"d":"1,286"},1]
["H20","大阪",27001,"大阪","甲種港湾","特定重要港湾","輸入","スリランカ","アジア",253,0,253,0]
["H20","大阪",27001,"大阪","甲種港湾","特定重要港湾","輸入","タイ","アジア",{"v":56463,"d":"56,463"},0,{"v":56401,"d":"56,401"},62]
["H20","大阪",27001,"大阪","甲種港湾","特定重要港湾","輸入","ニュージーランド","オセアニア",888,0,879,9]
["H20","大阪",27001,"大阪","甲種港湾","特定重要港湾","輸入","パナマ","北米",433,0,427,6]
["H20","大阪",27001,"大阪","甲種港湾","特定重要港湾","輸入","フィリピン","アジア",{"v":7841,"d":"7,841"},100,{"v":7839,"d":"7,839"},2]
["H20","大阪",27001,"大阪","甲種港湾","特定重要港湾","輸入","ベトナム","アジア",{"v":11911,"d":"11,911"},0,{"v":11721,"d":"11,721"},190]
["H20","大阪",27001,"大阪","甲種港湾","特定重要港湾","輸入","マレーシア","アジア",{"v":14721,"d":"14,721"},0,{"v":14706,"d":"14,706"},15]
["H20","大阪",27001,"大阪","甲種港湾","特定重要港湾","輸入","韓国","アジア",{"v":84950,"d":"84,950"},477,{"v":76731,"d":"76,731"},{"v":8218,"d":"8,218"}]
["H20","大阪",27001,"大阪","甲種港湾","特定重要港湾","輸入","香港","アジア",{"v":135571,"d":"135,571"},0,{"v":135132,"d":"135,132"},439]
["H20","大阪",27001,"大阪","甲種港湾","特定重要港湾","輸入","台湾","アジア",{"v":62719,"d":"62,719"},0,{"v":61175,"d":"61,175"},{"v":1544,"d":"1,544"}]
["H20","大阪",27001,"大阪","甲種港湾","特定重要港湾","輸入","中国","アジア",{"v":544801,"d":"544,801"},129,{"v":536287,"d":"536,287"},{"v":8514,"d":"8,514"}]
["H20","大阪",27002,"堺泉北","甲種港湾","特定重要港湾","輸出","中国","アジア",{"v":4648,"d":"4,648"},0,853,{"v":3795,"d":"3,795"}]
["H20","大阪",27002,"堺泉北","甲種港湾","特定重要港湾","輸入","中国","アジア",{"v":4811,"d":"4,811"},0,{"v":4811,"d":"4,811"},0]
["H20","兵庫",28001,"神戸","甲種港湾","特定重要港湾","輸出","アメリカ合衆国","北米",{"v":116753,"d":"116,753"},0,{"v":108140,"d":"108,140"},{"v":8613,"d":"8,613"}]
["H20","兵庫",28001,"神戸","甲種港湾","特定重要港湾","輸出","アルゼンチン","南米",{"v":1051,"d":"1,051"},0,837,214]
["H20","兵庫",28001,"神戸","甲種港湾","特定重要港湾","輸出","イギリス","ヨーロッパ",{"v":11226,"d":"11,226"},0,{"v":11123,"d":"11,123"},103]
["H20","兵庫",28001,"神戸","甲種港湾","特定重要港湾","輸出","インド","アジア",{"v":1937,"d":"1,937"},0,{"v":1937,"d":"1,937"},0]
["H20","兵庫",28001,"神戸","甲種港湾","特定重要港湾","輸出","インドネシア","アジア",{"v":13833,"d":"13,833"},0,{"v":13833,"d":"13,833"},0]
["H20","兵庫",28001,"神戸","甲種港湾","特定重要港湾","輸出","ウルグアイ","南米",157,0,101,56]
["H20","兵庫",28001,"神戸","甲種港湾","特定重要港湾","輸出","エクアドル","南米",388,0,330,58]
["H20","兵庫",28001,"神戸","甲種港湾","特定重要港湾","輸出","エジプト","アフリカ",{"v":1755,"d":"1,755"},0,{"v":1728,"d":"1,728"},27]
["H20","兵庫",28001,"神戸","甲種港湾","特定重要港湾","輸出","オーストラリア","オセアニア",376,0,375,1]
["H20","兵庫",28001,"神戸","甲種港湾","特定重要港湾","輸出","オランダ","ヨーロッパ",{"v":64841,"d":"64,841"},0,{"v":64402,"d":"64,402"},439]
["H20","兵庫",28001,"神戸","甲種港湾","特定重要港湾","輸出","カナダ","北米",{"v":3338,"d":"3,338"},0,{"v":3328,"d":"3,328"},10]
["H20","兵庫",28001,"神戸","甲種港湾","特定重要港湾","輸出","キリバス","オセアニア",3,0,3,0]
["H20","兵庫",28001,"神戸","甲種港湾","特定重要港湾","輸出","グアム","オセアニア",67,0,67,0]
["H20","兵庫",28001,"神戸","甲種港湾","特定重要港湾","輸出","サモア独立国","オセアニア",17,0,17,0]
["H20","兵庫",28001,"神戸","甲種港湾","特定重要港湾","輸出","シンガポール","アジア",{"v":73666,"d":"73,666"},0,{"v":71307,"d":"71,307"},{"v":2359,"d":"2,359"}]
["H20","兵庫",28001,"神戸","甲種港湾","特定重要港湾","輸出","スウェーデン","ヨーロッパ",174,0,174,0]
["H20","兵庫",28001,"神戸","甲種港湾","特定重要港湾","輸出","スリランカ","アジア",24,0,24,0]
["H20","兵庫",28001,"神戸","甲種港湾","特定重要港湾","輸出","ソロモン諸島","オセアニア",9,0,9,0]
["H20","兵庫",28001,"神戸","甲種港湾","特定重要港湾","輸出","タイ","アジア",{"v":48329,"d":"48,329"},0,{"v":46342,"d":"46,342"},{"v":1987,"d":"1,987"}]
["H20","兵庫",28001,"神戸","甲種港湾","特定重要港湾","輸出","チリ","南米",101,0,101,0]
["H20","兵庫",28001,"神戸","甲種港湾","特定重要港湾","輸出","デンマーク","ヨーロッパ",46,0,46,0]
["H20","兵庫",28001,"神戸","甲種港湾","特定重要港湾","輸出","ドイツ","ヨーロッパ",{"v":20061,"d":"20,061"},0,{"v":19704,"d":"19,704"},357]
["H20","兵庫",28001,"神戸","甲種港湾","特定重要港湾","輸出","トンガ","オセアニア",4,0,4,0]
["H20","兵庫",28001,"神戸","甲種港湾","特定重要港湾","輸出","ニューカレドニア","オセアニア",214,0,195,19]
["H20","兵庫",28001,"神戸","甲種港湾","特定重要港湾","輸出","ニュージーランド","オセアニア",{"v":6078,"d":"6,078"},0,{"v":4337,"d":"4,337"},{"v":1741,"d":"1,741"}]
["H20","兵庫",28001,"神戸","甲種港湾","特定重要港湾","輸出","パキスタン","アジア",418,0,418,0]
["H20","兵庫",28001,"神戸","甲種港湾","特定重要港湾","輸出","パナマ","北米",{"v":7240,"d":"7,240"},0,{"v":4906,"d":"4,906"},{"v":2334,"d":"2,334"}]
["H20","兵庫",28001,"神戸","甲種港湾","特定重要港湾","輸出","バヌアツ","オセアニア",33,0,33,0]
["H20","兵庫",28001,"神戸","甲種港湾","特定重要港湾","輸出","パプアニューギニア","オセアニア",118,0,118,0]
["H20","兵庫",28001,"神戸","甲種港湾","特定重要港湾","輸出","パラオ","オセアニア",18,0,18,0]
["H20","兵庫",28001,"神戸","甲種港湾","特定重要港湾","輸出","フィジー","オセアニア",70,0,63,7]
["H20","兵庫",28001,"神戸","甲種港湾","特定重要港湾","輸出","フィリピン","アジア",{"v":12859,"d":"12,859"},0,{"v":10387,"d":"10,387"},{"v":2472,"d":"2,472"}]
["H20","兵庫",28001,"神戸","甲種港湾","特定重要港湾","輸出","ブラジル","南米",{"v":4385,"d":"4,385"},0,{"v":2932,"d":"2,932"},{"v":1453,"d":"1,453"}]
["H20","兵庫",28001,"神戸","甲種港湾","特定重要港湾","輸出","フランス","ヨーロッパ",{"v":5872,"d":"5,872"},0,{"v":5753,"d":"5,753"},119]
["H20","兵庫",28001,"神戸","甲種港湾","特定重要港湾","輸出","ベトナム","アジア",{"v":13387,"d":"13,387"},0,{"v":12770,"d":"12,770"},617]
["H20","兵庫",28001,"神戸","甲種港湾","特定重要港湾","輸出","マーシャル諸島","オセアニア",24,0,24,0]
["H20","兵庫",28001,"神戸","甲種港湾","特定重要港湾","輸出","マレーシア","アジア",{"v":67760,"d":"67,760"},0,{"v":66731,"d":"66,731"},{"v":1029,"d":"1,029"}]
["H20","兵庫",28001,"神戸","甲種港湾","特定重要港湾","輸出","ミクロネシア","オセアニア",66,0,66,0]
["H20","兵庫",28001,"神戸","甲種港湾","特定重要港湾","輸出","メキシコ","北米",62,0,60,2]
["H20","兵庫",28001,"神戸","甲種港湾","特定重要港湾","輸出","ロシア","ヨーロッパ",{"v":1643,"d":"1,643"},0,{"v":1643,"d":"1,643"},0]
["H20","兵庫",28001,"神戸","甲種港湾","特定重要港湾","輸出","韓国","アジア",635,0,589,46]
["H20","兵庫",28001,"神戸","甲種港湾","特定重要港湾","輸出","韓国","アジア",{"v":65473,"d":"65,473"},0,{"v":57182,"d":"57,182"},{"v":8291,"d":"8,291"}]
["H20","兵庫",28001,"神戸","甲種港湾","特定重要港湾","輸出","香港","アジア",{"v":113203,"d":"113,203"},0,{"v":102193,"d":"102,193"},{"v":11010,"d":"11,010"}]
["H20","兵庫",28001,"神戸","甲種港湾","特定重要港湾","輸出","台湾","アジア",{"v":87724,"d":"87,724"},0,{"v":78203,"d":"78,203"},{"v":9521,"d":"9,521"}]
["H20","兵庫",28001,"神戸","甲種港湾","特定重要港湾","輸出","中国","アジア",{"v":326980,"d":"326,980"},0,{"v":214673,"d":"214,673"},{"v":112307,"d":"112,307"}]
["H20","兵庫",28001,"神戸","甲種港湾","特定重要港湾","輸出","南アフリカ","アフリカ",50,0,0,50]
["H20","兵庫",28001,"神戸","甲種港湾","特定重要港湾","輸出","仏領ポリネシア","オセアニア",92,0,82,10]
["H20","兵庫",28001,"神戸","甲種港湾","特定重要港湾","輸出","米領サモア","オセアニア",11,0,11,0]
["H20","兵庫",28001,"神戸","甲種港湾","特定重要港湾","輸出","北マリアナ諸島","オセアニア",27,0,27,0]
["H20","兵庫",28001,"神戸","甲種港湾","特定重要港湾","輸入","アメリカ合衆国","北米",{"v":202104,"d":"202,104"},{"v":2423,"d":"2,423"},{"v":175133,"d":"175,133"},{"v":26971,"d":"26,971"}]
["H20","兵庫",28001,"神戸","甲種港湾","特定重要港湾","輸入","アルゼンチン","南米",811,0,721,90]
["H20","兵庫",28001,"神戸","甲種港湾","特定重要港湾","輸入","イギリス","ヨーロッパ",{"v":8938,"d":"8,938"},1,{"v":6363,"d":"6,363"},{"v":2575,"d":"2,575"}]
["H20","兵庫",28001,"神戸","甲種港湾","特定重要港湾","輸入","インド","アジア",628,0,627,1]
["H20","兵庫",28001,"神戸","甲種港湾","特定重要港湾","輸入","インドネシア","アジア",{"v":4191,"d":"4,191"},0,{"v":4167,"d":"4,167"},24]
["H20","兵庫",28001,"神戸","甲種港湾","特定重要港湾","輸入","ウルグアイ","南米",54,0,53,1]
["H20","兵庫",28001,"神戸","甲種港湾","特定重要港湾","輸入","エクアドル","南米",317,0,155,162]
["H20","兵庫",28001,"神戸","甲種港湾","特定重要港湾","輸入","エジプト","アフリカ",331,0,301,30]
["H20","兵庫",28001,"神戸","甲種港湾","特定重要港湾","輸入","オーストラリア","オセアニア",602,0,177,425]
["H20","兵庫",28001,"神戸","甲種港湾","特定重要港湾","輸入","オランダ","ヨーロッパ",{"v":47107,"d":"47,107"},1,{"v":43188,"d":"43,188"},{"v":3919,"d":"3,919"}]
["H20","兵庫",28001,"神戸","甲種港湾","特定重要港湾","輸入","カナダ","北米",{"v":37047,"d":"37,047"},{"v":2501,"d":"2,501"},{"v":36228,"d":"36,228"},819]
["H20","兵庫",28001,"神戸","甲種港湾","特定重要港湾","輸入","グアム","オセアニア",19,0,7,12]
["H20","兵庫",28001,"神戸","甲種港湾","特定重要港湾","輸入","サモア独立国","オセアニア",8,0,0,8]
["H20","兵庫",28001,"神戸","甲種港湾","特定重要港湾","輸入","シンガポール","アジア",{"v":76562,"d":"76,562"},20,{"v":70109,"d":"70,109"},{"v":6453,"d":"6,453"}]
["H20","兵庫",28001,"神戸","甲種港湾","特定重要港湾","輸入","スウェーデン","ヨーロッパ",{"v":6729,"d":"6,729"},0,{"v":6711,"d":"6,711"},18]
["H20","兵庫",28001,"神戸","甲種港湾","特定重要港湾","輸入","スペイン","ヨーロッパ",67,0,65,2]
["H20","兵庫",28001,"神戸","甲種港湾","特定重要港湾","輸入","スリランカ","アジア",833,0,815,18]
["H20","兵庫",28001,"神戸","甲種港湾","特定重要港湾","輸入","ソロモン諸島","オセアニア",2,0,2,0]
["H20","兵庫",28001,"神戸","甲種港湾","特定重要港湾","輸入","タイ","アジア",{"v":40056,"d":"40,056"},0,{"v":39329,"d":"39,329"},727]
["H20","兵庫",28001,"神戸","甲種港湾","特定重要港湾","輸入","チリ","南米",91,0,91,0]
["H20","兵庫",28001,"神戸","甲種港湾","特定重要港湾","輸入","デンマーク","ヨーロッパ",{"v":6428,"d":"6,428"},0,{"v":5068,"d":"5,068"},{"v":1360,"d":"1,360"}]
["H20","兵庫",28001,"神戸","甲種港湾","特定重要港湾","輸入","ドイツ","ヨーロッパ",{"v":52212,"d":"52,212"},10,{"v":50145,"d":"50,145"},{"v":2067,"d":"2,067"}]
["H20","兵庫",28001,"神戸","甲種港湾","特定重要港湾","輸入","ニューカレドニア","オセアニア",17,0,0,17]
["H20","兵庫",28001,"神戸","甲種港湾","特定重要港湾","輸入","ニュージーランド","オセアニア",{"v":13318,"d":"13,318"},2,{"v":7625,"d":"7,625"},{"v":5693,"d":"5,693"}]
["H20","兵庫",28001,"神戸","甲種港湾","特定重要港湾","輸入","パキスタン","アジア",46,0,46,0]
["H20","兵庫",28001,"神戸","甲種港湾","特定重要港湾","輸入","パナマ","北米",{"v":9044,"d":"9,044"},29,{"v":2726,"d":"2,726"},{"v":6318,"d":"6,318"}]
["H20","兵庫",28001,"神戸","甲種港湾","特定重要港湾","輸入","バヌアツ","オセアニア",39,0,39,0]
["H20","兵庫",28001,"神戸","甲種港湾","特定重要港湾","輸入","パプアニューギニア","オセアニア",83,0,83,0]
["H20","兵庫",28001,"神戸","甲種港湾","特定重要港湾","輸入","パラオ","オセアニア",12,0,0,12]
["H20","兵庫",28001,"神戸","甲種港湾","特定重要港湾","輸入","フィジー","オセアニア",16,0,16,0]
["H20","兵庫",28001,"神戸","甲種港湾","特定重要港湾","輸入","フィリピン","アジア",{"v":8945,"d":"8,945"},443,{"v":8766,"d":"8,766"},179]
["H20","兵庫",28001,"神戸","甲種港湾","特定重要港湾","輸入","ブラジル","南米",{"v":4107,"d":"4,107"},0,{"v":3813,"d":"3,813"},294]
["H20","兵庫",28001,"神戸","甲種港湾","特定重要港湾","輸入","フランス","ヨーロッパ",{"v":10604,"d":"10,604"},1,{"v":8523,"d":"8,523"},{"v":2081,"d":"2,081"}]
["H20","兵庫",28001,"神戸","甲種港湾","特定重要港湾","輸入","ベトナム","アジア",{"v":13890,"d":"13,890"},0,{"v":13502,"d":"13,502"},388]
["H20","兵庫",28001,"神戸","甲種港湾","特定重要港湾","輸入","ペルー","南米",91,0,91,0]
["H20","兵庫",28001,"神戸","甲種港湾","特定重要港湾","輸入","マレーシア","アジア",{"v":15132,"d":"15,132"},10,{"v":14350,"d":"14,350"},782]
["H20","兵庫",28001,"神戸","甲種港湾","特定重要港湾","輸入","ミクロネシア","オセアニア",3,0,0,3]
["H20","兵庫",28001,"神戸","甲種港湾","特定重要港湾","輸入","メキシコ","北米",51,0,51,0]
["H20","兵庫",28001,"神戸","甲種港湾","特定重要港湾","輸入","ロシア","ヨーロッパ",{"v":1161,"d":"1,161"},0,427,734]
["H20","兵庫",28001,"神戸","甲種港湾","特定重要港湾","輸入","韓国","アジア",{"v":52304,"d":"52,304"},4,{"v":34066,"d":"34,066"},{"v":18238,"d":"18,238"}]
["H20","兵庫",28001,"神戸","甲種港湾","特定重要港湾","輸入","香港","アジア",{"v":68005,"d":"68,005"},0,{"v":64756,"d":"64,756"},{"v":3248,"d":"3,248"}]
["H20","兵庫",28001,"神戸","甲種港湾","特定重要港湾","輸入","台湾","アジア",{"v":37784,"d":"37,784"},0,{"v":34992,"d":"34,992"},{"v":2792,"d":"2,792"}]
["H20","兵庫",28001,"神戸","甲種港湾","特定重要港湾","輸入","中国","アジア",{"v":249668,"d":"249,668"},{"v":4020,"d":"4,020"},{"v":236141,"d":"236,141"},{"v":13527,"d":"13,527"}]
["H20","兵庫",28001,"神戸","甲種港湾","特定重要港湾","輸入","南アフリカ","アフリカ",330,0,320,10]
["H20","兵庫",28001,"神戸","甲種港湾","特定重要港湾","輸入","仏領ポリネシア","オセアニア",5,0,3,2]
["H20","兵庫",28001,"神戸","甲種港湾","特定重要港湾","輸入","米領サモア","オセアニア",6,0,6,0]
["H20","兵庫",28001,"神戸","甲種港湾","特定重要港湾","輸入","北マリアナ諸島","オセアニア",15,0,0,15]
["H20","兵庫",28002,"姫路","甲種港湾","特定重要港湾","輸出","韓国","アジア",571,0,153,418]
["H20","兵庫",28002,"姫路","甲種港湾","特定重要港湾","輸入","韓国","アジア",554,0,553,1]
["H20","兵庫",28002,"姫路","甲種港湾","特定重要港湾","輸入","香港","アジア",20,0,20,0]
["H20","兵庫",28002,"姫路","甲種港湾","特定重要港湾","輸入","中国","アジア",279,0,279,0]
["H20","和歌山",30001,"和歌山下津","甲種港湾","特定重要港湾","輸出","韓国","アジア",{"v":2554,"d":"2,554"},0,657,{"v":1897,"d":"1,897"}]
["H20","和歌山",30001,"和歌山下津","甲種港湾","特定重要港湾","輸入","韓国","アジア",{"v":3380,"d":"3,380"},0,{"v":3318,"d":"3,318"},62]
["H21","京都",26001,"舞鶴","甲種港湾","重要港湾","輸出","韓国","アジア",897,0,610,287]
["H21","京都",26001,"舞鶴","甲種港湾","重要港湾","輸出","中国","アジア",{"v":1803,"d":"1,803"},0,479,{"v":1324,"d":"1,324"}]
["H21","京都",26001,"舞鶴","甲種港湾","重要港湾","輸入","韓国","アジア",{"v":1007,"d":"1,007"},0,765,242]
["H21","京都",26001,"舞鶴","甲種港湾","重要港湾","輸入","中国","アジア",{"v":1885,"d":"1,885"},0,{"v":1885,"d":"1,885"},0]
["H21","大阪",27001,"大阪","甲種港湾","特定重要港湾","輸出","アメリカ合衆国","北米",{"v":42296,"d":"42,296"},{"v":14271,"d":"14,271"},{"v":38308,"d":"38,308"},{"v":3988,"d":"3,988"}]
["H21","大阪",27001,"大阪","甲種港湾","特定重要港湾","輸出","イタリア","ヨーロッパ",291,0,291,0]
["H21","大阪",27001,"大阪","甲種港湾","特定重要港湾","輸出","インドネシア","アジア",718,0,688,30]
["H21","大阪",27001,"大阪","甲種港湾","特定重要港湾","輸出","オーストラリア","オセアニア",{"v":8276,"d":"8,276"},11,{"v":5818,"d":"5,818"},{"v":2458,"d":"2,458"}]
["H21","大阪",27001,"大阪","甲種港湾","特定重要港湾","輸出","カナダ","北米",{"v":17776,"d":"17,776"},{"v":11507,"d":"11,507"},{"v":14910,"d":"14,910"},{"v":2866,"d":"2,866"}]
["H21","大阪",27001,"大阪","甲種港湾","特定重要港湾","輸出","ジャマイカ","北米",312,0,312,0]
["H21","大阪",27001,"大阪","甲種港湾","特定重要港湾","輸出","シンガポール","アジア",{"v":10140,"d":"10,140"},0,{"v":9662,"d":"9,662"},478]
["H21","大阪",27001,"大阪","甲種港湾","特定重要港湾","輸出","スペイン","ヨーロッパ",163,0,163,0]
["H21","大阪",27001,"大阪","甲種港湾","特定重要港湾","輸出","タイ","アジア",{"v":20717,"d":"20,717"},0,{"v":15095,"d":"15,095"},{"v":5622,"d":"5,622"}]
["H21","大阪",27001,"大阪","甲種港湾","特定重要港湾","輸出","ニュージーランド","オセアニア",142,0,136,6]
["H21","大阪",27001,"大阪","甲種港湾","特定重要港湾","輸出","フィリピン","アジア",{"v":2371,"d":"2,371"},0,{"v":2298,"d":"2,298"},73]
["H21","大阪",27001,"大阪","甲種港湾","特定重要港湾","輸出","ベトナム","アジア",{"v":5536,"d":"5,536"},0,{"v":4665,"d":"4,665"},871]
["H21","大阪",27001,"大阪","甲種港湾","特定重要港湾","輸出","マレーシア","アジア",{"v":3828,"d":"3,828"},0,{"v":3062,"d":"3,062"},766]
["H21","大阪",27001,"大阪","甲種港湾","特定重要港湾","輸出","韓国","アジア",{"v":111470,"d":"111,470"},235,{"v":66625,"d":"66,625"},{"v":44845,"d":"44,845"}]
["H21","大阪",27001,"大阪","甲種港湾","特定重要港湾","輸出","香港","アジア",{"v":69454,"d":"69,454"},43,{"v":57358,"d":"57,358"},{"v":12096,"d":"12,096"}]
["H21","大阪",27001,"大阪","甲種港湾","特定重要港湾","輸出","台湾","アジア",{"v":76539,"d":"76,539"},364,{"v":49775,"d":"49,775"},{"v":26764,"d":"26,764"}]
["H21","大阪",27001,"大阪","甲種港湾","特定重要港湾","輸出","中国","アジア",{"v":467080,"d":"467,080"},329,{"v":113622,"d":"113,622"},{"v":353458,"d":"353,458"}]
["H21","大阪",27001,"大阪","甲種港湾","特定重要港湾","輸入","アメリカ合衆国","北米",{"v":45641,"d":"45,641"},378,{"v":34217,"d":"34,217"},{"v":11424,"d":"11,424"}]
["H21","大阪",27001,"大阪","甲種港湾","特定重要港湾","輸入","イタリア","ヨーロッパ",{"v":1217,"d":"1,217"},0,{"v":1215,"d":"1,215"},2]
["H21","大阪",27001,"大阪","甲種港湾","特定重要港湾","輸入","インドネシア","アジア",{"v":7948,"d":"7,948"},0,{"v":7948,"d":"7,948"},0]
["H21","大阪",27001,"大阪","甲種港湾","特定重要港湾","輸入","オーストラリア","オセアニア",{"v":29162,"d":"29,162"},0,{"v":26636,"d":"26,636"},{"v":2526,"d":"2,526"}]
["H21","大阪",27001,"大阪","甲種港湾","特定重要港湾","輸入","カナダ","北米",{"v":13038,"d":"13,038"},84,{"v":13021,"d":"13,021"},17]
["H21","大阪",27001,"大阪","甲種港湾","特定重要港湾","輸入","サウジアラビア","アジア",9,0,9,0]
["H21","大阪",27001,"大阪","甲種港湾","特定重要港湾","輸入","シンガポール","アジア",{"v":22072,"d":"22,072"},2,{"v":21817,"d":"21,817"},255]
["H21","大阪",27001,"大阪","甲種港湾","特定重要港湾","輸入","スペイン","ヨーロッパ",443,0,442,1]
["H21","大阪",27001,"大阪","甲種港湾","特定重要港湾","輸入","スリランカ","アジア",251,0,251,0]
["H21","大阪",27001,"大阪","甲種港湾","特定重要港湾","輸入","タイ","アジア",{"v":52780,"d":"52,780"},0,{"v":52737,"d":"52,737"},43]
["H21","大阪",27001,"大阪","甲種港湾","特定重要港湾","輸入","ニュージーランド","オセアニア",235,0,235,0]
["H21","大阪",27001,"大阪","甲種港湾","特定重要港湾","輸入","パナマ","北米",165,0,165,0]
["H21","大阪",27001,"大阪","甲種港湾","特定重要港湾","輸入","フィリピン","アジア",{"v":4862,"d":"4,862"},0,{"v":4850,"d":"4,850"},12]
["H21","大阪",27001,"大阪","甲種港湾","特定重要港湾","輸入","ベトナム","アジア",{"v":10701,"d":"10,701"},0,{"v":10482,"d":"10,482"},219]
["H21","大阪",27001,"大阪","甲種港湾","特定重要港湾","輸入","マレーシア","アジア",{"v":9735,"d":"9,735"},0,{"v":9704,"d":"9,704"},31]
["H21","大阪",27001,"大阪","甲種港湾","特定重要港湾","輸入","メキシコ","北米",44,0,44,0]
["H21","大阪",27001,"大阪","甲種港湾","特定重要港湾","輸入","韓国","アジア",{"v":78014,"d":"78,014"},374,{"v":71752,"d":"71,752"},{"v":6262,"d":"6,262"}]
["H21","大阪",27001,"大阪","甲種港湾","特定重要港湾","輸入","香港","アジア",{"v":118122,"d":"118,122"},0,{"v":117572,"d":"117,572"},550]
["H21","大阪",27001,"大阪","甲種港湾","特定重要港湾","輸入","台湾","アジア",{"v":58605,"d":"58,605"},4,{"v":58085,"d":"58,085"},520]
["H21","大阪",27001,"大阪","甲種港湾","特定重要港湾","輸入","中国","アジア",{"v":552915,"d":"552,915"},{"v":25918,"d":"25,918"},{"v":542767,"d":"542,767"},{"v":10148,"d":"10,148"}]
["H21","大阪",27002,"堺泉北","甲種港湾","特定重要港湾","輸出","中国","アジア",{"v":5607,"d":"5,607"},0,226,{"v":5381,"d":"5,381"}]
["H21","大阪",27002,"堺泉北","甲種港湾","特定重要港湾","輸入","中国","アジア",{"v":7489,"d":"7,489"},0,{"v":6945,"d":"6,945"},544]
["H21","兵庫",28001,"神戸","甲種港湾","特定重要港湾","輸出","アメリカ合衆国","北米",{"v":81630,"d":"81,630"},0,{"v":75290,"d":"75,290"},{"v":6340,"d":"6,340"}]
["H21","兵庫",28001,"神戸","甲種港湾","特定重要港湾","輸出","アルゼンチン","南米",490,0,268,222]
["H21","兵庫",28001,"神戸","甲種港湾","特定重要港湾","輸出","イギリス","ヨーロッパ",{"v":5412,"d":"5,412"},0,{"v":5305,"d":"5,305"},107]
["H21","兵庫",28001,"神戸","甲種港湾","特定重要港湾","輸出","イタリア","ヨーロッパ",103,0,103,0]
["H21","兵庫",28001,"神戸","甲種港湾","特定重要港湾","輸出","インド","アジア",{"v":2684,"d":"2,684"},0,{"v":2684,"d":"2,684"},0]
["H21","兵庫",28001,"神戸","甲種港湾","特定重要港湾","輸出","インドネシア","アジア",{"v":9351,"d":"9,351"},0,{"v":9341,"d":"9,341"},10]
["H21","兵庫",28001,"神戸","甲種港湾","特定重要港湾","輸出","ウルグアイ","南米",41,0,41,0]
["H21","兵庫",28001,"神戸","甲種港湾","特定重要港湾","輸出","エクアドル","南米",54,0,0,54]
["H21","兵庫",28001,"神戸","甲種港湾","特定重要港湾","輸出","エジプト","アフリカ",140,0,140,0]
["H21","兵庫",28001,"神戸","甲種港湾","特定重要港湾","輸出","オーストラリア","オセアニア",329,0,262,67]
["H21","兵庫",28001,"神戸","甲種港湾","特定重要港湾","輸出","オランダ","ヨーロッパ",{"v":33526,"d":"33,526"},0,{"v":33335,"d":"33,335"},191]
["H21","兵庫",28001,"神戸","甲種港湾","特定重要港湾","輸出","カナダ","北米",{"v":1485,"d":"1,485"},0,{"v":1312,"d":"1,312"},173]
["H21","兵庫",28001,"神戸","甲種港湾","特定重要港湾","輸出","キリバス","オセアニア",4,0,4,0]
["H21","兵庫",28001,"神戸","甲種港湾","特定重要港湾","輸出","グアム","オセアニア",76,0,76,0]
["H21","兵庫",28001,"神戸","甲種港湾","特定重要港湾","輸出","サモア独立国","オセアニア",12,0,8,4]
["H21","兵庫",28001,"神戸","甲種港湾","特定重要港湾","輸出","シンガポール","アジア",{"v":59448,"d":"59,448"},0,{"v":57670,"d":"57,670"},{"v":1778,"d":"1,778"}]
["H21","兵庫",28001,"神戸","甲種港湾","特定重要港湾","輸出","スペイン","ヨーロッパ",62,0,62,0]
["H21","兵庫",28001,"神戸","甲種港湾","特定重要港湾","輸出","スリランカ","アジア",30,0,30,0]
["H21","兵庫",28001,"神戸","甲種港湾","特定重要港湾","輸出","ソロモン諸島","オセアニア",11,0,11,0]
["H21","兵庫",28001,"神戸","甲種港湾","特定重要港湾","輸出","タイ","アジア",{"v":50769,"d":"50,769"},0,{"v":47090,"d":"47,090"},{"v":3679,"d":"3,679"}]
["H21","兵庫",28001,"神戸","甲種港湾","特定重要港湾","輸出","ドイツ","ヨーロッパ",{"v":14051,"d":"14,051"},0,{"v":13865,"d":"13,865"},186]
["H21","兵庫",28001,"神戸","甲種港湾","特定重要港湾","輸出","トンガ","オセアニア",3,0,3,0]
["H21","兵庫",28001,"神戸","甲種港湾","特定重要港湾","輸出","ニューカレドニア","オセアニア",177,0,177,0]
["H21","兵庫",28001,"神戸","甲種港湾","特定重要港湾","輸出","ニュージーランド","オセアニア",{"v":5882,"d":"5,882"},0,{"v":2344,"d":"2,344"},{"v":3538,"d":"3,538"}]
["H21","兵庫",28001,"神戸","甲種港湾","特定重要港湾","輸出","パキスタン","アジア",451,0,451,0]
["H21","兵庫",28001,"神戸","甲種港湾","特定重要港湾","輸出","パナマ","北米",{"v":9117,"d":"9,117"},0,{"v":3987,"d":"3,987"},{"v":5130,"d":"5,130"}]
["H21","兵庫",28001,"神戸","甲種港湾","特定重要港湾","輸出","バヌアツ","オセアニア",19,0,19,0]
["H21","兵庫",28001,"神戸","甲種港湾","特定重要港湾","輸出","パプアニューギニア","オセアニア",122,0,122,0]
["H21","兵庫",28001,"神戸","甲種港湾","特定重要港湾","輸出","パラオ","オセアニア",28,0,28,0]
["H21","兵庫",28001,"神戸","甲種港湾","特定重要港湾","輸出","フィジー","オセアニア",29,0,29,0]
["H21","兵庫",28001,"神戸","甲種港湾","特定重要港湾","輸出","フィリピン","アジア",{"v":11313,"d":"11,313"},0,{"v":8121,"d":"8,121"},{"v":3192,"d":"3,192"}]
["H21","兵庫",28001,"神戸","甲種港湾","特定重要港湾","輸出","ブラジル","南米",{"v":2253,"d":"2,253"},0,{"v":1656,"d":"1,656"},597]
["H21","兵庫",28001,"神戸","甲種港湾","特定重要港湾","輸出","フランス","ヨーロッパ",{"v":2745,"d":"2,745"},0,{"v":2673,"d":"2,673"},72]
["H21","兵庫",28001,"神戸","甲種港湾","特定重要港湾","輸出","ベトナム","アジア",{"v":10669,"d":"10,669"},0,{"v":9534,"d":"9,534"},{"v":1135,"d":"1,135"}]
["H21","兵庫",28001,"神戸","甲種港湾","特定重要港湾","輸出","マーシャル諸島","オセアニア",22,0,22,0]
["H21","兵庫",28001,"神戸","甲種港湾","特定重要港湾","輸出","マルタ","ヨーロッパ",889,0,887,2]
["H21","兵庫",28001,"神戸","甲種港湾","特定重要港湾","輸出","マレーシア","アジア",{"v":64332,"d":"64,332"},0,{"v":62650,"d":"62,650"},{"v":1682,"d":"1,682"}]
["H21","兵庫",28001,"神戸","甲種港湾","特定重要港湾","輸出","ミクロネシア","オセアニア",74,0,74,0]
["H21","兵庫",28001,"神戸","甲種港湾","特定重要港湾","輸出","モロッコ","アフリカ",268,0,268,0]
["H21","兵庫",28001,"神戸","甲種港湾","特定重要港湾","輸出","レバノン","アジア",511,0,511,0]
["H21","兵庫",28001,"神戸","甲種港湾","特定重要港湾","輸出","ロシア","ヨーロッパ",999,0,999,0]
["H21","兵庫",28001,"神戸","甲種港湾","特定重要港湾","輸出","韓国","アジア",{"v":51107,"d":"51,107"},0,{"v":45042,"d":"45,042"},{"v":6065,"d":"6,065"}]
["H21","兵庫",28001,"神戸","甲種港湾","特定重要港湾","輸出","香港","アジア",{"v":105724,"d":"105,724"},0,{"v":98647,"d":"98,647"},{"v":7077,"d":"7,077"}]
["H21","兵庫",28001,"神戸","甲種港湾","特定重要港湾","輸出","台湾","アジア",{"v":108278,"d":"108,278"},0,{"v":88412,"d":"88,412"},{"v":19866,"d":"19,866"}]
["H21","兵庫",28001,"神戸","甲種港湾","特定重要港湾","輸出","中国","アジア",{"v":310136,"d":"310,136"},0,{"v":192482,"d":"192,482"},{"v":117654,"d":"117,654"}]
["H21","兵庫",28001,"神戸","甲種港湾","特定重要港湾","輸出","南アフリカ","アフリカ",560,0,440,120]
["H21","兵庫",28001,"神戸","甲種港湾","特定重要港湾","輸出","仏領ポリネシア","オセアニア",106,0,88,18]
["H21","兵庫",28001,"神戸","甲種港湾","特定重要港湾","輸出","北マリアナ諸島","オセアニア",33,0,33,0]
["H21","兵庫",28001,"神戸","甲種港湾","特定重要港湾","輸入","アメリカ合衆国","北米",{"v":152179,"d":"152,179"},967,{"v":140467,"d":"140,467"},{"v":11712,"d":"11,712"}]
["H21","兵庫",28001,"神戸","甲種港湾","特定重要港湾","輸入","アラブ首長国連邦","アジア",306,0,18,288]
["H21","兵庫",28001,"神戸","甲種港湾","特定重要港湾","輸入","アルゼンチン","南米",150,0,103,47]
["H21","兵庫",28001,"神戸","甲種港湾","特定重要港湾","輸入","イギリス","ヨーロッパ",{"v":4853,"d":"4,853"},3,{"v":3947,"d":"3,947"},906]
["H21","兵庫",28001,"神戸","甲種港湾","特定重要港湾","輸入","イタリア","ヨーロッパ",132,0,132,0]
["H21","兵庫",28001,"神戸","甲種港湾","特定重要港湾","輸入","インド","アジア",582,0,582,0]
["H21","兵庫",28001,"神戸","甲種港湾","特定重要港湾","輸入","インドネシア","アジア",{"v":2993,"d":"2,993"},0,{"v":2912,"d":"2,912"},81]
["H21","兵庫",28001,"神戸","甲種港湾","特定重要港湾","輸入","ウルグアイ","南米",17,0,12,5]
["H21","兵庫",28001,"神戸","甲種港湾","特定重要港湾","輸入","エジプト","アフリカ",30,0,26,4]
["H21","兵庫",28001,"神戸","甲種港湾","特定重要港湾","輸入","オーストラリア","オセアニア",328,0,164,164]
["H21","兵庫",28001,"神戸","甲種港湾","特定重要港湾","輸入","オランダ","ヨーロッパ",{"v":41201,"d":"41,201"},2,{"v":38723,"d":"38,723"},{"v":2478,"d":"2,478"}]
["H21","兵庫",28001,"神戸","甲種港湾","特定重要港湾","輸入","カナダ","北米",{"v":28716,"d":"28,716"},{"v":1208,"d":"1,208"},{"v":27649,"d":"27,649"},{"v":1067,"d":"1,067"}]
["H21","兵庫",28001,"神戸","甲種港湾","特定重要港湾","輸入","グアム","オセアニア",32,0,2,30]
["H21","兵庫",28001,"神戸","甲種港湾","特定重要港湾","輸入","サウジアラビア","アジア",168,0,17,151]
["H21","兵庫",28001,"神戸","甲種港湾","特定重要港湾","輸入","サモア独立国","オセアニア",15,0,0,15]
["H21","兵庫",28001,"神戸","甲種港湾","特定重要港湾","輸入","ジブチ","アフリカ",174,0,0,174]
["H21","兵庫",28001,"神戸","甲種港湾","特定重要港湾","輸入","シンガポール","アジア",{"v":63891,"d":"63,891"},43,{"v":57450,"d":"57,450"},{"v":6441,"d":"6,441"}]
["H21","兵庫",28001,"神戸","甲種港湾","特定重要港湾","輸入","スウェーデン","ヨーロッパ",{"v":6498,"d":"6,498"},0,{"v":6488,"d":"6,488"},10]
["H21","兵庫",28001,"神戸","甲種港湾","特定重要港湾","輸入","スペイン","ヨーロッパ",99,0,23,76]
["H21","兵庫",28001,"神戸","甲種港湾","特定重要港湾","輸入","スリランカ","アジア",614,0,614,0]
["H21","兵庫",28001,"神戸","甲種港湾","特定重要港湾","輸入","ソロモン諸島","オセアニア",3,0,1,2]
["H21","兵庫",28001,"神戸","甲種港湾","特定重要港湾","輸入","タイ","アジア",{"v":38747,"d":"38,747"},2,{"v":38145,"d":"38,145"},602]
["H21","兵庫",28001,"神戸","甲種港湾","特定重要港湾","輸入","デンマーク","ヨーロッパ",{"v":6363,"d":"6,363"},0,{"v":6109,"d":"6,109"},254]
["H21","兵庫",28001,"神戸","甲種港湾","特定重要港湾","輸入","ドイツ","ヨーロッパ",{"v":38790,"d":"38,790"},11,{"v":37093,"d":"37,093"},{"v":1697,"d":"1,697"}]
["H21","兵庫",28001,"神戸","甲種港湾","特定重要港湾","輸入","トンガ","オセアニア",3,0,1,2]
["H21","兵庫",28001,"神戸","甲種港湾","特定重要港湾","輸入","ニューカレドニア","オセアニア",18,0,8,10]
["H21","兵庫",28001,"神戸","甲種港湾","特定重要港湾","輸入","ニュージーランド","オセアニア",{"v":10602,"d":"10,602"},40,{"v":9493,"d":"9,493"},{"v":1109,"d":"1,109"}]
["H21","兵庫",28001,"神戸","甲種港湾","特定重要港湾","輸入","パキスタン","アジア",14,0,14,0]
["H21","兵庫",28001,"神戸","甲種港湾","特定重要港湾","輸入","パナマ","北米",{"v":5753,"d":"5,753"},30,{"v":3249,"d":"3,249"},{"v":2504,"d":"2,504"}]
["H21","兵庫",28001,"神戸","甲種港湾","特定重要港湾","輸入","バヌアツ","オセアニア",18,0,18,0]
["H21","兵庫",28001,"神戸","甲種港湾","特定重要港湾","輸入","パプアニューギニア","オセアニア",53,0,53,0]
["H21","兵庫",28001,"神戸","甲種港湾","特定重要港湾","輸入","パラオ","オセアニア",1,0,1,0]
["H21","兵庫",28001,"神戸","甲種港湾","特定重要港湾","輸入","フィジー","オセアニア",34,0,13,21]
["H21","兵庫",28001,"神戸","甲種港湾","特定重要港湾","輸入","フィリピン","アジア",{"v":6405,"d":"6,405"},698,{"v":5926,"d":"5,926"},479]
["H21","兵庫",28001,"神戸","甲種港湾","特定重要港湾","輸入","ブラジル","南米",{"v":2159,"d":"2,159"},0,{"v":2128,"d":"2,128"},31]
["H21","兵庫",28001,"神戸","甲種港湾","特定重要港湾","輸入","フランス","ヨーロッパ",{"v":8136,"d":"8,136"},0,{"v":7026,"d":"7,026"},{"v":1110,"d":"1,110"}]
["H21","兵庫",28001,"神戸","甲種港湾","特定重要港湾","輸入","ベトナム","アジア",{"v":12746,"d":"12,746"},0,{"v":12491,"d":"12,491"},255]
["H21","兵庫",28001,"神戸","甲種港湾","特定重要港湾","輸入","ベルギー","ヨーロッパ",673,0,673,0]
["H21","兵庫",28001,"神戸","甲種港湾","特定重要港湾","輸入","マルタ","ヨーロッパ",290,0,78,212]
["H21","兵庫",28001,"神戸","甲種港湾","特定重要港湾","輸入","マレーシア","アジア",{"v":17621,"d":"17,621"},5,{"v":17120,"d":"17,120"},501]
["H21","兵庫",28001,"神戸","甲種港湾","特定重要港湾","輸入","ミクロネシア","オセアニア",75,0,4,71]
["H21","兵庫",28001,"神戸","甲種港湾","特定重要港湾","輸入","モロッコ","アフリカ",{"v":1112,"d":"1,112"},0,24,{"v":1088,"d":"1,088"}]
["H21","兵庫",28001,"神戸","甲種港湾","特定重要港湾","輸入","ロシア","ヨーロッパ",876,0,254,622]
["H21","兵庫",28001,"神戸","甲種港湾","特定重要港湾","輸入","韓国","アジア",{"v":46708,"d":"46,708"},9,{"v":33706,"d":"33,706"},{"v":13002,"d":"13,002"}]
["H21","兵庫",28001,"神戸","甲種港湾","特定重要港湾","輸入","香港","アジア",{"v":62276,"d":"62,276"},11,{"v":60574,"d":"60,574"},{"v":1702,"d":"1,702"}]
["H21","兵庫",28001,"神戸","甲種港湾","特定重要港湾","輸入","台湾","アジア",{"v":39590,"d":"39,590"},4,{"v":36658,"d":"36,658"},{"v":2932,"d":"2,932"}]
["H21","兵庫",28001,"神戸","甲種港湾","特定重要港湾","輸入","中国","アジア",{"v":224864,"d":"224,864"},{"v":1258,"d":"1,258"},{"v":216834,"d":"216,834"},{"v":8030,"d":"8,030"}]
["H21","兵庫",28001,"神戸","甲種港湾","特定重要港湾","輸入","南アフリカ","アフリカ",371,0,306,65]
["H21","兵庫",28001,"神戸","甲種港湾","特定重要港湾","輸入","仏領ポリネシア","オセアニア",26,0,9,17]
["H21","兵庫",28001,"神戸","甲種港湾","特定重要港湾","輸入","北マリアナ諸島","オセアニア",39,0,0,39]
["H21","和歌山",30001,"和歌山下津","甲種港湾","特定重要港湾","輸出","韓国","アジア",{"v":2723,"d":"2,723"},0,257,{"v":2466,"d":"2,466"}]
["H21","和歌山",30001,"和歌山下津","甲種港湾","特定重要港湾","輸出","中国","アジア",28,0,0,28]
["H21","和歌山",30001,"和歌山下津","甲種港湾","特定重要港湾","輸入","韓国","アジア",{"v":2790,"d":"2,790"},0,{"v":2790,"d":"2,790"},0]
["H22","京都",26001,"舞鶴","甲種港湾","重要港湾","輸出","韓国","アジア",{"v":1370,"d":"1,370"},0,940,430]
["H22","京都",26001,"舞鶴","甲種港湾","重要港湾","輸入","韓国","アジア",{"v":1420,"d":"1,420"},0,{"v":1198,"d":"1,198"},222]
["H22","京都",26001,"舞鶴","甲種港湾","重要港湾","輸出","中国","アジア",{"v":1311,"d":"1,311"},0,377,934]
["H22","京都",26001,"舞鶴","甲種港湾","重要港湾","輸入","中国","アジア",{"v":1590,"d":"1,590"},0,{"v":1588,"d":"1,588"},2]
["H22","大阪",27001,"大阪","甲種港湾","特定重要港湾","輸出","イスラエル","アジア",85,0,85,0]
["H22","大阪",27001,"大阪","甲種港湾","特定重要港湾","輸出","インドネシア","アジア",{"v":2558,"d":"2,558"},0,{"v":2558,"d":"2,558"},0]
["H22","大阪",27001,"大阪","甲種港湾","特定重要港湾","輸入","インドネシア","アジア",{"v":13422,"d":"13,422"},0,{"v":13408,"d":"13,408"},14]
["H22","大阪",27001,"大阪","甲種港湾","特定重要港湾","輸出","韓国","アジア",{"v":127878,"d":"127,878"},4,{"v":79358,"d":"79,358"},{"v":48520,"d":"48,520"}]
["H22","大阪",27001,"大阪","甲種港湾","特定重要港湾","輸入","韓国","アジア",{"v":97466,"d":"97,466"},0,{"v":89644,"d":"89,644"},{"v":7822,"d":"7,822"}]
["H22","大阪",27001,"大阪","甲種港湾","特定重要港湾","輸出","カンボジア","アジア",125,0,125,0]
["H22","大阪",27001,"大阪","甲種港湾","特定重要港湾","輸入","カンボジア","アジア",9,0,9,0]
["H22","大阪",27001,"大阪","甲種港湾","特定重要港湾","輸出","シンガポール","アジア",{"v":13011,"d":"13,011"},0,{"v":12294,"d":"12,294"},717]
["H22","大阪",27001,"大阪","甲種港湾","特定重要港湾","輸入","シンガポール","アジア",{"v":24935,"d":"24,935"},0,{"v":24785,"d":"24,785"},150]
["H22","大阪",27001,"大阪","甲種港湾","特定重要港湾","輸出","タイ","アジア",{"v":23468,"d":"23,468"},8,{"v":18160,"d":"18,160"},{"v":5308,"d":"5,308"}]
["H22","大阪",27001,"大阪","甲種港湾","特定重要港湾","輸入","タイ","アジア",{"v":59860,"d":"59,860"},0,{"v":59734,"d":"59,734"},126]
["H22","大阪",27001,"大阪","甲種港湾","特定重要港湾","輸入","中国","アジア",{"v":608555,"d":"608,555"},55,{"v":594297,"d":"594,297"},{"v":14258,"d":"14,258"}]
["H22","大阪",27001,"大阪","甲種港湾","特定重要港湾","輸出","中国","アジア",{"v":507785,"d":"507,785"},25,{"v":124982,"d":"124,982"},{"v":382803,"d":"382,803"}]
["H22","大阪",27001,"大阪","甲種港湾","特定重要港湾","輸入","フィリピン","アジア",{"v":5864,"d":"5,864"},0,{"v":5799,"d":"5,799"},65]
["H22","大阪",27001,"大阪","甲種港湾","特定重要港湾","輸出","フィリピン","アジア",{"v":2360,"d":"2,360"},0,{"v":2270,"d":"2,270"},90]
["H22","大阪",27001,"大阪","甲種港湾","特定重要港湾","輸出","ベトナム","アジア",{"v":9241,"d":"9,241"},41,{"v":8539,"d":"8,539"},702]
["H22","大阪",27001,"大阪","甲種港湾","特定重要港湾","輸入","ベトナム","アジア",{"v":14063,"d":"14,063"},0,{"v":13976,"d":"13,976"},87]
["H22","大阪",27001,"大阪","甲種港湾","特定重要港湾","輸出","マレーシア","アジア",{"v":4479,"d":"4,479"},0,{"v":4279,"d":"4,279"},200]
["H22","大阪",27001,"大阪","甲種港湾","特定重要港湾","輸入","マレーシア","アジア",{"v":11327,"d":"11,327"},0,{"v":11189,"d":"11,189"},138]
["H22","大阪",27001,"大阪","甲種港湾","特定重要港湾","輸入","台湾","アジア",{"v":59297,"d":"59,297"},0,{"v":58499,"d":"58,499"},798]
["H22","大阪",27001,"大阪","甲種港湾","特定重要港湾","輸出","台湾","アジア",{"v":77008,"d":"77,008"},0,{"v":54263,"d":"54,263"},{"v":22745,"d":"22,745"}]
["H22","大阪",27001,"大阪","甲種港湾","特定重要港湾","輸入","香港","アジア",{"v":134938,"d":"134,938"},30,{"v":134510,"d":"134,510"},428]
["H22","大阪",27001,"大阪","甲種港湾","特定重要港湾","輸出","香港","アジア",{"v":64122,"d":"64,122"},10,{"v":54802,"d":"54,802"},{"v":9320,"d":"9,320"}]
["H22","大阪",27001,"大阪","甲種港湾","特定重要港湾","輸出","カナダ","北米",{"v":2466,"d":"2,466"},0,{"v":2460,"d":"2,460"},6]
["H22","大阪",27001,"大阪","甲種港湾","特定重要港湾","輸入","カナダ","北米",{"v":11329,"d":"11,329"},0,{"v":10848,"d":"10,848"},481]
["H22","大阪",27001,"大阪","甲種港湾","特定重要港湾","輸出","パナマ","北米",572,0,0,572]
["H22","大阪",27001,"大阪","甲種港湾","特定重要港湾","輸入","パナマ","北米",71,0,71,0]
["H22","大阪",27001,"大阪","甲種港湾","特定重要港湾","輸出","イタリア","ヨーロッパ",97,0,97,0]
["H22","大阪",27001,"大阪","甲種港湾","特定重要港湾","輸出","スペイン","ヨーロッパ",24,0,24,0]
["H22","大阪",27001,"大阪","甲種港湾","特定重要港湾","輸出","エジプト","アフリカ",96,0,96,0]
["H22","大阪",27001,"大阪","甲種港湾","特定重要港湾","輸入","オーストラリア","オセアニア",{"v":31918,"d":"31,918"},0,{"v":27569,"d":"27,569"},{"v":4349,"d":"4,349"}]
["H22","大阪",27001,"大阪","甲種港湾","特定重要港湾","輸出","オーストラリア","オセアニア",{"v":10076,"d":"10,076"},0,{"v":8098,"d":"8,098"},{"v":1978,"d":"1,978"}]
["H22","大阪",27001,"大阪","甲種港湾","特定重要港湾","輸入","アメリカ合衆国","北米",{"v":37568,"d":"37,568"},4,{"v":29839,"d":"29,839"},{"v":7729,"d":"7,729"}]
["H22","大阪",27001,"大阪","甲種港湾","特定重要港湾","輸出","アメリカ合衆国","北米",{"v":23956,"d":"23,956"},1,{"v":21077,"d":"21,077"},{"v":2879,"d":"2,879"}]
["H22","大阪",27002,"堺泉北","甲種港湾","特定重要港湾","輸出","中国","アジア",{"v":8604,"d":"8,604"},0,243,{"v":8361,"d":"8,361"}]
["H22","大阪",27002,"堺泉北","甲種港湾","特定重要港湾","輸入","中国","アジア",{"v":12087,"d":"12,087"},0,{"v":10860,"d":"10,860"},{"v":1227,"d":"1,227"}]
["H22","兵庫",28001,"神戸","甲種港湾","特定重要港湾","輸入","アラブ首長国連邦","アジア",204,0,33,171]
["H22","兵庫",28001,"神戸","甲種港湾","特定重要港湾","輸出","インド","アジア",{"v":2897,"d":"2,897"},0,{"v":2893,"d":"2,893"},4]
["H22","兵庫",28001,"神戸","甲種港湾","特定重要港湾","輸入","インド","アジア",698,0,696,2]
["H22","兵庫",28001,"神戸","甲種港湾","特定重要港湾","輸出","インドネシア","アジア",{"v":14643,"d":"14,643"},0,{"v":14643,"d":"14,643"},0]
["H22","兵庫",28001,"神戸","甲種港湾","特定重要港湾","輸入","インドネシア","アジア",{"v":3622,"d":"3,622"},0,{"v":3555,"d":"3,555"},67]
["H22","兵庫",28001,"神戸","甲種港湾","特定重要港湾","輸入","韓国","アジア",{"v":56266,"d":"56,266"},40,{"v":43663,"d":"43,663"},{"v":12603,"d":"12,603"}]
["H22","兵庫",28001,"神戸","甲種港湾","特定重要港湾","輸出","韓国","アジア",{"v":62367,"d":"62,367"},0,{"v":51879,"d":"51,879"},{"v":10488,"d":"10,488"}]
["H22","兵庫",28001,"神戸","甲種港湾","特定重要港湾","輸出","サウジアラビア","アジア",386,0,382,4]
["H22","兵庫",28001,"神戸","甲種港湾","特定重要港湾","輸入","サウジアラビア","アジア",60,0,47,13]
["H22","兵庫",28001,"神戸","甲種港湾","特定重要港湾","輸出","シンガポール","アジア",{"v":67519,"d":"67,519"},0,{"v":64937,"d":"64,937"},{"v":2582,"d":"2,582"}]
["H22","兵庫",28001,"神戸","甲種港湾","特定重要港湾","輸入","シンガポール","アジア",{"v":58337,"d":"58,337"},467,{"v":52177,"d":"52,177"},{"v":6160,"d":"6,160"}]
["H22","兵庫",28001,"神戸","甲種港湾","特定重要港湾","輸入","スリランカ","アジア",491,0,486,5]
["H22","兵庫",28001,"神戸","甲種港湾","特定重要港湾","輸出","スリランカ","アジア",18,0,18,0]
["H22","兵庫",28001,"神戸","甲種港湾","特定重要港湾","輸入","タイ","アジア",{"v":46293,"d":"46,293"},302,{"v":43183,"d":"43,183"},{"v":3110,"d":"3,110"}]
["H22","兵庫",28001,"神戸","甲種港湾","特定重要港湾","輸出","タイ","アジア",{"v":75367,"d":"75,367"},0,{"v":69365,"d":"69,365"},{"v":6002,"d":"6,002"}]
["H22","兵庫",28001,"神戸","甲種港湾","特定重要港湾","輸出","中国","アジア",{"v":348958,"d":"348,958"},0,{"v":223279,"d":"223,279"},{"v":125680,"d":"125,680"}]
["H22","兵庫",28001,"神戸","甲種港湾","特定重要港湾","輸入","中国","アジア",{"v":250767,"d":"250,767"},{"v":1029,"d":"1,029"},{"v":238506,"d":"238,506"},{"v":12261,"d":"12,261"}]
["H22","兵庫",28001,"神戸","甲種港湾","特定重要港湾","輸入","パキスタン","アジア",13,0,13,0]
["H22","兵庫",28001,"神戸","甲種港湾","特定重要港湾","輸出","パキスタン","アジア",340,0,340,0]
["H22","兵庫",28001,"神戸","甲種港湾","特定重要港湾","輸出","フィリピン","アジア",{"v":15024,"d":"15,024"},0,{"v":12308,"d":"12,308"},{"v":2716,"d":"2,716"}]
["H22","兵庫",28001,"神戸","甲種港湾","特定重要港湾","輸入","フィリピン","アジア",{"v":5456,"d":"5,456"},357,{"v":4961,"d":"4,961"},495]
["H22","兵庫",28001,"神戸","甲種港湾","特定重要港湾","輸入","ベトナム","アジア",{"v":14944,"d":"14,944"},57,{"v":14188,"d":"14,188"},756]
["H22","兵庫",28001,"神戸","甲種港湾","特定重要港湾","輸出","ベトナム","アジア",{"v":16249,"d":"16,249"},0,{"v":12014,"d":"12,014"},{"v":4235,"d":"4,235"}]
["H22","兵庫",28001,"神戸","甲種港湾","特定重要港湾","輸入","マレーシア","アジア",{"v":17778,"d":"17,778"},0,{"v":16365,"d":"16,365"},{"v":1413,"d":"1,413"}]
["H22","兵庫",28001,"神戸","甲種港湾","特定重要港湾","輸出","マレーシア","アジア",{"v":56624,"d":"56,624"},0,{"v":55779,"d":"55,779"},845]
["H22","兵庫",28001,"神戸","甲種港湾","特定重要港湾","輸出","レバノン","アジア",602,0,602,0]
["H22","兵庫",28001,"神戸","甲種港湾","特定重要港湾","輸入","台湾","アジア",{"v":59900,"d":"59,900"},94,{"v":53539,"d":"53,539"},{"v":6361,"d":"6,361"}]
["H22","兵庫",28001,"神戸","甲種港湾","特定重要港湾","輸出","台湾","アジア",{"v":111357,"d":"111,357"},0,{"v":100422,"d":"100,422"},{"v":10935,"d":"10,935"}]
["H22","兵庫",28001,"神戸","甲種港湾","特定重要港湾","輸出","香港","アジア",{"v":123424,"d":"123,424"},0,{"v":114905,"d":"114,905"},{"v":8519,"d":"8,519"}]
["H22","兵庫",28001,"神戸","甲種港湾","特定重要港湾","輸入","香港","アジア",{"v":71976,"d":"71,976"},289,{"v":69148,"d":"69,148"},{"v":2828,"d":"2,828"}]
["H22","兵庫",28001,"神戸","甲種港湾","特定重要港湾","輸出","カナダ","北米",258,0,258,0]
["H22","兵庫",28001,"神戸","甲種港湾","特定重要港湾","輸入","カナダ","北米",{"v":29615,"d":"29,615"},251,{"v":28104,"d":"28,104"},{"v":1511,"d":"1,511"}]
["H22","兵庫",28001,"神戸","甲種港湾","特定重要港湾","輸出","パナマ","北米",{"v":7058,"d":"7,058"},0,{"v":3890,"d":"3,890"},{"v":3168,"d":"3,168"}]
["H22","兵庫",28001,"神戸","甲種港湾","特定重要港湾","輸入","パナマ","北米",{"v":8283,"d":"8,283"},34,{"v":2726,"d":"2,726"},{"v":5557,"d":"5,557"}]
["H22","兵庫",28001,"神戸","甲種港湾","特定重要港湾","輸出","ペルー","南米",2,0,2,0]
["H22","兵庫",28001,"神戸","甲種港湾","特定重要港湾","輸入","イギリス","ヨーロッパ",{"v":6035,"d":"6,035"},0,{"v":4447,"d":"4,447"},{"v":1588,"d":"1,588"}]
["H22","兵庫",28001,"神戸","甲種港湾","特定重要港湾","輸出","イギリス","ヨーロッパ",{"v":5830,"d":"5,830"},0,{"v":5827,"d":"5,827"},3]
["H22","兵庫",28001,"神戸","甲種港湾","特定重要港湾","輸出","イタリア","ヨーロッパ",658,0,658,0]
["H22","兵庫",28001,"神戸","甲種港湾","特定重要港湾","輸入","イタリア","ヨーロッパ",291,0,280,11]
["H22","兵庫",28001,"神戸","甲種港湾","特定重要港湾","輸入","オランダ","ヨーロッパ",{"v":46556,"d":"46,556"},2,{"v":41158,"d":"41,158"},{"v":5398,"d":"5,398"}]
["H22","兵庫",28001,"神戸","甲種港湾","特定重要港湾","輸出","オランダ","ヨーロッパ",{"v":41292,"d":"41,292"},0,{"v":40990,"d":"40,990"},302]
["H22","兵庫",28001,"神戸","甲種港湾","特定重要港湾","輸入","スウェーデン","ヨーロッパ",{"v":6038,"d":"6,038"},0,{"v":5767,"d":"5,767"},271]
["H22","兵庫",28001,"神戸","甲種港湾","特定重要港湾","輸入","スペイン","ヨーロッパ",{"v":1183,"d":"1,183"},0,43,{"v":1140,"d":"1,140"}]
["H22","兵庫",28001,"神戸","甲種港湾","特定重要港湾","輸出","スペイン","ヨーロッパ",113,0,113,0]
["H22","兵庫",28001,"神戸","甲種港湾","特定重要港湾","輸入","デンマーク","ヨーロッパ",{"v":6163,"d":"6,163"},0,{"v":5671,"d":"5,671"},492]
["H22","兵庫",28001,"神戸","甲種港湾","特定重要港湾","輸入","ドイツ","ヨーロッパ",{"v":40696,"d":"40,696"},2,{"v":38311,"d":"38,311"},{"v":2385,"d":"2,385"}]
["H22","兵庫",28001,"神戸","甲種港湾","特定重要港湾","輸出","ドイツ","ヨーロッパ",{"v":19832,"d":"19,832"},0,{"v":19766,"d":"19,766"},66]
["H22","兵庫",28001,"神戸","甲種港湾","特定重要港湾","輸入","フランス","ヨーロッパ",{"v":7356,"d":"7,356"},0,{"v":6527,"d":"6,527"},829]
["H22","兵庫",28001,"神戸","甲種港湾","特定重要港湾","輸出","フランス","ヨーロッパ",{"v":3229,"d":"3,229"},0,{"v":3163,"d":"3,163"},66]
["H22","兵庫",28001,"神戸","甲種港湾","特定重要港湾","輸入","ベルギー","ヨーロッパ",61,0,19,42]
["H22","兵庫",28001,"神戸","甲種港湾","特定重要港湾","輸入","ポーランド","ヨーロッパ",{"v":4196,"d":"4,196"},0,{"v":4078,"d":"4,078"},118]
["H22","兵庫",28001,"神戸","甲種港湾","特定重要港湾","輸入","マルタ","ヨーロッパ",600,0,54,546]
["H22","兵庫",28001,"神戸","甲種港湾","特定重要港湾","輸出","マルタ","ヨーロッパ",{"v":1686,"d":"1,686"},0,{"v":1682,"d":"1,682"},4]
["H22","兵庫",28001,"神戸","甲種港湾","特定重要港湾","輸入","ロシア","ヨーロッパ",{"v":1484,"d":"1,484"},0,198,{"v":1286,"d":"1,286"}]
["H22","兵庫",28001,"神戸","甲種港湾","特定重要港湾","輸出","ロシア","ヨーロッパ",{"v":1668,"d":"1,668"},0,{"v":1666,"d":"1,666"},2]
["H22","兵庫",28001,"神戸","甲種港湾","特定重要港湾","輸入","エジプト","アフリカ",265,0,112,153]
["H22","兵庫",28001,"神戸","甲種港湾","特定重要港湾","輸出","モロッコ","アフリカ",690,0,690,0]
["H22","兵庫",28001,"神戸","甲種港湾","特定重要港湾","輸入","モロッコ","アフリカ",{"v":1074,"d":"1,074"},0,280,794]
["H22","兵庫",28001,"神戸","甲種港湾","特定重要港湾","輸出","オーストラリア","オセアニア",961,0,942,19]
["H22","兵庫",28001,"神戸","甲種港湾","特定重要港湾","輸入","オーストラリア","オセアニア",454,0,30,424]
["H22","兵庫",28001,"神戸","甲種港湾","特定重要港湾","輸出","キリバス","オセアニア",2,0,2,0]
["H22","兵庫",28001,"神戸","甲種港湾","特定重要港湾","輸入","キリバス","オセアニア",11,0,0,11]
["H22","兵庫",28001,"神戸","甲種港湾","特定重要港湾","輸出","ソロモン諸島","オセアニア",12,0,12,0]
["H22","兵庫",28001,"神戸","甲種港湾","特定重要港湾","輸入","トンガ","オセアニア",7,0,0,7]
["H22","兵庫",28001,"神戸","甲種港湾","特定重要港湾","輸出","トンガ","オセアニア",1,0,1,0]
["H22","兵庫",28001,"神戸","甲種港湾","特定重要港湾","輸出","ニュージーランド","オセアニア",{"v":3973,"d":"3,973"},0,{"v":1724,"d":"1,724"},{"v":2249,"d":"2,249"}]
["H22","兵庫",28001,"神戸","甲種港湾","特定重要港湾","輸入","ニュージーランド","オセアニア",{"v":10164,"d":"10,164"},150,{"v":9061,"d":"9,061"},{"v":1103,"d":"1,103"}]
["H22","兵庫",28001,"神戸","甲種港湾","特定重要港湾","輸出","バヌアツ","オセアニア",9,0,9,0]
["H22","兵庫",28001,"神戸","甲種港湾","特定重要港湾","輸入","バヌアツ","オセアニア",22,0,19,3]
["H22","兵庫",28001,"神戸","甲種港湾","特定重要港湾","輸出","パプアニューギニア","オセアニア",83,0,83,0]
["H22","兵庫",28001,"神戸","甲種港湾","特定重要港湾","輸入","パプアニューギニア","オセアニア",33,0,28,5]
["H22","兵庫",28001,"神戸","甲種港湾","特定重要港湾","輸出","パラオ","オセアニア",55,0,55,0]
["H22","兵庫",28001,"神戸","甲種港湾","特定重要港湾","輸出","フィジー","オセアニア",37,0,37,0]
["H22","兵庫",28001,"神戸","甲種港湾","特定重要港湾","輸入","フィジー","オセアニア",33,0,33,0]
["H22","兵庫",28001,"神戸","甲種港湾","特定重要港湾","輸入","マーシャル諸島","オセアニア",5,0,0,5]
["H22","兵庫",28001,"神戸","甲種港湾","特定重要港湾","輸出","マーシャル諸島","オセアニア",19,0,19,0]
["H22","兵庫",28001,"神戸","甲種港湾","特定重要港湾","輸出","ミクロネシア","オセアニア",72,0,72,0]
["H22","兵庫",28001,"神戸","甲種港湾","特定重要港湾","輸入","ミクロネシア","オセアニア",100,0,0,100]
["H22","兵庫",28001,"神戸","甲種港湾","特定重要港湾","輸出","北マリアナ諸島","オセアニア",30,0,30,0]
["H22","兵庫",28001,"神戸","甲種港湾","特定重要港湾","輸入","北マリアナ諸島","オセアニア",63,0,0,63]
["H22","兵庫",28001,"神戸","甲種港湾","特定重要港湾","輸出","グアム","オセアニア",85,0,85,0]
["H22","兵庫",28001,"神戸","甲種港湾","特定重要港湾","輸入","グアム","オセアニア",61,0,0,61]
["H22","兵庫",28001,"神戸","甲種港湾","特定重要港湾","輸出","米領サモア","オセアニア",2,0,2,0]
["H22","兵庫",28001,"神戸","甲種港湾","特定重要港湾","輸入","米領サモア","オセアニア",11,0,0,11]
["H22","兵庫",28001,"神戸","甲種港湾","特定重要港湾","輸出","ニューカレドニア","オセアニア",140,0,140,0]
["H22","兵庫",28001,"神戸","甲種港湾","特定重要港湾","輸入","ニューカレドニア","オセアニア",20,0,0,20]
["H22","兵庫",28001,"神戸","甲種港湾","特定重要港湾","輸出","仏領ポリネシア","オセアニア",94,0,94,0]
["H22","兵庫",28001,"神戸","甲種港湾","特定重要港湾","輸入","仏領ポリネシア","オセアニア",40,0,8,32]
["H22","兵庫",28001,"神戸","甲種港湾","特定重要港湾","輸入","アメリカ合衆国","北米",{"v":168567,"d":"168,567"},579,{"v":147633,"d":"147,633"},{"v":20934,"d":"20,934"}]
["H22","兵庫",28001,"神戸","甲種港湾","特定重要港湾","輸出","アメリカ合衆国","北米",{"v":107911,"d":"107,911"},0,{"v":101131,"d":"101,131"},{"v":6780,"d":"6,780"}]
["H22","兵庫",28001,"神戸","甲種港湾","特定重要港湾","輸入","サモア独立国","オセアニア",77,0,0,77]
["H22","兵庫",28001,"神戸","甲種港湾","特定重要港湾","輸出","サモア独立国","オセアニア",9,0,6,3]
["H22","和歌山",30001,"和歌山下津","甲種港湾","特定重要港湾","輸出","韓国","アジア",{"v":2698,"d":"2,698"},0,243,{"v":2455,"d":"2,455"}]
["H22","和歌山",30001,"和歌山下津","甲種港湾","特定重要港湾","輸入","韓国","アジア",{"v":3170,"d":"3,170"},0,{"v":3170,"d":"3,170"},0]
["H23","京都",26001,"舞鶴","甲種港湾","重要港湾","輸出","韓国","アジア",{"v":1671,"d":"1,671"},0,{"v":1247,"d":"1,247"},424]
["H23","京都",26001,"舞鶴","甲種港湾","重要港湾","輸出","中国","アジア",{"v":2365,"d":"2,365"},0,373,{"v":1992,"d":"1,992"}]
["H23","京都",26001,"舞鶴","甲種港湾","重要港湾","輸入","韓国","アジア",{"v":1795,"d":"1,795"},0,{"v":1672,"d":"1,672"},123]
["H23","京都",26001,"舞鶴","甲種港湾","重要港湾","輸入","中国","アジア",{"v":2610,"d":"2,610"},0,{"v":2610,"d":"2,610"},0]
["H23","大阪",27001,"大阪","甲種港湾","特定重要港湾","輸出","韓国","アジア",{"v":148439,"d":"148,439"},20,{"v":79656,"d":"79,656"},{"v":68783,"d":"68,783"}]
["H23","大阪",27001,"大阪","甲種港湾","特定重要港湾","輸出","台湾","アジア",{"v":90923,"d":"90,923"},64,{"v":53811,"d":"53,811"},{"v":37112,"d":"37,112"}]
["H23","大阪",27001,"大阪","甲種港湾","特定重要港湾","輸出","中国","アジア",{"v":561093,"d":"561,093"},160,{"v":123674,"d":"123,674"},{"v":437419,"d":"437,419"}]
["H23","大阪",27001,"大阪","甲種港湾","特定重要港湾","輸出","香港","アジア",{"v":73369,"d":"73,369"},78,{"v":52930,"d":"52,930"},{"v":20439,"d":"20,439"}]
["H23","大阪",27001,"大阪","甲種港湾","特定重要港湾","輸出","インドネシア","アジア",{"v":4581,"d":"4,581"},0,{"v":4518,"d":"4,518"},63]
["H23","大阪",27001,"大阪","甲種港湾","特定重要港湾","輸出","カンボジア","アジア",235,0,233,2]
["H23","大阪",27001,"大阪","甲種港湾","特定重要港湾","輸出","シンガポール","アジア",{"v":10952,"d":"10,952"},0,{"v":9874,"d":"9,874"},{"v":1078,"d":"1,078"}]
["H23","大阪",27001,"大阪","甲種港湾","特定重要港湾","輸出","タイ","アジア",{"v":22076,"d":"22,076"},0,{"v":15837,"d":"15,837"},{"v":6239,"d":"6,239"}]
["H23","大阪",27001,"大阪","甲種港湾","特定重要港湾","輸出","フィリピン","アジア",{"v":2801,"d":"2,801"},0,{"v":2515,"d":"2,515"},286]
["H23","大阪",27001,"大阪","甲種港湾","特定重要港湾","輸出","マレーシア","アジア",{"v":4501,"d":"4,501"},1,{"v":4341,"d":"4,341"},160]
["H23","大阪",27001,"大阪","甲種港湾","特定重要港湾","輸出","ベトナム","アジア",{"v":11250,"d":"11,250"},92,{"v":8535,"d":"8,535"},{"v":2715,"d":"2,715"}]
["H23","大阪",27001,"大阪","甲種港湾","特定重要港湾","輸出","イスラエル","アジア",48,0,48,0]
["H23","大阪",27001,"大阪","甲種港湾","特定重要港湾","輸出","オーストラリア","オセアニア",{"v":8307,"d":"8,307"},0,{"v":5909,"d":"5,909"},{"v":2398,"d":"2,398"}]
["H23","大阪",27001,"大阪","甲種港湾","特定重要港湾","輸出","エジプト","アフリカ",25,0,25,0]
["H23","大阪",27001,"大阪","甲種港湾","特定重要港湾","輸出","イタリア","ヨーロッパ",79,0,79,0]
["H23","大阪",27001,"大阪","甲種港湾","特定重要港湾","輸出","スペイン","ヨーロッパ",12,0,12,0]
["H23","大阪",27001,"大阪","甲種港湾","特定重要港湾","輸出","アメリカ合衆国","北米",{"v":18438,"d":"18,438"},0,{"v":16767,"d":"16,767"},{"v":1671,"d":"1,671"}]
["H23","大阪",27001,"大阪","甲種港湾","特定重要港湾","輸出","カナダ","北米",{"v":2135,"d":"2,135"},0,{"v":2131,"d":"2,131"},4]
["H23","大阪",27001,"大阪","甲種港湾","特定重要港湾","輸入","韓国","アジア",{"v":116648,"d":"116,648"},4,{"v":108734,"d":"108,734"},{"v":7915,"d":"7,915"}]
["H23","大阪",27001,"大阪","甲種港湾","特定重要港湾","輸入","台湾","アジア",{"v":70590,"d":"70,590"},0,{"v":70366,"d":"70,366"},224]
["H23","大阪",27001,"大阪","甲種港湾","特定重要港湾","輸入","中国","アジア",{"v":651001,"d":"651,001"},134,{"v":633662,"d":"633,662"},{"v":17339,"d":"17,339"}]
["H23","大阪",27001,"大阪","甲種港湾","特定重要港湾","輸入","香港","アジア",{"v":147657,"d":"147,657"},0,{"v":147123,"d":"147,123"},534]
["H23","大阪",27001,"大阪","甲種港湾","特定重要港湾","輸入","インドネシア","アジア",{"v":16247,"d":"16,247"},0,{"v":16202,"d":"16,202"},45]
["H23","大阪",27001,"大阪","甲種港湾","特定重要港湾","輸入","カンボジア","アジア",58,0,58,0]
["H23","大阪",27001,"大阪","甲種港湾","特定重要港湾","輸入","シンガポール","アジア",{"v":27325,"d":"27,325"},0,{"v":27229,"d":"27,229"},96]
["H23","大阪",27001,"大阪","甲種港湾","特定重要港湾","輸入","タイ","アジア",{"v":64236,"d":"64,236"},148,{"v":64060,"d":"64,060"},176]
["H23","大阪",27001,"大阪","甲種港湾","特定重要港湾","輸入","フィリピン","アジア",{"v":7882,"d":"7,882"},0,{"v":7843,"d":"7,843"},39]
["H23","大阪",27001,"大阪","甲種港湾","特定重要港湾","輸入","マレーシア","アジア",{"v":15937,"d":"15,937"},1,{"v":15892,"d":"15,892"},45]
["H23","大阪",27001,"大阪","甲種港湾","特定重要港湾","輸入","ベトナム","アジア",{"v":17994,"d":"17,994"},0,{"v":17896,"d":"17,896"},98]
["H23","大阪",27001,"大阪","甲種港湾","特定重要港湾","輸入","オーストラリア","オセアニア",{"v":29927,"d":"29,927"},0,{"v":28090,"d":"28,090"},{"v":1837,"d":"1,837"}]
["H23","大阪",27001,"大阪","甲種港湾","特定重要港湾","輸入","アメリカ合衆国","北米",{"v":38011,"d":"38,011"},84,{"v":35638,"d":"35,638"},{"v":2373,"d":"2,373"}]
["H23","大阪",27001,"大阪","甲種港湾","特定重要港湾","輸入","カナダ","北米",{"v":10083,"d":"10,083"},44,{"v":9737,"d":"9,737"},346]
["H23","大阪",27001,"大阪","甲種港湾","特定重要港湾","輸入","パナマ","北米",512,0,512,0]
["H23","大阪",27002,"堺泉北","甲種港湾","特定重要港湾","輸出","中国","アジア",{"v":13653,"d":"13,653"},0,740,{"v":12913,"d":"12,913"}]
["H23","大阪",27002,"堺泉北","甲種港湾","特定重要港湾","輸入","中国","アジア",{"v":13677,"d":"13,677"},0,{"v":13677,"d":"13,677"},0]
["H23","兵庫",28001,"神戸","甲種港湾","特定重要港湾","輸出","韓国","アジア",{"v":72392,"d":"72,392"},0,{"v":59954,"d":"59,954"},{"v":12438,"d":"12,438"}]
["H23","兵庫",28001,"神戸","甲種港湾","特定重要港湾","輸出","台湾","アジア",{"v":118436,"d":"118,436"},0,{"v":107160,"d":"107,160"},{"v":11276,"d":"11,276"}]
["H23","兵庫",28001,"神戸","甲種港湾","特定重要港湾","輸出","中国","アジア",{"v":361801,"d":"361,801"},0,{"v":227105,"d":"227,105"},{"v":134697,"d":"134,697"}]
["H23","兵庫",28001,"神戸","甲種港湾","特定重要港湾","輸出","香港","アジア",{"v":120154,"d":"120,154"},0,{"v":111438,"d":"111,438"},{"v":8716,"d":"8,716"}]
["H23","兵庫",28001,"神戸","甲種港湾","特定重要港湾","輸出","インドネシア","アジア",{"v":18164,"d":"18,164"},0,{"v":18160,"d":"18,160"},4]
["H23","兵庫",28001,"神戸","甲種港湾","特定重要港湾","輸出","カンボジア","アジア",176,0,176,0]
["H23","兵庫",28001,"神戸","甲種港湾","特定重要港湾","輸出","シンガポール","アジア",{"v":66939,"d":"66,939"},0,{"v":65061,"d":"65,061"},{"v":1878,"d":"1,878"}]
["H23","兵庫",28001,"神戸","甲種港湾","特定重要港湾","輸出","タイ","アジア",{"v":77823,"d":"77,823"},0,{"v":69743,"d":"69,743"},{"v":8080,"d":"8,080"}]
["H23","兵庫",28001,"神戸","甲種港湾","特定重要港湾","輸出","フィリピン","アジア",{"v":17021,"d":"17,021"},0,{"v":12239,"d":"12,239"},{"v":4782,"d":"4,782"}]
["H23","兵庫",28001,"神戸","甲種港湾","特定重要港湾","輸出","マレーシア","アジア",{"v":51925,"d":"51,925"},0,{"v":50130,"d":"50,130"},{"v":1795,"d":"1,795"}]
["H23","兵庫",28001,"神戸","甲種港湾","特定重要港湾","輸出","ベトナム","アジア",{"v":19793,"d":"19,793"},0,{"v":13874,"d":"13,874"},{"v":5919,"d":"5,919"}]
["H23","兵庫",28001,"神戸","甲種港湾","特定重要港湾","輸出","インド","アジア",{"v":2275,"d":"2,275"},0,{"v":2275,"d":"2,275"},0]
["H23","兵庫",28001,"神戸","甲種港湾","特定重要港湾","輸出","スリランカ","アジア",12,0,12,0]
["H23","兵庫",28001,"神戸","甲種港湾","特定重要港湾","輸出","パキスタン","アジア",346,0,346,0]
["H23","兵庫",28001,"神戸","甲種港湾","特定重要港湾","輸出","サウジアラビア","アジア",{"v":1841,"d":"1,841"},0,{"v":1841,"d":"1,841"},0]
["H23","兵庫",28001,"神戸","甲種港湾","特定重要港湾","輸出","レバノン","アジア",117,0,117,0]
["H23","兵庫",28001,"神戸","甲種港湾","特定重要港湾","輸出","オーストラリア","オセアニア",691,0,563,128]
["H23","兵庫",28001,"神戸","甲種港湾","特定重要港湾","輸出","仏領ポリネシア","オセアニア",93,0,93,0]
["H23","兵庫",28001,"神戸","甲種港湾","特定重要港湾","輸出","仏領ポリネシア","オセアニア",93,0,93,0]
["H23","兵庫",28001,"神戸","甲種港湾","特定重要港湾","輸出","グアム","オセアニア",75,0,75,0]
["H23","兵庫",28001,"神戸","甲種港湾","特定重要港湾","輸出","サモア独立国","オセアニア",13,0,13,0]
["H23","兵庫",28001,"神戸","甲種港湾","特定重要港湾","輸出","ソロモン諸島","オセアニア",14,0,14,0]
["H23","兵庫",28001,"神戸","甲種港湾","特定重要港湾","輸出","トンガ","オセアニア",1,0,1,0]
["H23","兵庫",28001,"神戸","甲種港湾","特定重要港湾","輸出","ニューカレドニア","オセアニア",128,0,128,0]
["H23","兵庫",28001,"神戸","甲種港湾","特定重要港湾","輸出","ニュージーランド","オセアニア",{"v":4382,"d":"4,382"},0,{"v":1299,"d":"1,299"},{"v":3083,"d":"3,083"}]
["H23","兵庫",28001,"神戸","甲種港湾","特定重要港湾","輸出","パプアニューギニア","オセアニア",80,0,80,0]
["H23","兵庫",28001,"神戸","甲種港湾","特定重要港湾","輸出","フィジー","オセアニア",19,0,19,0]
["H23","兵庫",28001,"神戸","甲種港湾","特定重要港湾","輸出","キリバス","オセアニア",4,0,4,0]
["H23","兵庫",28001,"神戸","甲種港湾","特定重要港湾","輸出","バヌアツ","オセアニア",13,0,13,0]
["H23","兵庫",28001,"神戸","甲種港湾","特定重要港湾","輸出","ミクロネシア","オセアニア",71,0,71,0]
["H23","兵庫",28001,"神戸","甲種港湾","特定重要港湾","輸出","マーシャル諸島","オセアニア",18,0,18,0]
["H23","兵庫",28001,"神戸","甲種港湾","特定重要港湾","輸出","北マリアナ諸島","オセアニア",17,0,17,0]
["H23","兵庫",28001,"神戸","甲種港湾","特定重要港湾","輸出","パラオ","オセアニア",18,0,18,0]
["H23","兵庫",28001,"神戸","甲種港湾","特定重要港湾","輸出","エジプト","アフリカ",698,0,694,4]
["H23","兵庫",28001,"神戸","甲種港湾","特定重要港湾","輸出","イギリス","ヨーロッパ",{"v":5012,"d":"5,012"},0,{"v":4998,"d":"4,998"},14]
["H23","兵庫",28001,"神戸","甲種港湾","特定重要港湾","輸出","イタリア","ヨーロッパ",17,0,17,0]
["H23","兵庫",28001,"神戸","甲種港湾","特定重要港湾","輸出","オランダ","ヨーロッパ",{"v":37532,"d":"37,532"},0,{"v":36555,"d":"36,555"},977]
["H23","兵庫",28001,"神戸","甲種港湾","特定重要港湾","輸出","ドイツ","ヨーロッパ",{"v":21831,"d":"21,831"},0,{"v":21699,"d":"21,699"},132]
["H23","兵庫",28001,"神戸","甲種港湾","特定重要港湾","輸出","フランス","ヨーロッパ",{"v":3493,"d":"3,493"},0,{"v":3240,"d":"3,240"},253]
["H23","兵庫",28001,"神戸","甲種港湾","特定重要港湾","輸出","スペイン","ヨーロッパ",8,0,8,0]
["H23","兵庫",28001,"神戸","甲種港湾","特定重要港湾","輸出","マルタ","ヨーロッパ",282,0,282,0]
["H23","兵庫",28001,"神戸","甲種港湾","特定重要港湾","輸出","ロシア","ヨーロッパ",{"v":2188,"d":"2,188"},0,{"v":2188,"d":"2,188"},0]
["H23","兵庫",28001,"神戸","甲種港湾","特定重要港湾","輸出","アメリカ合衆国","北米",{"v":114516,"d":"114,516"},0,{"v":106456,"d":"106,456"},{"v":8060,"d":"8,060"}]
["H23","兵庫",28001,"神戸","甲種港湾","特定重要港湾","輸出","カナダ","北米",471,0,471,0]
["H23","兵庫",28001,"神戸","甲種港湾","特定重要港湾","輸出","パナマ","北米",{"v":7892,"d":"7,892"},0,{"v":3833,"d":"3,833"},{"v":4059,"d":"4,059"}]
["H23","兵庫",28001,"神戸","甲種港湾","特定重要港湾","輸出","メキシコ","北米",578,0,422,156]
["H23","兵庫",28001,"神戸","甲種港湾","特定重要港湾","輸入","韓国","アジア",{"v":59484,"d":"59,484"},10,{"v":48193,"d":"48,193"},{"v":11291,"d":"11,291"}]
["H23","兵庫",28001,"神戸","甲種港湾","特定重要港湾","輸入","台湾","アジア",{"v":63109,"d":"63,109"},0,{"v":54521,"d":"54,521"},{"v":8588,"d":"8,588"}]
["H23","兵庫",28001,"神戸","甲種港湾","特定重要港湾","輸入","中国","アジア",{"v":268012,"d":"268,012"},582,{"v":256022,"d":"256,022"},{"v":11990,"d":"11,990"}]
["H23","兵庫",28001,"神戸","甲種港湾","特定重要港湾","輸入","香港","アジア",{"v":73585,"d":"73,585"},108,{"v":70289,"d":"70,289"},{"v":3296,"d":"3,296"}]
["H23","兵庫",28001,"神戸","甲種港湾","特定重要港湾","輸入","インドネシア","アジア",{"v":5821,"d":"5,821"},0,{"v":5433,"d":"5,433"},388]
["H23","兵庫",28001,"神戸","甲種港湾","特定重要港湾","輸入","カンボジア","アジア",100,0,100,0]
["H23","兵庫",28001,"神戸","甲種港湾","特定重要港湾","輸入","シンガポール","アジア",{"v":59343,"d":"59,343"},292,{"v":55569,"d":"55,569"},{"v":3774,"d":"3,774"}]
["H23","兵庫",28001,"神戸","甲種港湾","特定重要港湾","輸入","タイ","アジア",{"v":45809,"d":"45,809"},86,{"v":44534,"d":"44,534"},{"v":1275,"d":"1,275"}]
["H23","兵庫",28001,"神戸","甲種港湾","特定重要港湾","輸入","フィリピン","アジア",{"v":9722,"d":"9,722"},0,{"v":6390,"d":"6,390"},{"v":3332,"d":"3,332"}]
["H23","兵庫",28001,"神戸","甲種港湾","特定重要港湾","輸入","マレーシア","アジア",{"v":15786,"d":"15,786"},0,{"v":14818,"d":"14,818"},968]
["H23","兵庫",28001,"神戸","甲種港湾","特定重要港湾","輸入","ベトナム","アジア",{"v":18879,"d":"18,879"},6,{"v":17576,"d":"17,576"},{"v":1303,"d":"1,303"}]
["H23","兵庫",28001,"神戸","甲種港湾","特定重要港湾","輸入","インド","アジア",{"v":1097,"d":"1,097"},0,{"v":1079,"d":"1,079"},18]
["H23","兵庫",28001,"神戸","甲種港湾","特定重要港湾","輸入","スリランカ","アジア",768,0,768,0]
["H23","兵庫",28001,"神戸","甲種港湾","特定重要港湾","輸入","パキスタン","アジア",42,0,42,0]
["H23","兵庫",28001,"神戸","甲種港湾","特定重要港湾","輸入","アラブ首長国連邦","アジア",148,0,0,148]
["H23","兵庫",28001,"神戸","甲種港湾","特定重要港湾","輸入","サウジアラビア","アジア",29,0,20,9]
["H23","兵庫",28001,"神戸","甲種港湾","特定重要港湾","輸入","オーストラリア","オセアニア",615,0,14,601]
["H23","兵庫",28001,"神戸","甲種港湾","特定重要港湾","輸入","仏領ポリネシア","オセアニア",121,0,5,116]
["H23","兵庫",28001,"神戸","甲種港湾","特定重要港湾","輸入","仏領ポリネシア","オセアニア",121,0,5,116]
["H23","兵庫",28001,"神戸","甲種港湾","特定重要港湾","輸入","グアム","オセアニア",17,0,2,15]
["H23","兵庫",28001,"神戸","甲種港湾","特定重要港湾","輸入","サモア独立国","オセアニア",57,0,0,57]
["H23","兵庫",28001,"神戸","甲種港湾","特定重要港湾","輸入","ソロモン諸島","オセアニア",14,0,0,14]
["H23","兵庫",28001,"神戸","甲種港湾","特定重要港湾","輸入","トンガ","オセアニア",30,0,1,29]
["H23","兵庫",28001,"神戸","甲種港湾","特定重要港湾","輸入","ニューカレドニア","オセアニア",41,0,0,41]
["H23","兵庫",28001,"神戸","甲種港湾","特定重要港湾","輸入","ニュージーランド","オセアニア",{"v":9106,"d":"9,106"},300,{"v":8550,"d":"8,550"},556]
["H23","兵庫",28001,"神戸","甲種港湾","特定重要港湾","輸入","パプアニューギニア","オセアニア",12,0,11,1]
["H23","兵庫",28001,"神戸","甲種港湾","特定重要港湾","輸入","フィジー","オセアニア",30,0,16,14]
["H23","兵庫",28001,"神戸","甲種港湾","特定重要港湾","輸入","キリバス","オセアニア",5,0,0,5]
["H23","兵庫",28001,"神戸","甲種港湾","特定重要港湾","輸入","バヌアツ","オセアニア",38,0,22,16]
["H23","兵庫",28001,"神戸","甲種港湾","特定重要港湾","輸入","米領サモア","オセアニア",41,0,0,41]
["H23","兵庫",28001,"神戸","甲種港湾","特定重要港湾","輸入","ミクロネシア","オセアニア",61,0,0,61]
["H23","兵庫",28001,"神戸","甲種港湾","特定重要港湾","輸入","マーシャル諸島","オセアニア",8,0,0,8]
["H23","兵庫",28001,"神戸","甲種港湾","特定重要港湾","輸入","北マリアナ諸島","オセアニア",65,0,0,65]
["H23","兵庫",28001,"神戸","甲種港湾","特定重要港湾","輸入","エジプト","アフリカ",106,0,38,68]
["H23","兵庫",28001,"神戸","甲種港湾","特定重要港湾","輸入","モロッコ","アフリカ",647,0,403,244]
["H23","兵庫",28001,"神戸","甲種港湾","特定重要港湾","輸入","イギリス","ヨーロッパ",{"v":6178,"d":"6,178"},0,{"v":5319,"d":"5,319"},859]
["H23","兵庫",28001,"神戸","甲種港湾","特定重要港湾","輸入","イタリア","ヨーロッパ",80,0,76,4]
["H23","兵庫",28001,"神戸","甲種港湾","特定重要港湾","輸入","オランダ","ヨーロッパ",{"v":50312,"d":"50,312"},24,{"v":47095,"d":"47,095"},{"v":3217,"d":"3,217"}]
["H23","兵庫",28001,"神戸","甲種港湾","特定重要港湾","輸入","ドイツ","ヨーロッパ",{"v":51098,"d":"51,098"},82,{"v":47389,"d":"47,389"},{"v":3709,"d":"3,709"}]
["H23","兵庫",28001,"神戸","甲種港湾","特定重要港湾","輸入","デンマーク","ヨーロッパ",{"v":2760,"d":"2,760"},0,{"v":2585,"d":"2,585"},175]
["H23","兵庫",28001,"神戸","甲種港湾","特定重要港湾","輸入","フランス","ヨーロッパ",{"v":8102,"d":"8,102"},0,{"v":7519,"d":"7,519"},583]
["H23","兵庫",28001,"神戸","甲種港湾","特定重要港湾","輸入","ベルギー","ヨーロッパ",121,4,121,0]
["H23","兵庫",28001,"神戸","甲種港湾","特定重要港湾","輸入","スウェーデン","ヨーロッパ",{"v":2912,"d":"2,912"},0,{"v":2898,"d":"2,898"},14]
["H23","兵庫",28001,"神戸","甲種港湾","特定重要港湾","輸入","スペイン","ヨーロッパ",612,0,108,504]
["H23","兵庫",28001,"神戸","甲種港湾","特定重要港湾","輸入","ポーランド","ヨーロッパ",{"v":4716,"d":"4,716"},0,{"v":4102,"d":"4,102"},614]
["H23","兵庫",28001,"神戸","甲種港湾","特定重要港湾","輸入","マルタ","ヨーロッパ",683,0,7,676]
["H23","兵庫",28001,"神戸","甲種港湾","特定重要港湾","輸入","ロシア","ヨーロッパ",{"v":1914,"d":"1,914"},0,227,{"v":1687,"d":"1,687"}]
["H23","兵庫",28001,"神戸","甲種港湾","特定重要港湾","輸入","アメリカ合衆国","北米",{"v":166391,"d":"166,391"},553,{"v":151330,"d":"151,330"},{"v":15061,"d":"15,061"}]
["H23","兵庫",28001,"神戸","甲種港湾","特定重要港湾","輸入","カナダ","北米",{"v":32732,"d":"32,732"},335,{"v":31934,"d":"31,934"},798]
["H23","兵庫",28001,"神戸","甲種港湾","特定重要港湾","輸入","パナマ","北米",{"v":5587,"d":"5,587"},55,{"v":2007,"d":"2,007"},{"v":3580,"d":"3,580"}]
["H23","兵庫",28001,"神戸","甲種港湾","特定重要港湾","輸入","メキシコ","北米",827,0,727,100]
["H23","和歌山",30001,"和歌山下津","甲種港湾","特定重要港湾","輸出","韓国","アジア",{"v":2398,"d":"2,398"},0,322,{"v":2076,"d":"2,076"}]
["H23","和歌山",30001,"和歌山下津","甲種港湾","特定重要港湾","輸入","韓国","アジア",{"v":2507,"d":"2,507"},0,{"v":2496,"d":"2,496"},11]
["H24","京都",26001,"舞鶴","甲種港湾","重要港湾","輸出","韓国","アジア",{"v":1881,"d":"1,881"},0,{"v":1324,"d":"1,324"},557]
["H24","京都",26001,"舞鶴","甲種港湾","重要港湾","輸出","中国","アジア",{"v":2620,"d":"2,620"},0,609,{"v":2011,"d":"2,011"}]
["H24","大阪",27002,"堺泉北","甲種港湾","国際拠点港湾","輸出","中国","アジア",{"v":10341,"d":"10,341"},0,{"v":1213,"d":"1,213"},{"v":9128,"d":"9,128"}]
["H24","大阪",27001,"大阪","甲種港湾","国際戦略港湾","輸出","韓国","アジア",{"v":157363.5,"d":"157,364"},3,{"v":75670.1,"d":"75,670"},{"v":81693.4,"d":"81,693"}]
["H24","大阪",27001,"大阪","甲種港湾","国際戦略港湾","輸出","台湾","アジア",{"v":81741,"d":"81,741"},0,{"v":50600,"d":"50,600"},{"v":31141,"d":"31,141"}]
["H24","大阪",27001,"大阪","甲種港湾","国際戦略港湾","輸出","中国","アジア",{"v":575217,"d":"575,217"},7,{"v":118309,"d":"118,309"},{"v":456908,"d":"456,908"}]
["H24","大阪",27001,"大阪","甲種港湾","国際戦略港湾","輸出","香港","アジア",{"v":53298,"d":"53,298"},8,{"v":39456,"d":"39,456"},{"v":13842,"d":"13,842"}]
["H24","大阪",27001,"大阪","甲種港湾","国際戦略港湾","輸出","インドネシア","アジア",{"v":5300,"d":"5,300"},0,{"v":5298,"d":"5,298"},2]
["H24","大阪",27001,"大阪","甲種港湾","国際戦略港湾","輸出","カンボジア","アジア",83,0,83,0]
["H24","大阪",27001,"大阪","甲種港湾","国際戦略港湾","輸出","シンガポール","アジア",{"v":13095,"d":"13,095"},0,{"v":12597,"d":"12,597"},498]
["H24","大阪",27001,"大阪","甲種港湾","国際戦略港湾","輸出","タイ","アジア",{"v":21629,"d":"21,629"},4,{"v":17970,"d":"17,970"},{"v":3659,"d":"3,659"}]
["H24","大阪",27001,"大阪","甲種港湾","国際戦略港湾","輸出","フィリピン","アジア",{"v":3249,"d":"3,249"},0,{"v":3131,"d":"3,131"},118]
["H24","大阪",27001,"大阪","甲種港湾","国際戦略港湾","輸出","マレーシア","アジア",{"v":7949,"d":"7,949"},0,{"v":7830,"d":"7,830"},119]
["H24","大阪",27001,"大阪","甲種港湾","国際戦略港湾","輸出","ベトナム","アジア",{"v":10028,"d":"10,028"},29,{"v":7799,"d":"7,799"},{"v":2229,"d":"2,229"}]
["H24","大阪",27001,"大阪","甲種港湾","国際戦略港湾","輸出","スリランカ","アジア",32,0,32,0]
["H24","大阪",27001,"大阪","甲種港湾","国際戦略港湾","輸出","イスラエル","アジア",83,0,83,0]
["H24","大阪",27001,"大阪","甲種港湾","国際戦略港湾","輸出","オーストラリア","オセアニア",{"v":6035,"d":"6,035"},0,{"v":3961,"d":"3,961"},{"v":2074,"d":"2,074"}]
["H24","大阪",27001,"大阪","甲種港湾","国際戦略港湾","輸出","エジプト","アフリカ",94,0,94,0]
["H24","大阪",27001,"大阪","甲種港湾","国際戦略港湾","輸出","イタリア","ヨーロッパ",157,0,157,0]
["H24","大阪",27001,"大阪","甲種港湾","国際戦略港湾","輸出","スペイン","ヨーロッパ",3,0,3,0]
["H24","大阪",27001,"大阪","甲種港湾","国際戦略港湾","輸出","アメリカ合衆国","北米",{"v":4284,"d":"4,284"},0,{"v":4054,"d":"4,054"},230]
["H24","大阪",27001,"大阪","甲種港湾","国際戦略港湾","輸出","カナダ","北米",{"v":2704,"d":"2,704"},0,{"v":2704,"d":"2,704"},0]
["H24","兵庫",28001,"神戸","甲種港湾","国際戦略港湾","輸出","韓国","アジア",{"v":81902,"d":"81,902"},0,{"v":62932,"d":"62,932"},{"v":18970,"d":"18,970"}]
["H24","兵庫",28001,"神戸","甲種港湾","国際戦略港湾","輸出","台湾","アジア",{"v":117847,"d":"117,847"},0,{"v":104893,"d":"104,893"},{"v":12954,"d":"12,954"}]
["H24","兵庫",28001,"神戸","甲種港湾","国際戦略港湾","輸出","中国","アジア",{"v":380238.5,"d":"380,239"},0,{"v":228154.25,"d":"228,154"},{"v":152084.25,"d":"152,084"}]
["H24","兵庫",28001,"神戸","甲種港湾","国際戦略港湾","輸出","香港","アジア",{"v":114882,"d":"114,882"},0,{"v":105046,"d":"105,046"},{"v":9836,"d":"9,836"}]
["H24","兵庫",28001,"神戸","甲種港湾","国際戦略港湾","輸出","インドネシア","アジア",{"v":19380,"d":"19,380"},0,{"v":19380,"d":"19,380"},0]
["H24","兵庫",28001,"神戸","甲種港湾","国際戦略港湾","輸出","カンボジア","アジア",81,0,81,0]
["H24","兵庫",28001,"神戸","甲種港湾","国際戦略港湾","輸出","シンガポール","アジア",{"v":70195,"d":"70,195"},0,{"v":67619,"d":"67,619"},{"v":2576,"d":"2,576"}]
["H24","兵庫",28001,"神戸","甲種港湾","国際戦略港湾","輸出","タイ","アジア",{"v":77897,"d":"77,897"},0,{"v":73112,"d":"73,112"},{"v":4785,"d":"4,785"}]
["H24","兵庫",28001,"神戸","甲種港湾","国際戦略港湾","輸出","フィリピン","アジア",{"v":17890,"d":"17,890"},0,{"v":11389,"d":"11,389"},{"v":6501,"d":"6,501"}]
["H24","兵庫",28001,"神戸","甲種港湾","国際戦略港湾","輸出","マレーシア","アジア",{"v":37417,"d":"37,417"},0,{"v":35139,"d":"35,139"},{"v":2278,"d":"2,278"}]
["H24","兵庫",28001,"神戸","甲種港湾","国際戦略港湾","輸出","ベトナム","アジア",{"v":24429,"d":"24,429"},0,{"v":15116,"d":"15,116"},{"v":9313,"d":"9,313"}]
["H24","兵庫",28001,"神戸","甲種港湾","国際戦略港湾","輸出","インド","アジア",{"v":1901,"d":"1,901"},0,{"v":1901,"d":"1,901"},0]
["H24","兵庫",28001,"神戸","甲種港湾","国際戦略港湾","輸出","スリランカ","アジア",262,0,262,0]
["H24","兵庫",28001,"神戸","甲種港湾","国際戦略港湾","輸出","パキスタン","アジア",99,0,99,0]
["H24","兵庫",28001,"神戸","甲種港湾","国際戦略港湾","輸出","サウジアラビア","アジア",{"v":1722,"d":"1,722"},0,{"v":1722,"d":"1,722"},0]
["H24","兵庫",28001,"神戸","甲種港湾","国際戦略港湾","輸出","オーストラリア","オセアニア",659,0,336,323]
["H24","兵庫",28001,"神戸","甲種港湾","国際戦略港湾","輸出","英領ポリネシア","オセアニア",73,0,73,0]
["H24","兵庫",28001,"神戸","甲種港湾","国際戦略港湾","輸出","グアム","オセアニア",39,0,39,0]
["H24","兵庫",28001,"神戸","甲種港湾","国際戦略港湾","輸出","サモア独立国","オセアニア",7,0,7,0]
["H24","兵庫",28001,"神戸","甲種港湾","国際戦略港湾","輸出","ソロモン諸島","オセアニア",4,0,4,0]
["H24","兵庫",28001,"神戸","甲種港湾","国際戦略港湾","輸出","ニューカレドニア","オセアニア",117,0,117,0]
["H24","兵庫",28001,"神戸","甲種港湾","国際戦略港湾","輸出","ニュージーランド","オセアニア",{"v":4989,"d":"4,989"},0,{"v":1232,"d":"1,232"},{"v":3757,"d":"3,757"}]
["H24","兵庫",28001,"神戸","甲種港湾","国際戦略港湾","輸出","パプアニューギニア","オセアニア",40,0,40,0]
["H24","兵庫",28001,"神戸","甲種港湾","国際戦略港湾","輸出","フィジー","オセアニア",22,0,22,0]
["H24","兵庫",28001,"神戸","甲種港湾","国際戦略港湾","輸出","キリバス","オセアニア",7,0,7,0]
["H24","兵庫",28001,"神戸","甲種港湾","国際戦略港湾","輸出","バヌアツ","オセアニア",2,0,2,0]
["H24","兵庫",28001,"神戸","甲種港湾","国際戦略港湾","輸出","米領サモア","オセアニア",1,0,1,0]
["H24","兵庫",28001,"神戸","甲種港湾","国際戦略港湾","輸出","ミクロネシア","オセアニア",59,0,58,1]
["H24","兵庫",28001,"神戸","甲種港湾","国際戦略港湾","輸出","マーシャル諸島","オセアニア",20,0,20,0]
["H24","兵庫",28001,"神戸","甲種港湾","国際戦略港湾","輸出","北マリアナ諸島","オセアニア",12,0,12,0]
["H24","兵庫",28001,"神戸","甲種港湾","国際戦略港湾","輸出","パラオ","オセアニア",21,0,21,0]
["H24","兵庫",28001,"神戸","甲種港湾","国際戦略港湾","輸出","エジプト","アフリカ",127,0,127,0]
["H24","兵庫",28001,"神戸","甲種港湾","国際戦略港湾","輸出","イギリス","ヨーロッパ",{"v":3522,"d":"3,522"},0,{"v":3509,"d":"3,509"},13]
["H24","兵庫",28001,"神戸","甲種港湾","国際戦略港湾","輸出","オランダ","ヨーロッパ",{"v":22173,"d":"22,173"},0,{"v":22031,"d":"22,031"},142]
["H24","兵庫",28001,"神戸","甲種港湾","国際戦略港湾","輸出","ドイツ","ヨーロッパ",{"v":13012.25,"d":"13,012"},0,{"v":12995.25,"d":"12,995"},17]
["H24","兵庫",28001,"神戸","甲種港湾","国際戦略港湾","輸出","フランス","ヨーロッパ",{"v":2273,"d":"2,273"},0,{"v":2267,"d":"2,267"},6]
["H24","兵庫",28001,"神戸","甲種港湾","国際戦略港湾","輸出","ベルギー","ヨーロッパ",641,0,641,0]
["H24","兵庫",28001,"神戸","甲種港湾","国際戦略港湾","輸出","ロシア","ヨーロッパ",{"v":2558,"d":"2,558"},0,{"v":2556,"d":"2,556"},2]
["H24","兵庫",28001,"神戸","甲種港湾","国際戦略港湾","輸出","アメリカ合衆国","北米",{"v":113668,"d":"113,668"},0,{"v":107195,"d":"107,195"},{"v":6473,"d":"6,473"}]
["H24","兵庫",28001,"神戸","甲種港湾","国際戦略港湾","輸出","カナダ","北米",{"v":1303.25,"d":"1,303"},0,{"v":1183.25,"d":"1,183"},120]
["H24","兵庫",28001,"神戸","甲種港湾","国際戦略港湾","輸出","トリニダード・トバゴ","北米",1,0,1,0]
["H24","兵庫",28001,"神戸","甲種港湾","国際戦略港湾","輸出","パナマ","北米",{"v":6525,"d":"6,525"},0,{"v":4177,"d":"4,177"},{"v":2348,"d":"2,348"}]
["H24","和歌山",30001,"和歌山下津","甲種港湾","国際拠点港湾","輸出","韓国","アジア",{"v":3033,"d":"3,033"},0,355,{"v":2678,"d":"2,678"}]
["H24","京都",26001,"舞鶴","甲種港湾","重要港湾","輸入","韓国","アジア",{"v":1577,"d":"1,577"},0,{"v":1373,"d":"1,373"},204]
["H24","京都",26001,"舞鶴","甲種港湾","重要港湾","輸入","中国","アジア",{"v":2628,"d":"2,628"},0,{"v":2596,"d":"2,596"},32]
["H24","大阪",27002,"堺泉北","甲種港湾","国際拠点港湾","輸入","中国","アジア",{"v":10594,"d":"10,594"},0,{"v":10569,"d":"10,569"},25]
["H24","大阪",27001,"大阪","甲種港湾","国際戦略港湾","輸入","韓国","アジア",{"v":118049.2,"d":"118,049"},0,{"v":114218.2,"d":"114,218"},{"v":3831,"d":"3,831"}]
["H24","大阪",27001,"大阪","甲種港湾","国際戦略港湾","輸入","台湾","アジア",{"v":67134,"d":"67,134"},0,{"v":66935,"d":"66,935"},199]
["H24","大阪",27001,"大阪","甲種港湾","国際戦略港湾","輸入","中国","アジア",{"v":642524.6,"d":"642,525"},47,{"v":627813.6,"d":"627,814"},{"v":14711,"d":"14,711"}]
["H24","大阪",27001,"大阪","甲種港湾","国際戦略港湾","輸入","香港","アジア",{"v":127243,"d":"127,243"},0,{"v":127146,"d":"127,146"},97]
["H24","大阪",27001,"大阪","甲種港湾","国際戦略港湾","輸入","インドネシア","アジア",{"v":15457,"d":"15,457"},0,{"v":15457,"d":"15,457"},0]
["H24","大阪",27001,"大阪","甲種港湾","国際戦略港湾","輸入","シンガポール","アジア",{"v":32501,"d":"32,501"},3,{"v":32455,"d":"32,455"},46]
["H24","大阪",27001,"大阪","甲種港湾","国際戦略港湾","輸入","タイ","アジア",{"v":61606,"d":"61,606"},1,{"v":61387,"d":"61,387"},219]
["H24","大阪",27001,"大阪","甲種港湾","国際戦略港湾","輸入","フィリピン","アジア",{"v":8458,"d":"8,458"},0,{"v":8434,"d":"8,434"},24]
["H24","大阪",27001,"大阪","甲種港湾","国際戦略港湾","輸入","マレーシア","アジア",{"v":16437,"d":"16,437"},0,{"v":16435,"d":"16,435"},2]
["H24","大阪",27001,"大阪","甲種港湾","国際戦略港湾","輸入","ベトナム","アジア",{"v":22372,"d":"22,372"},0,{"v":22318,"d":"22,318"},54]
["H24","大阪",27001,"大阪","甲種港湾","国際戦略港湾","輸入","オーストラリア","オセアニア",{"v":28837,"d":"28,837"},0,{"v":26251,"d":"26,251"},{"v":2586,"d":"2,586"}]
["H24","大阪",27001,"大阪","甲種港湾","国際戦略港湾","輸入","アメリカ合衆国","北米",{"v":26999,"d":"26,999"},0,{"v":25908,"d":"25,908"},{"v":1091,"d":"1,091"}]
["H24","大阪",27001,"大阪","甲種港湾","国際戦略港湾","輸入","カナダ","北米",{"v":10247,"d":"10,247"},0,{"v":9837,"d":"9,837"},410]
["H24","大阪",27001,"大阪","甲種港湾","国際戦略港湾","輸入","パナマ","北米",107,0,107,0]
["H24","兵庫",28001,"神戸","甲種港湾","国際戦略港湾","輸入","韓国","アジア",{"v":65522,"d":"65,522"},339,{"v":57065,"d":"57,065"},{"v":8457,"d":"8,457"}]
["H24","兵庫",28001,"神戸","甲種港湾","国際戦略港湾","輸入","台湾","アジア",{"v":61263,"d":"61,263"},417,{"v":58481,"d":"58,481"},{"v":2782,"d":"2,782"}]
["H24","兵庫",28001,"神戸","甲種港湾","国際戦略港湾","輸入","中国","アジア",{"v":264537.25,"d":"264,537"},{"v":2438,"d":"2,438"},{"v":251313.25,"d":"251,313"},{"v":13224,"d":"13,224"}]
["H24","兵庫",28001,"神戸","甲種港湾","国際戦略港湾","輸入","香港","アジア",{"v":69717.75,"d":"69,718"},975,{"v":67748.5,"d":"67,749"},{"v":1969.25,"d":"1,969"}]
["H24","兵庫",28001,"神戸","甲種港湾","国際戦略港湾","輸入","インドネシア","アジア",{"v":4704,"d":"4,704"},0,{"v":4550,"d":"4,550"},154]
["H24","兵庫",28001,"神戸","甲種港湾","国際戦略港湾","輸入","カンボジア","アジア",4,0,4,0]
["H24","兵庫",28001,"神戸","甲種港湾","国際戦略港湾","輸入","シンガポール","アジア",{"v":64620,"d":"64,620"},81,{"v":61515,"d":"61,515"},{"v":3105,"d":"3,105"}]
["H24","兵庫",28001,"神戸","甲種港湾","国際戦略港湾","輸入","タイ","アジア",{"v":45684,"d":"45,684"},200,{"v":44090,"d":"44,090"},{"v":1594,"d":"1,594"}]
["H24","兵庫",28001,"神戸","甲種港湾","国際戦略港湾","輸入","フィリピン","アジア",{"v":8954,"d":"8,954"},0,{"v":5757,"d":"5,757"},{"v":3197,"d":"3,197"}]
["H24","兵庫",28001,"神戸","甲種港湾","国際戦略港湾","輸入","マレーシア","アジア",{"v":12815,"d":"12,815"},15,{"v":12668,"d":"12,668"},147]
["H24","兵庫",28001,"神戸","甲種港湾","国際戦略港湾","輸入","ベトナム","アジア",{"v":20084,"d":"20,084"},16,{"v":19321,"d":"19,321"},763]
["H24","兵庫",28001,"神戸","甲種港湾","国際戦略港湾","輸入","インド","アジア",{"v":1334,"d":"1,334"},0,{"v":1328,"d":"1,328"},6]
["H24","兵庫",28001,"神戸","甲種港湾","国際戦略港湾","輸入","スリランカ","アジア",{"v":2649,"d":"2,649"},0,{"v":2649,"d":"2,649"},0]
["H24","兵庫",28001,"神戸","甲種港湾","国際戦略港湾","輸入","パキスタン","アジア",43,0,43,0]
["H24","兵庫",28001,"神戸","甲種港湾","国際戦略港湾","輸入","サウジアラビア","アジア",66,0,0,66]
["H24","兵庫",28001,"神戸","甲種港湾","国際戦略港湾","輸入","オーストラリア","オセアニア",224,10,78,146]
["H24","兵庫",28001,"神戸","甲種港湾","国際戦略港湾","輸入","英領ポリネシア","オセアニア",88,0,9,79]
["H24","兵庫",28001,"神戸","甲種港湾","国際戦略港湾","輸入","グアム","オセアニア",24,0,2,22]
["H24","兵庫",28001,"神戸","甲種港湾","国際戦略港湾","輸入","サモア独立国","オセアニア",76,0,0,76]
["H24","兵庫",28001,"神戸","甲種港湾","国際戦略港湾","輸入","ソロモン諸島","オセアニア",2,0,0,2]
["H24","兵庫",28001,"神戸","甲種港湾","国際戦略港湾","輸入","トンガ","オセアニア",4,0,0,4]
["H24","兵庫",28001,"神戸","甲種港湾","国際戦略港湾","輸入","ニューカレドニア","オセアニア",10,0,0,10]
["H24","兵庫",28001,"神戸","甲種港湾","国際戦略港湾","輸入","ニュージーランド","オセアニア",{"v":8773,"d":"8,773"},0,{"v":8624,"d":"8,624"},149]
["H24","兵庫",28001,"神戸","甲種港湾","国際戦略港湾","輸入","パプアニューギニア","オセアニア",31,0,6,25]
["H24","兵庫",28001,"神戸","甲種港湾","国際戦略港湾","輸入","フィジー","オセアニア",23,0,23,0]
["H24","兵庫",28001,"神戸","甲種港湾","国際戦略港湾","輸入","バヌアツ","オセアニア",25,0,18,7]
["H24","兵庫",28001,"神戸","甲種港湾","国際戦略港湾","輸入","米領サモア","オセアニア",18,0,0,18]
["H24","兵庫",28001,"神戸","甲種港湾","国際戦略港湾","輸入","ミクロネシア","オセアニア",37,0,4,33]
["H24","兵庫",28001,"神戸","甲種港湾","国際戦略港湾","輸入","マーシャル諸島","オセアニア",2,0,0,2]
["H24","兵庫",28001,"神戸","甲種港湾","国際戦略港湾","輸入","北マリアナ諸島","オセアニア",17,0,1,16]
["H24","兵庫",28001,"神戸","甲種港湾","国際戦略港湾","輸入","パラオ","オセアニア",8,0,1,7]
["H24","兵庫",28001,"神戸","甲種港湾","国際戦略港湾","輸入","モロッコ","アフリカ",273,0,23,250]
["H24","兵庫",28001,"神戸","甲種港湾","国際戦略港湾","輸入","イギリス","ヨーロッパ",{"v":8061,"d":"8,061"},0,{"v":6403,"d":"6,403"},{"v":1658,"d":"1,658"}]
["H24","兵庫",28001,"神戸","甲種港湾","国際戦略港湾","輸入","オランダ","ヨーロッパ",{"v":35021,"d":"35,021"},3,{"v":33984,"d":"33,984"},{"v":1037,"d":"1,037"}]
["H24","兵庫",28001,"神戸","甲種港湾","国際戦略港湾","輸入","ドイツ","ヨーロッパ",{"v":49849.75,"d":"49,850"},5,{"v":48738.75,"d":"48,739"},{"v":1111,"d":"1,111"}]
["H24","兵庫",28001,"神戸","甲種港湾","国際戦略港湾","輸入","フランス","ヨーロッパ",{"v":6709,"d":"6,709"},0,{"v":6505,"d":"6,505"},204]
["H24","兵庫",28001,"神戸","甲種港湾","国際戦略港湾","輸入","ベルギー","ヨーロッパ",{"v":1158,"d":"1,158"},0,{"v":1158,"d":"1,158"},0]
["H24","兵庫",28001,"神戸","甲種港湾","国際戦略港湾","輸入","スペイン","ヨーロッパ",93,0,87,6]
["H24","兵庫",28001,"神戸","甲種港湾","国際戦略港湾","輸入","ロシア","ヨーロッパ",{"v":1500,"d":"1,500"},0,181,{"v":1319,"d":"1,319"}]
["H24","兵庫",28001,"神戸","甲種港湾","国際戦略港湾","輸入","アメリカ合衆国","北米",{"v":178069.5,"d":"178,070"},{"v":4919,"d":"4,919"},{"v":150629,"d":"150,629"},{"v":27440.5,"d":"27,441"}]
["H24","兵庫",28001,"神戸","甲種港湾","国際戦略港湾","輸入","カナダ","北米",{"v":28572,"d":"28,572"},914,{"v":27291,"d":"27,291"},{"v":1281,"d":"1,281"}]
["H24","兵庫",28001,"神戸","甲種港湾","国際戦略港湾","輸入","トリニダード・トバゴ","北米",9,0,0,9]
["H24","兵庫",28001,"神戸","甲種港湾","国際戦略港湾","輸入","パナマ","北米",{"v":12042.25,"d":"12,042"},159,{"v":1926,"d":"1,926"},{"v":10116.25,"d":"10,116"}]
["H24","兵庫",28001,"神戸","甲種港湾","国際戦略港湾","輸入","ブラジル","南米",2,0,2,0]
["H24","和歌山",30001,"和歌山下津","甲種港湾","国際拠点港湾","輸入","韓国","アジア",{"v":3348,"d":"3,348"},0,{"v":3340,"d":"3,340"},8]
["H25","京都",26001,"舞鶴","甲種港湾","重要港湾","輸出","韓国","アジア",{"v":2695,"d":"2,695"},0,{"v":1635,"d":"1,635"},{"v":1060,"d":"1,060"}]
["H25","京都",26001,"舞鶴","甲種港湾","重要港湾","輸出","中国","アジア",{"v":1907,"d":"1,907"},0,{"v":1133,"d":"1,133"},774]
["H25","大阪",27002,"堺泉北","甲種港湾","国際拠点港湾","輸出","中国","アジア",{"v":12185,"d":"12,185"},0,947,{"v":11238,"d":"11,238"}]
["H25","大阪",27001,"大阪","甲種港湾","国際戦略港湾","輸出","韓国","アジア",{"v":154974,"d":"154,974"},0,{"v":73148.2,"d":"73,148"},{"v":81825.8,"d":"81,826"}]
["H25","大阪",27001,"大阪","甲種港湾","国際戦略港湾","輸出","台湾","アジア",{"v":85324,"d":"85,324"},0,{"v":58473,"d":"58,473"},{"v":26851,"d":"26,851"}]
["H25","大阪",27001,"大阪","甲種港湾","国際戦略港湾","輸出","中国","アジア",{"v":598407,"d":"598,407"},0,{"v":125964.5,"d":"125,965"},{"v":472442.5,"d":"472,443"}]
["H25","大阪",27001,"大阪","甲種港湾","国際戦略港湾","輸出","香港","アジア",{"v":64417,"d":"64,417"},25,{"v":42513,"d":"42,513"},{"v":21904,"d":"21,904"}]
["H25","大阪",27001,"大阪","甲種港湾","国際戦略港湾","輸出","インドネシア","アジア",{"v":6219,"d":"6,219"},0,{"v":6219,"d":"6,219"},0]
["H25","大阪",27001,"大阪","甲種港湾","国際戦略港湾","輸出","カンボジア","アジア",132,0,132,0]
["H25","大阪",27001,"大阪","甲種港湾","国際戦略港湾","輸出","シンガポール","アジア",{"v":16931,"d":"16,931"},0,{"v":15786,"d":"15,786"},{"v":1145,"d":"1,145"}]
["H25","大阪",27001,"大阪","甲種港湾","国際戦略港湾","輸出","タイ","アジア",{"v":23515,"d":"23,515"},0,{"v":20368,"d":"20,368"},{"v":3147,"d":"3,147"}]
["H25","大阪",27001,"大阪","甲種港湾","国際戦略港湾","輸出","フィリピン","アジア",{"v":2142,"d":"2,142"},0,{"v":2086,"d":"2,086"},56]
["H25","大阪",27001,"大阪","甲種港湾","国際戦略港湾","輸出","マレーシア","アジア",{"v":7130,"d":"7,130"},0,{"v":7114,"d":"7,114"},16]
["H25","大阪",27001,"大阪","甲種港湾","国際戦略港湾","輸出","ベトナム","アジア",{"v":9694,"d":"9,694"},41,{"v":8638,"d":"8,638"},{"v":1056,"d":"1,056"}]
["H25","大阪",27001,"大阪","甲種港湾","国際戦略港湾","輸出","スリランカ","アジア",29,0,29,0]
["H25","大阪",27001,"大阪","甲種港湾","国際戦略港湾","輸出","イスラエル","アジア",134,0,134,0]
["H25","大阪",27001,"大阪","甲種港湾","国際戦略港湾","輸出","オーストラリア","オセアニア",{"v":6008,"d":"6,008"},0,{"v":4186,"d":"4,186"},{"v":1822,"d":"1,822"}]
["H25","大阪",27001,"大阪","甲種港湾","国際戦略港湾","輸出","エジプト","アフリカ",146,0,146,0]
["H25","大阪",27001,"大阪","甲種港湾","国際戦略港湾","輸出","イタリア","ヨーロッパ",128,0,128,0]
["H25","大阪",27001,"大阪","甲種港湾","国際戦略港湾","輸出","スロベニア","ヨーロッパ",58,0,58,0]
["H25","大阪",27001,"大阪","甲種港湾","国際戦略港湾","輸出","アメリカ合衆国","北米",{"v":4046,"d":"4,046"},0,{"v":3977,"d":"3,977"},69]
["H25","大阪",27001,"大阪","甲種港湾","国際戦略港湾","輸出","カナダ","北米",{"v":3211,"d":"3,211"},0,{"v":3211,"d":"3,211"},0]
["H25","兵庫",28001,"神戸","甲種港湾","国際戦略港湾","輸出","韓国","アジア",{"v":94088,"d":"94,088"},0,{"v":68843,"d":"68,843"},{"v":25245,"d":"25,245"}]
["H25","兵庫",28001,"神戸","甲種港湾","国際戦略港湾","輸出","台湾","アジア",{"v":125187,"d":"125,187"},0,{"v":112802,"d":"112,802"},{"v":12385,"d":"12,385"}]
["H25","兵庫",28001,"神戸","甲種港湾","国際戦略港湾","輸出","中国","アジア",{"v":379029.25,"d":"379,029"},0,{"v":215638.75,"d":"215,639"},{"v":163390.5,"d":"163,391"}]
["H25","兵庫",28001,"神戸","甲種港湾","国際戦略港湾","輸出","香港","アジア",{"v":103895.75,"d":"103,896"},0,{"v":92034,"d":"92,034"},{"v":11861.75,"d":"11,862"}]
["H25","兵庫",28001,"神戸","甲種港湾","国際戦略港湾","輸出","インドネシア","アジア",{"v":20757,"d":"20,757"},0,{"v":20757,"d":"20,757"},0]
["H25","兵庫",28001,"神戸","甲種港湾","国際戦略港湾","輸出","カンボジア","アジア",75,0,75,0]
["H25","兵庫",28001,"神戸","甲種港湾","国際戦略港湾","輸出","シンガポール","アジア",{"v":67561.25,"d":"67,561"},0,{"v":65126.25,"d":"65,126"},{"v":2435,"d":"2,435"}]
["H25","兵庫",28001,"神戸","甲種港湾","国際戦略港湾","輸出","タイ","アジア",{"v":72384,"d":"72,384"},0,{"v":66601,"d":"66,601"},{"v":5783,"d":"5,783"}]
["H25","兵庫",28001,"神戸","甲種港湾","国際戦略港湾","輸出","フィリピン","アジア",{"v":17008,"d":"17,008"},0,{"v":11046,"d":"11,046"},{"v":5962,"d":"5,962"}]
["H25","兵庫",28001,"神戸","甲種港湾","国際戦略港湾","輸出","マレーシア","アジア",{"v":43652,"d":"43,652"},0,{"v":42493,"d":"42,493"},{"v":1159,"d":"1,159"}]
["H25","兵庫",28001,"神戸","甲種港湾","国際戦略港湾","輸出","ベトナム","アジア",{"v":28946.25,"d":"28,946"},0,{"v":19844.25,"d":"19,844"},{"v":9102,"d":"9,102"}]
["H25","兵庫",28001,"神戸","甲種港湾","国際戦略港湾","輸出","インド","アジア",595,0,595,0]
["H25","兵庫",28001,"神戸","甲種港湾","国際戦略港湾","輸出","スリランカ","アジア",85,0,75,10]
["H25","兵庫",28001,"神戸","甲種港湾","国際戦略港湾","輸出","サウジアラビア","アジア",{"v":1079,"d":"1,079"},0,{"v":1079,"d":"1,079"},0]
["H25","兵庫",28001,"神戸","甲種港湾","国際戦略港湾","輸出","オーストラリア","オセアニア",617,0,267,350]
["H25","兵庫",28001,"神戸","甲種港湾","国際戦略港湾","輸出","仏領ポリネシア","オセアニア",80,0,80,0]
["H25","兵庫",28001,"神戸","甲種港湾","国際戦略港湾","輸出","グアム","オセアニア",51,0,51,0]
["H25","兵庫",28001,"神戸","甲種港湾","国際戦略港湾","輸出","サモア独立国","オセアニア",44,0,44,0]
["H25","兵庫",28001,"神戸","甲種港湾","国際戦略港湾","輸出","ソロモン諸島","オセアニア",7,0,7,0]
["H25","兵庫",28001,"神戸","甲種港湾","国際戦略港湾","輸出","トンガ","オセアニア",2,0,2,0]
["H25","兵庫",28001,"神戸","甲種港湾","国際戦略港湾","輸出","ニューカレドニア","オセアニア",130,0,130,0]
["H25","兵庫",28001,"神戸","甲種港湾","国際戦略港湾","輸出","ニュージーランド","オセアニア",{"v":3811,"d":"3,811"},0,{"v":1045,"d":"1,045"},{"v":2766,"d":"2,766"}]
["H25","兵庫",28001,"神戸","甲種港湾","国際戦略港湾","輸出","パプアニューギニア","オセアニア",43,0,43,0]
["H25","兵庫",28001,"神戸","甲種港湾","国際戦略港湾","輸出","フィジー","オセアニア",41,0,36,5]
["H25","兵庫",28001,"神戸","甲種港湾","国際戦略港湾","輸出","キリバス","オセアニア",10,0,10,0]
["H25","兵庫",28001,"神戸","甲種港湾","国際戦略港湾","輸出","バヌアツ","オセアニア",8,0,6,2]
["H25","兵庫",28001,"神戸","甲種港湾","国際戦略港湾","輸出","米領サモア","オセアニア",2,0,2,0]
["H25","兵庫",28001,"神戸","甲種港湾","国際戦略港湾","輸出","ミクロネシア","オセアニア",59,0,59,0]
["H25","兵庫",28001,"神戸","甲種港湾","国際戦略港湾","輸出","マーシャル諸島","オセアニア",24,0,24,0]
["H25","兵庫",28001,"神戸","甲種港湾","国際戦略港湾","輸出","北マリアナ諸島","オセアニア",17,0,17,0]
["H25","兵庫",28001,"神戸","甲種港湾","国際戦略港湾","輸出","パラオ","オセアニア",18,0,18,0]
["H25","兵庫",28001,"神戸","甲種港湾","国際戦略港湾","輸出","イギリス","ヨーロッパ",{"v":2930,"d":"2,930"},0,{"v":2923,"d":"2,923"},7]
["H25","兵庫",28001,"神戸","甲種港湾","国際戦略港湾","輸出","オランダ","ヨーロッパ",{"v":15742,"d":"15,742"},0,{"v":15325,"d":"15,325"},417]
["H25","兵庫",28001,"神戸","甲種港湾","国際戦略港湾","輸出","ドイツ","ヨーロッパ",{"v":10627,"d":"10,627"},0,{"v":10499,"d":"10,499"},128]
["H25","兵庫",28001,"神戸","甲種港湾","国際戦略港湾","輸出","フランス","ヨーロッパ",{"v":1600,"d":"1,600"},0,{"v":1590,"d":"1,590"},10]
["H25","兵庫",28001,"神戸","甲種港湾","国際戦略港湾","輸出","ベルギー","ヨーロッパ",499,0,499,0]
["H25","兵庫",28001,"神戸","甲種港湾","国際戦略港湾","輸出","スペイン","ヨーロッパ",1,0,1,0]
["H25","兵庫",28001,"神戸","甲種港湾","国際戦略港湾","輸出","ロシア","ヨーロッパ",{"v":2450,"d":"2,450"},0,{"v":2450,"d":"2,450"},0]
["H25","兵庫",28001,"神戸","甲種港湾","国際戦略港湾","輸出","アメリカ合衆国","北米",{"v":99461.25,"d":"99,461"},0,{"v":95266.25,"d":"95,266"},{"v":4195,"d":"4,195"}]
["H25","兵庫",28001,"神戸","甲種港湾","国際戦略港湾","輸出","カナダ","北米",{"v":1430,"d":"1,430"},0,{"v":1430,"d":"1,430"},0]
["H25","兵庫",28001,"神戸","甲種港湾","国際戦略港湾","輸出","パナマ","北米",{"v":4295.75,"d":"4,296"},0,{"v":3305.75,"d":"3,306"},990]
["H25","和歌山",30001,"和歌山下津","甲種港湾","国際拠点港湾","輸出","韓国","アジア",{"v":2788,"d":"2,788"},0,575,{"v":2213,"d":"2,213"}]
["H25","京都",26001,"舞鶴","甲種港湾","重要港湾","輸入","韓国","アジア",{"v":2643,"d":"2,643"},0,{"v":2260,"d":"2,260"},383]
["H25","京都",26001,"舞鶴","甲種港湾","重要港湾","輸入","中国","アジア",{"v":1888,"d":"1,888"},0,{"v":1878,"d":"1,878"},10]
["H25","大阪",27002,"堺泉北","甲種港湾","国際拠点港湾","輸入","中国","アジア",{"v":12801,"d":"12,801"},0,{"v":12251,"d":"12,251"},550]
["H25","大阪",27001,"大阪","甲種港湾","国際戦略港湾","輸入","韓国","アジア",{"v":118476,"d":"118,476"},0,{"v":113498.8,"d":"113,499"},{"v":4977.2,"d":"4,977"}]
["H25","大阪",27001,"大阪","甲種港湾","国際戦略港湾","輸入","台湾","アジア",{"v":81304,"d":"81,304"},0,{"v":81043,"d":"81,043"},261]
["H25","大阪",27001,"大阪","甲種港湾","国際戦略港湾","輸入","中国","アジア",{"v":647253.5,"d":"647,254"},66,{"v":632893.5,"d":"632,894"},{"v":14360,"d":"14,360"}]
["H25","大阪",27001,"大阪","甲種港湾","国際戦略港湾","輸入","香港","アジア",{"v":129237,"d":"129,237"},0,{"v":129096,"d":"129,096"},141]
["H25","大阪",27001,"大阪","甲種港湾","国際戦略港湾","輸入","インドネシア","アジア",{"v":13057,"d":"13,057"},0,{"v":13048,"d":"13,048"},9]
["H25","大阪",27001,"大阪","甲種港湾","国際戦略港湾","輸入","カンボジア","アジア",6,0,6,0]
["H25","大阪",27001,"大阪","甲種港湾","国際戦略港湾","輸入","シンガポール","アジア",{"v":43575,"d":"43,575"},0,{"v":43418,"d":"43,418"},157]
["H25","大阪",27001,"大阪","甲種港湾","国際戦略港湾","輸入","タイ","アジア",{"v":62013,"d":"62,013"},0,{"v":61753,"d":"61,753"},260]
["H25","大阪",27001,"大阪","甲種港湾","国際戦略港湾","輸入","フィリピン","アジア",{"v":9644,"d":"9,644"},0,{"v":9602,"d":"9,602"},42]
["H25","大阪",27001,"大阪","甲種港湾","国際戦略港湾","輸入","マレーシア","アジア",{"v":21037,"d":"21,037"},0,{"v":21035,"d":"21,035"},2]
["H25","大阪",27001,"大阪","甲種港湾","国際戦略港湾","輸入","ベトナム","アジア",{"v":25586,"d":"25,586"},0,{"v":25567,"d":"25,567"},19]
["H25","大阪",27001,"大阪","甲種港湾","国際戦略港湾","輸入","オーストラリア","オセアニア",{"v":26040,"d":"26,040"},0,{"v":24518,"d":"24,518"},{"v":1522,"d":"1,522"}]
["H25","大阪",27001,"大阪","甲種港湾","国際戦略港湾","輸入","アメリカ合衆国","北米",{"v":23639,"d":"23,639"},0,{"v":22829,"d":"22,829"},810]
["H25","大阪",27001,"大阪","甲種港湾","国際戦略港湾","輸入","カナダ","北米",{"v":10428,"d":"10,428"},0,{"v":10139,"d":"10,139"},289]
["H25","兵庫",28001,"神戸","甲種港湾","国際戦略港湾","輸入","韓国","アジア",{"v":73587.5,"d":"73,588"},{"v":382.5,"d":"383"},{"v":65533.5,"d":"65,534"},{"v":8054,"d":"8,054"}]
["H25","兵庫",28001,"神戸","甲種港湾","国際戦略港湾","輸入","台湾","アジア",{"v":62057.75,"d":"62,058"},{"v":619.75,"d":"620"},{"v":58553.75,"d":"58,554"},{"v":3504,"d":"3,504"}]
["H25","兵庫",28001,"神戸","甲種港湾","国際戦略港湾","輸入","中国","アジア",{"v":273967.75,"d":"273,968"},{"v":899.25,"d":"899"},{"v":260895.25,"d":"260,895"},{"v":13072.5,"d":"13,073"}]
["H25","兵庫",28001,"神戸","甲種港湾","国際戦略港湾","輸入","香港","アジア",{"v":61031.75,"d":"61,032"},{"v":283.75,"d":"284"},{"v":59291.75,"d":"59,292"},{"v":1740,"d":"1,740"}]
["H25","兵庫",28001,"神戸","甲種港湾","国際戦略港湾","輸入","インドネシア","アジア",{"v":5478,"d":"5,478"},2,{"v":5194,"d":"5,194"},284]
["H25","兵庫",28001,"神戸","甲種港湾","国際戦略港湾","輸入","シンガポール","アジア",{"v":65162,"d":"65,162"},46,{"v":63253,"d":"63,253"},{"v":1909,"d":"1,909"}]
["H25","兵庫",28001,"神戸","甲種港湾","国際戦略港湾","輸入","タイ","アジア",{"v":45481,"d":"45,481"},5,{"v":43739,"d":"43,739"},{"v":1742,"d":"1,742"}]
["H25","兵庫",28001,"神戸","甲種港湾","国際戦略港湾","輸入","フィリピン","アジア",{"v":6480,"d":"6,480"},0,{"v":3308,"d":"3,308"},{"v":3172,"d":"3,172"}]
["H25","兵庫",28001,"神戸","甲種港湾","国際戦略港湾","輸入","マレーシア","アジア",{"v":13004,"d":"13,004"},16,{"v":12888,"d":"12,888"},116]
["H25","兵庫",28001,"神戸","甲種港湾","国際戦略港湾","輸入","ベトナム","アジア",{"v":24576,"d":"24,576"},48,{"v":23877,"d":"23,877"},699]
["H25","兵庫",28001,"神戸","甲種港湾","国際戦略港湾","輸入","インド","アジア",560,0,542,18]
["H25","兵庫",28001,"神戸","甲種港湾","国際戦略港湾","輸入","スリランカ","アジア",{"v":1735,"d":"1,735"},0,{"v":1726,"d":"1,726"},9]
["H25","兵庫",28001,"神戸","甲種港湾","国際戦略港湾","輸入","オーストラリア","オセアニア",65,0,37,28]
["H25","兵庫",28001,"神戸","甲種港湾","国際戦略港湾","輸入","仏領ポリネシア","オセアニア",3,0,3,0]
["H25","兵庫",28001,"神戸","甲種港湾","国際戦略港湾","輸入","グアム","オセアニア",44,0,5,39]
["H25","兵庫",28001,"神戸","甲種港湾","国際戦略港湾","輸入","サモア独立国","オセアニア",2,0,0,2]
["H25","兵庫",28001,"神戸","甲種港湾","国際戦略港湾","輸入","ソロモン諸島","オセアニア",6,0,6,0]
["H25","兵庫",28001,"神戸","甲種港湾","国際戦略港湾","輸入","ニュージーランド","オセアニア",{"v":7125,"d":"7,125"},0,{"v":6820,"d":"6,820"},305]
["H25","兵庫",28001,"神戸","甲種港湾","国際戦略港湾","輸入","パプアニューギニア","オセアニア",11,0,11,0]
["H25","兵庫",28001,"神戸","甲種港湾","国際戦略港湾","輸入","フィジー","オセアニア",15,0,15,0]
["H25","兵庫",28001,"神戸","甲種港湾","国際戦略港湾","輸入","バヌアツ","オセアニア",25,0,21,4]
["H25","兵庫",28001,"神戸","甲種港湾","国際戦略港湾","輸入","ミクロネシア","オセアニア",18,0,0,18]
["H25","兵庫",28001,"神戸","甲種港湾","国際戦略港湾","輸入","北マリアナ諸島","オセアニア",3,0,0,3]
["H25","兵庫",28001,"神戸","甲種港湾","国際戦略港湾","輸入","パラオ","オセアニア",11,0,0,11]
["H25","兵庫",28001,"神戸","甲種港湾","国際戦略港湾","輸入","南アフリカ","アフリカ",2,0,2,0]
["H25","兵庫",28001,"神戸","甲種港湾","国際戦略港湾","輸入","イギリス","ヨーロッパ",{"v":10240,"d":"10,240"},116,{"v":9656,"d":"9,656"},584]
["H25","兵庫",28001,"神戸","甲種港湾","国際戦略港湾","輸入","オランダ","ヨーロッパ",{"v":30723,"d":"30,723"},120,{"v":30447,"d":"30,447"},276]
["H25","兵庫",28001,"神戸","甲種港湾","国際戦略港湾","輸入","ドイツ","ヨーロッパ",{"v":52137.75,"d":"52,138"},158,{"v":51565.75,"d":"51,566"},572]
["H25","兵庫",28001,"神戸","甲種港湾","国際戦略港湾","輸入","フランス","ヨーロッパ",{"v":7123,"d":"7,123"},164,{"v":6976,"d":"6,976"},147]
["H25","兵庫",28001,"神戸","甲種港湾","国際戦略港湾","輸入","ベルギー","ヨーロッパ",{"v":2520,"d":"2,520"},0,{"v":2175,"d":"2,175"},345]
["H25","兵庫",28001,"神戸","甲種港湾","国際戦略港湾","輸入","ロシア","ヨーロッパ",{"v":1863,"d":"1,863"},0,283,{"v":1580,"d":"1,580"}]
["H25","兵庫",28001,"神戸","甲種港湾","国際戦略港湾","輸入","アメリカ合衆国","北米",{"v":169813.75,"d":"169,814"},{"v":3190.75,"d":"3,191"},{"v":148298,"d":"148,298"},{"v":21515.75,"d":"21,516"}]
["H25","兵庫",28001,"神戸","甲種港湾","国際戦略港湾","輸入","カナダ","北米",{"v":25706.75,"d":"25,707"},88,{"v":24756.75,"d":"24,757"},950]
["H25","兵庫",28001,"神戸","甲種港湾","国際戦略港湾","輸入","パナマ","北米",{"v":9866.25,"d":"9,866"},{"v":2231.25,"d":"2,231"},{"v":2344,"d":"2,344"},{"v":7522.25,"d":"7,522"}]
["H25","兵庫",28001,"神戸","甲種港湾","国際戦略港湾","輸入","アルゼンチン","南米",41,0,41,0]
["H25","兵庫",28001,"神戸","甲種港湾","国際戦略港湾","輸入","ブラジル","南米",61,44,61,0]
["H25","和歌山",30001,"和歌山下津","甲種港湾","国際拠点港湾","輸入","韓国","アジア",{"v":3520,"d":"3,520"},0,{"v":3328,"d":"3,328"},192]
["H26",{"$f":"IF(D1674=\"\",\"\",VLOOKUP(D1674,#REF!,2,0))","v":{"$error":"#REF!"}},{"$f":"IF(D1674=\"\",\"\",VLOOKUP(D1674,#REF!,3,0))","v":{"$error":"#REF!"}},"舞鶴",{"$f":"IF(D1674=\"\",\"\",VLOOKUP(D1674,#REF!,4,0))","v":{"$error":"#REF!"}},{"$f":"IF(C1674=\"\",\"\",VLOOKUP(D1674,#REF!,5,0))","v":{"$error":"#REF!"}},"輸出","韓国",{"$f":"IF(H1674=\"\",\"\",VLOOKUP(H1674,#REF!,2,0))","v":{"$error":"#REF!"}},{"v":3392,"d":"3,392"},null,{"v":2108,"d":"2,108"},{"v":1284,"d":"1,284"}]
["H26",{"$f":"IF(D1675=\"\",\"\",VLOOKUP(D1675,#REF!,2,0))","v":{"$error":"#REF!"}},{"$f":"IF(D1675=\"\",\"\",VLOOKUP(D1675,#REF!,3,0))","v":{"$error":"#REF!"}},"舞鶴",{"$f":"IF(D1675=\"\",\"\",VLOOKUP(D1675,#REF!,4,0))","v":{"$error":"#REF!"}},{"$f":"IF(C1675=\"\",\"\",VLOOKUP(D1675,#REF!,5,0))","v":{"$error":"#REF!"}},"輸出","中国",{"$f":"IF(H1675=\"\",\"\",VLOOKUP(H1675,#REF!,2,0))","v":{"$error":"#REF!"}},{"v":2508,"d":"2,508"},null,{"v":1445,"d":"1,445"},{"v":1063,"d":"1,063"}]
["H26",{"$f":"IF(D1676=\"\",\"\",VLOOKUP(D1676,#REF!,2,0))","v":{"$error":"#REF!"}},{"$f":"IF(D1676=\"\",\"\",VLOOKUP(D1676,#REF!,3,0))","v":{"$error":"#REF!"}},"堺泉北",{"$f":"IF(D1676=\"\",\"\",VLOOKUP(D1676,#REF!,4,0))","v":{"$error":"#REF!"}},{"$f":"IF(C1676=\"\",\"\",VLOOKUP(D1676,#REF!,5,0))","v":{"$error":"#REF!"}},"輸出","中国",{"$f":"IF(H1676=\"\",\"\",VLOOKUP(H1676,#REF!,2,0))","v":{"$error":"#REF!"}},{"v":11183,"d":"11,183"},null,447,{"v":10736,"d":"10,736"}]
["H26",{"$f":"IF(D1677=\"\",\"\",VLOOKUP(D1677,#REF!,2,0))","v":{"$error":"#REF!"}},{"$f":"IF(D1677=\"\",\"\",VLOOKUP(D1677,#REF!,3,0))","v":{"$error":"#REF!"}},"大阪",{"$f":"IF(D1677=\"\",\"\",VLOOKUP(D1677,#REF!,4,0))","v":{"$error":"#REF!"}},{"$f":"IF(C1677=\"\",\"\",VLOOKUP(D1677,#REF!,5,0))","v":{"$error":"#REF!"}},"輸出","韓国",{"$f":"IF(H1677=\"\",\"\",VLOOKUP(H1677,#REF!,2,0))","v":{"$error":"#REF!"}},{"v":151818.8,"d":"151,819"},null,{"v":76443.6,"d":"76,444"},{"v":75375.2,"d":"75,375"}]
["H26",{"$f":"IF(D1678=\"\",\"\",VLOOKUP(D1678,#REF!,2,0))","v":{"$error":"#REF!"}},{"$f":"IF(D1678=\"\",\"\",VLOOKUP(D1678,#REF!,3,0))","v":{"$error":"#REF!"}},"大阪",{"$f":"IF(D1678=\"\",\"\",VLOOKUP(D1678,#REF!,4,0))","v":{"$error":"#REF!"}},{"$f":"IF(C1678=\"\",\"\",VLOOKUP(D1678,#REF!,5,0))","v":{"$error":"#REF!"}},"輸出","台湾",{"$f":"IF(H1678=\"\",\"\",VLOOKUP(H1678,#REF!,2,0))","v":{"$error":"#REF!"}},{"v":88934,"d":"88,934"},null,{"v":59012,"d":"59,012"},{"v":29922,"d":"29,922"}]
["H26",{"$f":"IF(D1679=\"\",\"\",VLOOKUP(D1679,#REF!,2,0))","v":{"$error":"#REF!"}},{"$f":"IF(D1679=\"\",\"\",VLOOKUP(D1679,#REF!,3,0))","v":{"$error":"#REF!"}},"大阪",{"$f":"IF(D1679=\"\",\"\",VLOOKUP(D1679,#REF!,4,0))","v":{"$error":"#REF!"}},{"$f":"IF(C1679=\"\",\"\",VLOOKUP(D1679,#REF!,5,0))","v":{"$error":"#REF!"}},"輸出","中国",{"$f":"IF(H1679=\"\",\"\",VLOOKUP(H1679,#REF!,2,0))","v":{"$error":"#REF!"}},{"v":593431,"d":"593,431"},36,{"v":131244.5,"d":"131,245"},{"v":462222.5,"d":"462,223"}]
["H26",{"$f":"IF(D1680=\"\",\"\",VLOOKUP(D1680,#REF!,2,0))","v":{"$error":"#REF!"}},{"$f":"IF(D1680=\"\",\"\",VLOOKUP(D1680,#REF!,3,0))","v":{"$error":"#REF!"}},"大阪",{"$f":"IF(D1680=\"\",\"\",VLOOKUP(D1680,#REF!,4,0))","v":{"$error":"#REF!"}},{"$f":"IF(C1680=\"\",\"\",VLOOKUP(D1680,#REF!,5,0))","v":{"$error":"#REF!"}},"輸出","香港",{"$f":"IF(H1680=\"\",\"\",VLOOKUP(H1680,#REF!,2,0))","v":{"$error":"#REF!"}},{"v":65657,"d":"65,657"},null,{"v":44694,"d":"44,694"},{"v":20963,"d":"20,963"}]
["H26",{"$f":"IF(D1681=\"\",\"\",VLOOKUP(D1681,#REF!,2,0))","v":{"$error":"#REF!"}},{"$f":"IF(D1681=\"\",\"\",VLOOKUP(D1681,#REF!,3,0))","v":{"$error":"#REF!"}},"大阪",{"$f":"IF(D1681=\"\",\"\",VLOOKUP(D1681,#REF!,4,0))","v":{"$error":"#REF!"}},{"$f":"IF(C1681=\"\",\"\",VLOOKUP(D1681,#REF!,5,0))","v":{"$error":"#REF!"}},"輸出","インドネシア",{"$f":"IF(H1681=\"\",\"\",VLOOKUP(H1681,#REF!,2,0))","v":{"$error":"#REF!"}},871,null,871,0]
["H26",{"$f":"IF(D1682=\"\",\"\",VLOOKUP(D1682,#REF!,2,0))","v":{"$error":"#REF!"}},{"$f":"IF(D1682=\"\",\"\",VLOOKUP(D1682,#REF!,3,0))","v":{"$error":"#REF!"}},"大阪",{"$f":"IF(D1682=\"\",\"\",VLOOKUP(D1682,#REF!,4,0))","v":{"$error":"#REF!"}},{"$f":"IF(C1682=\"\",\"\",VLOOKUP(D1682,#REF!,5,0))","v":{"$error":"#REF!"}},"輸出","カンボジア",{"$f":"IF(H1682=\"\",\"\",VLOOKUP(H1682,#REF!,2,0))","v":{"$error":"#REF!"}},236,null,236,0]
["H26",{"$f":"IF(D1683=\"\",\"\",VLOOKUP(D1683,#REF!,2,0))","v":{"$error":"#REF!"}},{"$f":"IF(D1683=\"\",\"\",VLOOKUP(D1683,#REF!,3,0))","v":{"$error":"#REF!"}},"大阪",{"$f":"IF(D1683=\"\",\"\",VLOOKUP(D1683,#REF!,4,0))","v":{"$error":"#REF!"}},{"$f":"IF(C1683=\"\",\"\",VLOOKUP(D1683,#REF!,5,0))","v":{"$error":"#REF!"}},"輸出","シンガポール",{"$f":"IF(H1683=\"\",\"\",VLOOKUP(H1683,#REF!,2,0))","v":{"$error":"#REF!"}},{"v":20281,"d":"20,281"},null,{"v":19856,"d":"19,856"},425]
["H26",{"$f":"IF(D1684=\"\",\"\",VLOOKUP(D1684,#REF!,2,0))","v":{"$error":"#REF!"}},{"$f":"IF(D1684=\"\",\"\",VLOOKUP(D1684,#REF!,3,0))","v":{"$error":"#REF!"}},"大阪",{"$f":"IF(D1684=\"\",\"\",VLOOKUP(D1684,#REF!,4,0))","v":{"$error":"#REF!"}},{"$f":"IF(C1684=\"\",\"\",VLOOKUP(D1684,#REF!,5,0))","v":{"$error":"#REF!"}},"輸出","タイ",{"$f":"IF(H1684=\"\",\"\",VLOOKUP(H1684,#REF!,2,0))","v":{"$error":"#REF!"}},{"v":29501,"d":"29,501"},null,{"v":23384,"d":"23,384"},{"v":6117,"d":"6,117"}]
["H26",{"$f":"IF(D1685=\"\",\"\",VLOOKUP(D1685,#REF!,2,0))","v":{"$error":"#REF!"}},{"$f":"IF(D1685=\"\",\"\",VLOOKUP(D1685,#REF!,3,0))","v":{"$error":"#REF!"}},"大阪",{"$f":"IF(D1685=\"\",\"\",VLOOKUP(D1685,#REF!,4,0))","v":{"$error":"#REF!"}},{"$f":"IF(C1685=\"\",\"\",VLOOKUP(D1685,#REF!,5,0))","v":{"$error":"#REF!"}},"輸出","フィリピン",{"$f":"IF(H1685=\"\",\"\",VLOOKUP(H1685,#REF!,2,0))","v":{"$error":"#REF!"}},{"v":2638,"d":"2,638"},null,{"v":2635,"d":"2,635"},3]
["H26",{"$f":"IF(D1686=\"\",\"\",VLOOKUP(D1686,#REF!,2,0))","v":{"$error":"#REF!"}},{"$f":"IF(D1686=\"\",\"\",VLOOKUP(D1686,#REF!,3,0))","v":{"$error":"#REF!"}},"大阪",{"$f":"IF(D1686=\"\",\"\",VLOOKUP(D1686,#REF!,4,0))","v":{"$error":"#REF!"}},{"$f":"IF(C1686=\"\",\"\",VLOOKUP(D1686,#REF!,5,0))","v":{"$error":"#REF!"}},"輸出","マレーシア",{"$f":"IF(H1686=\"\",\"\",VLOOKUP(H1686,#REF!,2,0))","v":{"$error":"#REF!"}},{"v":9573,"d":"9,573"},null,{"v":9501,"d":"9,501"},72]
["H26",{"$f":"IF(D1687=\"\",\"\",VLOOKUP(D1687,#REF!,2,0))","v":{"$error":"#REF!"}},{"$f":"IF(D1687=\"\",\"\",VLOOKUP(D1687,#REF!,3,0))","v":{"$error":"#REF!"}},"大阪",{"$f":"IF(D1687=\"\",\"\",VLOOKUP(D1687,#REF!,4,0))","v":{"$error":"#REF!"}},{"$f":"IF(C1687=\"\",\"\",VLOOKUP(D1687,#REF!,5,0))","v":{"$error":"#REF!"}},"輸出","ベトナム",{"$f":"IF(H1687=\"\",\"\",VLOOKUP(H1687,#REF!,2,0))","v":{"$error":"#REF!"}},{"v":11475,"d":"11,475"},null,{"v":10713,"d":"10,713"},762]
["H26",{"$f":"IF(D1688=\"\",\"\",VLOOKUP(D1688,#REF!,2,0))","v":{"$error":"#REF!"}},{"$f":"IF(D1688=\"\",\"\",VLOOKUP(D1688,#REF!,3,0))","v":{"$error":"#REF!"}},"大阪",{"$f":"IF(D1688=\"\",\"\",VLOOKUP(D1688,#REF!,4,0))","v":{"$error":"#REF!"}},{"$f":"IF(C1688=\"\",\"\",VLOOKUP(D1688,#REF!,5,0))","v":{"$error":"#REF!"}},"輸出","スリランカ",{"$f":"IF(H1688=\"\",\"\",VLOOKUP(H1688,#REF!,2,0))","v":{"$error":"#REF!"}},7,null,7,0]
["H26",{"$f":"IF(D1689=\"\",\"\",VLOOKUP(D1689,#REF!,2,0))","v":{"$error":"#REF!"}},{"$f":"IF(D1689=\"\",\"\",VLOOKUP(D1689,#REF!,3,0))","v":{"$error":"#REF!"}},"大阪",{"$f":"IF(D1689=\"\",\"\",VLOOKUP(D1689,#REF!,4,0))","v":{"$error":"#REF!"}},{"$f":"IF(C1689=\"\",\"\",VLOOKUP(D1689,#REF!,5,0))","v":{"$error":"#REF!"}},"輸出","イスラエル",{"$f":"IF(H1689=\"\",\"\",VLOOKUP(H1689,#REF!,2,0))","v":{"$error":"#REF!"}},171,null,171,0]
["H26",{"$f":"IF(D1690=\"\",\"\",VLOOKUP(D1690,#REF!,2,0))","v":{"$error":"#REF!"}},{"$f":"IF(D1690=\"\",\"\",VLOOKUP(D1690,#REF!,3,0))","v":{"$error":"#REF!"}},"大阪",{"$f":"IF(D1690=\"\",\"\",VLOOKUP(D1690,#REF!,4,0))","v":{"$error":"#REF!"}},{"$f":"IF(C1690=\"\",\"\",VLOOKUP(D1690,#REF!,5,0))","v":{"$error":"#REF!"}},"輸出","オーストラリア",{"$f":"IF(H1690=\"\",\"\",VLOOKUP(H1690,#REF!,2,0))","v":{"$error":"#REF!"}},{"v":6830,"d":"6,830"},null,{"v":4288,"d":"4,288"},{"v":2542,"d":"2,542"}]
["H26",{"$f":"IF(D1691=\"\",\"\",VLOOKUP(D1691,#REF!,2,0))","v":{"$error":"#REF!"}},{"$f":"IF(D1691=\"\",\"\",VLOOKUP(D1691,#REF!,3,0))","v":{"$error":"#REF!"}},"大阪",{"$f":"IF(D1691=\"\",\"\",VLOOKUP(D1691,#REF!,4,0))","v":{"$error":"#REF!"}},{"$f":"IF(C1691=\"\",\"\",VLOOKUP(D1691,#REF!,5,0))","v":{"$error":"#REF!"}},"輸出","エジプト",{"$f":"IF(H1691=\"\",\"\",VLOOKUP(H1691,#REF!,2,0))","v":{"$error":"#REF!"}},213,null,213,0]
["H26",{"$f":"IF(D1692=\"\",\"\",VLOOKUP(D1692,#REF!,2,0))","v":{"$error":"#REF!"}},{"$f":"IF(D1692=\"\",\"\",VLOOKUP(D1692,#REF!,3,0))","v":{"$error":"#REF!"}},"大阪",{"$f":"IF(D1692=\"\",\"\",VLOOKUP(D1692,#REF!,4,0))","v":{"$error":"#REF!"}},{"$f":"IF(C1692=\"\",\"\",VLOOKUP(D1692,#REF!,5,0))","v":{"$error":"#REF!"}},"輸出","イタリア",{"$f":"IF(H1692=\"\",\"\",VLOOKUP(H1692,#REF!,2,0))","v":{"$error":"#REF!"}},137,null,137,0]
["H26",{"$f":"IF(D1693=\"\",\"\",VLOOKUP(D1693,#REF!,2,0))","v":{"$error":"#REF!"}},{"$f":"IF(D1693=\"\",\"\",VLOOKUP(D1693,#REF!,3,0))","v":{"$error":"#REF!"}},"大阪",{"$f":"IF(D1693=\"\",\"\",VLOOKUP(D1693,#REF!,4,0))","v":{"$error":"#REF!"}},{"$f":"IF(C1693=\"\",\"\",VLOOKUP(D1693,#REF!,5,0))","v":{"$error":"#REF!"}},"輸出","スロベニア",{"$f":"IF(H1693=\"\",\"\",VLOOKUP(H1693,#REF!,2,0))","v":{"$error":"#REF!"}},57,null,57,0]
["H26",{"$f":"IF(D1694=\"\",\"\",VLOOKUP(D1694,#REF!,2,0))","v":{"$error":"#REF!"}},{"$f":"IF(D1694=\"\",\"\",VLOOKUP(D1694,#REF!,3,0))","v":{"$error":"#REF!"}},"大阪",{"$f":"IF(D1694=\"\",\"\",VLOOKUP(D1694,#REF!,4,0))","v":{"$error":"#REF!"}},{"$f":"IF(C1694=\"\",\"\",VLOOKUP(D1694,#REF!,5,0))","v":{"$error":"#REF!"}},"輸出","アメリカ合衆国",{"$f":"IF(H1694=\"\",\"\",VLOOKUP(H1694,#REF!,2,0))","v":{"$error":"#REF!"}},{"v":4067,"d":"4,067"},null,{"v":4053,"d":"4,053"},14]
["H26",{"$f":"IF(D1695=\"\",\"\",VLOOKUP(D1695,#REF!,2,0))","v":{"$error":"#REF!"}},{"$f":"IF(D1695=\"\",\"\",VLOOKUP(D1695,#REF!,3,0))","v":{"$error":"#REF!"}},"大阪",{"$f":"IF(D1695=\"\",\"\",VLOOKUP(D1695,#REF!,4,0))","v":{"$error":"#REF!"}},{"$f":"IF(C1695=\"\",\"\",VLOOKUP(D1695,#REF!,5,0))","v":{"$error":"#REF!"}},"輸出","カナダ",{"$f":"IF(H1695=\"\",\"\",VLOOKUP(H1695,#REF!,2,0))","v":{"$error":"#REF!"}},{"v":2474,"d":"2,474"},null,{"v":2410,"d":"2,410"},64]
["H26",{"$f":"IF(D1696=\"\",\"\",VLOOKUP(D1696,#REF!,2,0))","v":{"$error":"#REF!"}},{"$f":"IF(D1696=\"\",\"\",VLOOKUP(D1696,#REF!,3,0))","v":{"$error":"#REF!"}},"神戸",{"$f":"IF(D1696=\"\",\"\",VLOOKUP(D1696,#REF!,4,0))","v":{"$error":"#REF!"}},{"$f":"IF(C1696=\"\",\"\",VLOOKUP(D1696,#REF!,5,0))","v":{"$error":"#REF!"}},"輸出","韓国",{"$f":"IF(H1696=\"\",\"\",VLOOKUP(H1696,#REF!,2,0))","v":{"$error":"#REF!"}},{"v":88861,"d":"88,861"},null,{"v":68082,"d":"68,082"},{"v":20779,"d":"20,779"}]
["H26",{"$f":"IF(D1697=\"\",\"\",VLOOKUP(D1697,#REF!,2,0))","v":{"$error":"#REF!"}},{"$f":"IF(D1697=\"\",\"\",VLOOKUP(D1697,#REF!,3,0))","v":{"$error":"#REF!"}},"神戸",{"$f":"IF(D1697=\"\",\"\",VLOOKUP(D1697,#REF!,4,0))","v":{"$error":"#REF!"}},{"$f":"IF(C1697=\"\",\"\",VLOOKUP(D1697,#REF!,5,0))","v":{"$error":"#REF!"}},"輸出","台湾",{"$f":"IF(H1697=\"\",\"\",VLOOKUP(H1697,#REF!,2,0))","v":{"$error":"#REF!"}},{"v":133579.75,"d":"133,580"},null,{"v":121865.5,"d":"121,866"},{"v":11714.25,"d":"11,714"}]
["H26",{"$f":"IF(D1698=\"\",\"\",VLOOKUP(D1698,#REF!,2,0))","v":{"$error":"#REF!"}},{"$f":"IF(D1698=\"\",\"\",VLOOKUP(D1698,#REF!,3,0))","v":{"$error":"#REF!"}},"神戸",{"$f":"IF(D1698=\"\",\"\",VLOOKUP(D1698,#REF!,4,0))","v":{"$error":"#REF!"}},{"$f":"IF(C1698=\"\",\"\",VLOOKUP(D1698,#REF!,5,0))","v":{"$error":"#REF!"}},"輸出","中国",{"$f":"IF(H1698=\"\",\"\",VLOOKUP(H1698,#REF!,2,0))","v":{"$error":"#REF!"}},{"v":357826,"d":"357,826"},null,{"v":222321,"d":"222,321"},{"v":135505,"d":"135,505"}]
["H26",{"$f":"IF(D1699=\"\",\"\",VLOOKUP(D1699,#REF!,2,0))","v":{"$error":"#REF!"}},{"$f":"IF(D1699=\"\",\"\",VLOOKUP(D1699,#REF!,3,0))","v":{"$error":"#REF!"}},"神戸",{"$f":"IF(D1699=\"\",\"\",VLOOKUP(D1699,#REF!,4,0))","v":{"$error":"#REF!"}},{"$f":"IF(C1699=\"\",\"\",VLOOKUP(D1699,#REF!,5,0))","v":{"$error":"#REF!"}},"輸出","香港",{"$f":"IF(H1699=\"\",\"\",VLOOKUP(H1699,#REF!,2,0))","v":{"$error":"#REF!"}},{"v":96629.25,"d":"96,629"},null,{"v":87773.25,"d":"87,773"},{"v":8856,"d":"8,856"}]
["H26",{"$f":"IF(D1700=\"\",\"\",VLOOKUP(D1700,#REF!,2,0))","v":{"$error":"#REF!"}},{"$f":"IF(D1700=\"\",\"\",VLOOKUP(D1700,#REF!,3,0))","v":{"$error":"#REF!"}},"神戸",{"$f":"IF(D1700=\"\",\"\",VLOOKUP(D1700,#REF!,4,0))","v":{"$error":"#REF!"}},{"$f":"IF(C1700=\"\",\"\",VLOOKUP(D1700,#REF!,5,0))","v":{"$error":"#REF!"}},"輸出","インドネシア",{"$f":"IF(H1700=\"\",\"\",VLOOKUP(H1700,#REF!,2,0))","v":{"$error":"#REF!"}},{"v":22727,"d":"22,727"},null,{"v":22606,"d":"22,606"},121]
["H26",{"$f":"IF(D1701=\"\",\"\",VLOOKUP(D1701,#REF!,2,0))","v":{"$error":"#REF!"}},{"$f":"IF(D1701=\"\",\"\",VLOOKUP(D1701,#REF!,3,0))","v":{"$error":"#REF!"}},"神戸",{"$f":"IF(D1701=\"\",\"\",VLOOKUP(D1701,#REF!,4,0))","v":{"$error":"#REF!"}},{"$f":"IF(C1701=\"\",\"\",VLOOKUP(D1701,#REF!,5,0))","v":{"$error":"#REF!"}},"輸出","カンボジア",{"$f":"IF(H1701=\"\",\"\",VLOOKUP(H1701,#REF!,2,0))","v":{"$error":"#REF!"}},152,null,151,1]
["H26",{"$f":"IF(D1702=\"\",\"\",VLOOKUP(D1702,#REF!,2,0))","v":{"$error":"#REF!"}},{"$f":"IF(D1702=\"\",\"\",VLOOKUP(D1702,#REF!,3,0))","v":{"$error":"#REF!"}},"神戸",{"$f":"IF(D1702=\"\",\"\",VLOOKUP(D1702,#REF!,4,0))","v":{"$error":"#REF!"}},{"$f":"IF(C1702=\"\",\"\",VLOOKUP(D1702,#REF!,5,0))","v":{"$error":"#REF!"}},"輸出","シンガポール",{"$f":"IF(H1702=\"\",\"\",VLOOKUP(H1702,#REF!,2,0))","v":{"$error":"#REF!"}},{"v":77263,"d":"77,263"},null,{"v":75189,"d":"75,189"},{"v":2074,"d":"2,074"}]
["H26",{"$f":"IF(D1703=\"\",\"\",VLOOKUP(D1703,#REF!,2,0))","v":{"$error":"#REF!"}},{"$f":"IF(D1703=\"\",\"\",VLOOKUP(D1703,#REF!,3,0))","v":{"$error":"#REF!"}},"神戸",{"$f":"IF(D1703=\"\",\"\",VLOOKUP(D1703,#REF!,4,0))","v":{"$error":"#REF!"}},{"$f":"IF(C1703=\"\",\"\",VLOOKUP(D1703,#REF!,5,0))","v":{"$error":"#REF!"}},"輸出","タイ",{"$f":"IF(H1703=\"\",\"\",VLOOKUP(H1703,#REF!,2,0))","v":{"$error":"#REF!"}},{"v":75116.5,"d":"75,117"},null,{"v":68467,"d":"68,467"},{"v":6649.5,"d":"6,650"}]
["H26",{"$f":"IF(D1704=\"\",\"\",VLOOKUP(D1704,#REF!,2,0))","v":{"$error":"#REF!"}},{"$f":"IF(D1704=\"\",\"\",VLOOKUP(D1704,#REF!,3,0))","v":{"$error":"#REF!"}},"神戸",{"$f":"IF(D1704=\"\",\"\",VLOOKUP(D1704,#REF!,4,0))","v":{"$error":"#REF!"}},{"$f":"IF(C1704=\"\",\"\",VLOOKUP(D1704,#REF!,5,0))","v":{"$error":"#REF!"}},"輸出","フィリピン",{"$f":"IF(H1704=\"\",\"\",VLOOKUP(H1704,#REF!,2,0))","v":{"$error":"#REF!"}},{"v":12831,"d":"12,831"},null,{"v":9572,"d":"9,572"},{"v":3259,"d":"3,259"}]
["H26",{"$f":"IF(D1705=\"\",\"\",VLOOKUP(D1705,#REF!,2,0))","v":{"$error":"#REF!"}},{"$f":"IF(D1705=\"\",\"\",VLOOKUP(D1705,#REF!,3,0))","v":{"$error":"#REF!"}},"神戸",{"$f":"IF(D1705=\"\",\"\",VLOOKUP(D1705,#REF!,4,0))","v":{"$error":"#REF!"}},{"$f":"IF(C1705=\"\",\"\",VLOOKUP(D1705,#REF!,5,0))","v":{"$error":"#REF!"}},"輸出","マレーシア",{"$f":"IF(H1705=\"\",\"\",VLOOKUP(H1705,#REF!,2,0))","v":{"$error":"#REF!"}},{"v":40581,"d":"40,581"},null,{"v":40265,"d":"40,265"},316]
["H26",{"$f":"IF(D1706=\"\",\"\",VLOOKUP(D1706,#REF!,2,0))","v":{"$error":"#REF!"}},{"$f":"IF(D1706=\"\",\"\",VLOOKUP(D1706,#REF!,3,0))","v":{"$error":"#REF!"}},"神戸",{"$f":"IF(D1706=\"\",\"\",VLOOKUP(D1706,#REF!,4,0))","v":{"$error":"#REF!"}},{"$f":"IF(C1706=\"\",\"\",VLOOKUP(D1706,#REF!,5,0))","v":{"$error":"#REF!"}},"輸出","ベトナム",{"$f":"IF(H1706=\"\",\"\",VLOOKUP(H1706,#REF!,2,0))","v":{"$error":"#REF!"}},{"v":37261,"d":"37,261"},null,{"v":28716,"d":"28,716"},{"v":8545,"d":"8,545"}]
["H26",{"$f":"IF(D1707=\"\",\"\",VLOOKUP(D1707,#REF!,2,0))","v":{"$error":"#REF!"}},{"$f":"IF(D1707=\"\",\"\",VLOOKUP(D1707,#REF!,3,0))","v":{"$error":"#REF!"}},"神戸",{"$f":"IF(D1707=\"\",\"\",VLOOKUP(D1707,#REF!,4,0))","v":{"$error":"#REF!"}},{"$f":"IF(C1707=\"\",\"\",VLOOKUP(D1707,#REF!,5,0))","v":{"$error":"#REF!"}},"輸出","サウジアラビア",{"$f":"IF(H1707=\"\",\"\",VLOOKUP(H1707,#REF!,2,0))","v":{"$error":"#REF!"}},991,null,987,4]
["H26",{"$f":"IF(D1708=\"\",\"\",VLOOKUP(D1708,#REF!,2,0))","v":{"$error":"#REF!"}},{"$f":"IF(D1708=\"\",\"\",VLOOKUP(D1708,#REF!,3,0))","v":{"$error":"#REF!"}},"神戸",{"$f":"IF(D1708=\"\",\"\",VLOOKUP(D1708,#REF!,4,0))","v":{"$error":"#REF!"}},{"$f":"IF(C1708=\"\",\"\",VLOOKUP(D1708,#REF!,5,0))","v":{"$error":"#REF!"}},"輸出","オーストラリア",{"$f":"IF(H1708=\"\",\"\",VLOOKUP(H1708,#REF!,2,0))","v":{"$error":"#REF!"}},681,null,260,421]
["H26",{"$f":"IF(D1709=\"\",\"\",VLOOKUP(D1709,#REF!,2,0))","v":{"$error":"#REF!"}},{"$f":"IF(D1709=\"\",\"\",VLOOKUP(D1709,#REF!,3,0))","v":{"$error":"#REF!"}},"神戸",{"$f":"IF(D1709=\"\",\"\",VLOOKUP(D1709,#REF!,4,0))","v":{"$error":"#REF!"}},{"$f":"IF(C1709=\"\",\"\",VLOOKUP(D1709,#REF!,5,0))","v":{"$error":"#REF!"}},"輸出","仏領ポリネシア",{"$f":"IF(H1709=\"\",\"\",VLOOKUP(H1709,#REF!,2,0))","v":{"$error":"#REF!"}},87,null,79,8]
["H26",{"$f":"IF(D1710=\"\",\"\",VLOOKUP(D1710,#REF!,2,0))","v":{"$error":"#REF!"}},{"$f":"IF(D1710=\"\",\"\",VLOOKUP(D1710,#REF!,3,0))","v":{"$error":"#REF!"}},"神戸",{"$f":"IF(D1710=\"\",\"\",VLOOKUP(D1710,#REF!,4,0))","v":{"$error":"#REF!"}},{"$f":"IF(C1710=\"\",\"\",VLOOKUP(D1710,#REF!,5,0))","v":{"$error":"#REF!"}},"輸出","グアム",{"$f":"IF(H1710=\"\",\"\",VLOOKUP(H1710,#REF!,2,0))","v":{"$error":"#REF!"}},85,null,82,3]
["H26",{"$f":"IF(D1711=\"\",\"\",VLOOKUP(D1711,#REF!,2,0))","v":{"$error":"#REF!"}},{"$f":"IF(D1711=\"\",\"\",VLOOKUP(D1711,#REF!,3,0))","v":{"$error":"#REF!"}},"神戸",{"$f":"IF(D1711=\"\",\"\",VLOOKUP(D1711,#REF!,4,0))","v":{"$error":"#REF!"}},{"$f":"IF(C1711=\"\",\"\",VLOOKUP(D1711,#REF!,5,0))","v":{"$error":"#REF!"}},"輸出","サモア独立国",{"$f":"IF(H1711=\"\",\"\",VLOOKUP(H1711,#REF!,2,0))","v":{"$error":"#REF!"}},66,null,66,0]
["H26",{"$f":"IF(D1712=\"\",\"\",VLOOKUP(D1712,#REF!,2,0))","v":{"$error":"#REF!"}},{"$f":"IF(D1712=\"\",\"\",VLOOKUP(D1712,#REF!,3,0))","v":{"$error":"#REF!"}},"神戸",{"$f":"IF(D1712=\"\",\"\",VLOOKUP(D1712,#REF!,4,0))","v":{"$error":"#REF!"}},{"$f":"IF(C1712=\"\",\"\",VLOOKUP(D1712,#REF!,5,0))","v":{"$error":"#REF!"}},"輸出","ソロモン諸島",{"$f":"IF(H1712=\"\",\"\",VLOOKUP(H1712,#REF!,2,0))","v":{"$error":"#REF!"}},16,null,16,0]
["H26",{"$f":"IF(D1713=\"\",\"\",VLOOKUP(D1713,#REF!,2,0))","v":{"$error":"#REF!"}},{"$f":"IF(D1713=\"\",\"\",VLOOKUP(D1713,#REF!,3,0))","v":{"$error":"#REF!"}},"神戸",{"$f":"IF(D1713=\"\",\"\",VLOOKUP(D1713,#REF!,4,0))","v":{"$error":"#REF!"}},{"$f":"IF(C1713=\"\",\"\",VLOOKUP(D1713,#REF!,5,0))","v":{"$error":"#REF!"}},"輸出","トンガ",{"$f":"IF(H1713=\"\",\"\",VLOOKUP(H1713,#REF!,2,0))","v":{"$error":"#REF!"}},11,null,11,0]
["H26",{"$f":"IF(D1714=\"\",\"\",VLOOKUP(D1714,#REF!,2,0))","v":{"$error":"#REF!"}},{"$f":"IF(D1714=\"\",\"\",VLOOKUP(D1714,#REF!,3,0))","v":{"$error":"#REF!"}},"神戸",{"$f":"IF(D1714=\"\",\"\",VLOOKUP(D1714,#REF!,4,0))","v":{"$error":"#REF!"}},{"$f":"IF(C1714=\"\",\"\",VLOOKUP(D1714,#REF!,5,0))","v":{"$error":"#REF!"}},"輸出","ニューカレドニア",{"$f":"IF(H1714=\"\",\"\",VLOOKUP(H1714,#REF!,2,0))","v":{"$error":"#REF!"}},79,null,79,0]
["H26",{"$f":"IF(D1715=\"\",\"\",VLOOKUP(D1715,#REF!,2,0))","v":{"$error":"#REF!"}},{"$f":"IF(D1715=\"\",\"\",VLOOKUP(D1715,#REF!,3,0))","v":{"$error":"#REF!"}},"神戸",{"$f":"IF(D1715=\"\",\"\",VLOOKUP(D1715,#REF!,4,0))","v":{"$error":"#REF!"}},{"$f":"IF(C1715=\"\",\"\",VLOOKUP(D1715,#REF!,5,0))","v":{"$error":"#REF!"}},"輸出","ニュージーランド",{"$f":"IF(H1715=\"\",\"\",VLOOKUP(H1715,#REF!,2,0))","v":{"$error":"#REF!"}},{"v":3359,"d":"3,359"},null,{"v":1345,"d":"1,345"},{"v":2014,"d":"2,014"}]
["H26",{"$f":"IF(D1716=\"\",\"\",VLOOKUP(D1716,#REF!,2,0))","v":{"$error":"#REF!"}},{"$f":"IF(D1716=\"\",\"\",VLOOKUP(D1716,#REF!,3,0))","v":{"$error":"#REF!"}},"神戸",{"$f":"IF(D1716=\"\",\"\",VLOOKUP(D1716,#REF!,4,0))","v":{"$error":"#REF!"}},{"$f":"IF(C1716=\"\",\"\",VLOOKUP(D1716,#REF!,5,0))","v":{"$error":"#REF!"}},"輸出","パプアニューギニア",{"$f":"IF(H1716=\"\",\"\",VLOOKUP(H1716,#REF!,2,0))","v":{"$error":"#REF!"}},27,null,26,1]
["H26",{"$f":"IF(D1717=\"\",\"\",VLOOKUP(D1717,#REF!,2,0))","v":{"$error":"#REF!"}},{"$f":"IF(D1717=\"\",\"\",VLOOKUP(D1717,#REF!,3,0))","v":{"$error":"#REF!"}},"神戸",{"$f":"IF(D1717=\"\",\"\",VLOOKUP(D1717,#REF!,4,0))","v":{"$error":"#REF!"}},{"$f":"IF(C1717=\"\",\"\",VLOOKUP(D1717,#REF!,5,0))","v":{"$error":"#REF!"}},"輸出","フィジー",{"$f":"IF(H1717=\"\",\"\",VLOOKUP(H1717,#REF!,2,0))","v":{"$error":"#REF!"}},24,null,24,0]
["H26",{"$f":"IF(D1718=\"\",\"\",VLOOKUP(D1718,#REF!,2,0))","v":{"$error":"#REF!"}},{"$f":"IF(D1718=\"\",\"\",VLOOKUP(D1718,#REF!,3,0))","v":{"$error":"#REF!"}},"神戸",{"$f":"IF(D1718=\"\",\"\",VLOOKUP(D1718,#REF!,4,0))","v":{"$error":"#REF!"}},{"$f":"IF(C1718=\"\",\"\",VLOOKUP(D1718,#REF!,5,0))","v":{"$error":"#REF!"}},"輸出","キリバス",{"$f":"IF(H1718=\"\",\"\",VLOOKUP(H1718,#REF!,2,0))","v":{"$error":"#REF!"}},5,null,5,0]
["H26",{"$f":"IF(D1719=\"\",\"\",VLOOKUP(D1719,#REF!,2,0))","v":{"$error":"#REF!"}},{"$f":"IF(D1719=\"\",\"\",VLOOKUP(D1719,#REF!,3,0))","v":{"$error":"#REF!"}},"神戸",{"$f":"IF(D1719=\"\",\"\",VLOOKUP(D1719,#REF!,4,0))","v":{"$error":"#REF!"}},{"$f":"IF(C1719=\"\",\"\",VLOOKUP(D1719,#REF!,5,0))","v":{"$error":"#REF!"}},"輸出","バヌアツ",{"$f":"IF(H1719=\"\",\"\",VLOOKUP(H1719,#REF!,2,0))","v":{"$error":"#REF!"}},6,null,2,4]
["H26",{"$f":"IF(D1720=\"\",\"\",VLOOKUP(D1720,#REF!,2,0))","v":{"$error":"#REF!"}},{"$f":"IF(D1720=\"\",\"\",VLOOKUP(D1720,#REF!,3,0))","v":{"$error":"#REF!"}},"神戸",{"$f":"IF(D1720=\"\",\"\",VLOOKUP(D1720,#REF!,4,0))","v":{"$error":"#REF!"}},{"$f":"IF(C1720=\"\",\"\",VLOOKUP(D1720,#REF!,5,0))","v":{"$error":"#REF!"}},"輸出","米領サモア",{"$f":"IF(H1720=\"\",\"\",VLOOKUP(H1720,#REF!,2,0))","v":{"$error":"#REF!"}},3,null,3,0]
["H26",{"$f":"IF(D1721=\"\",\"\",VLOOKUP(D1721,#REF!,2,0))","v":{"$error":"#REF!"}},{"$f":"IF(D1721=\"\",\"\",VLOOKUP(D1721,#REF!,3,0))","v":{"$error":"#REF!"}},"神戸",{"$f":"IF(D1721=\"\",\"\",VLOOKUP(D1721,#REF!,4,0))","v":{"$error":"#REF!"}},{"$f":"IF(C1721=\"\",\"\",VLOOKUP(D1721,#REF!,5,0))","v":{"$error":"#REF!"}},"輸出","ミクロネシア",{"$f":"IF(H1721=\"\",\"\",VLOOKUP(H1721,#REF!,2,0))","v":{"$error":"#REF!"}},56,null,43,13]
["H26",{"$f":"IF(D1722=\"\",\"\",VLOOKUP(D1722,#REF!,2,0))","v":{"$error":"#REF!"}},{"$f":"IF(D1722=\"\",\"\",VLOOKUP(D1722,#REF!,3,0))","v":{"$error":"#REF!"}},"神戸",{"$f":"IF(D1722=\"\",\"\",VLOOKUP(D1722,#REF!,4,0))","v":{"$error":"#REF!"}},{"$f":"IF(C1722=\"\",\"\",VLOOKUP(D1722,#REF!,5,0))","v":{"$error":"#REF!"}},"輸出","マーシャル諸島",{"$f":"IF(H1722=\"\",\"\",VLOOKUP(H1722,#REF!,2,0))","v":{"$error":"#REF!"}},17,null,17,0]
["H26",{"$f":"IF(D1723=\"\",\"\",VLOOKUP(D1723,#REF!,2,0))","v":{"$error":"#REF!"}},{"$f":"IF(D1723=\"\",\"\",VLOOKUP(D1723,#REF!,3,0))","v":{"$error":"#REF!"}},"神戸",{"$f":"IF(D1723=\"\",\"\",VLOOKUP(D1723,#REF!,4,0))","v":{"$error":"#REF!"}},{"$f":"IF(C1723=\"\",\"\",VLOOKUP(D1723,#REF!,5,0))","v":{"$error":"#REF!"}},"輸出","北マリアナ諸島",{"$f":"IF(H1723=\"\",\"\",VLOOKUP(H1723,#REF!,2,0))","v":{"$error":"#REF!"}},31,null,31,0]
["H26",{"$f":"IF(D1724=\"\",\"\",VLOOKUP(D1724,#REF!,2,0))","v":{"$error":"#REF!"}},{"$f":"IF(D1724=\"\",\"\",VLOOKUP(D1724,#REF!,3,0))","v":{"$error":"#REF!"}},"神戸",{"$f":"IF(D1724=\"\",\"\",VLOOKUP(D1724,#REF!,4,0))","v":{"$error":"#REF!"}},{"$f":"IF(C1724=\"\",\"\",VLOOKUP(D1724,#REF!,5,0))","v":{"$error":"#REF!"}},"輸出","パラオ",{"$f":"IF(H1724=\"\",\"\",VLOOKUP(H1724,#REF!,2,0))","v":{"$error":"#REF!"}},22,null,21,1]
["H26",{"$f":"IF(D1725=\"\",\"\",VLOOKUP(D1725,#REF!,2,0))","v":{"$error":"#REF!"}},{"$f":"IF(D1725=\"\",\"\",VLOOKUP(D1725,#REF!,3,0))","v":{"$error":"#REF!"}},"神戸",{"$f":"IF(D1725=\"\",\"\",VLOOKUP(D1725,#REF!,4,0))","v":{"$error":"#REF!"}},{"$f":"IF(C1725=\"\",\"\",VLOOKUP(D1725,#REF!,5,0))","v":{"$error":"#REF!"}},"輸出","南アフリカ",{"$f":"IF(H1725=\"\",\"\",VLOOKUP(H1725,#REF!,2,0))","v":{"$error":"#REF!"}},760,null,0,760]
["H26",{"$f":"IF(D1726=\"\",\"\",VLOOKUP(D1726,#REF!,2,0))","v":{"$error":"#REF!"}},{"$f":"IF(D1726=\"\",\"\",VLOOKUP(D1726,#REF!,3,0))","v":{"$error":"#REF!"}},"神戸",{"$f":"IF(D1726=\"\",\"\",VLOOKUP(D1726,#REF!,4,0))","v":{"$error":"#REF!"}},{"$f":"IF(C1726=\"\",\"\",VLOOKUP(D1726,#REF!,5,0))","v":{"$error":"#REF!"}},"輸出","ナイジェリア",{"$f":"IF(H1726=\"\",\"\",VLOOKUP(H1726,#REF!,2,0))","v":{"$error":"#REF!"}},100,null,100,0]
["H26",{"$f":"IF(D1727=\"\",\"\",VLOOKUP(D1727,#REF!,2,0))","v":{"$error":"#REF!"}},{"$f":"IF(D1727=\"\",\"\",VLOOKUP(D1727,#REF!,3,0))","v":{"$error":"#REF!"}},"神戸",{"$f":"IF(D1727=\"\",\"\",VLOOKUP(D1727,#REF!,4,0))","v":{"$error":"#REF!"}},{"$f":"IF(C1727=\"\",\"\",VLOOKUP(D1727,#REF!,5,0))","v":{"$error":"#REF!"}},"輸出","イギリス",{"$f":"IF(H1727=\"\",\"\",VLOOKUP(H1727,#REF!,2,0))","v":{"$error":"#REF!"}},{"v":3122,"d":"3,122"},null,{"v":3111,"d":"3,111"},11]
["H26",{"$f":"IF(D1728=\"\",\"\",VLOOKUP(D1728,#REF!,2,0))","v":{"$error":"#REF!"}},{"$f":"IF(D1728=\"\",\"\",VLOOKUP(D1728,#REF!,3,0))","v":{"$error":"#REF!"}},"神戸",{"$f":"IF(D1728=\"\",\"\",VLOOKUP(D1728,#REF!,4,0))","v":{"$error":"#REF!"}},{"$f":"IF(C1728=\"\",\"\",VLOOKUP(D1728,#REF!,5,0))","v":{"$error":"#REF!"}},"輸出","オランダ",{"$f":"IF(H1728=\"\",\"\",VLOOKUP(H1728,#REF!,2,0))","v":{"$error":"#REF!"}},{"v":16660,"d":"16,660"},null,{"v":16556,"d":"16,556"},104]
["H26",{"$f":"IF(D1729=\"\",\"\",VLOOKUP(D1729,#REF!,2,0))","v":{"$error":"#REF!"}},{"$f":"IF(D1729=\"\",\"\",VLOOKUP(D1729,#REF!,3,0))","v":{"$error":"#REF!"}},"神戸",{"$f":"IF(D1729=\"\",\"\",VLOOKUP(D1729,#REF!,4,0))","v":{"$error":"#REF!"}},{"$f":"IF(C1729=\"\",\"\",VLOOKUP(D1729,#REF!,5,0))","v":{"$error":"#REF!"}},"輸出","ドイツ",{"$f":"IF(H1729=\"\",\"\",VLOOKUP(H1729,#REF!,2,0))","v":{"$error":"#REF!"}},{"v":9930,"d":"9,930"},null,{"v":9667,"d":"9,667"},263]
["H26",{"$f":"IF(D1730=\"\",\"\",VLOOKUP(D1730,#REF!,2,0))","v":{"$error":"#REF!"}},{"$f":"IF(D1730=\"\",\"\",VLOOKUP(D1730,#REF!,3,0))","v":{"$error":"#REF!"}},"神戸",{"$f":"IF(D1730=\"\",\"\",VLOOKUP(D1730,#REF!,4,0))","v":{"$error":"#REF!"}},{"$f":"IF(C1730=\"\",\"\",VLOOKUP(D1730,#REF!,5,0))","v":{"$error":"#REF!"}},"輸出","フランス",{"$f":"IF(H1730=\"\",\"\",VLOOKUP(H1730,#REF!,2,0))","v":{"$error":"#REF!"}},{"v":1843,"d":"1,843"},null,{"v":1822,"d":"1,822"},21]
["H26",{"$f":"IF(D1731=\"\",\"\",VLOOKUP(D1731,#REF!,2,0))","v":{"$error":"#REF!"}},{"$f":"IF(D1731=\"\",\"\",VLOOKUP(D1731,#REF!,3,0))","v":{"$error":"#REF!"}},"神戸",{"$f":"IF(D1731=\"\",\"\",VLOOKUP(D1731,#REF!,4,0))","v":{"$error":"#REF!"}},{"$f":"IF(C1731=\"\",\"\",VLOOKUP(D1731,#REF!,5,0))","v":{"$error":"#REF!"}},"輸出","ベルギー",{"$f":"IF(H1731=\"\",\"\",VLOOKUP(H1731,#REF!,2,0))","v":{"$error":"#REF!"}},{"v":1707,"d":"1,707"},null,{"v":1707,"d":"1,707"},0]
["H26",{"$f":"IF(D1732=\"\",\"\",VLOOKUP(D1732,#REF!,2,0))","v":{"$error":"#REF!"}},{"$f":"IF(D1732=\"\",\"\",VLOOKUP(D1732,#REF!,3,0))","v":{"$error":"#REF!"}},"神戸",{"$f":"IF(D1732=\"\",\"\",VLOOKUP(D1732,#REF!,4,0))","v":{"$error":"#REF!"}},{"$f":"IF(C1732=\"\",\"\",VLOOKUP(D1732,#REF!,5,0))","v":{"$error":"#REF!"}},"輸出","ロシア",{"$f":"IF(H1732=\"\",\"\",VLOOKUP(H1732,#REF!,2,0))","v":{"$error":"#REF!"}},{"v":2028,"d":"2,028"},null,{"v":2028,"d":"2,028"},0]
["H26",{"$f":"IF(D1733=\"\",\"\",VLOOKUP(D1733,#REF!,2,0))","v":{"$error":"#REF!"}},{"$f":"IF(D1733=\"\",\"\",VLOOKUP(D1733,#REF!,3,0))","v":{"$error":"#REF!"}},"神戸",{"$f":"IF(D1733=\"\",\"\",VLOOKUP(D1733,#REF!,4,0))","v":{"$error":"#REF!"}},{"$f":"IF(C1733=\"\",\"\",VLOOKUP(D1733,#REF!,5,0))","v":{"$error":"#REF!"}},"輸出","アメリカ合衆国",{"$f":"IF(H1733=\"\",\"\",VLOOKUP(H1733,#REF!,2,0))","v":{"$error":"#REF!"}},{"v":107912.25,"d":"107,912"},null,{"v":102205.25,"d":"102,205"},{"v":5707,"d":"5,707"}]
["H26",{"$f":"IF(D1734=\"\",\"\",VLOOKUP(D1734,#REF!,2,0))","v":{"$error":"#REF!"}},{"$f":"IF(D1734=\"\",\"\",VLOOKUP(D1734,#REF!,3,0))","v":{"$error":"#REF!"}},"神戸",{"$f":"IF(D1734=\"\",\"\",VLOOKUP(D1734,#REF!,4,0))","v":{"$error":"#REF!"}},{"$f":"IF(C1734=\"\",\"\",VLOOKUP(D1734,#REF!,5,0))","v":{"$error":"#REF!"}},"輸出","カナダ",{"$f":"IF(H1734=\"\",\"\",VLOOKUP(H1734,#REF!,2,0))","v":{"$error":"#REF!"}},{"v":3677,"d":"3,677"},null,{"v":3623,"d":"3,623"},54]
["H26",{"$f":"IF(D1735=\"\",\"\",VLOOKUP(D1735,#REF!,2,0))","v":{"$error":"#REF!"}},{"$f":"IF(D1735=\"\",\"\",VLOOKUP(D1735,#REF!,3,0))","v":{"$error":"#REF!"}},"神戸",{"$f":"IF(D1735=\"\",\"\",VLOOKUP(D1735,#REF!,4,0))","v":{"$error":"#REF!"}},{"$f":"IF(C1735=\"\",\"\",VLOOKUP(D1735,#REF!,5,0))","v":{"$error":"#REF!"}},"輸出","コスタリカ",{"$f":"IF(H1735=\"\",\"\",VLOOKUP(H1735,#REF!,2,0))","v":{"$error":"#REF!"}},80,null,0,80]
["H26",{"$f":"IF(D1736=\"\",\"\",VLOOKUP(D1736,#REF!,2,0))","v":{"$error":"#REF!"}},{"$f":"IF(D1736=\"\",\"\",VLOOKUP(D1736,#REF!,3,0))","v":{"$error":"#REF!"}},"神戸",{"$f":"IF(D1736=\"\",\"\",VLOOKUP(D1736,#REF!,4,0))","v":{"$error":"#REF!"}},{"$f":"IF(C1736=\"\",\"\",VLOOKUP(D1736,#REF!,5,0))","v":{"$error":"#REF!"}},"輸出","ニカラグア",{"$f":"IF(H1736=\"\",\"\",VLOOKUP(H1736,#REF!,2,0))","v":{"$error":"#REF!"}},60,null,0,60]
["H26",{"$f":"IF(D1737=\"\",\"\",VLOOKUP(D1737,#REF!,2,0))","v":{"$error":"#REF!"}},{"$f":"IF(D1737=\"\",\"\",VLOOKUP(D1737,#REF!,3,0))","v":{"$error":"#REF!"}},"神戸",{"$f":"IF(D1737=\"\",\"\",VLOOKUP(D1737,#REF!,4,0))","v":{"$error":"#REF!"}},{"$f":"IF(C1737=\"\",\"\",VLOOKUP(D1737,#REF!,5,0))","v":{"$error":"#REF!"}},"輸出","パナマ",{"$f":"IF(H1737=\"\",\"\",VLOOKUP(H1737,#REF!,2,0))","v":{"$error":"#REF!"}},{"v":4046,"d":"4,046"},null,{"v":2403,"d":"2,403"},{"v":1643,"d":"1,643"}]
["H26",{"$f":"IF(D1738=\"\",\"\",VLOOKUP(D1738,#REF!,2,0))","v":{"$error":"#REF!"}},{"$f":"IF(D1738=\"\",\"\",VLOOKUP(D1738,#REF!,3,0))","v":{"$error":"#REF!"}},"和歌山下津",{"$f":"IF(D1738=\"\",\"\",VLOOKUP(D1738,#REF!,4,0))","v":{"$error":"#REF!"}},{"$f":"IF(C1738=\"\",\"\",VLOOKUP(D1738,#REF!,5,0))","v":{"$error":"#REF!"}},"輸出","韓国",{"$f":"IF(H1738=\"\",\"\",VLOOKUP(H1738,#REF!,2,0))","v":{"$error":"#REF!"}},{"v":2702,"d":"2,702"},null,491,{"v":2211,"d":"2,211"}]
["H26",{"$f":"IF(D1739=\"\",\"\",VLOOKUP(D1739,#REF!,2,0))","v":{"$error":"#REF!"}},{"$f":"IF(D1739=\"\",\"\",VLOOKUP(D1739,#REF!,3,0))","v":{"$error":"#REF!"}},"舞鶴",{"$f":"IF(D1739=\"\",\"\",VLOOKUP(D1739,#REF!,4,0))","v":{"$error":"#REF!"}},{"$f":"IF(C1739=\"\",\"\",VLOOKUP(D1739,#REF!,5,0))","v":{"$error":"#REF!"}},"輸入","韓国",{"$f":"IF(H1739=\"\",\"\",VLOOKUP(H1739,#REF!,2,0))","v":{"$error":"#REF!"}},{"v":3387,"d":"3,387"},null,{"v":2891,"d":"2,891"},496]
["H26",{"$f":"IF(D1740=\"\",\"\",VLOOKUP(D1740,#REF!,2,0))","v":{"$error":"#REF!"}},{"$f":"IF(D1740=\"\",\"\",VLOOKUP(D1740,#REF!,3,0))","v":{"$error":"#REF!"}},"舞鶴",{"$f":"IF(D1740=\"\",\"\",VLOOKUP(D1740,#REF!,4,0))","v":{"$error":"#REF!"}},{"$f":"IF(C1740=\"\",\"\",VLOOKUP(D1740,#REF!,5,0))","v":{"$error":"#REF!"}},"輸入","中国",{"$f":"IF(H1740=\"\",\"\",VLOOKUP(H1740,#REF!,2,0))","v":{"$error":"#REF!"}},{"v":2698,"d":"2,698"},null,{"v":2638,"d":"2,638"},60]
["H26",{"$f":"IF(D1741=\"\",\"\",VLOOKUP(D1741,#REF!,2,0))","v":{"$error":"#REF!"}},{"$f":"IF(D1741=\"\",\"\",VLOOKUP(D1741,#REF!,3,0))","v":{"$error":"#REF!"}},"堺泉北",{"$f":"IF(D1741=\"\",\"\",VLOOKUP(D1741,#REF!,4,0))","v":{"$error":"#REF!"}},{"$f":"IF(C1741=\"\",\"\",VLOOKUP(D1741,#REF!,5,0))","v":{"$error":"#REF!"}},"輸入","中国",{"$f":"IF(H1741=\"\",\"\",VLOOKUP(H1741,#REF!,2,0))","v":{"$error":"#REF!"}},{"v":12387,"d":"12,387"},null,{"v":11898,"d":"11,898"},489]
["H26",{"$f":"IF(D1742=\"\",\"\",VLOOKUP(D1742,#REF!,2,0))","v":{"$error":"#REF!"}},{"$f":"IF(D1742=\"\",\"\",VLOOKUP(D1742,#REF!,3,0))","v":{"$error":"#REF!"}},"大阪",{"$f":"IF(D1742=\"\",\"\",VLOOKUP(D1742,#REF!,4,0))","v":{"$error":"#REF!"}},{"$f":"IF(C1742=\"\",\"\",VLOOKUP(D1742,#REF!,5,0))","v":{"$error":"#REF!"}},"輸入","韓国",{"$f":"IF(H1742=\"\",\"\",VLOOKUP(H1742,#REF!,2,0))","v":{"$error":"#REF!"}},{"v":116755.6,"d":"116,756"},null,{"v":109956.4,"d":"109,956"},{"v":6799.2,"d":"6,799"}]
["H26",{"$f":"IF(D1743=\"\",\"\",VLOOKUP(D1743,#REF!,2,0))","v":{"$error":"#REF!"}},{"$f":"IF(D1743=\"\",\"\",VLOOKUP(D1743,#REF!,3,0))","v":{"$error":"#REF!"}},"大阪",{"$f":"IF(D1743=\"\",\"\",VLOOKUP(D1743,#REF!,4,0))","v":{"$error":"#REF!"}},{"$f":"IF(C1743=\"\",\"\",VLOOKUP(D1743,#REF!,5,0))","v":{"$error":"#REF!"}},"輸入","台湾",{"$f":"IF(H1743=\"\",\"\",VLOOKUP(H1743,#REF!,2,0))","v":{"$error":"#REF!"}},{"v":80933,"d":"80,933"},null,{"v":80596,"d":"80,596"},337]
["H26",{"$f":"IF(D1744=\"\",\"\",VLOOKUP(D1744,#REF!,2,0))","v":{"$error":"#REF!"}},{"$f":"IF(D1744=\"\",\"\",VLOOKUP(D1744,#REF!,3,0))","v":{"$error":"#REF!"}},"大阪",{"$f":"IF(D1744=\"\",\"\",VLOOKUP(D1744,#REF!,4,0))","v":{"$error":"#REF!"}},{"$f":"IF(C1744=\"\",\"\",VLOOKUP(D1744,#REF!,5,0))","v":{"$error":"#REF!"}},"輸入","中国",{"$f":"IF(H1744=\"\",\"\",VLOOKUP(H1744,#REF!,2,0))","v":{"$error":"#REF!"}},{"v":639633,"d":"639,633"},null,{"v":626525,"d":"626,525"},{"v":13108,"d":"13,108"}]
["H26",{"$f":"IF(D1745=\"\",\"\",VLOOKUP(D1745,#REF!,2,0))","v":{"$error":"#REF!"}},{"$f":"IF(D1745=\"\",\"\",VLOOKUP(D1745,#REF!,3,0))","v":{"$error":"#REF!"}},"大阪",{"$f":"IF(D1745=\"\",\"\",VLOOKUP(D1745,#REF!,4,0))","v":{"$error":"#REF!"}},{"$f":"IF(C1745=\"\",\"\",VLOOKUP(D1745,#REF!,5,0))","v":{"$error":"#REF!"}},"輸入","香港",{"$f":"IF(H1745=\"\",\"\",VLOOKUP(H1745,#REF!,2,0))","v":{"$error":"#REF!"}},{"v":122528,"d":"122,528"},null,{"v":122412,"d":"122,412"},116]
["H26",{"$f":"IF(D1746=\"\",\"\",VLOOKUP(D1746,#REF!,2,0))","v":{"$error":"#REF!"}},{"$f":"IF(D1746=\"\",\"\",VLOOKUP(D1746,#REF!,3,0))","v":{"$error":"#REF!"}},"大阪",{"$f":"IF(D1746=\"\",\"\",VLOOKUP(D1746,#REF!,4,0))","v":{"$error":"#REF!"}},{"$f":"IF(C1746=\"\",\"\",VLOOKUP(D1746,#REF!,5,0))","v":{"$error":"#REF!"}},"輸入","インドネシア",{"$f":"IF(H1746=\"\",\"\",VLOOKUP(H1746,#REF!,2,0))","v":{"$error":"#REF!"}},{"v":3280,"d":"3,280"},null,{"v":3279,"d":"3,279"},1]
["H26",{"$f":"IF(D1747=\"\",\"\",VLOOKUP(D1747,#REF!,2,0))","v":{"$error":"#REF!"}},{"$f":"IF(D1747=\"\",\"\",VLOOKUP(D1747,#REF!,3,0))","v":{"$error":"#REF!"}},"大阪",{"$f":"IF(D1747=\"\",\"\",VLOOKUP(D1747,#REF!,4,0))","v":{"$error":"#REF!"}},{"$f":"IF(C1747=\"\",\"\",VLOOKUP(D1747,#REF!,5,0))","v":{"$error":"#REF!"}},"輸入","カンボジア",{"$f":"IF(H1747=\"\",\"\",VLOOKUP(H1747,#REF!,2,0))","v":{"$error":"#REF!"}},134,null,134,0]
["H26",{"$f":"IF(D1748=\"\",\"\",VLOOKUP(D1748,#REF!,2,0))","v":{"$error":"#REF!"}},{"$f":"IF(D1748=\"\",\"\",VLOOKUP(D1748,#REF!,3,0))","v":{"$error":"#REF!"}},"大阪",{"$f":"IF(D1748=\"\",\"\",VLOOKUP(D1748,#REF!,4,0))","v":{"$error":"#REF!"}},{"$f":"IF(C1748=\"\",\"\",VLOOKUP(D1748,#REF!,5,0))","v":{"$error":"#REF!"}},"輸入","シンガポール",{"$f":"IF(H1748=\"\",\"\",VLOOKUP(H1748,#REF!,2,0))","v":{"$error":"#REF!"}},{"v":45924,"d":"45,924"},null,{"v":45863,"d":"45,863"},61]
["H26",{"$f":"IF(D1749=\"\",\"\",VLOOKUP(D1749,#REF!,2,0))","v":{"$error":"#REF!"}},{"$f":"IF(D1749=\"\",\"\",VLOOKUP(D1749,#REF!,3,0))","v":{"$error":"#REF!"}},"大阪",{"$f":"IF(D1749=\"\",\"\",VLOOKUP(D1749,#REF!,4,0))","v":{"$error":"#REF!"}},{"$f":"IF(C1749=\"\",\"\",VLOOKUP(D1749,#REF!,5,0))","v":{"$error":"#REF!"}},"輸入","タイ",{"$f":"IF(H1749=\"\",\"\",VLOOKUP(H1749,#REF!,2,0))","v":{"$error":"#REF!"}},{"v":60868,"d":"60,868"},null,{"v":60748,"d":"60,748"},120]
["H26",{"$f":"IF(D1750=\"\",\"\",VLOOKUP(D1750,#REF!,2,0))","v":{"$error":"#REF!"}},{"$f":"IF(D1750=\"\",\"\",VLOOKUP(D1750,#REF!,3,0))","v":{"$error":"#REF!"}},"大阪",{"$f":"IF(D1750=\"\",\"\",VLOOKUP(D1750,#REF!,4,0))","v":{"$error":"#REF!"}},{"$f":"IF(C1750=\"\",\"\",VLOOKUP(D1750,#REF!,5,0))","v":{"$error":"#REF!"}},"輸入","フィリピン",{"$f":"IF(H1750=\"\",\"\",VLOOKUP(H1750,#REF!,2,0))","v":{"$error":"#REF!"}},{"v":11187,"d":"11,187"},null,{"v":11147,"d":"11,147"},40]
["H26",{"$f":"IF(D1751=\"\",\"\",VLOOKUP(D1751,#REF!,2,0))","v":{"$error":"#REF!"}},{"$f":"IF(D1751=\"\",\"\",VLOOKUP(D1751,#REF!,3,0))","v":{"$error":"#REF!"}},"大阪",{"$f":"IF(D1751=\"\",\"\",VLOOKUP(D1751,#REF!,4,0))","v":{"$error":"#REF!"}},{"$f":"IF(C1751=\"\",\"\",VLOOKUP(D1751,#REF!,5,0))","v":{"$error":"#REF!"}},"輸入","マレーシア",{"$f":"IF(H1751=\"\",\"\",VLOOKUP(H1751,#REF!,2,0))","v":{"$error":"#REF!"}},{"v":19458,"d":"19,458"},null,{"v":19456,"d":"19,456"},2]
["H26",{"$f":"IF(D1752=\"\",\"\",VLOOKUP(D1752,#REF!,2,0))","v":{"$error":"#REF!"}},{"$f":"IF(D1752=\"\",\"\",VLOOKUP(D1752,#REF!,3,0))","v":{"$error":"#REF!"}},"大阪",{"$f":"IF(D1752=\"\",\"\",VLOOKUP(D1752,#REF!,4,0))","v":{"$error":"#REF!"}},{"$f":"IF(C1752=\"\",\"\",VLOOKUP(D1752,#REF!,5,0))","v":{"$error":"#REF!"}},"輸入","ベトナム",{"$f":"IF(H1752=\"\",\"\",VLOOKUP(H1752,#REF!,2,0))","v":{"$error":"#REF!"}},{"v":35946,"d":"35,946"},36,{"v":35940,"d":"35,940"},42]
["H26",{"$f":"IF(D1753=\"\",\"\",VLOOKUP(D1753,#REF!,2,0))","v":{"$error":"#REF!"}},{"$f":"IF(D1753=\"\",\"\",VLOOKUP(D1753,#REF!,3,0))","v":{"$error":"#REF!"}},"大阪",{"$f":"IF(D1753=\"\",\"\",VLOOKUP(D1753,#REF!,4,0))","v":{"$error":"#REF!"}},{"$f":"IF(C1753=\"\",\"\",VLOOKUP(D1753,#REF!,5,0))","v":{"$error":"#REF!"}},"輸入","オーストラリア",{"$f":"IF(H1753=\"\",\"\",VLOOKUP(H1753,#REF!,2,0))","v":{"$error":"#REF!"}},{"v":25865,"d":"25,865"},null,{"v":21095,"d":"21,095"},{"v":4770,"d":"4,770"}]
["H26",{"$f":"IF(D1754=\"\",\"\",VLOOKUP(D1754,#REF!,2,0))","v":{"$error":"#REF!"}},{"$f":"IF(D1754=\"\",\"\",VLOOKUP(D1754,#REF!,3,0))","v":{"$error":"#REF!"}},"大阪",{"$f":"IF(D1754=\"\",\"\",VLOOKUP(D1754,#REF!,4,0))","v":{"$error":"#REF!"}},{"$f":"IF(C1754=\"\",\"\",VLOOKUP(D1754,#REF!,5,0))","v":{"$error":"#REF!"}},"輸入","アメリカ合衆国",{"$f":"IF(H1754=\"\",\"\",VLOOKUP(H1754,#REF!,2,0))","v":{"$error":"#REF!"}},{"v":14844,"d":"14,844"},null,{"v":14454,"d":"14,454"},390]
["H26",{"$f":"IF(D1755=\"\",\"\",VLOOKUP(D1755,#REF!,2,0))","v":{"$error":"#REF!"}},{"$f":"IF(D1755=\"\",\"\",VLOOKUP(D1755,#REF!,3,0))","v":{"$error":"#REF!"}},"大阪",{"$f":"IF(D1755=\"\",\"\",VLOOKUP(D1755,#REF!,4,0))","v":{"$error":"#REF!"}},{"$f":"IF(C1755=\"\",\"\",VLOOKUP(D1755,#REF!,5,0))","v":{"$error":"#REF!"}},"輸入","カナダ",{"$f":"IF(H1755=\"\",\"\",VLOOKUP(H1755,#REF!,2,0))","v":{"$error":"#REF!"}},{"v":8036,"d":"8,036"},null,{"v":7748,"d":"7,748"},288]
["H26",{"$f":"IF(D1756=\"\",\"\",VLOOKUP(D1756,#REF!,2,0))","v":{"$error":"#REF!"}},{"$f":"IF(D1756=\"\",\"\",VLOOKUP(D1756,#REF!,3,0))","v":{"$error":"#REF!"}},"神戸",{"$f":"IF(D1756=\"\",\"\",VLOOKUP(D1756,#REF!,4,0))","v":{"$error":"#REF!"}},{"$f":"IF(C1756=\"\",\"\",VLOOKUP(D1756,#REF!,5,0))","v":{"$error":"#REF!"}},"輸入","韓国",{"$f":"IF(H1756=\"\",\"\",VLOOKUP(H1756,#REF!,2,0))","v":{"$error":"#REF!"}},{"v":72862.45,"d":"72,862"},204,{"v":61732.5,"d":"61,733"},{"v":11333.45,"d":"11,333"}]
["H26",{"$f":"IF(D1757=\"\",\"\",VLOOKUP(D1757,#REF!,2,0))","v":{"$error":"#REF!"}},{"$f":"IF(D1757=\"\",\"\",VLOOKUP(D1757,#REF!,3,0))","v":{"$error":"#REF!"}},"神戸",{"$f":"IF(D1757=\"\",\"\",VLOOKUP(D1757,#REF!,4,0))","v":{"$error":"#REF!"}},{"$f":"IF(C1757=\"\",\"\",VLOOKUP(D1757,#REF!,5,0))","v":{"$error":"#REF!"}},"輸入","台湾",{"$f":"IF(H1757=\"\",\"\",VLOOKUP(H1757,#REF!,2,0))","v":{"$error":"#REF!"}},{"v":63305.75,"d":"63,306"},55,{"v":59716,"d":"59,716"},{"v":3644.75,"d":"3,645"}]
["H26",{"$f":"IF(D1758=\"\",\"\",VLOOKUP(D1758,#REF!,2,0))","v":{"$error":"#REF!"}},{"$f":"IF(D1758=\"\",\"\",VLOOKUP(D1758,#REF!,3,0))","v":{"$error":"#REF!"}},"神戸",{"$f":"IF(D1758=\"\",\"\",VLOOKUP(D1758,#REF!,4,0))","v":{"$error":"#REF!"}},{"$f":"IF(C1758=\"\",\"\",VLOOKUP(D1758,#REF!,5,0))","v":{"$error":"#REF!"}},"輸入","中国",{"$f":"IF(H1758=\"\",\"\",VLOOKUP(H1758,#REF!,2,0))","v":{"$error":"#REF!"}},{"v":281594.25,"d":"281,594"},669,{"v":258785.75,"d":"258,786"},{"v":23477.25,"d":"23,477"}]
["H26",{"$f":"IF(D1759=\"\",\"\",VLOOKUP(D1759,#REF!,2,0))","v":{"$error":"#REF!"}},{"$f":"IF(D1759=\"\",\"\",VLOOKUP(D1759,#REF!,3,0))","v":{"$error":"#REF!"}},"神戸",{"$f":"IF(D1759=\"\",\"\",VLOOKUP(D1759,#REF!,4,0))","v":{"$error":"#REF!"}},{"$f":"IF(C1759=\"\",\"\",VLOOKUP(D1759,#REF!,5,0))","v":{"$error":"#REF!"}},"輸入","香港",{"$f":"IF(H1759=\"\",\"\",VLOOKUP(H1759,#REF!,2,0))","v":{"$error":"#REF!"}},{"v":59250,"d":"59,250"},44,{"v":58506,"d":"58,506"},788]
["H26",{"$f":"IF(D1760=\"\",\"\",VLOOKUP(D1760,#REF!,2,0))","v":{"$error":"#REF!"}},{"$f":"IF(D1760=\"\",\"\",VLOOKUP(D1760,#REF!,3,0))","v":{"$error":"#REF!"}},"神戸",{"$f":"IF(D1760=\"\",\"\",VLOOKUP(D1760,#REF!,4,0))","v":{"$error":"#REF!"}},{"$f":"IF(C1760=\"\",\"\",VLOOKUP(D1760,#REF!,5,0))","v":{"$error":"#REF!"}},"輸入","インドネシア",{"$f":"IF(H1760=\"\",\"\",VLOOKUP(H1760,#REF!,2,0))","v":{"$error":"#REF!"}},{"v":10589,"d":"10,589"},null,{"v":10443,"d":"10,443"},146]
["H26",{"$f":"IF(D1761=\"\",\"\",VLOOKUP(D1761,#REF!,2,0))","v":{"$error":"#REF!"}},{"$f":"IF(D1761=\"\",\"\",VLOOKUP(D1761,#REF!,3,0))","v":{"$error":"#REF!"}},"神戸",{"$f":"IF(D1761=\"\",\"\",VLOOKUP(D1761,#REF!,4,0))","v":{"$error":"#REF!"}},{"$f":"IF(C1761=\"\",\"\",VLOOKUP(D1761,#REF!,5,0))","v":{"$error":"#REF!"}},"輸入","カンボジア",{"$f":"IF(H1761=\"\",\"\",VLOOKUP(H1761,#REF!,2,0))","v":{"$error":"#REF!"}},2,null,2,0]
["H26",{"$f":"IF(D1762=\"\",\"\",VLOOKUP(D1762,#REF!,2,0))","v":{"$error":"#REF!"}},{"$f":"IF(D1762=\"\",\"\",VLOOKUP(D1762,#REF!,3,0))","v":{"$error":"#REF!"}},"神戸",{"$f":"IF(D1762=\"\",\"\",VLOOKUP(D1762,#REF!,4,0))","v":{"$error":"#REF!"}},{"$f":"IF(C1762=\"\",\"\",VLOOKUP(D1762,#REF!,5,0))","v":{"$error":"#REF!"}},"輸入","シンガポール",{"$f":"IF(H1762=\"\",\"\",VLOOKUP(H1762,#REF!,2,0))","v":{"$error":"#REF!"}},{"v":63210,"d":"63,210"},9,{"v":60897,"d":"60,897"},{"v":2322,"d":"2,322"}]
["H26",{"$f":"IF(D1763=\"\",\"\",VLOOKUP(D1763,#REF!,2,0))","v":{"$error":"#REF!"}},{"$f":"IF(D1763=\"\",\"\",VLOOKUP(D1763,#REF!,3,0))","v":{"$error":"#REF!"}},"神戸",{"$f":"IF(D1763=\"\",\"\",VLOOKUP(D1763,#REF!,4,0))","v":{"$error":"#REF!"}},{"$f":"IF(C1763=\"\",\"\",VLOOKUP(D1763,#REF!,5,0))","v":{"$error":"#REF!"}},"輸入","タイ",{"$f":"IF(H1763=\"\",\"\",VLOOKUP(H1763,#REF!,2,0))","v":{"$error":"#REF!"}},{"v":44928.5,"d":"44,929"},null,{"v":43281,"d":"43,281"},{"v":1647.5,"d":"1,648"}]
["H26",{"$f":"IF(D1764=\"\",\"\",VLOOKUP(D1764,#REF!,2,0))","v":{"$error":"#REF!"}},{"$f":"IF(D1764=\"\",\"\",VLOOKUP(D1764,#REF!,3,0))","v":{"$error":"#REF!"}},"神戸",{"$f":"IF(D1764=\"\",\"\",VLOOKUP(D1764,#REF!,4,0))","v":{"$error":"#REF!"}},{"$f":"IF(C1764=\"\",\"\",VLOOKUP(D1764,#REF!,5,0))","v":{"$error":"#REF!"}},"輸入","フィリピン",{"$f":"IF(H1764=\"\",\"\",VLOOKUP(H1764,#REF!,2,0))","v":{"$error":"#REF!"}},{"v":5912,"d":"5,912"},12,{"v":4116,"d":"4,116"},{"v":1808,"d":"1,808"}]
["H26",{"$f":"IF(D1765=\"\",\"\",VLOOKUP(D1765,#REF!,2,0))","v":{"$error":"#REF!"}},{"$f":"IF(D1765=\"\",\"\",VLOOKUP(D1765,#REF!,3,0))","v":{"$error":"#REF!"}},"神戸",{"$f":"IF(D1765=\"\",\"\",VLOOKUP(D1765,#REF!,4,0))","v":{"$error":"#REF!"}},{"$f":"IF(C1765=\"\",\"\",VLOOKUP(D1765,#REF!,5,0))","v":{"$error":"#REF!"}},"輸入","マレーシア",{"$f":"IF(H1765=\"\",\"\",VLOOKUP(H1765,#REF!,2,0))","v":{"$error":"#REF!"}},{"v":14543,"d":"14,543"},6,{"v":14532,"d":"14,532"},17]
["H26",{"$f":"IF(D1766=\"\",\"\",VLOOKUP(D1766,#REF!,2,0))","v":{"$error":"#REF!"}},{"$f":"IF(D1766=\"\",\"\",VLOOKUP(D1766,#REF!,3,0))","v":{"$error":"#REF!"}},"神戸",{"$f":"IF(D1766=\"\",\"\",VLOOKUP(D1766,#REF!,4,0))","v":{"$error":"#REF!"}},{"$f":"IF(C1766=\"\",\"\",VLOOKUP(D1766,#REF!,5,0))","v":{"$error":"#REF!"}},"輸入","ベトナム",{"$f":"IF(H1766=\"\",\"\",VLOOKUP(H1766,#REF!,2,0))","v":{"$error":"#REF!"}},{"v":30600.5,"d":"30,601"},287,{"v":30355.5,"d":"30,356"},532]
["H26",{"$f":"IF(D1767=\"\",\"\",VLOOKUP(D1767,#REF!,2,0))","v":{"$error":"#REF!"}},{"$f":"IF(D1767=\"\",\"\",VLOOKUP(D1767,#REF!,3,0))","v":{"$error":"#REF!"}},"神戸",{"$f":"IF(D1767=\"\",\"\",VLOOKUP(D1767,#REF!,4,0))","v":{"$error":"#REF!"}},{"$f":"IF(C1767=\"\",\"\",VLOOKUP(D1767,#REF!,5,0))","v":{"$error":"#REF!"}},"輸入","スリランカ",{"$f":"IF(H1767=\"\",\"\",VLOOKUP(H1767,#REF!,2,0))","v":{"$error":"#REF!"}},{"v":1507,"d":"1,507"},null,{"v":1503,"d":"1,503"},4]
["H26",{"$f":"IF(D1768=\"\",\"\",VLOOKUP(D1768,#REF!,2,0))","v":{"$error":"#REF!"}},{"$f":"IF(D1768=\"\",\"\",VLOOKUP(D1768,#REF!,3,0))","v":{"$error":"#REF!"}},"神戸",{"$f":"IF(D1768=\"\",\"\",VLOOKUP(D1768,#REF!,4,0))","v":{"$error":"#REF!"}},{"$f":"IF(C1768=\"\",\"\",VLOOKUP(D1768,#REF!,5,0))","v":{"$error":"#REF!"}},"輸入","オーストラリア",{"$f":"IF(H1768=\"\",\"\",VLOOKUP(H1768,#REF!,2,0))","v":{"$error":"#REF!"}},12,null,0,12]
["H26",{"$f":"IF(D1769=\"\",\"\",VLOOKUP(D1769,#REF!,2,0))","v":{"$error":"#REF!"}},{"$f":"IF(D1769=\"\",\"\",VLOOKUP(D1769,#REF!,3,0))","v":{"$error":"#REF!"}},"神戸",{"$f":"IF(D1769=\"\",\"\",VLOOKUP(D1769,#REF!,4,0))","v":{"$error":"#REF!"}},{"$f":"IF(C1769=\"\",\"\",VLOOKUP(D1769,#REF!,5,0))","v":{"$error":"#REF!"}},"輸入","仏領ポリネシア",{"$f":"IF(H1769=\"\",\"\",VLOOKUP(H1769,#REF!,2,0))","v":{"$error":"#REF!"}},22,null,4,18]
["H26",{"$f":"IF(D1770=\"\",\"\",VLOOKUP(D1770,#REF!,2,0))","v":{"$error":"#REF!"}},{"$f":"IF(D1770=\"\",\"\",VLOOKUP(D1770,#REF!,3,0))","v":{"$error":"#REF!"}},"神戸",{"$f":"IF(D1770=\"\",\"\",VLOOKUP(D1770,#REF!,4,0))","v":{"$error":"#REF!"}},{"$f":"IF(C1770=\"\",\"\",VLOOKUP(D1770,#REF!,5,0))","v":{"$error":"#REF!"}},"輸入","グアム",{"$f":"IF(H1770=\"\",\"\",VLOOKUP(H1770,#REF!,2,0))","v":{"$error":"#REF!"}},34,null,0,34]
["H26",{"$f":"IF(D1771=\"\",\"\",VLOOKUP(D1771,#REF!,2,0))","v":{"$error":"#REF!"}},{"$f":"IF(D1771=\"\",\"\",VLOOKUP(D1771,#REF!,3,0))","v":{"$error":"#REF!"}},"神戸",{"$f":"IF(D1771=\"\",\"\",VLOOKUP(D1771,#REF!,4,0))","v":{"$error":"#REF!"}},{"$f":"IF(C1771=\"\",\"\",VLOOKUP(D1771,#REF!,5,0))","v":{"$error":"#REF!"}},"輸入","サモア","オセアニア",4,null,0,4]
["H26",{"$f":"IF(D1772=\"\",\"\",VLOOKUP(D1772,#REF!,2,0))","v":{"$error":"#REF!"}},{"$f":"IF(D1772=\"\",\"\",VLOOKUP(D1772,#REF!,3,0))","v":{"$error":"#REF!"}},"神戸",{"$f":"IF(D1772=\"\",\"\",VLOOKUP(D1772,#REF!,4,0))","v":{"$error":"#REF!"}},{"$f":"IF(C1772=\"\",\"\",VLOOKUP(D1772,#REF!,5,0))","v":{"$error":"#REF!"}},"輸入","ソロモン諸島",{"$f":"IF(H1772=\"\",\"\",VLOOKUP(H1772,#REF!,2,0))","v":{"$error":"#REF!"}},4,null,0,4]
["H26",{"$f":"IF(D1773=\"\",\"\",VLOOKUP(D1773,#REF!,2,0))","v":{"$error":"#REF!"}},{"$f":"IF(D1773=\"\",\"\",VLOOKUP(D1773,#REF!,3,0))","v":{"$error":"#REF!"}},"神戸",{"$f":"IF(D1773=\"\",\"\",VLOOKUP(D1773,#REF!,4,0))","v":{"$error":"#REF!"}},{"$f":"IF(C1773=\"\",\"\",VLOOKUP(D1773,#REF!,5,0))","v":{"$error":"#REF!"}},"輸入","トンガ",{"$f":"IF(H1773=\"\",\"\",VLOOKUP(H1773,#REF!,2,0))","v":{"$error":"#REF!"}},43,null,42,1]
["H26",{"$f":"IF(D1774=\"\",\"\",VLOOKUP(D1774,#REF!,2,0))","v":{"$error":"#REF!"}},{"$f":"IF(D1774=\"\",\"\",VLOOKUP(D1774,#REF!,3,0))","v":{"$error":"#REF!"}},"神戸",{"$f":"IF(D1774=\"\",\"\",VLOOKUP(D1774,#REF!,4,0))","v":{"$error":"#REF!"}},{"$f":"IF(C1774=\"\",\"\",VLOOKUP(D1774,#REF!,5,0))","v":{"$error":"#REF!"}},"輸入","ニューカレドニア",{"$f":"IF(H1774=\"\",\"\",VLOOKUP(H1774,#REF!,2,0))","v":{"$error":"#REF!"}},9,null,0,9]
["H26",{"$f":"IF(D1775=\"\",\"\",VLOOKUP(D1775,#REF!,2,0))","v":{"$error":"#REF!"}},{"$f":"IF(D1775=\"\",\"\",VLOOKUP(D1775,#REF!,3,0))","v":{"$error":"#REF!"}},"神戸",{"$f":"IF(D1775=\"\",\"\",VLOOKUP(D1775,#REF!,4,0))","v":{"$error":"#REF!"}},{"$f":"IF(C1775=\"\",\"\",VLOOKUP(D1775,#REF!,5,0))","v":{"$error":"#REF!"}},"輸入","ニュージーランド",{"$f":"IF(H1775=\"\",\"\",VLOOKUP(H1775,#REF!,2,0))","v":{"$error":"#REF!"}},{"v":8503,"d":"8,503"},null,{"v":7784,"d":"7,784"},719]
["H26",{"$f":"IF(D1776=\"\",\"\",VLOOKUP(D1776,#REF!,2,0))","v":{"$error":"#REF!"}},{"$f":"IF(D1776=\"\",\"\",VLOOKUP(D1776,#REF!,3,0))","v":{"$error":"#REF!"}},"神戸",{"$f":"IF(D1776=\"\",\"\",VLOOKUP(D1776,#REF!,4,0))","v":{"$error":"#REF!"}},{"$f":"IF(C1776=\"\",\"\",VLOOKUP(D1776,#REF!,5,0))","v":{"$error":"#REF!"}},"輸入","パプアニューギニア",{"$f":"IF(H1776=\"\",\"\",VLOOKUP(H1776,#REF!,2,0))","v":{"$error":"#REF!"}},27,null,4,23]
["H26",{"$f":"IF(D1777=\"\",\"\",VLOOKUP(D1777,#REF!,2,0))","v":{"$error":"#REF!"}},{"$f":"IF(D1777=\"\",\"\",VLOOKUP(D1777,#REF!,3,0))","v":{"$error":"#REF!"}},"神戸",{"$f":"IF(D1777=\"\",\"\",VLOOKUP(D1777,#REF!,4,0))","v":{"$error":"#REF!"}},{"$f":"IF(C1777=\"\",\"\",VLOOKUP(D1777,#REF!,5,0))","v":{"$error":"#REF!"}},"輸入","フィジー",{"$f":"IF(H1777=\"\",\"\",VLOOKUP(H1777,#REF!,2,0))","v":{"$error":"#REF!"}},41,null,34,7]
["H26",{"$f":"IF(D1778=\"\",\"\",VLOOKUP(D1778,#REF!,2,0))","v":{"$error":"#REF!"}},{"$f":"IF(D1778=\"\",\"\",VLOOKUP(D1778,#REF!,3,0))","v":{"$error":"#REF!"}},"神戸",{"$f":"IF(D1778=\"\",\"\",VLOOKUP(D1778,#REF!,4,0))","v":{"$error":"#REF!"}},{"$f":"IF(C1778=\"\",\"\",VLOOKUP(D1778,#REF!,5,0))","v":{"$error":"#REF!"}},"輸入","キリバス",{"$f":"IF(H1778=\"\",\"\",VLOOKUP(H1778,#REF!,2,0))","v":{"$error":"#REF!"}},2,null,0,2]
["H26",{"$f":"IF(D1779=\"\",\"\",VLOOKUP(D1779,#REF!,2,0))","v":{"$error":"#REF!"}},{"$f":"IF(D1779=\"\",\"\",VLOOKUP(D1779,#REF!,3,0))","v":{"$error":"#REF!"}},"神戸",{"$f":"IF(D1779=\"\",\"\",VLOOKUP(D1779,#REF!,4,0))","v":{"$error":"#REF!"}},{"$f":"IF(C1779=\"\",\"\",VLOOKUP(D1779,#REF!,5,0))","v":{"$error":"#REF!"}},"輸入","バヌアツ",{"$f":"IF(H1779=\"\",\"\",VLOOKUP(H1779,#REF!,2,0))","v":{"$error":"#REF!"}},11,null,10,1]
["H26",{"$f":"IF(D1780=\"\",\"\",VLOOKUP(D1780,#REF!,2,0))","v":{"$error":"#REF!"}},{"$f":"IF(D1780=\"\",\"\",VLOOKUP(D1780,#REF!,3,0))","v":{"$error":"#REF!"}},"神戸",{"$f":"IF(D1780=\"\",\"\",VLOOKUP(D1780,#REF!,4,0))","v":{"$error":"#REF!"}},{"$f":"IF(C1780=\"\",\"\",VLOOKUP(D1780,#REF!,5,0))","v":{"$error":"#REF!"}},"輸入","米領サモア",{"$f":"IF(H1780=\"\",\"\",VLOOKUP(H1780,#REF!,2,0))","v":{"$error":"#REF!"}},4,null,0,4]
["H26",{"$f":"IF(D1781=\"\",\"\",VLOOKUP(D1781,#REF!,2,0))","v":{"$error":"#REF!"}},{"$f":"IF(D1781=\"\",\"\",VLOOKUP(D1781,#REF!,3,0))","v":{"$error":"#REF!"}},"神戸",{"$f":"IF(D1781=\"\",\"\",VLOOKUP(D1781,#REF!,4,0))","v":{"$error":"#REF!"}},{"$f":"IF(C1781=\"\",\"\",VLOOKUP(D1781,#REF!,5,0))","v":{"$error":"#REF!"}},"輸入","ミクロネシア",{"$f":"IF(H1781=\"\",\"\",VLOOKUP(H1781,#REF!,2,0))","v":{"$error":"#REF!"}},35,null,0,35]
["H26",{"$f":"IF(D1782=\"\",\"\",VLOOKUP(D1782,#REF!,2,0))","v":{"$error":"#REF!"}},{"$f":"IF(D1782=\"\",\"\",VLOOKUP(D1782,#REF!,3,0))","v":{"$error":"#REF!"}},"神戸",{"$f":"IF(D1782=\"\",\"\",VLOOKUP(D1782,#REF!,4,0))","v":{"$error":"#REF!"}},{"$f":"IF(C1782=\"\",\"\",VLOOKUP(D1782,#REF!,5,0))","v":{"$error":"#REF!"}},"輸入","マーシャル諸島",{"$f":"IF(H1782=\"\",\"\",VLOOKUP(H1782,#REF!,2,0))","v":{"$error":"#REF!"}},11,null,0,11]
["H26",{"$f":"IF(D1783=\"\",\"\",VLOOKUP(D1783,#REF!,2,0))","v":{"$error":"#REF!"}},{"$f":"IF(D1783=\"\",\"\",VLOOKUP(D1783,#REF!,3,0))","v":{"$error":"#REF!"}},"神戸",{"$f":"IF(D1783=\"\",\"\",VLOOKUP(D1783,#REF!,4,0))","v":{"$error":"#REF!"}},{"$f":"IF(C1783=\"\",\"\",VLOOKUP(D1783,#REF!,5,0))","v":{"$error":"#REF!"}},"輸入","北マリアナ諸島",{"$f":"IF(H1783=\"\",\"\",VLOOKUP(H1783,#REF!,2,0))","v":{"$error":"#REF!"}},15,null,0,15]
["H26",{"$f":"IF(D1784=\"\",\"\",VLOOKUP(D1784,#REF!,2,0))","v":{"$error":"#REF!"}},{"$f":"IF(D1784=\"\",\"\",VLOOKUP(D1784,#REF!,3,0))","v":{"$error":"#REF!"}},"神戸",{"$f":"IF(D1784=\"\",\"\",VLOOKUP(D1784,#REF!,4,0))","v":{"$error":"#REF!"}},{"$f":"IF(C1784=\"\",\"\",VLOOKUP(D1784,#REF!,5,0))","v":{"$error":"#REF!"}},"輸入","パラオ",{"$f":"IF(H1784=\"\",\"\",VLOOKUP(H1784,#REF!,2,0))","v":{"$error":"#REF!"}},11,null,0,11]
["H26",{"$f":"IF(D1785=\"\",\"\",VLOOKUP(D1785,#REF!,2,0))","v":{"$error":"#REF!"}},{"$f":"IF(D1785=\"\",\"\",VLOOKUP(D1785,#REF!,3,0))","v":{"$error":"#REF!"}},"神戸",{"$f":"IF(D1785=\"\",\"\",VLOOKUP(D1785,#REF!,4,0))","v":{"$error":"#REF!"}},{"$f":"IF(C1785=\"\",\"\",VLOOKUP(D1785,#REF!,5,0))","v":{"$error":"#REF!"}},"輸入","イギリス",{"$f":"IF(H1785=\"\",\"\",VLOOKUP(H1785,#REF!,2,0))","v":{"$error":"#REF!"}},{"v":9505,"d":"9,505"},2,{"v":7997,"d":"7,997"},{"v":1510,"d":"1,510"}]
["H26",{"$f":"IF(D1786=\"\",\"\",VLOOKUP(D1786,#REF!,2,0))","v":{"$error":"#REF!"}},{"$f":"IF(D1786=\"\",\"\",VLOOKUP(D1786,#REF!,3,0))","v":{"$error":"#REF!"}},"神戸",{"$f":"IF(D1786=\"\",\"\",VLOOKUP(D1786,#REF!,4,0))","v":{"$error":"#REF!"}},{"$f":"IF(C1786=\"\",\"\",VLOOKUP(D1786,#REF!,5,0))","v":{"$error":"#REF!"}},"輸入","オランダ",{"$f":"IF(H1786=\"\",\"\",VLOOKUP(H1786,#REF!,2,0))","v":{"$error":"#REF!"}},{"v":27220,"d":"27,220"},28,{"v":26455,"d":"26,455"},793]
["H26",{"$f":"IF(D1787=\"\",\"\",VLOOKUP(D1787,#REF!,2,0))","v":{"$error":"#REF!"}},{"$f":"IF(D1787=\"\",\"\",VLOOKUP(D1787,#REF!,3,0))","v":{"$error":"#REF!"}},"神戸",{"$f":"IF(D1787=\"\",\"\",VLOOKUP(D1787,#REF!,4,0))","v":{"$error":"#REF!"}},{"$f":"IF(C1787=\"\",\"\",VLOOKUP(D1787,#REF!,5,0))","v":{"$error":"#REF!"}},"輸入","ドイツ",{"$f":"IF(H1787=\"\",\"\",VLOOKUP(H1787,#REF!,2,0))","v":{"$error":"#REF!"}},{"v":47419,"d":"47,419"},2,{"v":46715,"d":"46,715"},706]
["H26",{"$f":"IF(D1788=\"\",\"\",VLOOKUP(D1788,#REF!,2,0))","v":{"$error":"#REF!"}},{"$f":"IF(D1788=\"\",\"\",VLOOKUP(D1788,#REF!,3,0))","v":{"$error":"#REF!"}},"神戸",{"$f":"IF(D1788=\"\",\"\",VLOOKUP(D1788,#REF!,4,0))","v":{"$error":"#REF!"}},{"$f":"IF(C1788=\"\",\"\",VLOOKUP(D1788,#REF!,5,0))","v":{"$error":"#REF!"}},"輸入","フランス",{"$f":"IF(H1788=\"\",\"\",VLOOKUP(H1788,#REF!,2,0))","v":{"$error":"#REF!"}},{"v":7886,"d":"7,886"},null,{"v":6933,"d":"6,933"},953]
["H26",{"$f":"IF(D1789=\"\",\"\",VLOOKUP(D1789,#REF!,2,0))","v":{"$error":"#REF!"}},{"$f":"IF(D1789=\"\",\"\",VLOOKUP(D1789,#REF!,3,0))","v":{"$error":"#REF!"}},"神戸",{"$f":"IF(D1789=\"\",\"\",VLOOKUP(D1789,#REF!,4,0))","v":{"$error":"#REF!"}},{"$f":"IF(C1789=\"\",\"\",VLOOKUP(D1789,#REF!,5,0))","v":{"$error":"#REF!"}},"輸入","ベルギー",{"$f":"IF(H1789=\"\",\"\",VLOOKUP(H1789,#REF!,2,0))","v":{"$error":"#REF!"}},{"v":1891,"d":"1,891"},null,{"v":1789,"d":"1,789"},102]
["H26",{"$f":"IF(D1790=\"\",\"\",VLOOKUP(D1790,#REF!,2,0))","v":{"$error":"#REF!"}},{"$f":"IF(D1790=\"\",\"\",VLOOKUP(D1790,#REF!,3,0))","v":{"$error":"#REF!"}},"神戸",{"$f":"IF(D1790=\"\",\"\",VLOOKUP(D1790,#REF!,4,0))","v":{"$error":"#REF!"}},{"$f":"IF(C1790=\"\",\"\",VLOOKUP(D1790,#REF!,5,0))","v":{"$error":"#REF!"}},"輸入","スペイン",{"$f":"IF(H1790=\"\",\"\",VLOOKUP(H1790,#REF!,2,0))","v":{"$error":"#REF!"}},200,null,0,200]
["H26",{"$f":"IF(D1791=\"\",\"\",VLOOKUP(D1791,#REF!,2,0))","v":{"$error":"#REF!"}},{"$f":"IF(D1791=\"\",\"\",VLOOKUP(D1791,#REF!,3,0))","v":{"$error":"#REF!"}},"神戸",{"$f":"IF(D1791=\"\",\"\",VLOOKUP(D1791,#REF!,4,0))","v":{"$error":"#REF!"}},{"$f":"IF(C1791=\"\",\"\",VLOOKUP(D1791,#REF!,5,0))","v":{"$error":"#REF!"}},"輸入","ロシア",{"$f":"IF(H1791=\"\",\"\",VLOOKUP(H1791,#REF!,2,0))","v":{"$error":"#REF!"}},{"v":1325,"d":"1,325"},null,429,896]
["H26",{"$f":"IF(D1792=\"\",\"\",VLOOKUP(D1792,#REF!,2,0))","v":{"$error":"#REF!"}},{"$f":"IF(D1792=\"\",\"\",VLOOKUP(D1792,#REF!,3,0))","v":{"$error":"#REF!"}},"神戸",{"$f":"IF(D1792=\"\",\"\",VLOOKUP(D1792,#REF!,4,0))","v":{"$error":"#REF!"}},{"$f":"IF(C1792=\"\",\"\",VLOOKUP(D1792,#REF!,5,0))","v":{"$error":"#REF!"}},"輸入","アメリカ合衆国",{"$f":"IF(H1792=\"\",\"\",VLOOKUP(H1792,#REF!,2,0))","v":{"$error":"#REF!"}},{"v":168058.75,"d":"168,059"},{"v":1426,"d":"1,426"},{"v":149793,"d":"149,793"},{"v":19691.75,"d":"19,692"}]
["H26",{"$f":"IF(D1793=\"\",\"\",VLOOKUP(D1793,#REF!,2,0))","v":{"$error":"#REF!"}},{"$f":"IF(D1793=\"\",\"\",VLOOKUP(D1793,#REF!,3,0))","v":{"$error":"#REF!"}},"神戸",{"$f":"IF(D1793=\"\",\"\",VLOOKUP(D1793,#REF!,4,0))","v":{"$error":"#REF!"}},{"$f":"IF(C1793=\"\",\"\",VLOOKUP(D1793,#REF!,5,0))","v":{"$error":"#REF!"}},"輸入","カナダ",{"$f":"IF(H1793=\"\",\"\",VLOOKUP(H1793,#REF!,2,0))","v":{"$error":"#REF!"}},{"v":25001.5,"d":"25,002"},320,{"v":23872.5,"d":"23,873"},{"v":1449,"d":"1,449"}]
["H26",{"$f":"IF(D1794=\"\",\"\",VLOOKUP(D1794,#REF!,2,0))","v":{"$error":"#REF!"}},{"$f":"IF(D1794=\"\",\"\",VLOOKUP(D1794,#REF!,3,0))","v":{"$error":"#REF!"}},"神戸",{"$f":"IF(D1794=\"\",\"\",VLOOKUP(D1794,#REF!,4,0))","v":{"$error":"#REF!"}},{"$f":"IF(C1794=\"\",\"\",VLOOKUP(D1794,#REF!,5,0))","v":{"$error":"#REF!"}},"輸入","パナマ",{"$f":"IF(H1794=\"\",\"\",VLOOKUP(H1794,#REF!,2,0))","v":{"$error":"#REF!"}},{"v":5198.25,"d":"5,198"},188,{"v":2323.5,"d":"2,324"},{"v":3063,"d":"3,063"}]
["H26",{"$f":"IF(D1795=\"\",\"\",VLOOKUP(D1795,#REF!,2,0))","v":{"$error":"#REF!"}},{"$f":"IF(D1795=\"\",\"\",VLOOKUP(D1795,#REF!,3,0))","v":{"$error":"#REF!"}},"和歌山下津",{"$f":"IF(D1795=\"\",\"\",VLOOKUP(D1795,#REF!,4,0))","v":{"$error":"#REF!"}},{"$f":"IF(C1795=\"\",\"\",VLOOKUP(D1795,#REF!,5,0))","v":{"$error":"#REF!"}},"輸入","韓国",{"$f":"IF(H1795=\"\",\"\",VLOOKUP(H1795,#REF!,2,0))","v":{"$error":"#REF!"}},{"v":3199,"d":"3,199"},null,{"v":3194,"d":"3,194"},5]
["H27",{"$f":"IF(D1796=\"\",\"\",VLOOKUP(D1796,#REF!,2,0))","v":{"$error":"#REF!"}},{"$f":"IF(D1796=\"\",\"\",VLOOKUP(D1796,#REF!,3,0))","v":{"$error":"#REF!"}},"舞鶴",{"$f":"IF(D1796=\"\",\"\",VLOOKUP(D1796,#REF!,4,0))","v":{"$error":"#REF!"}},{"$f":"IF(C1796=\"\",\"\",VLOOKUP(D1796,#REF!,5,0))","v":{"$error":"#REF!"}},"輸入","韓国",{"$f":"IF(H1796=\"\",\"\",VLOOKUP(H1796,#REF!,2,0))","v":{"$error":"#REF!"}},{"v":3397,"d":"3,397"},null,{"v":2807,"d":"2,807"},590]
["H27",{"$f":"IF(D1797=\"\",\"\",VLOOKUP(D1797,#REF!,2,0))","v":{"$error":"#REF!"}},{"$f":"IF(D1797=\"\",\"\",VLOOKUP(D1797,#REF!,3,0))","v":{"$error":"#REF!"}},"舞鶴",{"$f":"IF(D1797=\"\",\"\",VLOOKUP(D1797,#REF!,4,0))","v":{"$error":"#REF!"}},{"$f":"IF(C1797=\"\",\"\",VLOOKUP(D1797,#REF!,5,0))","v":{"$error":"#REF!"}},"輸入","中国",{"$f":"IF(H1797=\"\",\"\",VLOOKUP(H1797,#REF!,2,0))","v":{"$error":"#REF!"}},{"v":2343,"d":"2,343"},null,{"v":2342,"d":"2,342"},1]
["H27",{"$f":"IF(D1798=\"\",\"\",VLOOKUP(D1798,#REF!,2,0))","v":{"$error":"#REF!"}},{"$f":"IF(D1798=\"\",\"\",VLOOKUP(D1798,#REF!,3,0))","v":{"$error":"#REF!"}},"堺泉北",{"$f":"IF(D1798=\"\",\"\",VLOOKUP(D1798,#REF!,4,0))","v":{"$error":"#REF!"}},{"$f":"IF(C1798=\"\",\"\",VLOOKUP(D1798,#REF!,5,0))","v":{"$error":"#REF!"}},"輸入","中国",{"$f":"IF(H1798=\"\",\"\",VLOOKUP(H1798,#REF!,2,0))","v":{"$error":"#REF!"}},{"v":10048,"d":"10,048"},null,{"v":9619,"d":"9,619"},429]
["H27",{"$f":"IF(D1799=\"\",\"\",VLOOKUP(D1799,#REF!,2,0))","v":{"$error":"#REF!"}},{"$f":"IF(D1799=\"\",\"\",VLOOKUP(D1799,#REF!,3,0))","v":{"$error":"#REF!"}},"大阪",{"$f":"IF(D1799=\"\",\"\",VLOOKUP(D1799,#REF!,4,0))","v":{"$error":"#REF!"}},{"$f":"IF(C1799=\"\",\"\",VLOOKUP(D1799,#REF!,5,0))","v":{"$error":"#REF!"}},"輸入","韓国",{"$f":"IF(H1799=\"\",\"\",VLOOKUP(H1799,#REF!,2,0))","v":{"$error":"#REF!"}},{"v":101559.1,"d":"101,559"},null,{"v":95953.6,"d":"95,954"},{"v":5605.5,"d":"5,606"}]
["H27",{"$f":"IF(D1800=\"\",\"\",VLOOKUP(D1800,#REF!,2,0))","v":{"$error":"#REF!"}},{"$f":"IF(D1800=\"\",\"\",VLOOKUP(D1800,#REF!,3,0))","v":{"$error":"#REF!"}},"大阪",{"$f":"IF(D1800=\"\",\"\",VLOOKUP(D1800,#REF!,4,0))","v":{"$error":"#REF!"}},{"$f":"IF(C1800=\"\",\"\",VLOOKUP(D1800,#REF!,5,0))","v":{"$error":"#REF!"}},"輸入","台湾",{"$f":"IF(H1800=\"\",\"\",VLOOKUP(H1800,#REF!,2,0))","v":{"$error":"#REF!"}},{"v":76094,"d":"76,094"},null,{"v":75407,"d":"75,407"},687]
["H27",{"$f":"IF(D1801=\"\",\"\",VLOOKUP(D1801,#REF!,2,0))","v":{"$error":"#REF!"}},{"$f":"IF(D1801=\"\",\"\",VLOOKUP(D1801,#REF!,3,0))","v":{"$error":"#REF!"}},"大阪",{"$f":"IF(D1801=\"\",\"\",VLOOKUP(D1801,#REF!,4,0))","v":{"$error":"#REF!"}},{"$f":"IF(C1801=\"\",\"\",VLOOKUP(D1801,#REF!,5,0))","v":{"$error":"#REF!"}},"輸入","中国",{"$f":"IF(H1801=\"\",\"\",VLOOKUP(H1801,#REF!,2,0))","v":{"$error":"#REF!"}},{"v":586225,"d":"586,225"},null,{"v":574348,"d":"574,348"},{"v":11877,"d":"11,877"}]
["H27",{"$f":"IF(D1802=\"\",\"\",VLOOKUP(D1802,#REF!,2,0))","v":{"$error":"#REF!"}},{"$f":"IF(D1802=\"\",\"\",VLOOKUP(D1802,#REF!,3,0))","v":{"$error":"#REF!"}},"大阪",{"$f":"IF(D1802=\"\",\"\",VLOOKUP(D1802,#REF!,4,0))","v":{"$error":"#REF!"}},{"$f":"IF(C1802=\"\",\"\",VLOOKUP(D1802,#REF!,5,0))","v":{"$error":"#REF!"}},"輸入","香港",{"$f":"IF(H1802=\"\",\"\",VLOOKUP(H1802,#REF!,2,0))","v":{"$error":"#REF!"}},{"v":103202,"d":"103,202"},null,{"v":102899,"d":"102,899"},303]
["H27",{"$f":"IF(D1803=\"\",\"\",VLOOKUP(D1803,#REF!,2,0))","v":{"$error":"#REF!"}},{"$f":"IF(D1803=\"\",\"\",VLOOKUP(D1803,#REF!,3,0))","v":{"$error":"#REF!"}},"大阪",{"$f":"IF(D1803=\"\",\"\",VLOOKUP(D1803,#REF!,4,0))","v":{"$error":"#REF!"}},{"$f":"IF(C1803=\"\",\"\",VLOOKUP(D1803,#REF!,5,0))","v":{"$error":"#REF!"}},"輸入","カンボジア",{"$f":"IF(H1803=\"\",\"\",VLOOKUP(H1803,#REF!,2,0))","v":{"$error":"#REF!"}},81,null,81,0]
["H27",{"$f":"IF(D1804=\"\",\"\",VLOOKUP(D1804,#REF!,2,0))","v":{"$error":"#REF!"}},{"$f":"IF(D1804=\"\",\"\",VLOOKUP(D1804,#REF!,3,0))","v":{"$error":"#REF!"}},"大阪",{"$f":"IF(D1804=\"\",\"\",VLOOKUP(D1804,#REF!,4,0))","v":{"$error":"#REF!"}},{"$f":"IF(C1804=\"\",\"\",VLOOKUP(D1804,#REF!,5,0))","v":{"$error":"#REF!"}},"輸入","シンガポール",{"$f":"IF(H1804=\"\",\"\",VLOOKUP(H1804,#REF!,2,0))","v":{"$error":"#REF!"}},{"v":36618,"d":"36,618"},null,{"v":36603,"d":"36,603"},15]
["H27",{"$f":"IF(D1805=\"\",\"\",VLOOKUP(D1805,#REF!,2,0))","v":{"$error":"#REF!"}},{"$f":"IF(D1805=\"\",\"\",VLOOKUP(D1805,#REF!,3,0))","v":{"$error":"#REF!"}},"大阪",{"$f":"IF(D1805=\"\",\"\",VLOOKUP(D1805,#REF!,4,0))","v":{"$error":"#REF!"}},{"$f":"IF(C1805=\"\",\"\",VLOOKUP(D1805,#REF!,5,0))","v":{"$error":"#REF!"}},"輸入","タイ",{"$f":"IF(H1805=\"\",\"\",VLOOKUP(H1805,#REF!,2,0))","v":{"$error":"#REF!"}},{"v":59622,"d":"59,622"},null,{"v":59235,"d":"59,235"},387]
["H27",{"$f":"IF(D1806=\"\",\"\",VLOOKUP(D1806,#REF!,2,0))","v":{"$error":"#REF!"}},{"$f":"IF(D1806=\"\",\"\",VLOOKUP(D1806,#REF!,3,0))","v":{"$error":"#REF!"}},"大阪",{"$f":"IF(D1806=\"\",\"\",VLOOKUP(D1806,#REF!,4,0))","v":{"$error":"#REF!"}},{"$f":"IF(C1806=\"\",\"\",VLOOKUP(D1806,#REF!,5,0))","v":{"$error":"#REF!"}},"輸入","フィリピン",{"$f":"IF(H1806=\"\",\"\",VLOOKUP(H1806,#REF!,2,0))","v":{"$error":"#REF!"}},{"v":6992,"d":"6,992"},null,{"v":6911,"d":"6,911"},81]
["H27",{"$f":"IF(D1807=\"\",\"\",VLOOKUP(D1807,#REF!,2,0))","v":{"$error":"#REF!"}},{"$f":"IF(D1807=\"\",\"\",VLOOKUP(D1807,#REF!,3,0))","v":{"$error":"#REF!"}},"大阪",{"$f":"IF(D1807=\"\",\"\",VLOOKUP(D1807,#REF!,4,0))","v":{"$error":"#REF!"}},{"$f":"IF(C1807=\"\",\"\",VLOOKUP(D1807,#REF!,5,0))","v":{"$error":"#REF!"}},"輸入","マレーシア",{"$f":"IF(H1807=\"\",\"\",VLOOKUP(H1807,#REF!,2,0))","v":{"$error":"#REF!"}},{"v":19666,"d":"19,666"},null,{"v":19666,"d":"19,666"},0]
["H27",{"$f":"IF(D1808=\"\",\"\",VLOOKUP(D1808,#REF!,2,0))","v":{"$error":"#REF!"}},{"$f":"IF(D1808=\"\",\"\",VLOOKUP(D1808,#REF!,3,0))","v":{"$error":"#REF!"}},"大阪",{"$f":"IF(D1808=\"\",\"\",VLOOKUP(D1808,#REF!,4,0))","v":{"$error":"#REF!"}},{"$f":"IF(C1808=\"\",\"\",VLOOKUP(D1808,#REF!,5,0))","v":{"$error":"#REF!"}},"輸入","ベトナム",{"$f":"IF(H1808=\"\",\"\",VLOOKUP(H1808,#REF!,2,0))","v":{"$error":"#REF!"}},{"v":38581,"d":"38,581"},null,{"v":38456,"d":"38,456"},125]
["H27",{"$f":"IF(D1809=\"\",\"\",VLOOKUP(D1809,#REF!,2,0))","v":{"$error":"#REF!"}},{"$f":"IF(D1809=\"\",\"\",VLOOKUP(D1809,#REF!,3,0))","v":{"$error":"#REF!"}},"大阪",{"$f":"IF(D1809=\"\",\"\",VLOOKUP(D1809,#REF!,4,0))","v":{"$error":"#REF!"}},{"$f":"IF(C1809=\"\",\"\",VLOOKUP(D1809,#REF!,5,0))","v":{"$error":"#REF!"}},"輸入","オーストラリア",{"$f":"IF(H1809=\"\",\"\",VLOOKUP(H1809,#REF!,2,0))","v":{"$error":"#REF!"}},{"v":27195,"d":"27,195"},null,{"v":20332,"d":"20,332"},{"v":6863,"d":"6,863"}]
["H27",{"$f":"IF(D1810=\"\",\"\",VLOOKUP(D1810,#REF!,2,0))","v":{"$error":"#REF!"}},{"$f":"IF(D1810=\"\",\"\",VLOOKUP(D1810,#REF!,3,0))","v":{"$error":"#REF!"}},"大阪",{"$f":"IF(D1810=\"\",\"\",VLOOKUP(D1810,#REF!,4,0))","v":{"$error":"#REF!"}},{"$f":"IF(C1810=\"\",\"\",VLOOKUP(D1810,#REF!,5,0))","v":{"$error":"#REF!"}},"輸入","アメリカ合衆国",{"$f":"IF(H1810=\"\",\"\",VLOOKUP(H1810,#REF!,2,0))","v":{"$error":"#REF!"}},{"v":9649,"d":"9,649"},null,{"v":9072,"d":"9,072"},577]
["H27",{"$f":"IF(D1811=\"\",\"\",VLOOKUP(D1811,#REF!,2,0))","v":{"$error":"#REF!"}},{"$f":"IF(D1811=\"\",\"\",VLOOKUP(D1811,#REF!,3,0))","v":{"$error":"#REF!"}},"大阪",{"$f":"IF(D1811=\"\",\"\",VLOOKUP(D1811,#REF!,4,0))","v":{"$error":"#REF!"}},{"$f":"IF(C1811=\"\",\"\",VLOOKUP(D1811,#REF!,5,0))","v":{"$error":"#REF!"}},"輸入","カナダ",{"$f":"IF(H1811=\"\",\"\",VLOOKUP(H1811,#REF!,2,0))","v":{"$error":"#REF!"}},{"v":7508,"d":"7,508"},null,{"v":6942,"d":"6,942"},566]
["H27",{"$f":"IF(D1812=\"\",\"\",VLOOKUP(D1812,#REF!,2,0))","v":{"$error":"#REF!"}},{"$f":"IF(D1812=\"\",\"\",VLOOKUP(D1812,#REF!,3,0))","v":{"$error":"#REF!"}},"神戸",{"$f":"IF(D1812=\"\",\"\",VLOOKUP(D1812,#REF!,4,0))","v":{"$error":"#REF!"}},{"$f":"IF(C1812=\"\",\"\",VLOOKUP(D1812,#REF!,5,0))","v":{"$error":"#REF!"}},"輸入","韓国",{"$f":"IF(H1812=\"\",\"\",VLOOKUP(H1812,#REF!,2,0))","v":{"$error":"#REF!"}},{"v":73620.75,"d":"73,621"},20,{"v":59787,"d":"59,787"},{"v":13833.75,"d":"13,834"}]
["H27",{"$f":"IF(D1813=\"\",\"\",VLOOKUP(D1813,#REF!,2,0))","v":{"$error":"#REF!"}},{"$f":"IF(D1813=\"\",\"\",VLOOKUP(D1813,#REF!,3,0))","v":{"$error":"#REF!"}},"神戸",{"$f":"IF(D1813=\"\",\"\",VLOOKUP(D1813,#REF!,4,0))","v":{"$error":"#REF!"}},{"$f":"IF(C1813=\"\",\"\",VLOOKUP(D1813,#REF!,5,0))","v":{"$error":"#REF!"}},"輸入","台湾",{"$f":"IF(H1813=\"\",\"\",VLOOKUP(H1813,#REF!,2,0))","v":{"$error":"#REF!"}},{"v":62759.25,"d":"62,759"},null,{"v":58559,"d":"58,559"},{"v":4200.25,"d":"4,200"}]
["H27",{"$f":"IF(D1814=\"\",\"\",VLOOKUP(D1814,#REF!,2,0))","v":{"$error":"#REF!"}},{"$f":"IF(D1814=\"\",\"\",VLOOKUP(D1814,#REF!,3,0))","v":{"$error":"#REF!"}},"神戸",{"$f":"IF(D1814=\"\",\"\",VLOOKUP(D1814,#REF!,4,0))","v":{"$error":"#REF!"}},{"$f":"IF(C1814=\"\",\"\",VLOOKUP(D1814,#REF!,5,0))","v":{"$error":"#REF!"}},"輸入","中国",{"$f":"IF(H1814=\"\",\"\",VLOOKUP(H1814,#REF!,2,0))","v":{"$error":"#REF!"}},{"v":273552,"d":"273,552"},{"v":4291,"d":"4,291"},{"v":249674.25,"d":"249,674"},{"v":23877.75,"d":"23,878"}]
["H27",{"$f":"IF(D1815=\"\",\"\",VLOOKUP(D1815,#REF!,2,0))","v":{"$error":"#REF!"}},{"$f":"IF(D1815=\"\",\"\",VLOOKUP(D1815,#REF!,3,0))","v":{"$error":"#REF!"}},"神戸",{"$f":"IF(D1815=\"\",\"\",VLOOKUP(D1815,#REF!,4,0))","v":{"$error":"#REF!"}},{"$f":"IF(C1815=\"\",\"\",VLOOKUP(D1815,#REF!,5,0))","v":{"$error":"#REF!"}},"輸入","香港",{"$f":"IF(H1815=\"\",\"\",VLOOKUP(H1815,#REF!,2,0))","v":{"$error":"#REF!"}},{"v":55561.25,"d":"55,561"},2,{"v":53962.25,"d":"53,962"},{"v":1599,"d":"1,599"}]
["H27",{"$f":"IF(D1816=\"\",\"\",VLOOKUP(D1816,#REF!,2,0))","v":{"$error":"#REF!"}},{"$f":"IF(D1816=\"\",\"\",VLOOKUP(D1816,#REF!,3,0))","v":{"$error":"#REF!"}},"神戸",{"$f":"IF(D1816=\"\",\"\",VLOOKUP(D1816,#REF!,4,0))","v":{"$error":"#REF!"}},{"$f":"IF(C1816=\"\",\"\",VLOOKUP(D1816,#REF!,5,0))","v":{"$error":"#REF!"}},"輸入","インドネシア",{"$f":"IF(H1816=\"\",\"\",VLOOKUP(H1816,#REF!,2,0))","v":{"$error":"#REF!"}},{"v":14055,"d":"14,055"},null,{"v":13644,"d":"13,644"},411]
["H27",{"$f":"IF(D1817=\"\",\"\",VLOOKUP(D1817,#REF!,2,0))","v":{"$error":"#REF!"}},{"$f":"IF(D1817=\"\",\"\",VLOOKUP(D1817,#REF!,3,0))","v":{"$error":"#REF!"}},"神戸",{"$f":"IF(D1817=\"\",\"\",VLOOKUP(D1817,#REF!,4,0))","v":{"$error":"#REF!"}},{"$f":"IF(C1817=\"\",\"\",VLOOKUP(D1817,#REF!,5,0))","v":{"$error":"#REF!"}},"輸入","カンボジア",{"$f":"IF(H1817=\"\",\"\",VLOOKUP(H1817,#REF!,2,0))","v":{"$error":"#REF!"}},9,2,9,0]
["H27",{"$f":"IF(D1818=\"\",\"\",VLOOKUP(D1818,#REF!,2,0))","v":{"$error":"#REF!"}},{"$f":"IF(D1818=\"\",\"\",VLOOKUP(D1818,#REF!,3,0))","v":{"$error":"#REF!"}},"神戸",{"$f":"IF(D1818=\"\",\"\",VLOOKUP(D1818,#REF!,4,0))","v":{"$error":"#REF!"}},{"$f":"IF(C1818=\"\",\"\",VLOOKUP(D1818,#REF!,5,0))","v":{"$error":"#REF!"}},"輸入","シンガポール",{"$f":"IF(H1818=\"\",\"\",VLOOKUP(H1818,#REF!,2,0))","v":{"$error":"#REF!"}},{"v":66478.75,"d":"66,479"},6,{"v":64466,"d":"64,466"},{"v":2012.75,"d":"2,013"}]
["H27",{"$f":"IF(D1819=\"\",\"\",VLOOKUP(D1819,#REF!,2,0))","v":{"$error":"#REF!"}},{"$f":"IF(D1819=\"\",\"\",VLOOKUP(D1819,#REF!,3,0))","v":{"$error":"#REF!"}},"神戸",{"$f":"IF(D1819=\"\",\"\",VLOOKUP(D1819,#REF!,4,0))","v":{"$error":"#REF!"}},{"$f":"IF(C1819=\"\",\"\",VLOOKUP(D1819,#REF!,5,0))","v":{"$error":"#REF!"}},"輸入","タイ",{"$f":"IF(H1819=\"\",\"\",VLOOKUP(H1819,#REF!,2,0))","v":{"$error":"#REF!"}},{"v":47354,"d":"47,354"},626,{"v":46286,"d":"46,286"},{"v":1068,"d":"1,068"}]
["H27",{"$f":"IF(D1820=\"\",\"\",VLOOKUP(D1820,#REF!,2,0))","v":{"$error":"#REF!"}},{"$f":"IF(D1820=\"\",\"\",VLOOKUP(D1820,#REF!,3,0))","v":{"$error":"#REF!"}},"神戸",{"$f":"IF(D1820=\"\",\"\",VLOOKUP(D1820,#REF!,4,0))","v":{"$error":"#REF!"}},{"$f":"IF(C1820=\"\",\"\",VLOOKUP(D1820,#REF!,5,0))","v":{"$error":"#REF!"}},"輸入","フィリピン",{"$f":"IF(H1820=\"\",\"\",VLOOKUP(H1820,#REF!,2,0))","v":{"$error":"#REF!"}},{"v":7374,"d":"7,374"},null,{"v":5182,"d":"5,182"},{"v":2192,"d":"2,192"}]
["H27",{"$f":"IF(D1821=\"\",\"\",VLOOKUP(D1821,#REF!,2,0))","v":{"$error":"#REF!"}},{"$f":"IF(D1821=\"\",\"\",VLOOKUP(D1821,#REF!,3,0))","v":{"$error":"#REF!"}},"神戸",{"$f":"IF(D1821=\"\",\"\",VLOOKUP(D1821,#REF!,4,0))","v":{"$error":"#REF!"}},{"$f":"IF(C1821=\"\",\"\",VLOOKUP(D1821,#REF!,5,0))","v":{"$error":"#REF!"}},"輸入","マレーシア",{"$f":"IF(H1821=\"\",\"\",VLOOKUP(H1821,#REF!,2,0))","v":{"$error":"#REF!"}},{"v":30441.5,"d":"30,442"},null,{"v":28994.5,"d":"28,995"},{"v":1447,"d":"1,447"}]
["H27",{"$f":"IF(D1822=\"\",\"\",VLOOKUP(D1822,#REF!,2,0))","v":{"$error":"#REF!"}},{"$f":"IF(D1822=\"\",\"\",VLOOKUP(D1822,#REF!,3,0))","v":{"$error":"#REF!"}},"神戸",{"$f":"IF(D1822=\"\",\"\",VLOOKUP(D1822,#REF!,4,0))","v":{"$error":"#REF!"}},{"$f":"IF(C1822=\"\",\"\",VLOOKUP(D1822,#REF!,5,0))","v":{"$error":"#REF!"}},"輸入","ベトナム",{"$f":"IF(H1822=\"\",\"\",VLOOKUP(H1822,#REF!,2,0))","v":{"$error":"#REF!"}},{"v":37059,"d":"37,059"},{"v":3410,"d":"3,410"},{"v":36592,"d":"36,592"},467]
["H27",{"$f":"IF(D1823=\"\",\"\",VLOOKUP(D1823,#REF!,2,0))","v":{"$error":"#REF!"}},{"$f":"IF(D1823=\"\",\"\",VLOOKUP(D1823,#REF!,3,0))","v":{"$error":"#REF!"}},"神戸",{"$f":"IF(D1823=\"\",\"\",VLOOKUP(D1823,#REF!,4,0))","v":{"$error":"#REF!"}},{"$f":"IF(C1823=\"\",\"\",VLOOKUP(D1823,#REF!,5,0))","v":{"$error":"#REF!"}},"輸入","スリランカ",{"$f":"IF(H1823=\"\",\"\",VLOOKUP(H1823,#REF!,2,0))","v":{"$error":"#REF!"}},{"v":1542,"d":"1,542"},null,{"v":1510,"d":"1,510"},32]
["H27",{"$f":"IF(D1824=\"\",\"\",VLOOKUP(D1824,#REF!,2,0))","v":{"$error":"#REF!"}},{"$f":"IF(D1824=\"\",\"\",VLOOKUP(D1824,#REF!,3,0))","v":{"$error":"#REF!"}},"神戸",{"$f":"IF(D1824=\"\",\"\",VLOOKUP(D1824,#REF!,4,0))","v":{"$error":"#REF!"}},{"$f":"IF(C1824=\"\",\"\",VLOOKUP(D1824,#REF!,5,0))","v":{"$error":"#REF!"}},"輸入","アラブ首長国連邦",{"$f":"IF(H1824=\"\",\"\",VLOOKUP(H1824,#REF!,2,0))","v":{"$error":"#REF!"}},32,null,0,32]
["H27",{"$f":"IF(D1825=\"\",\"\",VLOOKUP(D1825,#REF!,2,0))","v":{"$error":"#REF!"}},{"$f":"IF(D1825=\"\",\"\",VLOOKUP(D1825,#REF!,3,0))","v":{"$error":"#REF!"}},"神戸",{"$f":"IF(D1825=\"\",\"\",VLOOKUP(D1825,#REF!,4,0))","v":{"$error":"#REF!"}},{"$f":"IF(C1825=\"\",\"\",VLOOKUP(D1825,#REF!,5,0))","v":{"$error":"#REF!"}},"輸入","オマーン",{"$f":"IF(H1825=\"\",\"\",VLOOKUP(H1825,#REF!,2,0))","v":{"$error":"#REF!"}},16,null,0,16]
["H27",{"$f":"IF(D1826=\"\",\"\",VLOOKUP(D1826,#REF!,2,0))","v":{"$error":"#REF!"}},{"$f":"IF(D1826=\"\",\"\",VLOOKUP(D1826,#REF!,3,0))","v":{"$error":"#REF!"}},"神戸",{"$f":"IF(D1826=\"\",\"\",VLOOKUP(D1826,#REF!,4,0))","v":{"$error":"#REF!"}},{"$f":"IF(C1826=\"\",\"\",VLOOKUP(D1826,#REF!,5,0))","v":{"$error":"#REF!"}},"輸入","サウジアラビア",{"$f":"IF(H1826=\"\",\"\",VLOOKUP(H1826,#REF!,2,0))","v":{"$error":"#REF!"}},55,null,0,55]
["H27",{"$f":"IF(D1827=\"\",\"\",VLOOKUP(D1827,#REF!,2,0))","v":{"$error":"#REF!"}},{"$f":"IF(D1827=\"\",\"\",VLOOKUP(D1827,#REF!,3,0))","v":{"$error":"#REF!"}},"神戸",{"$f":"IF(D1827=\"\",\"\",VLOOKUP(D1827,#REF!,4,0))","v":{"$error":"#REF!"}},{"$f":"IF(C1827=\"\",\"\",VLOOKUP(D1827,#REF!,5,0))","v":{"$error":"#REF!"}},"輸入","バーレーン",{"$f":"IF(H1827=\"\",\"\",VLOOKUP(H1827,#REF!,2,0))","v":{"$error":"#REF!"}},2,null,0,2]
["H27",{"$f":"IF(D1828=\"\",\"\",VLOOKUP(D1828,#REF!,2,0))","v":{"$error":"#REF!"}},{"$f":"IF(D1828=\"\",\"\",VLOOKUP(D1828,#REF!,3,0))","v":{"$error":"#REF!"}},"神戸",{"$f":"IF(D1828=\"\",\"\",VLOOKUP(D1828,#REF!,4,0))","v":{"$error":"#REF!"}},{"$f":"IF(C1828=\"\",\"\",VLOOKUP(D1828,#REF!,5,0))","v":{"$error":"#REF!"}},"輸入","オーストラリア",{"$f":"IF(H1828=\"\",\"\",VLOOKUP(H1828,#REF!,2,0))","v":{"$error":"#REF!"}},124,null,0,124]
["H27",{"$f":"IF(D1829=\"\",\"\",VLOOKUP(D1829,#REF!,2,0))","v":{"$error":"#REF!"}},{"$f":"IF(D1829=\"\",\"\",VLOOKUP(D1829,#REF!,3,0))","v":{"$error":"#REF!"}},"神戸",{"$f":"IF(D1829=\"\",\"\",VLOOKUP(D1829,#REF!,4,0))","v":{"$error":"#REF!"}},{"$f":"IF(C1829=\"\",\"\",VLOOKUP(D1829,#REF!,5,0))","v":{"$error":"#REF!"}},"輸入","仏領ポリネシア",{"$f":"IF(H1829=\"\",\"\",VLOOKUP(H1829,#REF!,2,0))","v":{"$error":"#REF!"}},23,null,3,20]
["H27",{"$f":"IF(D1830=\"\",\"\",VLOOKUP(D1830,#REF!,2,0))","v":{"$error":"#REF!"}},{"$f":"IF(D1830=\"\",\"\",VLOOKUP(D1830,#REF!,3,0))","v":{"$error":"#REF!"}},"神戸",{"$f":"IF(D1830=\"\",\"\",VLOOKUP(D1830,#REF!,4,0))","v":{"$error":"#REF!"}},{"$f":"IF(C1830=\"\",\"\",VLOOKUP(D1830,#REF!,5,0))","v":{"$error":"#REF!"}},"輸入","グアム",{"$f":"IF(H1830=\"\",\"\",VLOOKUP(H1830,#REF!,2,0))","v":{"$error":"#REF!"}},15,null,0,15]
["H27",{"$f":"IF(D1831=\"\",\"\",VLOOKUP(D1831,#REF!,2,0))","v":{"$error":"#REF!"}},{"$f":"IF(D1831=\"\",\"\",VLOOKUP(D1831,#REF!,3,0))","v":{"$error":"#REF!"}},"神戸",{"$f":"IF(D1831=\"\",\"\",VLOOKUP(D1831,#REF!,4,0))","v":{"$error":"#REF!"}},{"$f":"IF(C1831=\"\",\"\",VLOOKUP(D1831,#REF!,5,0))","v":{"$error":"#REF!"}},"輸入","サモア独立国",{"$f":"IF(H1831=\"\",\"\",VLOOKUP(H1831,#REF!,2,0))","v":{"$error":"#REF!"}},14,null,0,14]
["H27",{"$f":"IF(D1832=\"\",\"\",VLOOKUP(D1832,#REF!,2,0))","v":{"$error":"#REF!"}},{"$f":"IF(D1832=\"\",\"\",VLOOKUP(D1832,#REF!,3,0))","v":{"$error":"#REF!"}},"神戸",{"$f":"IF(D1832=\"\",\"\",VLOOKUP(D1832,#REF!,4,0))","v":{"$error":"#REF!"}},{"$f":"IF(C1832=\"\",\"\",VLOOKUP(D1832,#REF!,5,0))","v":{"$error":"#REF!"}},"輸入","ソロモン諸島",{"$f":"IF(H1832=\"\",\"\",VLOOKUP(H1832,#REF!,2,0))","v":{"$error":"#REF!"}},2,null,0,2]
["H27",{"$f":"IF(D1833=\"\",\"\",VLOOKUP(D1833,#REF!,2,0))","v":{"$error":"#REF!"}},{"$f":"IF(D1833=\"\",\"\",VLOOKUP(D1833,#REF!,3,0))","v":{"$error":"#REF!"}},"神戸",{"$f":"IF(D1833=\"\",\"\",VLOOKUP(D1833,#REF!,4,0))","v":{"$error":"#REF!"}},{"$f":"IF(C1833=\"\",\"\",VLOOKUP(D1833,#REF!,5,0))","v":{"$error":"#REF!"}},"輸入","トンガ",{"$f":"IF(H1833=\"\",\"\",VLOOKUP(H1833,#REF!,2,0))","v":{"$error":"#REF!"}},5,null,0,5]
["H27",{"$f":"IF(D1834=\"\",\"\",VLOOKUP(D1834,#REF!,2,0))","v":{"$error":"#REF!"}},{"$f":"IF(D1834=\"\",\"\",VLOOKUP(D1834,#REF!,3,0))","v":{"$error":"#REF!"}},"神戸",{"$f":"IF(D1834=\"\",\"\",VLOOKUP(D1834,#REF!,4,0))","v":{"$error":"#REF!"}},{"$f":"IF(C1834=\"\",\"\",VLOOKUP(D1834,#REF!,5,0))","v":{"$error":"#REF!"}},"輸入","ニューカレドニア",{"$f":"IF(H1834=\"\",\"\",VLOOKUP(H1834,#REF!,2,0))","v":{"$error":"#REF!"}},25,null,0,25]
["H27",{"$f":"IF(D1835=\"\",\"\",VLOOKUP(D1835,#REF!,2,0))","v":{"$error":"#REF!"}},{"$f":"IF(D1835=\"\",\"\",VLOOKUP(D1835,#REF!,3,0))","v":{"$error":"#REF!"}},"神戸",{"$f":"IF(D1835=\"\",\"\",VLOOKUP(D1835,#REF!,4,0))","v":{"$error":"#REF!"}},{"$f":"IF(C1835=\"\",\"\",VLOOKUP(D1835,#REF!,5,0))","v":{"$error":"#REF!"}},"輸入","ニュージーランド",{"$f":"IF(H1835=\"\",\"\",VLOOKUP(H1835,#REF!,2,0))","v":{"$error":"#REF!"}},{"v":8060,"d":"8,060"},2,{"v":7276,"d":"7,276"},784]
["H27",{"$f":"IF(D1836=\"\",\"\",VLOOKUP(D1836,#REF!,2,0))","v":{"$error":"#REF!"}},{"$f":"IF(D1836=\"\",\"\",VLOOKUP(D1836,#REF!,3,0))","v":{"$error":"#REF!"}},"神戸",{"$f":"IF(D1836=\"\",\"\",VLOOKUP(D1836,#REF!,4,0))","v":{"$error":"#REF!"}},{"$f":"IF(C1836=\"\",\"\",VLOOKUP(D1836,#REF!,5,0))","v":{"$error":"#REF!"}},"輸入","パプアニューギニア",{"$f":"IF(H1836=\"\",\"\",VLOOKUP(H1836,#REF!,2,0))","v":{"$error":"#REF!"}},25,null,5,20]
["H27",{"$f":"IF(D1837=\"\",\"\",VLOOKUP(D1837,#REF!,2,0))","v":{"$error":"#REF!"}},{"$f":"IF(D1837=\"\",\"\",VLOOKUP(D1837,#REF!,3,0))","v":{"$error":"#REF!"}},"神戸",{"$f":"IF(D1837=\"\",\"\",VLOOKUP(D1837,#REF!,4,0))","v":{"$error":"#REF!"}},{"$f":"IF(C1837=\"\",\"\",VLOOKUP(D1837,#REF!,5,0))","v":{"$error":"#REF!"}},"輸入","フィジー",{"$f":"IF(H1837=\"\",\"\",VLOOKUP(H1837,#REF!,2,0))","v":{"$error":"#REF!"}},71,null,68,3]
["H27",{"$f":"IF(D1838=\"\",\"\",VLOOKUP(D1838,#REF!,2,0))","v":{"$error":"#REF!"}},{"$f":"IF(D1838=\"\",\"\",VLOOKUP(D1838,#REF!,3,0))","v":{"$error":"#REF!"}},"神戸",{"$f":"IF(D1838=\"\",\"\",VLOOKUP(D1838,#REF!,4,0))","v":{"$error":"#REF!"}},{"$f":"IF(C1838=\"\",\"\",VLOOKUP(D1838,#REF!,5,0))","v":{"$error":"#REF!"}},"輸入","キリバス",{"$f":"IF(H1838=\"\",\"\",VLOOKUP(H1838,#REF!,2,0))","v":{"$error":"#REF!"}},1,null,0,1]
["H27",{"$f":"IF(D1839=\"\",\"\",VLOOKUP(D1839,#REF!,2,0))","v":{"$error":"#REF!"}},{"$f":"IF(D1839=\"\",\"\",VLOOKUP(D1839,#REF!,3,0))","v":{"$error":"#REF!"}},"神戸",{"$f":"IF(D1839=\"\",\"\",VLOOKUP(D1839,#REF!,4,0))","v":{"$error":"#REF!"}},{"$f":"IF(C1839=\"\",\"\",VLOOKUP(D1839,#REF!,5,0))","v":{"$error":"#REF!"}},"輸入","バヌアツ",{"$f":"IF(H1839=\"\",\"\",VLOOKUP(H1839,#REF!,2,0))","v":{"$error":"#REF!"}},20,null,16,4]
["H27",{"$f":"IF(D1840=\"\",\"\",VLOOKUP(D1840,#REF!,2,0))","v":{"$error":"#REF!"}},{"$f":"IF(D1840=\"\",\"\",VLOOKUP(D1840,#REF!,3,0))","v":{"$error":"#REF!"}},"神戸",{"$f":"IF(D1840=\"\",\"\",VLOOKUP(D1840,#REF!,4,0))","v":{"$error":"#REF!"}},{"$f":"IF(C1840=\"\",\"\",VLOOKUP(D1840,#REF!,5,0))","v":{"$error":"#REF!"}},"輸入","米領サモア",{"$f":"IF(H1840=\"\",\"\",VLOOKUP(H1840,#REF!,2,0))","v":{"$error":"#REF!"}},12,null,0,12]
["H27",{"$f":"IF(D1841=\"\",\"\",VLOOKUP(D1841,#REF!,2,0))","v":{"$error":"#REF!"}},{"$f":"IF(D1841=\"\",\"\",VLOOKUP(D1841,#REF!,3,0))","v":{"$error":"#REF!"}},"神戸",{"$f":"IF(D1841=\"\",\"\",VLOOKUP(D1841,#REF!,4,0))","v":{"$error":"#REF!"}},{"$f":"IF(C1841=\"\",\"\",VLOOKUP(D1841,#REF!,5,0))","v":{"$error":"#REF!"}},"輸入","ミクロネシア",{"$f":"IF(H1841=\"\",\"\",VLOOKUP(H1841,#REF!,2,0))","v":{"$error":"#REF!"}},62,null,0,62]
["H27",{"$f":"IF(D1842=\"\",\"\",VLOOKUP(D1842,#REF!,2,0))","v":{"$error":"#REF!"}},{"$f":"IF(D1842=\"\",\"\",VLOOKUP(D1842,#REF!,3,0))","v":{"$error":"#REF!"}},"神戸",{"$f":"IF(D1842=\"\",\"\",VLOOKUP(D1842,#REF!,4,0))","v":{"$error":"#REF!"}},{"$f":"IF(C1842=\"\",\"\",VLOOKUP(D1842,#REF!,5,0))","v":{"$error":"#REF!"}},"輸入","マーシャル諸島",{"$f":"IF(H1842=\"\",\"\",VLOOKUP(H1842,#REF!,2,0))","v":{"$error":"#REF!"}},12,null,0,12]
["H27",{"$f":"IF(D1843=\"\",\"\",VLOOKUP(D1843,#REF!,2,0))","v":{"$error":"#REF!"}},{"$f":"IF(D1843=\"\",\"\",VLOOKUP(D1843,#REF!,3,0))","v":{"$error":"#REF!"}},"神戸",{"$f":"IF(D1843=\"\",\"\",VLOOKUP(D1843,#REF!,4,0))","v":{"$error":"#REF!"}},{"$f":"IF(C1843=\"\",\"\",VLOOKUP(D1843,#REF!,5,0))","v":{"$error":"#REF!"}},"輸入","パラオ",{"$f":"IF(H1843=\"\",\"\",VLOOKUP(H1843,#REF!,2,0))","v":{"$error":"#REF!"}},7,null,0,7]
["H27",{"$f":"IF(D1844=\"\",\"\",VLOOKUP(D1844,#REF!,2,0))","v":{"$error":"#REF!"}},{"$f":"IF(D1844=\"\",\"\",VLOOKUP(D1844,#REF!,3,0))","v":{"$error":"#REF!"}},"神戸",{"$f":"IF(D1844=\"\",\"\",VLOOKUP(D1844,#REF!,4,0))","v":{"$error":"#REF!"}},{"$f":"IF(C1844=\"\",\"\",VLOOKUP(D1844,#REF!,5,0))","v":{"$error":"#REF!"}},"輸入","イギリス",{"$f":"IF(H1844=\"\",\"\",VLOOKUP(H1844,#REF!,2,0))","v":{"$error":"#REF!"}},{"v":7356,"d":"7,356"},null,{"v":6453,"d":"6,453"},903]
["H27",{"$f":"IF(D1845=\"\",\"\",VLOOKUP(D1845,#REF!,2,0))","v":{"$error":"#REF!"}},{"$f":"IF(D1845=\"\",\"\",VLOOKUP(D1845,#REF!,3,0))","v":{"$error":"#REF!"}},"神戸",{"$f":"IF(D1845=\"\",\"\",VLOOKUP(D1845,#REF!,4,0))","v":{"$error":"#REF!"}},{"$f":"IF(C1845=\"\",\"\",VLOOKUP(D1845,#REF!,5,0))","v":{"$error":"#REF!"}},"輸入","オランダ",{"$f":"IF(H1845=\"\",\"\",VLOOKUP(H1845,#REF!,2,0))","v":{"$error":"#REF!"}},{"v":32776,"d":"32,776"},null,{"v":31985,"d":"31,985"},791]
["H27",{"$f":"IF(D1846=\"\",\"\",VLOOKUP(D1846,#REF!,2,0))","v":{"$error":"#REF!"}},{"$f":"IF(D1846=\"\",\"\",VLOOKUP(D1846,#REF!,3,0))","v":{"$error":"#REF!"}},"神戸",{"$f":"IF(D1846=\"\",\"\",VLOOKUP(D1846,#REF!,4,0))","v":{"$error":"#REF!"}},{"$f":"IF(C1846=\"\",\"\",VLOOKUP(D1846,#REF!,5,0))","v":{"$error":"#REF!"}},"輸入","ドイツ",{"$f":"IF(H1846=\"\",\"\",VLOOKUP(H1846,#REF!,2,0))","v":{"$error":"#REF!"}},{"v":45018.75,"d":"45,019"},null,{"v":43909.75,"d":"43,910"},{"v":1109,"d":"1,109"}]
["H27",{"$f":"IF(D1847=\"\",\"\",VLOOKUP(D1847,#REF!,2,0))","v":{"$error":"#REF!"}},{"$f":"IF(D1847=\"\",\"\",VLOOKUP(D1847,#REF!,3,0))","v":{"$error":"#REF!"}},"神戸",{"$f":"IF(D1847=\"\",\"\",VLOOKUP(D1847,#REF!,4,0))","v":{"$error":"#REF!"}},{"$f":"IF(C1847=\"\",\"\",VLOOKUP(D1847,#REF!,5,0))","v":{"$error":"#REF!"}},"輸入","フランス",{"$f":"IF(H1847=\"\",\"\",VLOOKUP(H1847,#REF!,2,0))","v":{"$error":"#REF!"}},{"v":9184,"d":"9,184"},2,{"v":8238,"d":"8,238"},946]
["H27",{"$f":"IF(D1848=\"\",\"\",VLOOKUP(D1848,#REF!,2,0))","v":{"$error":"#REF!"}},{"$f":"IF(D1848=\"\",\"\",VLOOKUP(D1848,#REF!,3,0))","v":{"$error":"#REF!"}},"神戸",{"$f":"IF(D1848=\"\",\"\",VLOOKUP(D1848,#REF!,4,0))","v":{"$error":"#REF!"}},{"$f":"IF(C1848=\"\",\"\",VLOOKUP(D1848,#REF!,5,0))","v":{"$error":"#REF!"}},"輸入","ベルギー",{"$f":"IF(H1848=\"\",\"\",VLOOKUP(H1848,#REF!,2,0))","v":{"$error":"#REF!"}},468,null,445,23]
["H27",{"$f":"IF(D1849=\"\",\"\",VLOOKUP(D1849,#REF!,2,0))","v":{"$error":"#REF!"}},{"$f":"IF(D1849=\"\",\"\",VLOOKUP(D1849,#REF!,3,0))","v":{"$error":"#REF!"}},"神戸",{"$f":"IF(D1849=\"\",\"\",VLOOKUP(D1849,#REF!,4,0))","v":{"$error":"#REF!"}},{"$f":"IF(C1849=\"\",\"\",VLOOKUP(D1849,#REF!,5,0))","v":{"$error":"#REF!"}},"輸入","スウェーデン",{"$f":"IF(H1849=\"\",\"\",VLOOKUP(H1849,#REF!,2,0))","v":{"$error":"#REF!"}},{"v":4477,"d":"4,477"},null,{"v":4393,"d":"4,393"},84]
["H27",{"$f":"IF(D1850=\"\",\"\",VLOOKUP(D1850,#REF!,2,0))","v":{"$error":"#REF!"}},{"$f":"IF(D1850=\"\",\"\",VLOOKUP(D1850,#REF!,3,0))","v":{"$error":"#REF!"}},"神戸",{"$f":"IF(D1850=\"\",\"\",VLOOKUP(D1850,#REF!,4,0))","v":{"$error":"#REF!"}},{"$f":"IF(C1850=\"\",\"\",VLOOKUP(D1850,#REF!,5,0))","v":{"$error":"#REF!"}},"輸入","スペイン",{"$f":"IF(H1850=\"\",\"\",VLOOKUP(H1850,#REF!,2,0))","v":{"$error":"#REF!"}},211,null,42,169]
["H27",{"$f":"IF(D1851=\"\",\"\",VLOOKUP(D1851,#REF!,2,0))","v":{"$error":"#REF!"}},{"$f":"IF(D1851=\"\",\"\",VLOOKUP(D1851,#REF!,3,0))","v":{"$error":"#REF!"}},"神戸",{"$f":"IF(D1851=\"\",\"\",VLOOKUP(D1851,#REF!,4,0))","v":{"$error":"#REF!"}},{"$f":"IF(C1851=\"\",\"\",VLOOKUP(D1851,#REF!,5,0))","v":{"$error":"#REF!"}},"輸入","ロシア",{"$f":"IF(H1851=\"\",\"\",VLOOKUP(H1851,#REF!,2,0))","v":{"$error":"#REF!"}},616,null,305,311]
["H27",{"$f":"IF(D1852=\"\",\"\",VLOOKUP(D1852,#REF!,2,0))","v":{"$error":"#REF!"}},{"$f":"IF(D1852=\"\",\"\",VLOOKUP(D1852,#REF!,3,0))","v":{"$error":"#REF!"}},"神戸",{"$f":"IF(D1852=\"\",\"\",VLOOKUP(D1852,#REF!,4,0))","v":{"$error":"#REF!"}},{"$f":"IF(C1852=\"\",\"\",VLOOKUP(D1852,#REF!,5,0))","v":{"$error":"#REF!"}},"輸入","アメリカ合衆国",{"$f":"IF(H1852=\"\",\"\",VLOOKUP(H1852,#REF!,2,0))","v":{"$error":"#REF!"}},{"v":169594.5,"d":"169,595"},{"v":1433,"d":"1,433"},{"v":140639.25,"d":"140,639"},{"v":28955.25,"d":"28,955"}]
["H27",{"$f":"IF(D1853=\"\",\"\",VLOOKUP(D1853,#REF!,2,0))","v":{"$error":"#REF!"}},{"$f":"IF(D1853=\"\",\"\",VLOOKUP(D1853,#REF!,3,0))","v":{"$error":"#REF!"}},"神戸",{"$f":"IF(D1853=\"\",\"\",VLOOKUP(D1853,#REF!,4,0))","v":{"$error":"#REF!"}},{"$f":"IF(C1853=\"\",\"\",VLOOKUP(D1853,#REF!,5,0))","v":{"$error":"#REF!"}},"輸入","カナダ",{"$f":"IF(H1853=\"\",\"\",VLOOKUP(H1853,#REF!,2,0))","v":{"$error":"#REF!"}},{"v":29677.75,"d":"29,678"},{"v":711.25,"d":"711"},{"v":28567.75,"d":"28,568"},{"v":1110,"d":"1,110"}]
["H27",{"$f":"IF(D1854=\"\",\"\",VLOOKUP(D1854,#REF!,2,0))","v":{"$error":"#REF!"}},{"$f":"IF(D1854=\"\",\"\",VLOOKUP(D1854,#REF!,3,0))","v":{"$error":"#REF!"}},"神戸",{"$f":"IF(D1854=\"\",\"\",VLOOKUP(D1854,#REF!,4,0))","v":{"$error":"#REF!"}},{"$f":"IF(C1854=\"\",\"\",VLOOKUP(D1854,#REF!,5,0))","v":{"$error":"#REF!"}},"輸入","パナマ",{"$f":"IF(H1854=\"\",\"\",VLOOKUP(H1854,#REF!,2,0))","v":{"$error":"#REF!"}},{"v":5050,"d":"5,050"},303,{"v":1682,"d":"1,682"},{"v":3368,"d":"3,368"}]
["H27",{"$f":"IF(D1855=\"\",\"\",VLOOKUP(D1855,#REF!,2,0))","v":{"$error":"#REF!"}},{"$f":"IF(D1855=\"\",\"\",VLOOKUP(D1855,#REF!,3,0))","v":{"$error":"#REF!"}},"和歌山下津",{"$f":"IF(D1855=\"\",\"\",VLOOKUP(D1855,#REF!,4,0))","v":{"$error":"#REF!"}},{"$f":"IF(C1855=\"\",\"\",VLOOKUP(D1855,#REF!,5,0))","v":{"$error":"#REF!"}},"輸入","韓国",{"$f":"IF(H1855=\"\",\"\",VLOOKUP(H1855,#REF!,2,0))","v":{"$error":"#REF!"}},{"v":3113,"d":"3,113"},null,{"v":3071,"d":"3,071"},42]
["H27",{"$f":"IF(D1856=\"\",\"\",VLOOKUP(D1856,#REF!,2,0))","v":{"$error":"#REF!"}},{"$f":"IF(D1856=\"\",\"\",VLOOKUP(D1856,#REF!,3,0))","v":{"$error":"#REF!"}},"舞鶴",{"$f":"IF(D1856=\"\",\"\",VLOOKUP(D1856,#REF!,4,0))","v":{"$error":"#REF!"}},{"$f":"IF(C1856=\"\",\"\",VLOOKUP(D1856,#REF!,5,0))","v":{"$error":"#REF!"}},"輸出","韓国",{"$f":"IF(H1856=\"\",\"\",VLOOKUP(H1856,#REF!,2,0))","v":{"$error":"#REF!"}},{"v":3430,"d":"3,430"},null,{"v":2287,"d":"2,287"},{"v":1143,"d":"1,143"}]
["H27",{"$f":"IF(D1857=\"\",\"\",VLOOKUP(D1857,#REF!,2,0))","v":{"$error":"#REF!"}},{"$f":"IF(D1857=\"\",\"\",VLOOKUP(D1857,#REF!,3,0))","v":{"$error":"#REF!"}},"舞鶴",{"$f":"IF(D1857=\"\",\"\",VLOOKUP(D1857,#REF!,4,0))","v":{"$error":"#REF!"}},{"$f":"IF(C1857=\"\",\"\",VLOOKUP(D1857,#REF!,5,0))","v":{"$error":"#REF!"}},"輸出","中国",{"$f":"IF(H1857=\"\",\"\",VLOOKUP(H1857,#REF!,2,0))","v":{"$error":"#REF!"}},{"v":2517,"d":"2,517"},null,{"v":1168,"d":"1,168"},{"v":1349,"d":"1,349"}]
["H27",{"$f":"IF(D1858=\"\",\"\",VLOOKUP(D1858,#REF!,2,0))","v":{"$error":"#REF!"}},{"$f":"IF(D1858=\"\",\"\",VLOOKUP(D1858,#REF!,3,0))","v":{"$error":"#REF!"}},"舞鶴",{"$f":"IF(D1858=\"\",\"\",VLOOKUP(D1858,#REF!,4,0))","v":{"$error":"#REF!"}},{"$f":"IF(C1858=\"\",\"\",VLOOKUP(D1858,#REF!,5,0))","v":{"$error":"#REF!"}},"輸出","ロシア",{"$f":"IF(H1858=\"\",\"\",VLOOKUP(H1858,#REF!,2,0))","v":{"$error":"#REF!"}},16,null,16,0]
["H27",{"$f":"IF(D1859=\"\",\"\",VLOOKUP(D1859,#REF!,2,0))","v":{"$error":"#REF!"}},{"$f":"IF(D1859=\"\",\"\",VLOOKUP(D1859,#REF!,3,0))","v":{"$error":"#REF!"}},"堺泉北",{"$f":"IF(D1859=\"\",\"\",VLOOKUP(D1859,#REF!,4,0))","v":{"$error":"#REF!"}},{"$f":"IF(C1859=\"\",\"\",VLOOKUP(D1859,#REF!,5,0))","v":{"$error":"#REF!"}},"輸出","中国",{"$f":"IF(H1859=\"\",\"\",VLOOKUP(H1859,#REF!,2,0))","v":{"$error":"#REF!"}},{"v":9234,"d":"9,234"},null,780,{"v":8454,"d":"8,454"}]
["H27",{"$f":"IF(D1860=\"\",\"\",VLOOKUP(D1860,#REF!,2,0))","v":{"$error":"#REF!"}},{"$f":"IF(D1860=\"\",\"\",VLOOKUP(D1860,#REF!,3,0))","v":{"$error":"#REF!"}},"大阪",{"$f":"IF(D1860=\"\",\"\",VLOOKUP(D1860,#REF!,4,0))","v":{"$error":"#REF!"}},{"$f":"IF(C1860=\"\",\"\",VLOOKUP(D1860,#REF!,5,0))","v":{"$error":"#REF!"}},"輸出","韓国",{"$f":"IF(H1860=\"\",\"\",VLOOKUP(H1860,#REF!,2,0))","v":{"$error":"#REF!"}},{"v":143039,"d":"143,039"},null,{"v":73918.8,"d":"73,919"},{"v":69120.2,"d":"69,120"}]
["H27",{"$f":"IF(D1861=\"\",\"\",VLOOKUP(D1861,#REF!,2,0))","v":{"$error":"#REF!"}},{"$f":"IF(D1861=\"\",\"\",VLOOKUP(D1861,#REF!,3,0))","v":{"$error":"#REF!"}},"大阪",{"$f":"IF(D1861=\"\",\"\",VLOOKUP(D1861,#REF!,4,0))","v":{"$error":"#REF!"}},{"$f":"IF(C1861=\"\",\"\",VLOOKUP(D1861,#REF!,5,0))","v":{"$error":"#REF!"}},"輸出","台湾",{"$f":"IF(H1861=\"\",\"\",VLOOKUP(H1861,#REF!,2,0))","v":{"$error":"#REF!"}},{"v":82936,"d":"82,936"},null,{"v":63331,"d":"63,331"},{"v":19605,"d":"19,605"}]
["H27",{"$f":"IF(D1862=\"\",\"\",VLOOKUP(D1862,#REF!,2,0))","v":{"$error":"#REF!"}},{"$f":"IF(D1862=\"\",\"\",VLOOKUP(D1862,#REF!,3,0))","v":{"$error":"#REF!"}},"大阪",{"$f":"IF(D1862=\"\",\"\",VLOOKUP(D1862,#REF!,4,0))","v":{"$error":"#REF!"}},{"$f":"IF(C1862=\"\",\"\",VLOOKUP(D1862,#REF!,5,0))","v":{"$error":"#REF!"}},"輸出","中国",{"$f":"IF(H1862=\"\",\"\",VLOOKUP(H1862,#REF!,2,0))","v":{"$error":"#REF!"}},{"v":533409.5,"d":"533,410"},null,{"v":142620,"d":"142,620"},{"v":390789.5,"d":"390,790"}]
["H27",{"$f":"IF(D1863=\"\",\"\",VLOOKUP(D1863,#REF!,2,0))","v":{"$error":"#REF!"}},{"$f":"IF(D1863=\"\",\"\",VLOOKUP(D1863,#REF!,3,0))","v":{"$error":"#REF!"}},"大阪",{"$f":"IF(D1863=\"\",\"\",VLOOKUP(D1863,#REF!,4,0))","v":{"$error":"#REF!"}},{"$f":"IF(C1863=\"\",\"\",VLOOKUP(D1863,#REF!,5,0))","v":{"$error":"#REF!"}},"輸出","香港",{"$f":"IF(H1863=\"\",\"\",VLOOKUP(H1863,#REF!,2,0))","v":{"$error":"#REF!"}},{"v":54041,"d":"54,041"},null,{"v":43165,"d":"43,165"},{"v":10876,"d":"10,876"}]
["H27",{"$f":"IF(D1864=\"\",\"\",VLOOKUP(D1864,#REF!,2,0))","v":{"$error":"#REF!"}},{"$f":"IF(D1864=\"\",\"\",VLOOKUP(D1864,#REF!,3,0))","v":{"$error":"#REF!"}},"大阪",{"$f":"IF(D1864=\"\",\"\",VLOOKUP(D1864,#REF!,4,0))","v":{"$error":"#REF!"}},{"$f":"IF(C1864=\"\",\"\",VLOOKUP(D1864,#REF!,5,0))","v":{"$error":"#REF!"}},"輸出","カンボジア",{"$f":"IF(H1864=\"\",\"\",VLOOKUP(H1864,#REF!,2,0))","v":{"$error":"#REF!"}},356,null,356,0]
["H27",{"$f":"IF(D1865=\"\",\"\",VLOOKUP(D1865,#REF!,2,0))","v":{"$error":"#REF!"}},{"$f":"IF(D1865=\"\",\"\",VLOOKUP(D1865,#REF!,3,0))","v":{"$error":"#REF!"}},"大阪",{"$f":"IF(D1865=\"\",\"\",VLOOKUP(D1865,#REF!,4,0))","v":{"$error":"#REF!"}},{"$f":"IF(C1865=\"\",\"\",VLOOKUP(D1865,#REF!,5,0))","v":{"$error":"#REF!"}},"輸出","シンガポール",{"$f":"IF(H1865=\"\",\"\",VLOOKUP(H1865,#REF!,2,0))","v":{"$error":"#REF!"}},{"v":16584,"d":"16,584"},null,{"v":15489,"d":"15,489"},{"v":1095,"d":"1,095"}]
["H27",{"$f":"IF(D1866=\"\",\"\",VLOOKUP(D1866,#REF!,2,0))","v":{"$error":"#REF!"}},{"$f":"IF(D1866=\"\",\"\",VLOOKUP(D1866,#REF!,3,0))","v":{"$error":"#REF!"}},"大阪",{"$f":"IF(D1866=\"\",\"\",VLOOKUP(D1866,#REF!,4,0))","v":{"$error":"#REF!"}},{"$f":"IF(C1866=\"\",\"\",VLOOKUP(D1866,#REF!,5,0))","v":{"$error":"#REF!"}},"輸出","タイ",{"$f":"IF(H1866=\"\",\"\",VLOOKUP(H1866,#REF!,2,0))","v":{"$error":"#REF!"}},{"v":26561,"d":"26,561"},null,{"v":23750,"d":"23,750"},{"v":2811,"d":"2,811"}]
["H27",{"$f":"IF(D1867=\"\",\"\",VLOOKUP(D1867,#REF!,2,0))","v":{"$error":"#REF!"}},{"$f":"IF(D1867=\"\",\"\",VLOOKUP(D1867,#REF!,3,0))","v":{"$error":"#REF!"}},"大阪",{"$f":"IF(D1867=\"\",\"\",VLOOKUP(D1867,#REF!,4,0))","v":{"$error":"#REF!"}},{"$f":"IF(C1867=\"\",\"\",VLOOKUP(D1867,#REF!,5,0))","v":{"$error":"#REF!"}},"輸出","フィリピン",{"$f":"IF(H1867=\"\",\"\",VLOOKUP(H1867,#REF!,2,0))","v":{"$error":"#REF!"}},{"v":1412,"d":"1,412"},null,{"v":1412,"d":"1,412"},0]
["H27",{"$f":"IF(D1868=\"\",\"\",VLOOKUP(D1868,#REF!,2,0))","v":{"$error":"#REF!"}},{"$f":"IF(D1868=\"\",\"\",VLOOKUP(D1868,#REF!,3,0))","v":{"$error":"#REF!"}},"大阪",{"$f":"IF(D1868=\"\",\"\",VLOOKUP(D1868,#REF!,4,0))","v":{"$error":"#REF!"}},{"$f":"IF(C1868=\"\",\"\",VLOOKUP(D1868,#REF!,5,0))","v":{"$error":"#REF!"}},"輸出","マレーシア",{"$f":"IF(H1868=\"\",\"\",VLOOKUP(H1868,#REF!,2,0))","v":{"$error":"#REF!"}},{"v":12009,"d":"12,009"},null,{"v":10413,"d":"10,413"},{"v":1596,"d":"1,596"}]
["H27",{"$f":"IF(D1869=\"\",\"\",VLOOKUP(D1869,#REF!,2,0))","v":{"$error":"#REF!"}},{"$f":"IF(D1869=\"\",\"\",VLOOKUP(D1869,#REF!,3,0))","v":{"$error":"#REF!"}},"大阪",{"$f":"IF(D1869=\"\",\"\",VLOOKUP(D1869,#REF!,4,0))","v":{"$error":"#REF!"}},{"$f":"IF(C1869=\"\",\"\",VLOOKUP(D1869,#REF!,5,0))","v":{"$error":"#REF!"}},"輸出","ベトナム",{"$f":"IF(H1869=\"\",\"\",VLOOKUP(H1869,#REF!,2,0))","v":{"$error":"#REF!"}},{"v":13989,"d":"13,989"},null,{"v":13279,"d":"13,279"},710]
["H27",{"$f":"IF(D1870=\"\",\"\",VLOOKUP(D1870,#REF!,2,0))","v":{"$error":"#REF!"}},{"$f":"IF(D1870=\"\",\"\",VLOOKUP(D1870,#REF!,3,0))","v":{"$error":"#REF!"}},"大阪",{"$f":"IF(D1870=\"\",\"\",VLOOKUP(D1870,#REF!,4,0))","v":{"$error":"#REF!"}},{"$f":"IF(C1870=\"\",\"\",VLOOKUP(D1870,#REF!,5,0))","v":{"$error":"#REF!"}},"輸出","イスラエル",{"$f":"IF(H1870=\"\",\"\",VLOOKUP(H1870,#REF!,2,0))","v":{"$error":"#REF!"}},3,null,3,0]
["H27",{"$f":"IF(D1871=\"\",\"\",VLOOKUP(D1871,#REF!,2,0))","v":{"$error":"#REF!"}},{"$f":"IF(D1871=\"\",\"\",VLOOKUP(D1871,#REF!,3,0))","v":{"$error":"#REF!"}},"大阪",{"$f":"IF(D1871=\"\",\"\",VLOOKUP(D1871,#REF!,4,0))","v":{"$error":"#REF!"}},{"$f":"IF(C1871=\"\",\"\",VLOOKUP(D1871,#REF!,5,0))","v":{"$error":"#REF!"}},"輸出","オーストラリア",{"$f":"IF(H1871=\"\",\"\",VLOOKUP(H1871,#REF!,2,0))","v":{"$error":"#REF!"}},{"v":6028,"d":"6,028"},null,{"v":4218,"d":"4,218"},{"v":1810,"d":"1,810"}]
["H27",{"$f":"IF(D1872=\"\",\"\",VLOOKUP(D1872,#REF!,2,0))","v":{"$error":"#REF!"}},{"$f":"IF(D1872=\"\",\"\",VLOOKUP(D1872,#REF!,3,0))","v":{"$error":"#REF!"}},"大阪",{"$f":"IF(D1872=\"\",\"\",VLOOKUP(D1872,#REF!,4,0))","v":{"$error":"#REF!"}},{"$f":"IF(C1872=\"\",\"\",VLOOKUP(D1872,#REF!,5,0))","v":{"$error":"#REF!"}},"輸出","エジプト",{"$f":"IF(H1872=\"\",\"\",VLOOKUP(H1872,#REF!,2,0))","v":{"$error":"#REF!"}},26,null,26,0]
["H27",{"$f":"IF(D1873=\"\",\"\",VLOOKUP(D1873,#REF!,2,0))","v":{"$error":"#REF!"}},{"$f":"IF(D1873=\"\",\"\",VLOOKUP(D1873,#REF!,3,0))","v":{"$error":"#REF!"}},"大阪",{"$f":"IF(D1873=\"\",\"\",VLOOKUP(D1873,#REF!,4,0))","v":{"$error":"#REF!"}},{"$f":"IF(C1873=\"\",\"\",VLOOKUP(D1873,#REF!,5,0))","v":{"$error":"#REF!"}},"輸出","イタリア",{"$f":"IF(H1873=\"\",\"\",VLOOKUP(H1873,#REF!,2,0))","v":{"$error":"#REF!"}},35,null,35,0]
["H27",{"$f":"IF(D1874=\"\",\"\",VLOOKUP(D1874,#REF!,2,0))","v":{"$error":"#REF!"}},{"$f":"IF(D1874=\"\",\"\",VLOOKUP(D1874,#REF!,3,0))","v":{"$error":"#REF!"}},"大阪",{"$f":"IF(D1874=\"\",\"\",VLOOKUP(D1874,#REF!,4,0))","v":{"$error":"#REF!"}},{"$f":"IF(C1874=\"\",\"\",VLOOKUP(D1874,#REF!,5,0))","v":{"$error":"#REF!"}},"輸出","スロベニア",{"$f":"IF(H1874=\"\",\"\",VLOOKUP(H1874,#REF!,2,0))","v":{"$error":"#REF!"}},17,null,17,0]
["H27",{"$f":"IF(D1875=\"\",\"\",VLOOKUP(D1875,#REF!,2,0))","v":{"$error":"#REF!"}},{"$f":"IF(D1875=\"\",\"\",VLOOKUP(D1875,#REF!,3,0))","v":{"$error":"#REF!"}},"大阪",{"$f":"IF(D1875=\"\",\"\",VLOOKUP(D1875,#REF!,4,0))","v":{"$error":"#REF!"}},{"$f":"IF(C1875=\"\",\"\",VLOOKUP(D1875,#REF!,5,0))","v":{"$error":"#REF!"}},"輸出","アメリカ合衆国",{"$f":"IF(H1875=\"\",\"\",VLOOKUP(H1875,#REF!,2,0))","v":{"$error":"#REF!"}},{"v":4634,"d":"4,634"},null,{"v":4592,"d":"4,592"},42]
["H27",{"$f":"IF(D1876=\"\",\"\",VLOOKUP(D1876,#REF!,2,0))","v":{"$error":"#REF!"}},{"$f":"IF(D1876=\"\",\"\",VLOOKUP(D1876,#REF!,3,0))","v":{"$error":"#REF!"}},"大阪",{"$f":"IF(D1876=\"\",\"\",VLOOKUP(D1876,#REF!,4,0))","v":{"$error":"#REF!"}},{"$f":"IF(C1876=\"\",\"\",VLOOKUP(D1876,#REF!,5,0))","v":{"$error":"#REF!"}},"輸出","カナダ",{"$f":"IF(H1876=\"\",\"\",VLOOKUP(H1876,#REF!,2,0))","v":{"$error":"#REF!"}},{"v":2249,"d":"2,249"},null,{"v":2249,"d":"2,249"},0]
["H27",{"$f":"IF(D1877=\"\",\"\",VLOOKUP(D1877,#REF!,2,0))","v":{"$error":"#REF!"}},{"$f":"IF(D1877=\"\",\"\",VLOOKUP(D1877,#REF!,3,0))","v":{"$error":"#REF!"}},"神戸",{"$f":"IF(D1877=\"\",\"\",VLOOKUP(D1877,#REF!,4,0))","v":{"$error":"#REF!"}},{"$f":"IF(C1877=\"\",\"\",VLOOKUP(D1877,#REF!,5,0))","v":{"$error":"#REF!"}},"輸出","韓国",{"$f":"IF(H1877=\"\",\"\",VLOOKUP(H1877,#REF!,2,0))","v":{"$error":"#REF!"}},{"v":95285.25,"d":"95,285"},null,{"v":73348.25,"d":"73,348"},{"v":21937,"d":"21,937"}]
["H27",{"$f":"IF(D1878=\"\",\"\",VLOOKUP(D1878,#REF!,2,0))","v":{"$error":"#REF!"}},{"$f":"IF(D1878=\"\",\"\",VLOOKUP(D1878,#REF!,3,0))","v":{"$error":"#REF!"}},"神戸",{"$f":"IF(D1878=\"\",\"\",VLOOKUP(D1878,#REF!,4,0))","v":{"$error":"#REF!"}},{"$f":"IF(C1878=\"\",\"\",VLOOKUP(D1878,#REF!,5,0))","v":{"$error":"#REF!"}},"輸出","台湾",{"$f":"IF(H1878=\"\",\"\",VLOOKUP(H1878,#REF!,2,0))","v":{"$error":"#REF!"}},{"v":139394,"d":"139,394"},null,{"v":126698,"d":"126,698"},{"v":12696,"d":"12,696"}]
["H27",{"$f":"IF(D1879=\"\",\"\",VLOOKUP(D1879,#REF!,2,0))","v":{"$error":"#REF!"}},{"$f":"IF(D1879=\"\",\"\",VLOOKUP(D1879,#REF!,3,0))","v":{"$error":"#REF!"}},"神戸",{"$f":"IF(D1879=\"\",\"\",VLOOKUP(D1879,#REF!,4,0))","v":{"$error":"#REF!"}},{"$f":"IF(C1879=\"\",\"\",VLOOKUP(D1879,#REF!,5,0))","v":{"$error":"#REF!"}},"輸出","中国",{"$f":"IF(H1879=\"\",\"\",VLOOKUP(H1879,#REF!,2,0))","v":{"$error":"#REF!"}},{"v":353273.75,"d":"353,274"},null,{"v":222267,"d":"222,267"},{"v":131006.75,"d":"131,007"}]
["H27",{"$f":"IF(D1880=\"\",\"\",VLOOKUP(D1880,#REF!,2,0))","v":{"$error":"#REF!"}},{"$f":"IF(D1880=\"\",\"\",VLOOKUP(D1880,#REF!,3,0))","v":{"$error":"#REF!"}},"神戸",{"$f":"IF(D1880=\"\",\"\",VLOOKUP(D1880,#REF!,4,0))","v":{"$error":"#REF!"}},{"$f":"IF(C1880=\"\",\"\",VLOOKUP(D1880,#REF!,5,0))","v":{"$error":"#REF!"}},"輸出","香港",{"$f":"IF(H1880=\"\",\"\",VLOOKUP(H1880,#REF!,2,0))","v":{"$error":"#REF!"}},{"v":87955,"d":"87,955"},null,{"v":81820,"d":"81,820"},{"v":6135,"d":"6,135"}]
["H27",{"$f":"IF(D1881=\"\",\"\",VLOOKUP(D1881,#REF!,2,0))","v":{"$error":"#REF!"}},{"$f":"IF(D1881=\"\",\"\",VLOOKUP(D1881,#REF!,3,0))","v":{"$error":"#REF!"}},"神戸",{"$f":"IF(D1881=\"\",\"\",VLOOKUP(D1881,#REF!,4,0))","v":{"$error":"#REF!"}},{"$f":"IF(C1881=\"\",\"\",VLOOKUP(D1881,#REF!,5,0))","v":{"$error":"#REF!"}},"輸出","インドネシア",{"$f":"IF(H1881=\"\",\"\",VLOOKUP(H1881,#REF!,2,0))","v":{"$error":"#REF!"}},{"v":25002,"d":"25,002"},null,{"v":24831,"d":"24,831"},171]
["H27",{"$f":"IF(D1882=\"\",\"\",VLOOKUP(D1882,#REF!,2,0))","v":{"$error":"#REF!"}},{"$f":"IF(D1882=\"\",\"\",VLOOKUP(D1882,#REF!,3,0))","v":{"$error":"#REF!"}},"神戸",{"$f":"IF(D1882=\"\",\"\",VLOOKUP(D1882,#REF!,4,0))","v":{"$error":"#REF!"}},{"$f":"IF(C1882=\"\",\"\",VLOOKUP(D1882,#REF!,5,0))","v":{"$error":"#REF!"}},"輸出","カンボジア",{"$f":"IF(H1882=\"\",\"\",VLOOKUP(H1882,#REF!,2,0))","v":{"$error":"#REF!"}},199,null,199,0]
["H27",{"$f":"IF(D1883=\"\",\"\",VLOOKUP(D1883,#REF!,2,0))","v":{"$error":"#REF!"}},{"$f":"IF(D1883=\"\",\"\",VLOOKUP(D1883,#REF!,3,0))","v":{"$error":"#REF!"}},"神戸",{"$f":"IF(D1883=\"\",\"\",VLOOKUP(D1883,#REF!,4,0))","v":{"$error":"#REF!"}},{"$f":"IF(C1883=\"\",\"\",VLOOKUP(D1883,#REF!,5,0))","v":{"$error":"#REF!"}},"輸出","シンガポール",{"$f":"IF(H1883=\"\",\"\",VLOOKUP(H1883,#REF!,2,0))","v":{"$error":"#REF!"}},{"v":86568,"d":"86,568"},null,{"v":83116,"d":"83,116"},{"v":3452,"d":"3,452"}]
["H27",{"$f":"IF(D1884=\"\",\"\",VLOOKUP(D1884,#REF!,2,0))","v":{"$error":"#REF!"}},{"$f":"IF(D1884=\"\",\"\",VLOOKUP(D1884,#REF!,3,0))","v":{"$error":"#REF!"}},"神戸",{"$f":"IF(D1884=\"\",\"\",VLOOKUP(D1884,#REF!,4,0))","v":{"$error":"#REF!"}},{"$f":"IF(C1884=\"\",\"\",VLOOKUP(D1884,#REF!,5,0))","v":{"$error":"#REF!"}},"輸出","タイ",{"$f":"IF(H1884=\"\",\"\",VLOOKUP(H1884,#REF!,2,0))","v":{"$error":"#REF!"}},{"v":81227.25,"d":"81,227"},null,{"v":70205.25,"d":"70,205"},{"v":11022,"d":"11,022"}]
["H27",{"$f":"IF(D1885=\"\",\"\",VLOOKUP(D1885,#REF!,2,0))","v":{"$error":"#REF!"}},{"$f":"IF(D1885=\"\",\"\",VLOOKUP(D1885,#REF!,3,0))","v":{"$error":"#REF!"}},"神戸",{"$f":"IF(D1885=\"\",\"\",VLOOKUP(D1885,#REF!,4,0))","v":{"$error":"#REF!"}},{"$f":"IF(C1885=\"\",\"\",VLOOKUP(D1885,#REF!,5,0))","v":{"$error":"#REF!"}},"輸出","フィリピン",{"$f":"IF(H1885=\"\",\"\",VLOOKUP(H1885,#REF!,2,0))","v":{"$error":"#REF!"}},{"v":14571,"d":"14,571"},null,{"v":9738,"d":"9,738"},{"v":4833,"d":"4,833"}]
["H27",{"$f":"IF(D1886=\"\",\"\",VLOOKUP(D1886,#REF!,2,0))","v":{"$error":"#REF!"}},{"$f":"IF(D1886=\"\",\"\",VLOOKUP(D1886,#REF!,3,0))","v":{"$error":"#REF!"}},"神戸",{"$f":"IF(D1886=\"\",\"\",VLOOKUP(D1886,#REF!,4,0))","v":{"$error":"#REF!"}},{"$f":"IF(C1886=\"\",\"\",VLOOKUP(D1886,#REF!,5,0))","v":{"$error":"#REF!"}},"輸出","マレーシア",{"$f":"IF(H1886=\"\",\"\",VLOOKUP(H1886,#REF!,2,0))","v":{"$error":"#REF!"}},{"v":44078.25,"d":"44,078"},null,{"v":41306,"d":"41,306"},{"v":2772.25,"d":"2,772"}]
["H27",{"$f":"IF(D1887=\"\",\"\",VLOOKUP(D1887,#REF!,2,0))","v":{"$error":"#REF!"}},{"$f":"IF(D1887=\"\",\"\",VLOOKUP(D1887,#REF!,3,0))","v":{"$error":"#REF!"}},"神戸",{"$f":"IF(D1887=\"\",\"\",VLOOKUP(D1887,#REF!,4,0))","v":{"$error":"#REF!"}},{"$f":"IF(C1887=\"\",\"\",VLOOKUP(D1887,#REF!,5,0))","v":{"$error":"#REF!"}},"輸出","ベトナム",{"$f":"IF(H1887=\"\",\"\",VLOOKUP(H1887,#REF!,2,0))","v":{"$error":"#REF!"}},{"v":47277,"d":"47,277"},null,{"v":36582,"d":"36,582"},{"v":10695,"d":"10,695"}]
["H27",{"$f":"IF(D1888=\"\",\"\",VLOOKUP(D1888,#REF!,2,0))","v":{"$error":"#REF!"}},{"$f":"IF(D1888=\"\",\"\",VLOOKUP(D1888,#REF!,3,0))","v":{"$error":"#REF!"}},"神戸",{"$f":"IF(D1888=\"\",\"\",VLOOKUP(D1888,#REF!,4,0))","v":{"$error":"#REF!"}},{"$f":"IF(C1888=\"\",\"\",VLOOKUP(D1888,#REF!,5,0))","v":{"$error":"#REF!"}},"輸出","スリランカ",{"$f":"IF(H1888=\"\",\"\",VLOOKUP(H1888,#REF!,2,0))","v":{"$error":"#REF!"}},546,null,546,0]
["H27",{"$f":"IF(D1889=\"\",\"\",VLOOKUP(D1889,#REF!,2,0))","v":{"$error":"#REF!"}},{"$f":"IF(D1889=\"\",\"\",VLOOKUP(D1889,#REF!,3,0))","v":{"$error":"#REF!"}},"神戸",{"$f":"IF(D1889=\"\",\"\",VLOOKUP(D1889,#REF!,4,0))","v":{"$error":"#REF!"}},{"$f":"IF(C1889=\"\",\"\",VLOOKUP(D1889,#REF!,5,0))","v":{"$error":"#REF!"}},"輸出","サウジアラビア",{"$f":"IF(H1889=\"\",\"\",VLOOKUP(H1889,#REF!,2,0))","v":{"$error":"#REF!"}},797,null,787,10]
["H27",{"$f":"IF(D1890=\"\",\"\",VLOOKUP(D1890,#REF!,2,0))","v":{"$error":"#REF!"}},{"$f":"IF(D1890=\"\",\"\",VLOOKUP(D1890,#REF!,3,0))","v":{"$error":"#REF!"}},"神戸",{"$f":"IF(D1890=\"\",\"\",VLOOKUP(D1890,#REF!,4,0))","v":{"$error":"#REF!"}},{"$f":"IF(C1890=\"\",\"\",VLOOKUP(D1890,#REF!,5,0))","v":{"$error":"#REF!"}},"輸出","オーストラリア",{"$f":"IF(H1890=\"\",\"\",VLOOKUP(H1890,#REF!,2,0))","v":{"$error":"#REF!"}},477,null,368,109]
["H27",{"$f":"IF(D1891=\"\",\"\",VLOOKUP(D1891,#REF!,2,0))","v":{"$error":"#REF!"}},{"$f":"IF(D1891=\"\",\"\",VLOOKUP(D1891,#REF!,3,0))","v":{"$error":"#REF!"}},"神戸",{"$f":"IF(D1891=\"\",\"\",VLOOKUP(D1891,#REF!,4,0))","v":{"$error":"#REF!"}},{"$f":"IF(C1891=\"\",\"\",VLOOKUP(D1891,#REF!,5,0))","v":{"$error":"#REF!"}},"輸出","仏領ポリネシア",{"$f":"IF(H1891=\"\",\"\",VLOOKUP(H1891,#REF!,2,0))","v":{"$error":"#REF!"}},69,null,65,4]
["H27",{"$f":"IF(D1892=\"\",\"\",VLOOKUP(D1892,#REF!,2,0))","v":{"$error":"#REF!"}},{"$f":"IF(D1892=\"\",\"\",VLOOKUP(D1892,#REF!,3,0))","v":{"$error":"#REF!"}},"神戸",{"$f":"IF(D1892=\"\",\"\",VLOOKUP(D1892,#REF!,4,0))","v":{"$error":"#REF!"}},{"$f":"IF(C1892=\"\",\"\",VLOOKUP(D1892,#REF!,5,0))","v":{"$error":"#REF!"}},"輸出","グアム",{"$f":"IF(H1892=\"\",\"\",VLOOKUP(H1892,#REF!,2,0))","v":{"$error":"#REF!"}},56,null,52,4]
["H27",{"$f":"IF(D1893=\"\",\"\",VLOOKUP(D1893,#REF!,2,0))","v":{"$error":"#REF!"}},{"$f":"IF(D1893=\"\",\"\",VLOOKUP(D1893,#REF!,3,0))","v":{"$error":"#REF!"}},"神戸",{"$f":"IF(D1893=\"\",\"\",VLOOKUP(D1893,#REF!,4,0))","v":{"$error":"#REF!"}},{"$f":"IF(C1893=\"\",\"\",VLOOKUP(D1893,#REF!,5,0))","v":{"$error":"#REF!"}},"輸出","サモア独立国",{"$f":"IF(H1893=\"\",\"\",VLOOKUP(H1893,#REF!,2,0))","v":{"$error":"#REF!"}},82,null,82,0]
["H27",{"$f":"IF(D1894=\"\",\"\",VLOOKUP(D1894,#REF!,2,0))","v":{"$error":"#REF!"}},{"$f":"IF(D1894=\"\",\"\",VLOOKUP(D1894,#REF!,3,0))","v":{"$error":"#REF!"}},"神戸",{"$f":"IF(D1894=\"\",\"\",VLOOKUP(D1894,#REF!,4,0))","v":{"$error":"#REF!"}},{"$f":"IF(C1894=\"\",\"\",VLOOKUP(D1894,#REF!,5,0))","v":{"$error":"#REF!"}},"輸出","ソロモン諸島",{"$f":"IF(H1894=\"\",\"\",VLOOKUP(H1894,#REF!,2,0))","v":{"$error":"#REF!"}},3,null,3,0]
["H27",{"$f":"IF(D1895=\"\",\"\",VLOOKUP(D1895,#REF!,2,0))","v":{"$error":"#REF!"}},{"$f":"IF(D1895=\"\",\"\",VLOOKUP(D1895,#REF!,3,0))","v":{"$error":"#REF!"}},"神戸",{"$f":"IF(D1895=\"\",\"\",VLOOKUP(D1895,#REF!,4,0))","v":{"$error":"#REF!"}},{"$f":"IF(C1895=\"\",\"\",VLOOKUP(D1895,#REF!,5,0))","v":{"$error":"#REF!"}},"輸出","ニューカレドニア",{"$f":"IF(H1895=\"\",\"\",VLOOKUP(H1895,#REF!,2,0))","v":{"$error":"#REF!"}},56,null,53,3]
["H27",{"$f":"IF(D1896=\"\",\"\",VLOOKUP(D1896,#REF!,2,0))","v":{"$error":"#REF!"}},{"$f":"IF(D1896=\"\",\"\",VLOOKUP(D1896,#REF!,3,0))","v":{"$error":"#REF!"}},"神戸",{"$f":"IF(D1896=\"\",\"\",VLOOKUP(D1896,#REF!,4,0))","v":{"$error":"#REF!"}},{"$f":"IF(C1896=\"\",\"\",VLOOKUP(D1896,#REF!,5,0))","v":{"$error":"#REF!"}},"輸出","ニュージーランド",{"$f":"IF(H1896=\"\",\"\",VLOOKUP(H1896,#REF!,2,0))","v":{"$error":"#REF!"}},{"v":3752,"d":"3,752"},null,{"v":1417,"d":"1,417"},{"v":2335,"d":"2,335"}]
["H27",{"$f":"IF(D1897=\"\",\"\",VLOOKUP(D1897,#REF!,2,0))","v":{"$error":"#REF!"}},{"$f":"IF(D1897=\"\",\"\",VLOOKUP(D1897,#REF!,3,0))","v":{"$error":"#REF!"}},"神戸",{"$f":"IF(D1897=\"\",\"\",VLOOKUP(D1897,#REF!,4,0))","v":{"$error":"#REF!"}},{"$f":"IF(C1897=\"\",\"\",VLOOKUP(D1897,#REF!,5,0))","v":{"$error":"#REF!"}},"輸出","パプアニューギニア",{"$f":"IF(H1897=\"\",\"\",VLOOKUP(H1897,#REF!,2,0))","v":{"$error":"#REF!"}},27,null,26,1]
["H27",{"$f":"IF(D1898=\"\",\"\",VLOOKUP(D1898,#REF!,2,0))","v":{"$error":"#REF!"}},{"$f":"IF(D1898=\"\",\"\",VLOOKUP(D1898,#REF!,3,0))","v":{"$error":"#REF!"}},"神戸",{"$f":"IF(D1898=\"\",\"\",VLOOKUP(D1898,#REF!,4,0))","v":{"$error":"#REF!"}},{"$f":"IF(C1898=\"\",\"\",VLOOKUP(D1898,#REF!,5,0))","v":{"$error":"#REF!"}},"輸出","フィジー",{"$f":"IF(H1898=\"\",\"\",VLOOKUP(H1898,#REF!,2,0))","v":{"$error":"#REF!"}},24,null,22,2]
["H27",{"$f":"IF(D1899=\"\",\"\",VLOOKUP(D1899,#REF!,2,0))","v":{"$error":"#REF!"}},{"$f":"IF(D1899=\"\",\"\",VLOOKUP(D1899,#REF!,3,0))","v":{"$error":"#REF!"}},"神戸",{"$f":"IF(D1899=\"\",\"\",VLOOKUP(D1899,#REF!,4,0))","v":{"$error":"#REF!"}},{"$f":"IF(C1899=\"\",\"\",VLOOKUP(D1899,#REF!,5,0))","v":{"$error":"#REF!"}},"輸出","キリバス",{"$f":"IF(H1899=\"\",\"\",VLOOKUP(H1899,#REF!,2,0))","v":{"$error":"#REF!"}},2,null,2,0]
["H27",{"$f":"IF(D1900=\"\",\"\",VLOOKUP(D1900,#REF!,2,0))","v":{"$error":"#REF!"}},{"$f":"IF(D1900=\"\",\"\",VLOOKUP(D1900,#REF!,3,0))","v":{"$error":"#REF!"}},"神戸",{"$f":"IF(D1900=\"\",\"\",VLOOKUP(D1900,#REF!,4,0))","v":{"$error":"#REF!"}},{"$f":"IF(C1900=\"\",\"\",VLOOKUP(D1900,#REF!,5,0))","v":{"$error":"#REF!"}},"輸出","バヌアツ",{"$f":"IF(H1900=\"\",\"\",VLOOKUP(H1900,#REF!,2,0))","v":{"$error":"#REF!"}},14,null,5,9]
["H27",{"$f":"IF(D1901=\"\",\"\",VLOOKUP(D1901,#REF!,2,0))","v":{"$error":"#REF!"}},{"$f":"IF(D1901=\"\",\"\",VLOOKUP(D1901,#REF!,3,0))","v":{"$error":"#REF!"}},"神戸",{"$f":"IF(D1901=\"\",\"\",VLOOKUP(D1901,#REF!,4,0))","v":{"$error":"#REF!"}},{"$f":"IF(C1901=\"\",\"\",VLOOKUP(D1901,#REF!,5,0))","v":{"$error":"#REF!"}},"輸出","ミクロネシア",{"$f":"IF(H1901=\"\",\"\",VLOOKUP(H1901,#REF!,2,0))","v":{"$error":"#REF!"}},53,null,51,2]
["H27",{"$f":"IF(D1902=\"\",\"\",VLOOKUP(D1902,#REF!,2,0))","v":{"$error":"#REF!"}},{"$f":"IF(D1902=\"\",\"\",VLOOKUP(D1902,#REF!,3,0))","v":{"$error":"#REF!"}},"神戸",{"$f":"IF(D1902=\"\",\"\",VLOOKUP(D1902,#REF!,4,0))","v":{"$error":"#REF!"}},{"$f":"IF(C1902=\"\",\"\",VLOOKUP(D1902,#REF!,5,0))","v":{"$error":"#REF!"}},"輸出","マーシャル諸島",{"$f":"IF(H1902=\"\",\"\",VLOOKUP(H1902,#REF!,2,0))","v":{"$error":"#REF!"}},21,null,21,0]
["H27",{"$f":"IF(D1903=\"\",\"\",VLOOKUP(D1903,#REF!,2,0))","v":{"$error":"#REF!"}},{"$f":"IF(D1903=\"\",\"\",VLOOKUP(D1903,#REF!,3,0))","v":{"$error":"#REF!"}},"神戸",{"$f":"IF(D1903=\"\",\"\",VLOOKUP(D1903,#REF!,4,0))","v":{"$error":"#REF!"}},{"$f":"IF(C1903=\"\",\"\",VLOOKUP(D1903,#REF!,5,0))","v":{"$error":"#REF!"}},"輸出","北マリアナ諸島",{"$f":"IF(H1903=\"\",\"\",VLOOKUP(H1903,#REF!,2,0))","v":{"$error":"#REF!"}},20,null,19,1]
["H27",{"$f":"IF(D1904=\"\",\"\",VLOOKUP(D1904,#REF!,2,0))","v":{"$error":"#REF!"}},{"$f":"IF(D1904=\"\",\"\",VLOOKUP(D1904,#REF!,3,0))","v":{"$error":"#REF!"}},"神戸",{"$f":"IF(D1904=\"\",\"\",VLOOKUP(D1904,#REF!,4,0))","v":{"$error":"#REF!"}},{"$f":"IF(C1904=\"\",\"\",VLOOKUP(D1904,#REF!,5,0))","v":{"$error":"#REF!"}},"輸出","パラオ",{"$f":"IF(H1904=\"\",\"\",VLOOKUP(H1904,#REF!,2,0))","v":{"$error":"#REF!"}},18,null,17,1]
["H27",{"$f":"IF(D1905=\"\",\"\",VLOOKUP(D1905,#REF!,2,0))","v":{"$error":"#REF!"}},{"$f":"IF(D1905=\"\",\"\",VLOOKUP(D1905,#REF!,3,0))","v":{"$error":"#REF!"}},"神戸",{"$f":"IF(D1905=\"\",\"\",VLOOKUP(D1905,#REF!,4,0))","v":{"$error":"#REF!"}},{"$f":"IF(C1905=\"\",\"\",VLOOKUP(D1905,#REF!,5,0))","v":{"$error":"#REF!"}},"輸出","イギリス",{"$f":"IF(H1905=\"\",\"\",VLOOKUP(H1905,#REF!,2,0))","v":{"$error":"#REF!"}},{"v":3189,"d":"3,189"},null,{"v":3189,"d":"3,189"},0]
["H27",{"$f":"IF(D1906=\"\",\"\",VLOOKUP(D1906,#REF!,2,0))","v":{"$error":"#REF!"}},{"$f":"IF(D1906=\"\",\"\",VLOOKUP(D1906,#REF!,3,0))","v":{"$error":"#REF!"}},"神戸",{"$f":"IF(D1906=\"\",\"\",VLOOKUP(D1906,#REF!,4,0))","v":{"$error":"#REF!"}},{"$f":"IF(C1906=\"\",\"\",VLOOKUP(D1906,#REF!,5,0))","v":{"$error":"#REF!"}},"輸出","オランダ",{"$f":"IF(H1906=\"\",\"\",VLOOKUP(H1906,#REF!,2,0))","v":{"$error":"#REF!"}},{"v":17558.5,"d":"17,559"},null,{"v":17242.5,"d":"17,243"},316]
["H27",{"$f":"IF(D1907=\"\",\"\",VLOOKUP(D1907,#REF!,2,0))","v":{"$error":"#REF!"}},{"$f":"IF(D1907=\"\",\"\",VLOOKUP(D1907,#REF!,3,0))","v":{"$error":"#REF!"}},"神戸",{"$f":"IF(D1907=\"\",\"\",VLOOKUP(D1907,#REF!,4,0))","v":{"$error":"#REF!"}},{"$f":"IF(C1907=\"\",\"\",VLOOKUP(D1907,#REF!,5,0))","v":{"$error":"#REF!"}},"輸出","ドイツ",{"$f":"IF(H1907=\"\",\"\",VLOOKUP(H1907,#REF!,2,0))","v":{"$error":"#REF!"}},{"v":10596,"d":"10,596"},null,{"v":10585,"d":"10,585"},11]
["H27",{"$f":"IF(D1908=\"\",\"\",VLOOKUP(D1908,#REF!,2,0))","v":{"$error":"#REF!"}},{"$f":"IF(D1908=\"\",\"\",VLOOKUP(D1908,#REF!,3,0))","v":{"$error":"#REF!"}},"神戸",{"$f":"IF(D1908=\"\",\"\",VLOOKUP(D1908,#REF!,4,0))","v":{"$error":"#REF!"}},{"$f":"IF(C1908=\"\",\"\",VLOOKUP(D1908,#REF!,5,0))","v":{"$error":"#REF!"}},"輸出","フランス",{"$f":"IF(H1908=\"\",\"\",VLOOKUP(H1908,#REF!,2,0))","v":{"$error":"#REF!"}},{"v":2109,"d":"2,109"},null,{"v":2086,"d":"2,086"},23]
["H27",{"$f":"IF(D1909=\"\",\"\",VLOOKUP(D1909,#REF!,2,0))","v":{"$error":"#REF!"}},{"$f":"IF(D1909=\"\",\"\",VLOOKUP(D1909,#REF!,3,0))","v":{"$error":"#REF!"}},"神戸",{"$f":"IF(D1909=\"\",\"\",VLOOKUP(D1909,#REF!,4,0))","v":{"$error":"#REF!"}},{"$f":"IF(C1909=\"\",\"\",VLOOKUP(D1909,#REF!,5,0))","v":{"$error":"#REF!"}},"輸出","スウェーデン",{"$f":"IF(H1909=\"\",\"\",VLOOKUP(H1909,#REF!,2,0))","v":{"$error":"#REF!"}},452,null,452,0]
["H27",{"$f":"IF(D1910=\"\",\"\",VLOOKUP(D1910,#REF!,2,0))","v":{"$error":"#REF!"}},{"$f":"IF(D1910=\"\",\"\",VLOOKUP(D1910,#REF!,3,0))","v":{"$error":"#REF!"}},"神戸",{"$f":"IF(D1910=\"\",\"\",VLOOKUP(D1910,#REF!,4,0))","v":{"$error":"#REF!"}},{"$f":"IF(C1910=\"\",\"\",VLOOKUP(D1910,#REF!,5,0))","v":{"$error":"#REF!"}},"輸出","ロシア",{"$f":"IF(H1910=\"\",\"\",VLOOKUP(H1910,#REF!,2,0))","v":{"$error":"#REF!"}},{"v":1426,"d":"1,426"},null,{"v":1426,"d":"1,426"},0]
["H27",{"$f":"IF(D1911=\"\",\"\",VLOOKUP(D1911,#REF!,2,0))","v":{"$error":"#REF!"}},{"$f":"IF(D1911=\"\",\"\",VLOOKUP(D1911,#REF!,3,0))","v":{"$error":"#REF!"}},"神戸",{"$f":"IF(D1911=\"\",\"\",VLOOKUP(D1911,#REF!,4,0))","v":{"$error":"#REF!"}},{"$f":"IF(C1911=\"\",\"\",VLOOKUP(D1911,#REF!,5,0))","v":{"$error":"#REF!"}},"輸出","アメリカ合衆国",{"$f":"IF(H1911=\"\",\"\",VLOOKUP(H1911,#REF!,2,0))","v":{"$error":"#REF!"}},{"v":105163,"d":"105,163"},null,{"v":100823,"d":"100,823"},{"v":4340,"d":"4,340"}]
["H27",{"$f":"IF(D1912=\"\",\"\",VLOOKUP(D1912,#REF!,2,0))","v":{"$error":"#REF!"}},{"$f":"IF(D1912=\"\",\"\",VLOOKUP(D1912,#REF!,3,0))","v":{"$error":"#REF!"}},"神戸",{"$f":"IF(D1912=\"\",\"\",VLOOKUP(D1912,#REF!,4,0))","v":{"$error":"#REF!"}},{"$f":"IF(C1912=\"\",\"\",VLOOKUP(D1912,#REF!,5,0))","v":{"$error":"#REF!"}},"輸出","カナダ",{"$f":"IF(H1912=\"\",\"\",VLOOKUP(H1912,#REF!,2,0))","v":{"$error":"#REF!"}},{"v":6487.5,"d":"6,488"},null,{"v":6487.5,"d":"6,488"},0]
["H27",{"$f":"IF(D1913=\"\",\"\",VLOOKUP(D1913,#REF!,2,0))","v":{"$error":"#REF!"}},{"$f":"IF(D1913=\"\",\"\",VLOOKUP(D1913,#REF!,3,0))","v":{"$error":"#REF!"}},"神戸",{"$f":"IF(D1913=\"\",\"\",VLOOKUP(D1913,#REF!,4,0))","v":{"$error":"#REF!"}},{"$f":"IF(C1913=\"\",\"\",VLOOKUP(D1913,#REF!,5,0))","v":{"$error":"#REF!"}},"輸出","パナマ",{"$f":"IF(H1913=\"\",\"\",VLOOKUP(H1913,#REF!,2,0))","v":{"$error":"#REF!"}},{"v":4418,"d":"4,418"},null,{"v":1415,"d":"1,415"},{"v":3003,"d":"3,003"}]
["H27",{"$f":"IF(D1914=\"\",\"\",VLOOKUP(D1914,#REF!,2,0))","v":{"$error":"#REF!"}},{"$f":"IF(D1914=\"\",\"\",VLOOKUP(D1914,#REF!,3,0))","v":{"$error":"#REF!"}},"和歌山下津",{"$f":"IF(D1914=\"\",\"\",VLOOKUP(D1914,#REF!,4,0))","v":{"$error":"#REF!"}},{"$f":"IF(C1914=\"\",\"\",VLOOKUP(D1914,#REF!,5,0))","v":{"$error":"#REF!"}},"輸出","韓国",{"$f":"IF(H1914=\"\",\"\",VLOOKUP(H1914,#REF!,2,0))","v":{"$error":"#REF!"}},{"v":2830,"d":"2,830"},null,591,{"v":2239,"d":"2,239"}]
["H28",{"$f":"IF(D1915=\"\",\"\",VLOOKUP(D1915,#REF!,2,0))","v":{"$error":"#REF!"}},{"$f":"IF(D1915=\"\",\"\",VLOOKUP(D1915,#REF!,3,0))","v":{"$error":"#REF!"}},"舞鶴",{"$f":"IF(D1915=\"\",\"\",VLOOKUP(D1915,#REF!,4,0))","v":{"$error":"#REF!"}},{"$f":"IF(C1915=\"\",\"\",VLOOKUP(D1915,#REF!,5,0))","v":{"$error":"#REF!"}},"輸出","韓国",{"$f":"IF(H1915=\"\",\"\",VLOOKUP(H1915,#REF!,2,0))","v":{"$error":"#REF!"}},{"v":5287,"d":"5,287 "},null,{"v":3527,"d":"3,527 "},{"v":1760,"d":"1,760 "}]
["H28",{"$f":"IF(D1916=\"\",\"\",VLOOKUP(D1916,#REF!,2,0))","v":{"$error":"#REF!"}},{"$f":"IF(D1916=\"\",\"\",VLOOKUP(D1916,#REF!,3,0))","v":{"$error":"#REF!"}},"舞鶴",{"$f":"IF(D1916=\"\",\"\",VLOOKUP(D1916,#REF!,4,0))","v":{"$error":"#REF!"}},{"$f":"IF(C1916=\"\",\"\",VLOOKUP(D1916,#REF!,5,0))","v":{"$error":"#REF!"}},"輸出","中国",{"$f":"IF(H1916=\"\",\"\",VLOOKUP(H1916,#REF!,2,0))","v":{"$error":"#REF!"}},{"v":1965,"d":"1,965 "},null,{"v":1294,"d":"1,294 "},{"v":671,"d":"671 "}]
["H28",{"$f":"IF(D1917=\"\",\"\",VLOOKUP(D1917,#REF!,2,0))","v":{"$error":"#REF!"}},{"$f":"IF(D1917=\"\",\"\",VLOOKUP(D1917,#REF!,3,0))","v":{"$error":"#REF!"}},"舞鶴",{"$f":"IF(D1917=\"\",\"\",VLOOKUP(D1917,#REF!,4,0))","v":{"$error":"#REF!"}},{"$f":"IF(C1917=\"\",\"\",VLOOKUP(D1917,#REF!,5,0))","v":{"$error":"#REF!"}},"輸出","ロシア",{"$f":"IF(H1917=\"\",\"\",VLOOKUP(H1917,#REF!,2,0))","v":{"$error":"#REF!"}},{"v":86,"d":"86 "},null,{"v":80,"d":"80 "},{"v":6,"d":"6 "}]
["H28",{"$f":"IF(D1918=\"\",\"\",VLOOKUP(D1918,#REF!,2,0))","v":{"$error":"#REF!"}},{"$f":"IF(D1918=\"\",\"\",VLOOKUP(D1918,#REF!,3,0))","v":{"$error":"#REF!"}},"堺泉北",{"$f":"IF(D1918=\"\",\"\",VLOOKUP(D1918,#REF!,4,0))","v":{"$error":"#REF!"}},{"$f":"IF(C1918=\"\",\"\",VLOOKUP(D1918,#REF!,5,0))","v":{"$error":"#REF!"}},"輸出","中国",{"$f":"IF(H1918=\"\",\"\",VLOOKUP(H1918,#REF!,2,0))","v":{"$error":"#REF!"}},{"v":9025,"d":"9,025 "},null,{"v":880,"d":"880 "},{"v":8145,"d":"8,145 "}]
["H28",{"$f":"IF(D1919=\"\",\"\",VLOOKUP(D1919,#REF!,2,0))","v":{"$error":"#REF!"}},{"$f":"IF(D1919=\"\",\"\",VLOOKUP(D1919,#REF!,3,0))","v":{"$error":"#REF!"}},"大阪",{"$f":"IF(D1919=\"\",\"\",VLOOKUP(D1919,#REF!,4,0))","v":{"$error":"#REF!"}},{"$f":"IF(C1919=\"\",\"\",VLOOKUP(D1919,#REF!,5,0))","v":{"$error":"#REF!"}},"輸出","韓国",{"$f":"IF(H1919=\"\",\"\",VLOOKUP(H1919,#REF!,2,0))","v":{"$error":"#REF!"}},{"v":130908.8,"d":"130,909 "},null,{"v":75289.2,"d":"75,289 "},{"v":55619.6,"d":"55,620 "}]
["H28",{"$f":"IF(D1920=\"\",\"\",VLOOKUP(D1920,#REF!,2,0))","v":{"$error":"#REF!"}},{"$f":"IF(D1920=\"\",\"\",VLOOKUP(D1920,#REF!,3,0))","v":{"$error":"#REF!"}},"大阪",{"$f":"IF(D1920=\"\",\"\",VLOOKUP(D1920,#REF!,4,0))","v":{"$error":"#REF!"}},{"$f":"IF(C1920=\"\",\"\",VLOOKUP(D1920,#REF!,5,0))","v":{"$error":"#REF!"}},"輸出","台湾",{"$f":"IF(H1920=\"\",\"\",VLOOKUP(H1920,#REF!,2,0))","v":{"$error":"#REF!"}},{"v":82107.5,"d":"82,108 "},null,{"v":62856.5,"d":"62,857 "},{"v":19251,"d":"19,251 "}]
["H28",{"$f":"IF(D1921=\"\",\"\",VLOOKUP(D1921,#REF!,2,0))","v":{"$error":"#REF!"}},{"$f":"IF(D1921=\"\",\"\",VLOOKUP(D1921,#REF!,3,0))","v":{"$error":"#REF!"}},"大阪",{"$f":"IF(D1921=\"\",\"\",VLOOKUP(D1921,#REF!,4,0))","v":{"$error":"#REF!"}},{"$f":"IF(C1921=\"\",\"\",VLOOKUP(D1921,#REF!,5,0))","v":{"$error":"#REF!"}},"輸出","中国",{"$f":"IF(H1921=\"\",\"\",VLOOKUP(H1921,#REF!,2,0))","v":{"$error":"#REF!"}},{"v":539953.5,"d":"539,954 "},null,{"v":138010,"d":"138,010 "},{"v":401943.5,"d":"401,944 "}]
["H28",{"$f":"IF(D1922=\"\",\"\",VLOOKUP(D1922,#REF!,2,0))","v":{"$error":"#REF!"}},{"$f":"IF(D1922=\"\",\"\",VLOOKUP(D1922,#REF!,3,0))","v":{"$error":"#REF!"}},"大阪",{"$f":"IF(D1922=\"\",\"\",VLOOKUP(D1922,#REF!,4,0))","v":{"$error":"#REF!"}},{"$f":"IF(C1922=\"\",\"\",VLOOKUP(D1922,#REF!,5,0))","v":{"$error":"#REF!"}},"輸出","香港",{"$f":"IF(H1922=\"\",\"\",VLOOKUP(H1922,#REF!,2,0))","v":{"$error":"#REF!"}},{"v":50223,"d":"50,223 "},null,{"v":44456,"d":"44,456 "},{"v":5767,"d":"5,767 "}]
["H28",{"$f":"IF(D1923=\"\",\"\",VLOOKUP(D1923,#REF!,2,0))","v":{"$error":"#REF!"}},{"$f":"IF(D1923=\"\",\"\",VLOOKUP(D1923,#REF!,3,0))","v":{"$error":"#REF!"}},"大阪",{"$f":"IF(D1923=\"\",\"\",VLOOKUP(D1923,#REF!,4,0))","v":{"$error":"#REF!"}},{"$f":"IF(C1923=\"\",\"\",VLOOKUP(D1923,#REF!,5,0))","v":{"$error":"#REF!"}},"輸出","インドネシア",{"$f":"IF(H1923=\"\",\"\",VLOOKUP(H1923,#REF!,2,0))","v":{"$error":"#REF!"}},{"v":24,"d":"24 "},null,{"v":24,"d":"24 "},{"v":0,"d":"0 "}]
["H28",{"$f":"IF(D1924=\"\",\"\",VLOOKUP(D1924,#REF!,2,0))","v":{"$error":"#REF!"}},{"$f":"IF(D1924=\"\",\"\",VLOOKUP(D1924,#REF!,3,0))","v":{"$error":"#REF!"}},"大阪",{"$f":"IF(D1924=\"\",\"\",VLOOKUP(D1924,#REF!,4,0))","v":{"$error":"#REF!"}},{"$f":"IF(C1924=\"\",\"\",VLOOKUP(D1924,#REF!,5,0))","v":{"$error":"#REF!"}},"輸出","カンボジア",{"$f":"IF(H1924=\"\",\"\",VLOOKUP(H1924,#REF!,2,0))","v":{"$error":"#REF!"}},{"v":326,"d":"326 "},null,{"v":326,"d":"326 "},{"v":0,"d":"0 "}]
["H28",{"$f":"IF(D1925=\"\",\"\",VLOOKUP(D1925,#REF!,2,0))","v":{"$error":"#REF!"}},{"$f":"IF(D1925=\"\",\"\",VLOOKUP(D1925,#REF!,3,0))","v":{"$error":"#REF!"}},"大阪",{"$f":"IF(D1925=\"\",\"\",VLOOKUP(D1925,#REF!,4,0))","v":{"$error":"#REF!"}},{"$f":"IF(C1925=\"\",\"\",VLOOKUP(D1925,#REF!,5,0))","v":{"$error":"#REF!"}},"輸出","シンガポール",{"$f":"IF(H1925=\"\",\"\",VLOOKUP(H1925,#REF!,2,0))","v":{"$error":"#REF!"}},{"v":15759,"d":"15,759 "},null,{"v":15199,"d":"15,199 "},{"v":560,"d":"560 "}]
["H28",{"$f":"IF(D1926=\"\",\"\",VLOOKUP(D1926,#REF!,2,0))","v":{"$error":"#REF!"}},{"$f":"IF(D1926=\"\",\"\",VLOOKUP(D1926,#REF!,3,0))","v":{"$error":"#REF!"}},"大阪",{"$f":"IF(D1926=\"\",\"\",VLOOKUP(D1926,#REF!,4,0))","v":{"$error":"#REF!"}},{"$f":"IF(C1926=\"\",\"\",VLOOKUP(D1926,#REF!,5,0))","v":{"$error":"#REF!"}},"輸出","タイ",{"$f":"IF(H1926=\"\",\"\",VLOOKUP(H1926,#REF!,2,0))","v":{"$error":"#REF!"}},{"v":29649,"d":"29,649 "},null,{"v":25947,"d":"25,947 "},{"v":3702,"d":"3,702 "}]
["H28",{"$f":"IF(D1927=\"\",\"\",VLOOKUP(D1927,#REF!,2,0))","v":{"$error":"#REF!"}},{"$f":"IF(D1927=\"\",\"\",VLOOKUP(D1927,#REF!,3,0))","v":{"$error":"#REF!"}},"大阪",{"$f":"IF(D1927=\"\",\"\",VLOOKUP(D1927,#REF!,4,0))","v":{"$error":"#REF!"}},{"$f":"IF(C1927=\"\",\"\",VLOOKUP(D1927,#REF!,5,0))","v":{"$error":"#REF!"}},"輸出","フィリピン",{"$f":"IF(H1927=\"\",\"\",VLOOKUP(H1927,#REF!,2,0))","v":{"$error":"#REF!"}},{"v":2576,"d":"2,576 "},null,{"v":2556,"d":"2,556 "},{"v":20,"d":"20 "}]
["H28",{"$f":"IF(D1928=\"\",\"\",VLOOKUP(D1928,#REF!,2,0))","v":{"$error":"#REF!"}},{"$f":"IF(D1928=\"\",\"\",VLOOKUP(D1928,#REF!,3,0))","v":{"$error":"#REF!"}},"大阪",{"$f":"IF(D1928=\"\",\"\",VLOOKUP(D1928,#REF!,4,0))","v":{"$error":"#REF!"}},{"$f":"IF(C1928=\"\",\"\",VLOOKUP(D1928,#REF!,5,0))","v":{"$error":"#REF!"}},"輸出","マレーシア",{"$f":"IF(H1928=\"\",\"\",VLOOKUP(H1928,#REF!,2,0))","v":{"$error":"#REF!"}},{"v":10275,"d":"10,275 "},null,{"v":9632,"d":"9,632 "},{"v":643,"d":"643 "}]
["H28",{"$f":"IF(D1929=\"\",\"\",VLOOKUP(D1929,#REF!,2,0))","v":{"$error":"#REF!"}},{"$f":"IF(D1929=\"\",\"\",VLOOKUP(D1929,#REF!,3,0))","v":{"$error":"#REF!"}},"大阪",{"$f":"IF(D1929=\"\",\"\",VLOOKUP(D1929,#REF!,4,0))","v":{"$error":"#REF!"}},{"$f":"IF(C1929=\"\",\"\",VLOOKUP(D1929,#REF!,5,0))","v":{"$error":"#REF!"}},"輸出","ベトナム",{"$f":"IF(H1929=\"\",\"\",VLOOKUP(H1929,#REF!,2,0))","v":{"$error":"#REF!"}},{"v":12784,"d":"12,784 "},null,{"v":11982,"d":"11,982 "},{"v":802,"d":"802 "}]
["H28",{"$f":"IF(D1930=\"\",\"\",VLOOKUP(D1930,#REF!,2,0))","v":{"$error":"#REF!"}},{"$f":"IF(D1930=\"\",\"\",VLOOKUP(D1930,#REF!,3,0))","v":{"$error":"#REF!"}},"大阪",{"$f":"IF(D1930=\"\",\"\",VLOOKUP(D1930,#REF!,4,0))","v":{"$error":"#REF!"}},{"$f":"IF(C1930=\"\",\"\",VLOOKUP(D1930,#REF!,5,0))","v":{"$error":"#REF!"}},"輸出","インド",{"$f":"IF(H1930=\"\",\"\",VLOOKUP(H1930,#REF!,2,0))","v":{"$error":"#REF!"}},{"v":511,"d":"511 "},null,{"v":511,"d":"511 "},{"v":0,"d":"0 "}]
["H28",{"$f":"IF(D1931=\"\",\"\",VLOOKUP(D1931,#REF!,2,0))","v":{"$error":"#REF!"}},{"$f":"IF(D1931=\"\",\"\",VLOOKUP(D1931,#REF!,3,0))","v":{"$error":"#REF!"}},"大阪",{"$f":"IF(D1931=\"\",\"\",VLOOKUP(D1931,#REF!,4,0))","v":{"$error":"#REF!"}},{"$f":"IF(C1931=\"\",\"\",VLOOKUP(D1931,#REF!,5,0))","v":{"$error":"#REF!"}},"輸出","スリランカ",{"$f":"IF(H1931=\"\",\"\",VLOOKUP(H1931,#REF!,2,0))","v":{"$error":"#REF!"}},{"v":1,"d":"1 "},null,{"v":1,"d":"1 "},{"v":0,"d":"0 "}]
["H28",{"$f":"IF(D1932=\"\",\"\",VLOOKUP(D1932,#REF!,2,0))","v":{"$error":"#REF!"}},{"$f":"IF(D1932=\"\",\"\",VLOOKUP(D1932,#REF!,3,0))","v":{"$error":"#REF!"}},"大阪",{"$f":"IF(D1932=\"\",\"\",VLOOKUP(D1932,#REF!,4,0))","v":{"$error":"#REF!"}},{"$f":"IF(C1932=\"\",\"\",VLOOKUP(D1932,#REF!,5,0))","v":{"$error":"#REF!"}},"輸出","パキスタン",{"$f":"IF(H1932=\"\",\"\",VLOOKUP(H1932,#REF!,2,0))","v":{"$error":"#REF!"}},{"v":1087,"d":"1,087 "},null,{"v":1087,"d":"1,087 "},{"v":0,"d":"0 "}]
["H28",{"$f":"IF(D1933=\"\",\"\",VLOOKUP(D1933,#REF!,2,0))","v":{"$error":"#REF!"}},{"$f":"IF(D1933=\"\",\"\",VLOOKUP(D1933,#REF!,3,0))","v":{"$error":"#REF!"}},"大阪",{"$f":"IF(D1933=\"\",\"\",VLOOKUP(D1933,#REF!,4,0))","v":{"$error":"#REF!"}},{"$f":"IF(C1933=\"\",\"\",VLOOKUP(D1933,#REF!,5,0))","v":{"$error":"#REF!"}},"輸出","オーストラリア",{"$f":"IF(H1933=\"\",\"\",VLOOKUP(H1933,#REF!,2,0))","v":{"$error":"#REF!"}},{"v":6844,"d":"6,844 "},null,{"v":5178,"d":"5,178 "},{"v":1666,"d":"1,666 "}]
["H28",{"$f":"IF(D1934=\"\",\"\",VLOOKUP(D1934,#REF!,2,0))","v":{"$error":"#REF!"}},{"$f":"IF(D1934=\"\",\"\",VLOOKUP(D1934,#REF!,3,0))","v":{"$error":"#REF!"}},"大阪",{"$f":"IF(D1934=\"\",\"\",VLOOKUP(D1934,#REF!,4,0))","v":{"$error":"#REF!"}},{"$f":"IF(C1934=\"\",\"\",VLOOKUP(D1934,#REF!,5,0))","v":{"$error":"#REF!"}},"輸出","アメリカ合衆国",{"$f":"IF(H1934=\"\",\"\",VLOOKUP(H1934,#REF!,2,0))","v":{"$error":"#REF!"}},{"v":4133,"d":"4,133 "},null,{"v":4073,"d":"4,073 "},{"v":60,"d":"60 "}]
["H28",{"$f":"IF(D1935=\"\",\"\",VLOOKUP(D1935,#REF!,2,0))","v":{"$error":"#REF!"}},{"$f":"IF(D1935=\"\",\"\",VLOOKUP(D1935,#REF!,3,0))","v":{"$error":"#REF!"}},"大阪",{"$f":"IF(D1935=\"\",\"\",VLOOKUP(D1935,#REF!,4,0))","v":{"$error":"#REF!"}},{"$f":"IF(C1935=\"\",\"\",VLOOKUP(D1935,#REF!,5,0))","v":{"$error":"#REF!"}},"輸出","カナダ",{"$f":"IF(H1935=\"\",\"\",VLOOKUP(H1935,#REF!,2,0))","v":{"$error":"#REF!"}},{"v":1773,"d":"1,773 "},null,{"v":1773,"d":"1,773 "},{"v":0,"d":"0 "}]
["H28",{"$f":"IF(D1936=\"\",\"\",VLOOKUP(D1936,#REF!,2,0))","v":{"$error":"#REF!"}},{"$f":"IF(D1936=\"\",\"\",VLOOKUP(D1936,#REF!,3,0))","v":{"$error":"#REF!"}},"神戸",{"$f":"IF(D1936=\"\",\"\",VLOOKUP(D1936,#REF!,4,0))","v":{"$error":"#REF!"}},{"$f":"IF(C1936=\"\",\"\",VLOOKUP(D1936,#REF!,5,0))","v":{"$error":"#REF!"}},"輸出","韓国",{"$f":"IF(H1936=\"\",\"\",VLOOKUP(H1936,#REF!,2,0))","v":{"$error":"#REF!"}},{"v":84756.75,"d":"84,757 "},null,{"v":63567,"d":"63,567 "},{"v":21189.75,"d":"21,190 "}]
["H28",{"$f":"IF(D1937=\"\",\"\",VLOOKUP(D1937,#REF!,2,0))","v":{"$error":"#REF!"}},{"$f":"IF(D1937=\"\",\"\",VLOOKUP(D1937,#REF!,3,0))","v":{"$error":"#REF!"}},"神戸",{"$f":"IF(D1937=\"\",\"\",VLOOKUP(D1937,#REF!,4,0))","v":{"$error":"#REF!"}},{"$f":"IF(C1937=\"\",\"\",VLOOKUP(D1937,#REF!,5,0))","v":{"$error":"#REF!"}},"輸出","台湾",{"$f":"IF(H1937=\"\",\"\",VLOOKUP(H1937,#REF!,2,0))","v":{"$error":"#REF!"}},{"v":134705,"d":"134,705 "},null,{"v":124437,"d":"124,437 "},{"v":10268,"d":"10,268 "}]
["H28",{"$f":"IF(D1938=\"\",\"\",VLOOKUP(D1938,#REF!,2,0))","v":{"$error":"#REF!"}},{"$f":"IF(D1938=\"\",\"\",VLOOKUP(D1938,#REF!,3,0))","v":{"$error":"#REF!"}},"神戸",{"$f":"IF(D1938=\"\",\"\",VLOOKUP(D1938,#REF!,4,0))","v":{"$error":"#REF!"}},{"$f":"IF(C1938=\"\",\"\",VLOOKUP(D1938,#REF!,5,0))","v":{"$error":"#REF!"}},"輸出","中国",{"$f":"IF(H1938=\"\",\"\",VLOOKUP(H1938,#REF!,2,0))","v":{"$error":"#REF!"}},{"v":353615.5,"d":"353,616 "},null,{"v":221388.5,"d":"221,389 "},{"v":132227,"d":"132,227 "}]
["H28",{"$f":"IF(D1939=\"\",\"\",VLOOKUP(D1939,#REF!,2,0))","v":{"$error":"#REF!"}},{"$f":"IF(D1939=\"\",\"\",VLOOKUP(D1939,#REF!,3,0))","v":{"$error":"#REF!"}},"神戸",{"$f":"IF(D1939=\"\",\"\",VLOOKUP(D1939,#REF!,4,0))","v":{"$error":"#REF!"}},{"$f":"IF(C1939=\"\",\"\",VLOOKUP(D1939,#REF!,5,0))","v":{"$error":"#REF!"}},"輸出","香港",{"$f":"IF(H1939=\"\",\"\",VLOOKUP(H1939,#REF!,2,0))","v":{"$error":"#REF!"}},{"v":94466,"d":"94,466 "},null,{"v":90299,"d":"90,299 "},{"v":4167,"d":"4,167 "}]
["H28",{"$f":"IF(D1940=\"\",\"\",VLOOKUP(D1940,#REF!,2,0))","v":{"$error":"#REF!"}},{"$f":"IF(D1940=\"\",\"\",VLOOKUP(D1940,#REF!,3,0))","v":{"$error":"#REF!"}},"神戸",{"$f":"IF(D1940=\"\",\"\",VLOOKUP(D1940,#REF!,4,0))","v":{"$error":"#REF!"}},{"$f":"IF(C1940=\"\",\"\",VLOOKUP(D1940,#REF!,5,0))","v":{"$error":"#REF!"}},"輸出","インドネシア",{"$f":"IF(H1940=\"\",\"\",VLOOKUP(H1940,#REF!,2,0))","v":{"$error":"#REF!"}},{"v":27897,"d":"27,897 "},null,{"v":27794,"d":"27,794 "},{"v":103,"d":"103 "}]
["H28",{"$f":"IF(D1941=\"\",\"\",VLOOKUP(D1941,#REF!,2,0))","v":{"$error":"#REF!"}},{"$f":"IF(D1941=\"\",\"\",VLOOKUP(D1941,#REF!,3,0))","v":{"$error":"#REF!"}},"神戸",{"$f":"IF(D1941=\"\",\"\",VLOOKUP(D1941,#REF!,4,0))","v":{"$error":"#REF!"}},{"$f":"IF(C1941=\"\",\"\",VLOOKUP(D1941,#REF!,5,0))","v":{"$error":"#REF!"}},"輸出","カンボジア",{"$f":"IF(H1941=\"\",\"\",VLOOKUP(H1941,#REF!,2,0))","v":{"$error":"#REF!"}},{"v":296,"d":"296 "},null,{"v":280,"d":"280 "},{"v":16,"d":"16 "}]
["H28",{"$f":"IF(D1942=\"\",\"\",VLOOKUP(D1942,#REF!,2,0))","v":{"$error":"#REF!"}},{"$f":"IF(D1942=\"\",\"\",VLOOKUP(D1942,#REF!,3,0))","v":{"$error":"#REF!"}},"神戸",{"$f":"IF(D1942=\"\",\"\",VLOOKUP(D1942,#REF!,4,0))","v":{"$error":"#REF!"}},{"$f":"IF(C1942=\"\",\"\",VLOOKUP(D1942,#REF!,5,0))","v":{"$error":"#REF!"}},"輸出","シンガポール",{"$f":"IF(H1942=\"\",\"\",VLOOKUP(H1942,#REF!,2,0))","v":{"$error":"#REF!"}},{"v":92554,"d":"92,554 "},null,{"v":83657,"d":"83,657 "},{"v":8897,"d":"8,897 "}]
["H28",{"$f":"IF(D1943=\"\",\"\",VLOOKUP(D1943,#REF!,2,0))","v":{"$error":"#REF!"}},{"$f":"IF(D1943=\"\",\"\",VLOOKUP(D1943,#REF!,3,0))","v":{"$error":"#REF!"}},"神戸",{"$f":"IF(D1943=\"\",\"\",VLOOKUP(D1943,#REF!,4,0))","v":{"$error":"#REF!"}},{"$f":"IF(C1943=\"\",\"\",VLOOKUP(D1943,#REF!,5,0))","v":{"$error":"#REF!"}},"輸出","タイ",{"$f":"IF(H1943=\"\",\"\",VLOOKUP(H1943,#REF!,2,0))","v":{"$error":"#REF!"}},{"v":81989.25,"d":"81,989 "},null,{"v":78416.25,"d":"78,416 "},{"v":3573,"d":"3,573 "}]
["H28",{"$f":"IF(D1944=\"\",\"\",VLOOKUP(D1944,#REF!,2,0))","v":{"$error":"#REF!"}},{"$f":"IF(D1944=\"\",\"\",VLOOKUP(D1944,#REF!,3,0))","v":{"$error":"#REF!"}},"神戸",{"$f":"IF(D1944=\"\",\"\",VLOOKUP(D1944,#REF!,4,0))","v":{"$error":"#REF!"}},{"$f":"IF(C1944=\"\",\"\",VLOOKUP(D1944,#REF!,5,0))","v":{"$error":"#REF!"}},"輸出","フィリピン",{"$f":"IF(H1944=\"\",\"\",VLOOKUP(H1944,#REF!,2,0))","v":{"$error":"#REF!"}},{"v":16583.25,"d":"16,583 "},null,{"v":12854.25,"d":"12,854 "},{"v":3729,"d":"3,729 "}]
["H28",{"$f":"IF(D1945=\"\",\"\",VLOOKUP(D1945,#REF!,2,0))","v":{"$error":"#REF!"}},{"$f":"IF(D1945=\"\",\"\",VLOOKUP(D1945,#REF!,3,0))","v":{"$error":"#REF!"}},"神戸",{"$f":"IF(D1945=\"\",\"\",VLOOKUP(D1945,#REF!,4,0))","v":{"$error":"#REF!"}},{"$f":"IF(C1945=\"\",\"\",VLOOKUP(D1945,#REF!,5,0))","v":{"$error":"#REF!"}},"輸出","マレーシア",{"$f":"IF(H1945=\"\",\"\",VLOOKUP(H1945,#REF!,2,0))","v":{"$error":"#REF!"}},{"v":51217,"d":"51,217 "},null,{"v":50671,"d":"50,671 "},{"v":546,"d":"546 "}]
["H28",{"$f":"IF(D1946=\"\",\"\",VLOOKUP(D1946,#REF!,2,0))","v":{"$error":"#REF!"}},{"$f":"IF(D1946=\"\",\"\",VLOOKUP(D1946,#REF!,3,0))","v":{"$error":"#REF!"}},"神戸",{"$f":"IF(D1946=\"\",\"\",VLOOKUP(D1946,#REF!,4,0))","v":{"$error":"#REF!"}},{"$f":"IF(C1946=\"\",\"\",VLOOKUP(D1946,#REF!,5,0))","v":{"$error":"#REF!"}},"輸出","ベトナム",{"$f":"IF(H1946=\"\",\"\",VLOOKUP(H1946,#REF!,2,0))","v":{"$error":"#REF!"}},{"v":55460,"d":"55,460 "},null,{"v":51244,"d":"51,244 "},{"v":4216,"d":"4,216 "}]
["H28",{"$f":"IF(D1947=\"\",\"\",VLOOKUP(D1947,#REF!,2,0))","v":{"$error":"#REF!"}},{"$f":"IF(D1947=\"\",\"\",VLOOKUP(D1947,#REF!,3,0))","v":{"$error":"#REF!"}},"神戸",{"$f":"IF(D1947=\"\",\"\",VLOOKUP(D1947,#REF!,4,0))","v":{"$error":"#REF!"}},{"$f":"IF(C1947=\"\",\"\",VLOOKUP(D1947,#REF!,5,0))","v":{"$error":"#REF!"}},"輸出","インド",{"$f":"IF(H1947=\"\",\"\",VLOOKUP(H1947,#REF!,2,0))","v":{"$error":"#REF!"}},{"v":767,"d":"767 "},null,{"v":687,"d":"687 "},{"v":80,"d":"80 "}]
["H28",{"$f":"IF(D1948=\"\",\"\",VLOOKUP(D1948,#REF!,2,0))","v":{"$error":"#REF!"}},{"$f":"IF(D1948=\"\",\"\",VLOOKUP(D1948,#REF!,3,0))","v":{"$error":"#REF!"}},"神戸",{"$f":"IF(D1948=\"\",\"\",VLOOKUP(D1948,#REF!,4,0))","v":{"$error":"#REF!"}},{"$f":"IF(C1948=\"\",\"\",VLOOKUP(D1948,#REF!,5,0))","v":{"$error":"#REF!"}},"輸出","スリランカ",{"$f":"IF(H1948=\"\",\"\",VLOOKUP(H1948,#REF!,2,0))","v":{"$error":"#REF!"}},{"v":353,"d":"353 "},null,{"v":353,"d":"353 "},{"v":0,"d":"0 "}]
["H28",{"$f":"IF(D1949=\"\",\"\",VLOOKUP(D1949,#REF!,2,0))","v":{"$error":"#REF!"}},{"$f":"IF(D1949=\"\",\"\",VLOOKUP(D1949,#REF!,3,0))","v":{"$error":"#REF!"}},"神戸",{"$f":"IF(D1949=\"\",\"\",VLOOKUP(D1949,#REF!,4,0))","v":{"$error":"#REF!"}},{"$f":"IF(C1949=\"\",\"\",VLOOKUP(D1949,#REF!,5,0))","v":{"$error":"#REF!"}},"輸出","パキスタン",{"$f":"IF(H1949=\"\",\"\",VLOOKUP(H1949,#REF!,2,0))","v":{"$error":"#REF!"}},{"v":220,"d":"220 "},null,{"v":220,"d":"220 "},{"v":0,"d":"0 "}]
["H28",{"$f":"IF(D1950=\"\",\"\",VLOOKUP(D1950,#REF!,2,0))","v":{"$error":"#REF!"}},{"$f":"IF(D1950=\"\",\"\",VLOOKUP(D1950,#REF!,3,0))","v":{"$error":"#REF!"}},"神戸",{"$f":"IF(D1950=\"\",\"\",VLOOKUP(D1950,#REF!,4,0))","v":{"$error":"#REF!"}},{"$f":"IF(C1950=\"\",\"\",VLOOKUP(D1950,#REF!,5,0))","v":{"$error":"#REF!"}},"輸出","サウジアラビア",{"$f":"IF(H1950=\"\",\"\",VLOOKUP(H1950,#REF!,2,0))","v":{"$error":"#REF!"}},{"v":688,"d":"688 "},null,{"v":678,"d":"678 "},{"v":10,"d":"10 "}]
["H28",{"$f":"IF(D1951=\"\",\"\",VLOOKUP(D1951,#REF!,2,0))","v":{"$error":"#REF!"}},{"$f":"IF(D1951=\"\",\"\",VLOOKUP(D1951,#REF!,3,0))","v":{"$error":"#REF!"}},"神戸",{"$f":"IF(D1951=\"\",\"\",VLOOKUP(D1951,#REF!,4,0))","v":{"$error":"#REF!"}},{"$f":"IF(C1951=\"\",\"\",VLOOKUP(D1951,#REF!,5,0))","v":{"$error":"#REF!"}},"輸出","オーストラリア",{"$f":"IF(H1951=\"\",\"\",VLOOKUP(H1951,#REF!,2,0))","v":{"$error":"#REF!"}},{"v":636,"d":"636 "},null,{"v":264,"d":"264 "},{"v":372,"d":"372 "}]
["H28",{"$f":"IF(D1952=\"\",\"\",VLOOKUP(D1952,#REF!,2,0))","v":{"$error":"#REF!"}},{"$f":"IF(D1952=\"\",\"\",VLOOKUP(D1952,#REF!,3,0))","v":{"$error":"#REF!"}},"神戸",{"$f":"IF(D1952=\"\",\"\",VLOOKUP(D1952,#REF!,4,0))","v":{"$error":"#REF!"}},{"$f":"IF(C1952=\"\",\"\",VLOOKUP(D1952,#REF!,5,0))","v":{"$error":"#REF!"}},"輸出","仏領ポリネシア",{"$f":"IF(H1952=\"\",\"\",VLOOKUP(H1952,#REF!,2,0))","v":{"$error":"#REF!"}},{"v":77,"d":"77 "},null,{"v":77,"d":"77 "},{"v":0,"d":"0 "}]
["H28",{"$f":"IF(D1953=\"\",\"\",VLOOKUP(D1953,#REF!,2,0))","v":{"$error":"#REF!"}},{"$f":"IF(D1953=\"\",\"\",VLOOKUP(D1953,#REF!,3,0))","v":{"$error":"#REF!"}},"神戸",{"$f":"IF(D1953=\"\",\"\",VLOOKUP(D1953,#REF!,4,0))","v":{"$error":"#REF!"}},{"$f":"IF(C1953=\"\",\"\",VLOOKUP(D1953,#REF!,5,0))","v":{"$error":"#REF!"}},"輸出","グアム",{"$f":"IF(H1953=\"\",\"\",VLOOKUP(H1953,#REF!,2,0))","v":{"$error":"#REF!"}},{"v":66,"d":"66 "},null,{"v":66,"d":"66 "},{"v":0,"d":"0 "}]
["H28",{"$f":"IF(D1954=\"\",\"\",VLOOKUP(D1954,#REF!,2,0))","v":{"$error":"#REF!"}},{"$f":"IF(D1954=\"\",\"\",VLOOKUP(D1954,#REF!,3,0))","v":{"$error":"#REF!"}},"神戸",{"$f":"IF(D1954=\"\",\"\",VLOOKUP(D1954,#REF!,4,0))","v":{"$error":"#REF!"}},{"$f":"IF(C1954=\"\",\"\",VLOOKUP(D1954,#REF!,5,0))","v":{"$error":"#REF!"}},"輸出","サモア独立国",{"$f":"IF(H1954=\"\",\"\",VLOOKUP(H1954,#REF!,2,0))","v":{"$error":"#REF!"}},{"v":23,"d":"23 "},null,{"v":23,"d":"23 "},{"v":0,"d":"0 "}]
["H28",{"$f":"IF(D1955=\"\",\"\",VLOOKUP(D1955,#REF!,2,0))","v":{"$error":"#REF!"}},{"$f":"IF(D1955=\"\",\"\",VLOOKUP(D1955,#REF!,3,0))","v":{"$error":"#REF!"}},"神戸",{"$f":"IF(D1955=\"\",\"\",VLOOKUP(D1955,#REF!,4,0))","v":{"$error":"#REF!"}},{"$f":"IF(C1955=\"\",\"\",VLOOKUP(D1955,#REF!,5,0))","v":{"$error":"#REF!"}},"輸出","ソロモン諸島",{"$f":"IF(H1955=\"\",\"\",VLOOKUP(H1955,#REF!,2,0))","v":{"$error":"#REF!"}},{"v":6,"d":"6 "},null,{"v":6,"d":"6 "},{"v":0,"d":"0 "}]
["H28",{"$f":"IF(D1956=\"\",\"\",VLOOKUP(D1956,#REF!,2,0))","v":{"$error":"#REF!"}},{"$f":"IF(D1956=\"\",\"\",VLOOKUP(D1956,#REF!,3,0))","v":{"$error":"#REF!"}},"神戸",{"$f":"IF(D1956=\"\",\"\",VLOOKUP(D1956,#REF!,4,0))","v":{"$error":"#REF!"}},{"$f":"IF(C1956=\"\",\"\",VLOOKUP(D1956,#REF!,5,0))","v":{"$error":"#REF!"}},"輸出","トンガ",{"$f":"IF(H1956=\"\",\"\",VLOOKUP(H1956,#REF!,2,0))","v":{"$error":"#REF!"}},{"v":27,"d":"27 "},null,{"v":7,"d":"7 "},{"v":20,"d":"20 "}]
["H28",{"$f":"IF(D1957=\"\",\"\",VLOOKUP(D1957,#REF!,2,0))","v":{"$error":"#REF!"}},{"$f":"IF(D1957=\"\",\"\",VLOOKUP(D1957,#REF!,3,0))","v":{"$error":"#REF!"}},"神戸",{"$f":"IF(D1957=\"\",\"\",VLOOKUP(D1957,#REF!,4,0))","v":{"$error":"#REF!"}},{"$f":"IF(C1957=\"\",\"\",VLOOKUP(D1957,#REF!,5,0))","v":{"$error":"#REF!"}},"輸出","ニューカレドニア",{"$f":"IF(H1957=\"\",\"\",VLOOKUP(H1957,#REF!,2,0))","v":{"$error":"#REF!"}},{"v":36,"d":"36 "},null,{"v":36,"d":"36 "},{"v":0,"d":"0 "}]
["H28",{"$f":"IF(D1958=\"\",\"\",VLOOKUP(D1958,#REF!,2,0))","v":{"$error":"#REF!"}},{"$f":"IF(D1958=\"\",\"\",VLOOKUP(D1958,#REF!,3,0))","v":{"$error":"#REF!"}},"神戸",{"$f":"IF(D1958=\"\",\"\",VLOOKUP(D1958,#REF!,4,0))","v":{"$error":"#REF!"}},{"$f":"IF(C1958=\"\",\"\",VLOOKUP(D1958,#REF!,5,0))","v":{"$error":"#REF!"}},"輸出","ニュージーランド",{"$f":"IF(H1958=\"\",\"\",VLOOKUP(H1958,#REF!,2,0))","v":{"$error":"#REF!"}},{"v":2703,"d":"2,703 "},null,{"v":1629,"d":"1,629 "},{"v":1074,"d":"1,074 "}]
["H28",{"$f":"IF(D1959=\"\",\"\",VLOOKUP(D1959,#REF!,2,0))","v":{"$error":"#REF!"}},{"$f":"IF(D1959=\"\",\"\",VLOOKUP(D1959,#REF!,3,0))","v":{"$error":"#REF!"}},"神戸",{"$f":"IF(D1959=\"\",\"\",VLOOKUP(D1959,#REF!,4,0))","v":{"$error":"#REF!"}},{"$f":"IF(C1959=\"\",\"\",VLOOKUP(D1959,#REF!,5,0))","v":{"$error":"#REF!"}},"輸出","パプアニューギニア",{"$f":"IF(H1959=\"\",\"\",VLOOKUP(H1959,#REF!,2,0))","v":{"$error":"#REF!"}},{"v":21,"d":"21 "},null,{"v":21,"d":"21 "},{"v":0,"d":"0 "}]
["H28",{"$f":"IF(D1960=\"\",\"\",VLOOKUP(D1960,#REF!,2,0))","v":{"$error":"#REF!"}},{"$f":"IF(D1960=\"\",\"\",VLOOKUP(D1960,#REF!,3,0))","v":{"$error":"#REF!"}},"神戸",{"$f":"IF(D1960=\"\",\"\",VLOOKUP(D1960,#REF!,4,0))","v":{"$error":"#REF!"}},{"$f":"IF(C1960=\"\",\"\",VLOOKUP(D1960,#REF!,5,0))","v":{"$error":"#REF!"}},"輸出","フィジー",{"$f":"IF(H1960=\"\",\"\",VLOOKUP(H1960,#REF!,2,0))","v":{"$error":"#REF!"}},{"v":31,"d":"31 "},null,{"v":31,"d":"31 "},{"v":0,"d":"0 "}]
["H28",{"$f":"IF(D1961=\"\",\"\",VLOOKUP(D1961,#REF!,2,0))","v":{"$error":"#REF!"}},{"$f":"IF(D1961=\"\",\"\",VLOOKUP(D1961,#REF!,3,0))","v":{"$error":"#REF!"}},"神戸",{"$f":"IF(D1961=\"\",\"\",VLOOKUP(D1961,#REF!,4,0))","v":{"$error":"#REF!"}},{"$f":"IF(C1961=\"\",\"\",VLOOKUP(D1961,#REF!,5,0))","v":{"$error":"#REF!"}},"輸出","キリバス",{"$f":"IF(H1961=\"\",\"\",VLOOKUP(H1961,#REF!,2,0))","v":{"$error":"#REF!"}},{"v":2,"d":"2 "},null,{"v":2,"d":"2 "},{"v":0,"d":"0 "}]
["H28",{"$f":"IF(D1962=\"\",\"\",VLOOKUP(D1962,#REF!,2,0))","v":{"$error":"#REF!"}},{"$f":"IF(D1962=\"\",\"\",VLOOKUP(D1962,#REF!,3,0))","v":{"$error":"#REF!"}},"神戸",{"$f":"IF(D1962=\"\",\"\",VLOOKUP(D1962,#REF!,4,0))","v":{"$error":"#REF!"}},{"$f":"IF(C1962=\"\",\"\",VLOOKUP(D1962,#REF!,5,0))","v":{"$error":"#REF!"}},"輸出","バヌアツ",{"$f":"IF(H1962=\"\",\"\",VLOOKUP(H1962,#REF!,2,0))","v":{"$error":"#REF!"}},{"v":6,"d":"6 "},null,{"v":4,"d":"4 "},{"v":2,"d":"2 "}]
["H28",{"$f":"IF(D1963=\"\",\"\",VLOOKUP(D1963,#REF!,2,0))","v":{"$error":"#REF!"}},{"$f":"IF(D1963=\"\",\"\",VLOOKUP(D1963,#REF!,3,0))","v":{"$error":"#REF!"}},"神戸",{"$f":"IF(D1963=\"\",\"\",VLOOKUP(D1963,#REF!,4,0))","v":{"$error":"#REF!"}},{"$f":"IF(C1963=\"\",\"\",VLOOKUP(D1963,#REF!,5,0))","v":{"$error":"#REF!"}},"輸出","米領サモア",{"$f":"IF(H1963=\"\",\"\",VLOOKUP(H1963,#REF!,2,0))","v":{"$error":"#REF!"}},{"v":1,"d":"1 "},null,{"v":1,"d":"1 "},{"v":0,"d":"0 "}]
["H28",{"$f":"IF(D1964=\"\",\"\",VLOOKUP(D1964,#REF!,2,0))","v":{"$error":"#REF!"}},{"$f":"IF(D1964=\"\",\"\",VLOOKUP(D1964,#REF!,3,0))","v":{"$error":"#REF!"}},"神戸",{"$f":"IF(D1964=\"\",\"\",VLOOKUP(D1964,#REF!,4,0))","v":{"$error":"#REF!"}},{"$f":"IF(C1964=\"\",\"\",VLOOKUP(D1964,#REF!,5,0))","v":{"$error":"#REF!"}},"輸出","ミクロネシア",{"$f":"IF(H1964=\"\",\"\",VLOOKUP(H1964,#REF!,2,0))","v":{"$error":"#REF!"}},{"v":66,"d":"66 "},null,{"v":66,"d":"66 "},{"v":0,"d":"0 "}]
["H28",{"$f":"IF(D1965=\"\",\"\",VLOOKUP(D1965,#REF!,2,0))","v":{"$error":"#REF!"}},{"$f":"IF(D1965=\"\",\"\",VLOOKUP(D1965,#REF!,3,0))","v":{"$error":"#REF!"}},"神戸",{"$f":"IF(D1965=\"\",\"\",VLOOKUP(D1965,#REF!,4,0))","v":{"$error":"#REF!"}},{"$f":"IF(C1965=\"\",\"\",VLOOKUP(D1965,#REF!,5,0))","v":{"$error":"#REF!"}},"輸出","マーシャル諸島",{"$f":"IF(H1965=\"\",\"\",VLOOKUP(H1965,#REF!,2,0))","v":{"$error":"#REF!"}},{"v":28,"d":"28 "},null,{"v":28,"d":"28 "},{"v":0,"d":"0 "}]
["H28",{"$f":"IF(D1966=\"\",\"\",VLOOKUP(D1966,#REF!,2,0))","v":{"$error":"#REF!"}},{"$f":"IF(D1966=\"\",\"\",VLOOKUP(D1966,#REF!,3,0))","v":{"$error":"#REF!"}},"神戸",{"$f":"IF(D1966=\"\",\"\",VLOOKUP(D1966,#REF!,4,0))","v":{"$error":"#REF!"}},{"$f":"IF(C1966=\"\",\"\",VLOOKUP(D1966,#REF!,5,0))","v":{"$error":"#REF!"}},"輸出","北マリアナ諸島",{"$f":"IF(H1966=\"\",\"\",VLOOKUP(H1966,#REF!,2,0))","v":{"$error":"#REF!"}},{"v":23,"d":"23 "},null,{"v":23,"d":"23 "},{"v":0,"d":"0 "}]
["H28",{"$f":"IF(D1967=\"\",\"\",VLOOKUP(D1967,#REF!,2,0))","v":{"$error":"#REF!"}},{"$f":"IF(D1967=\"\",\"\",VLOOKUP(D1967,#REF!,3,0))","v":{"$error":"#REF!"}},"神戸",{"$f":"IF(D1967=\"\",\"\",VLOOKUP(D1967,#REF!,4,0))","v":{"$error":"#REF!"}},{"$f":"IF(C1967=\"\",\"\",VLOOKUP(D1967,#REF!,5,0))","v":{"$error":"#REF!"}},"輸出","パラオ",{"$f":"IF(H1967=\"\",\"\",VLOOKUP(H1967,#REF!,2,0))","v":{"$error":"#REF!"}},{"v":17,"d":"17 "},null,{"v":17,"d":"17 "},{"v":0,"d":"0 "}]
["H28",{"$f":"IF(D1968=\"\",\"\",VLOOKUP(D1968,#REF!,2,0))","v":{"$error":"#REF!"}},{"$f":"IF(D1968=\"\",\"\",VLOOKUP(D1968,#REF!,3,0))","v":{"$error":"#REF!"}},"神戸",{"$f":"IF(D1968=\"\",\"\",VLOOKUP(D1968,#REF!,4,0))","v":{"$error":"#REF!"}},{"$f":"IF(C1968=\"\",\"\",VLOOKUP(D1968,#REF!,5,0))","v":{"$error":"#REF!"}},"輸出","南アフリカ",{"$f":"IF(H1968=\"\",\"\",VLOOKUP(H1968,#REF!,2,0))","v":{"$error":"#REF!"}},{"v":1443,"d":"1,443 "},null,{"v":1443,"d":"1,443 "},{"v":0,"d":"0 "}]
["H28",{"$f":"IF(D1969=\"\",\"\",VLOOKUP(D1969,#REF!,2,0))","v":{"$error":"#REF!"}},{"$f":"IF(D1969=\"\",\"\",VLOOKUP(D1969,#REF!,3,0))","v":{"$error":"#REF!"}},"神戸",{"$f":"IF(D1969=\"\",\"\",VLOOKUP(D1969,#REF!,4,0))","v":{"$error":"#REF!"}},{"$f":"IF(C1969=\"\",\"\",VLOOKUP(D1969,#REF!,5,0))","v":{"$error":"#REF!"}},"輸出","モーリシャス",{"$f":"IF(H1969=\"\",\"\",VLOOKUP(H1969,#REF!,2,0))","v":{"$error":"#REF!"}},{"v":167,"d":"167 "},null,{"v":167,"d":"167 "},{"v":0,"d":"0 "}]
["H28",{"$f":"IF(D1970=\"\",\"\",VLOOKUP(D1970,#REF!,2,0))","v":{"$error":"#REF!"}},{"$f":"IF(D1970=\"\",\"\",VLOOKUP(D1970,#REF!,3,0))","v":{"$error":"#REF!"}},"神戸",{"$f":"IF(D1970=\"\",\"\",VLOOKUP(D1970,#REF!,4,0))","v":{"$error":"#REF!"}},{"$f":"IF(C1970=\"\",\"\",VLOOKUP(D1970,#REF!,5,0))","v":{"$error":"#REF!"}},"輸出","イギリス",{"$f":"IF(H1970=\"\",\"\",VLOOKUP(H1970,#REF!,2,0))","v":{"$error":"#REF!"}},{"v":2757,"d":"2,757 "},null,{"v":2749,"d":"2,749 "},{"v":8,"d":"8 "}]
["H28",{"$f":"IF(D1971=\"\",\"\",VLOOKUP(D1971,#REF!,2,0))","v":{"$error":"#REF!"}},{"$f":"IF(D1971=\"\",\"\",VLOOKUP(D1971,#REF!,3,0))","v":{"$error":"#REF!"}},"神戸",{"$f":"IF(D1971=\"\",\"\",VLOOKUP(D1971,#REF!,4,0))","v":{"$error":"#REF!"}},{"$f":"IF(C1971=\"\",\"\",VLOOKUP(D1971,#REF!,5,0))","v":{"$error":"#REF!"}},"輸出","オランダ",{"$f":"IF(H1971=\"\",\"\",VLOOKUP(H1971,#REF!,2,0))","v":{"$error":"#REF!"}},{"v":17008.25,"d":"17,008 "},null,{"v":16743.25,"d":"16,743 "},{"v":265,"d":"265 "}]
["H28",{"$f":"IF(D1972=\"\",\"\",VLOOKUP(D1972,#REF!,2,0))","v":{"$error":"#REF!"}},{"$f":"IF(D1972=\"\",\"\",VLOOKUP(D1972,#REF!,3,0))","v":{"$error":"#REF!"}},"神戸",{"$f":"IF(D1972=\"\",\"\",VLOOKUP(D1972,#REF!,4,0))","v":{"$error":"#REF!"}},{"$f":"IF(C1972=\"\",\"\",VLOOKUP(D1972,#REF!,5,0))","v":{"$error":"#REF!"}},"輸出","ドイツ",{"$f":"IF(H1972=\"\",\"\",VLOOKUP(H1972,#REF!,2,0))","v":{"$error":"#REF!"}},{"v":9621,"d":"9,621 "},null,{"v":9609,"d":"9,609 "},{"v":12,"d":"12 "}]
["H28",{"$f":"IF(D1973=\"\",\"\",VLOOKUP(D1973,#REF!,2,0))","v":{"$error":"#REF!"}},{"$f":"IF(D1973=\"\",\"\",VLOOKUP(D1973,#REF!,3,0))","v":{"$error":"#REF!"}},"神戸",{"$f":"IF(D1973=\"\",\"\",VLOOKUP(D1973,#REF!,4,0))","v":{"$error":"#REF!"}},{"$f":"IF(C1973=\"\",\"\",VLOOKUP(D1973,#REF!,5,0))","v":{"$error":"#REF!"}},"輸出","フランス",{"$f":"IF(H1973=\"\",\"\",VLOOKUP(H1973,#REF!,2,0))","v":{"$error":"#REF!"}},{"v":2111,"d":"2,111 "},null,{"v":1822,"d":"1,822 "},{"v":289,"d":"289 "}]
["H28",{"$f":"IF(D1974=\"\",\"\",VLOOKUP(D1974,#REF!,2,0))","v":{"$error":"#REF!"}},{"$f":"IF(D1974=\"\",\"\",VLOOKUP(D1974,#REF!,3,0))","v":{"$error":"#REF!"}},"神戸",{"$f":"IF(D1974=\"\",\"\",VLOOKUP(D1974,#REF!,4,0))","v":{"$error":"#REF!"}},{"$f":"IF(C1974=\"\",\"\",VLOOKUP(D1974,#REF!,5,0))","v":{"$error":"#REF!"}},"輸出","ベルギー",{"$f":"IF(H1974=\"\",\"\",VLOOKUP(H1974,#REF!,2,0))","v":{"$error":"#REF!"}},{"v":588.25,"d":"588 "},null,{"v":0,"d":"0 "},{"v":588.25,"d":"588 "}]
["H28",{"$f":"IF(D1975=\"\",\"\",VLOOKUP(D1975,#REF!,2,0))","v":{"$error":"#REF!"}},{"$f":"IF(D1975=\"\",\"\",VLOOKUP(D1975,#REF!,3,0))","v":{"$error":"#REF!"}},"神戸",{"$f":"IF(D1975=\"\",\"\",VLOOKUP(D1975,#REF!,4,0))","v":{"$error":"#REF!"}},{"$f":"IF(C1975=\"\",\"\",VLOOKUP(D1975,#REF!,5,0))","v":{"$error":"#REF!"}},"輸出","ロシア",{"$f":"IF(H1975=\"\",\"\",VLOOKUP(H1975,#REF!,2,0))","v":{"$error":"#REF!"}},{"v":1513,"d":"1,513 "},null,{"v":1511,"d":"1,511 "},{"v":2,"d":"2 "}]
["H28",{"$f":"IF(D1976=\"\",\"\",VLOOKUP(D1976,#REF!,2,0))","v":{"$error":"#REF!"}},{"$f":"IF(D1976=\"\",\"\",VLOOKUP(D1976,#REF!,3,0))","v":{"$error":"#REF!"}},"神戸",{"$f":"IF(D1976=\"\",\"\",VLOOKUP(D1976,#REF!,4,0))","v":{"$error":"#REF!"}},{"$f":"IF(C1976=\"\",\"\",VLOOKUP(D1976,#REF!,5,0))","v":{"$error":"#REF!"}},"輸出","アメリカ合衆国",{"$f":"IF(H1976=\"\",\"\",VLOOKUP(H1976,#REF!,2,0))","v":{"$error":"#REF!"}},{"v":105565.5,"d":"105,566 "},null,{"v":102691.5,"d":"102,692 "},{"v":2874,"d":"2,874 "}]
["H28",{"$f":"IF(D1977=\"\",\"\",VLOOKUP(D1977,#REF!,2,0))","v":{"$error":"#REF!"}},{"$f":"IF(D1977=\"\",\"\",VLOOKUP(D1977,#REF!,3,0))","v":{"$error":"#REF!"}},"神戸",{"$f":"IF(D1977=\"\",\"\",VLOOKUP(D1977,#REF!,4,0))","v":{"$error":"#REF!"}},{"$f":"IF(C1977=\"\",\"\",VLOOKUP(D1977,#REF!,5,0))","v":{"$error":"#REF!"}},"輸出","カナダ",{"$f":"IF(H1977=\"\",\"\",VLOOKUP(H1977,#REF!,2,0))","v":{"$error":"#REF!"}},{"v":5619.25,"d":"5,619 "},null,{"v":5560.25,"d":"5,560 "},{"v":59,"d":"59 "}]
["H28",{"$f":"IF(D1978=\"\",\"\",VLOOKUP(D1978,#REF!,2,0))","v":{"$error":"#REF!"}},{"$f":"IF(D1978=\"\",\"\",VLOOKUP(D1978,#REF!,3,0))","v":{"$error":"#REF!"}},"神戸",{"$f":"IF(D1978=\"\",\"\",VLOOKUP(D1978,#REF!,4,0))","v":{"$error":"#REF!"}},{"$f":"IF(C1978=\"\",\"\",VLOOKUP(D1978,#REF!,5,0))","v":{"$error":"#REF!"}},"輸出","パナマ",{"$f":"IF(H1978=\"\",\"\",VLOOKUP(H1978,#REF!,2,0))","v":{"$error":"#REF!"}},{"v":3931,"d":"3,931 "},null,{"v":512,"d":"512 "},{"v":3419,"d":"3,419 "}]
["H28",{"$f":"IF(D1979=\"\",\"\",VLOOKUP(D1979,#REF!,2,0))","v":{"$error":"#REF!"}},{"$f":"IF(D1979=\"\",\"\",VLOOKUP(D1979,#REF!,3,0))","v":{"$error":"#REF!"}},"和歌山下津",{"$f":"IF(D1979=\"\",\"\",VLOOKUP(D1979,#REF!,4,0))","v":{"$error":"#REF!"}},{"$f":"IF(C1979=\"\",\"\",VLOOKUP(D1979,#REF!,5,0))","v":{"$error":"#REF!"}},"輸出","韓国",{"$f":"IF(H1979=\"\",\"\",VLOOKUP(H1979,#REF!,2,0))","v":{"$error":"#REF!"}},{"v":2691,"d":"2,691 "},null,{"v":533,"d":"533 "},{"v":2158,"d":"2,158 "}]
["H28",{"$f":"IF(D1980=\"\",\"\",VLOOKUP(D1980,#REF!,2,0))","v":{"$error":"#REF!"}},{"$f":"IF(D1980=\"\",\"\",VLOOKUP(D1980,#REF!,3,0))","v":{"$error":"#REF!"}},"和歌山下津",{"$f":"IF(D1980=\"\",\"\",VLOOKUP(D1980,#REF!,4,0))","v":{"$error":"#REF!"}},{"$f":"IF(C1980=\"\",\"\",VLOOKUP(D1980,#REF!,5,0))","v":{"$error":"#REF!"}},"輸出","中国",{"$f":"IF(H1980=\"\",\"\",VLOOKUP(H1980,#REF!,2,0))","v":{"$error":"#REF!"}},{"v":122,"d":"122 "},null,{"v":104,"d":"104 "},{"v":18,"d":"18 "}]
["H28",{"$f":"IF(D1981=\"\",\"\",VLOOKUP(D1981,#REF!,2,0))","v":{"$error":"#REF!"}},{"$f":"IF(D1981=\"\",\"\",VLOOKUP(D1981,#REF!,3,0))","v":{"$error":"#REF!"}},"舞鶴",{"$f":"IF(D1981=\"\",\"\",VLOOKUP(D1981,#REF!,4,0))","v":{"$error":"#REF!"}},{"$f":"IF(C1981=\"\",\"\",VLOOKUP(D1981,#REF!,5,0))","v":{"$error":"#REF!"}},"輸入","韓国",{"$f":"IF(H1981=\"\",\"\",VLOOKUP(H1981,#REF!,2,0))","v":{"$error":"#REF!"}},{"v":5497,"d":"5,497 "},null,{"v":4662,"d":"4,662 "},{"v":835,"d":"835 "}]
["H28",{"$f":"IF(D1982=\"\",\"\",VLOOKUP(D1982,#REF!,2,0))","v":{"$error":"#REF!"}},{"$f":"IF(D1982=\"\",\"\",VLOOKUP(D1982,#REF!,3,0))","v":{"$error":"#REF!"}},"舞鶴",{"$f":"IF(D1982=\"\",\"\",VLOOKUP(D1982,#REF!,4,0))","v":{"$error":"#REF!"}},{"$f":"IF(C1982=\"\",\"\",VLOOKUP(D1982,#REF!,5,0))","v":{"$error":"#REF!"}},"輸入","中国",{"$f":"IF(H1982=\"\",\"\",VLOOKUP(H1982,#REF!,2,0))","v":{"$error":"#REF!"}},{"v":1928,"d":"1,928 "},null,{"v":1928,"d":"1,928 "},{"v":0,"d":"0 "}]
["H28",{"$f":"IF(D1983=\"\",\"\",VLOOKUP(D1983,#REF!,2,0))","v":{"$error":"#REF!"}},{"$f":"IF(D1983=\"\",\"\",VLOOKUP(D1983,#REF!,3,0))","v":{"$error":"#REF!"}},"舞鶴",{"$f":"IF(D1983=\"\",\"\",VLOOKUP(D1983,#REF!,4,0))","v":{"$error":"#REF!"}},{"$f":"IF(C1983=\"\",\"\",VLOOKUP(D1983,#REF!,5,0))","v":{"$error":"#REF!"}},"輸入","ロシア",{"$f":"IF(H1983=\"\",\"\",VLOOKUP(H1983,#REF!,2,0))","v":{"$error":"#REF!"}},{"v":63,"d":"63 "},null,{"v":2,"d":"2 "},{"v":61,"d":"61 "}]
["H28",{"$f":"IF(D1984=\"\",\"\",VLOOKUP(D1984,#REF!,2,0))","v":{"$error":"#REF!"}},{"$f":"IF(D1984=\"\",\"\",VLOOKUP(D1984,#REF!,3,0))","v":{"$error":"#REF!"}},"堺泉北",{"$f":"IF(D1984=\"\",\"\",VLOOKUP(D1984,#REF!,4,0))","v":{"$error":"#REF!"}},{"$f":"IF(C1984=\"\",\"\",VLOOKUP(D1984,#REF!,5,0))","v":{"$error":"#REF!"}},"輸入","中国",{"$f":"IF(H1984=\"\",\"\",VLOOKUP(H1984,#REF!,2,0))","v":{"$error":"#REF!"}},{"v":9609,"d":"9,609 "},null,{"v":9130,"d":"9,130 "},{"v":479,"d":"479 "}]
["H28",{"$f":"IF(D1985=\"\",\"\",VLOOKUP(D1985,#REF!,2,0))","v":{"$error":"#REF!"}},{"$f":"IF(D1985=\"\",\"\",VLOOKUP(D1985,#REF!,3,0))","v":{"$error":"#REF!"}},"大阪",{"$f":"IF(D1985=\"\",\"\",VLOOKUP(D1985,#REF!,4,0))","v":{"$error":"#REF!"}},{"$f":"IF(C1985=\"\",\"\",VLOOKUP(D1985,#REF!,5,0))","v":{"$error":"#REF!"}},"輸入","韓国",{"$f":"IF(H1985=\"\",\"\",VLOOKUP(H1985,#REF!,2,0))","v":{"$error":"#REF!"}},{"v":98440.7,"d":"98,441 "},null,{"v":92878,"d":"92,878 "},{"v":5562.7,"d":"5,563 "}]
["H28",{"$f":"IF(D1986=\"\",\"\",VLOOKUP(D1986,#REF!,2,0))","v":{"$error":"#REF!"}},{"$f":"IF(D1986=\"\",\"\",VLOOKUP(D1986,#REF!,3,0))","v":{"$error":"#REF!"}},"大阪",{"$f":"IF(D1986=\"\",\"\",VLOOKUP(D1986,#REF!,4,0))","v":{"$error":"#REF!"}},{"$f":"IF(C1986=\"\",\"\",VLOOKUP(D1986,#REF!,5,0))","v":{"$error":"#REF!"}},"輸入","台湾",{"$f":"IF(H1986=\"\",\"\",VLOOKUP(H1986,#REF!,2,0))","v":{"$error":"#REF!"}},{"v":77799,"d":"77,799 "},null,{"v":77162,"d":"77,162 "},{"v":637,"d":"637 "}]
["H28",{"$f":"IF(D1987=\"\",\"\",VLOOKUP(D1987,#REF!,2,0))","v":{"$error":"#REF!"}},{"$f":"IF(D1987=\"\",\"\",VLOOKUP(D1987,#REF!,3,0))","v":{"$error":"#REF!"}},"大阪",{"$f":"IF(D1987=\"\",\"\",VLOOKUP(D1987,#REF!,4,0))","v":{"$error":"#REF!"}},{"$f":"IF(C1987=\"\",\"\",VLOOKUP(D1987,#REF!,5,0))","v":{"$error":"#REF!"}},"輸入","中国",{"$f":"IF(H1987=\"\",\"\",VLOOKUP(H1987,#REF!,2,0))","v":{"$error":"#REF!"}},{"v":581164,"d":"581,164 "},null,{"v":565015,"d":"565,015 "},{"v":16149,"d":"16,149 "}]
["H28",{"$f":"IF(D1988=\"\",\"\",VLOOKUP(D1988,#REF!,2,0))","v":{"$error":"#REF!"}},{"$f":"IF(D1988=\"\",\"\",VLOOKUP(D1988,#REF!,3,0))","v":{"$error":"#REF!"}},"大阪",{"$f":"IF(D1988=\"\",\"\",VLOOKUP(D1988,#REF!,4,0))","v":{"$error":"#REF!"}},{"$f":"IF(C1988=\"\",\"\",VLOOKUP(D1988,#REF!,5,0))","v":{"$error":"#REF!"}},"輸入","香港",{"$f":"IF(H1988=\"\",\"\",VLOOKUP(H1988,#REF!,2,0))","v":{"$error":"#REF!"}},{"v":102830,"d":"102,830 "},null,{"v":102510,"d":"102,510 "},{"v":320,"d":"320 "}]
["H28",{"$f":"IF(D1989=\"\",\"\",VLOOKUP(D1989,#REF!,2,0))","v":{"$error":"#REF!"}},{"$f":"IF(D1989=\"\",\"\",VLOOKUP(D1989,#REF!,3,0))","v":{"$error":"#REF!"}},"大阪",{"$f":"IF(D1989=\"\",\"\",VLOOKUP(D1989,#REF!,4,0))","v":{"$error":"#REF!"}},{"$f":"IF(C1989=\"\",\"\",VLOOKUP(D1989,#REF!,5,0))","v":{"$error":"#REF!"}},"輸入","インドネシア",{"$f":"IF(H1989=\"\",\"\",VLOOKUP(H1989,#REF!,2,0))","v":{"$error":"#REF!"}},{"v":37,"d":"37 "},null,{"v":37,"d":"37 "},{"v":0,"d":"0 "}]
["H28",{"$f":"IF(D1990=\"\",\"\",VLOOKUP(D1990,#REF!,2,0))","v":{"$error":"#REF!"}},{"$f":"IF(D1990=\"\",\"\",VLOOKUP(D1990,#REF!,3,0))","v":{"$error":"#REF!"}},"大阪",{"$f":"IF(D1990=\"\",\"\",VLOOKUP(D1990,#REF!,4,0))","v":{"$error":"#REF!"}},{"$f":"IF(C1990=\"\",\"\",VLOOKUP(D1990,#REF!,5,0))","v":{"$error":"#REF!"}},"輸入","カンボジア",{"$f":"IF(H1990=\"\",\"\",VLOOKUP(H1990,#REF!,2,0))","v":{"$error":"#REF!"}},{"v":17,"d":"17 "},null,{"v":17,"d":"17 "},{"v":0,"d":"0 "}]
["H28",{"$f":"IF(D1991=\"\",\"\",VLOOKUP(D1991,#REF!,2,0))","v":{"$error":"#REF!"}},{"$f":"IF(D1991=\"\",\"\",VLOOKUP(D1991,#REF!,3,0))","v":{"$error":"#REF!"}},"大阪",{"$f":"IF(D1991=\"\",\"\",VLOOKUP(D1991,#REF!,4,0))","v":{"$error":"#REF!"}},{"$f":"IF(C1991=\"\",\"\",VLOOKUP(D1991,#REF!,5,0))","v":{"$error":"#REF!"}},"輸入","シンガポール",{"$f":"IF(H1991=\"\",\"\",VLOOKUP(H1991,#REF!,2,0))","v":{"$error":"#REF!"}},{"v":29067,"d":"29,067 "},null,{"v":29044,"d":"29,044 "},{"v":23,"d":"23 "}]
["H28",{"$f":"IF(D1992=\"\",\"\",VLOOKUP(D1992,#REF!,2,0))","v":{"$error":"#REF!"}},{"$f":"IF(D1992=\"\",\"\",VLOOKUP(D1992,#REF!,3,0))","v":{"$error":"#REF!"}},"大阪",{"$f":"IF(D1992=\"\",\"\",VLOOKUP(D1992,#REF!,4,0))","v":{"$error":"#REF!"}},{"$f":"IF(C1992=\"\",\"\",VLOOKUP(D1992,#REF!,5,0))","v":{"$error":"#REF!"}},"輸入","タイ",{"$f":"IF(H1992=\"\",\"\",VLOOKUP(H1992,#REF!,2,0))","v":{"$error":"#REF!"}},{"v":60104,"d":"60,104 "},null,{"v":60003,"d":"60,003 "},{"v":101,"d":"101 "}]
["H28",{"$f":"IF(D1993=\"\",\"\",VLOOKUP(D1993,#REF!,2,0))","v":{"$error":"#REF!"}},{"$f":"IF(D1993=\"\",\"\",VLOOKUP(D1993,#REF!,3,0))","v":{"$error":"#REF!"}},"大阪",{"$f":"IF(D1993=\"\",\"\",VLOOKUP(D1993,#REF!,4,0))","v":{"$error":"#REF!"}},{"$f":"IF(C1993=\"\",\"\",VLOOKUP(D1993,#REF!,5,0))","v":{"$error":"#REF!"}},"輸入","フィリピン",{"$f":"IF(H1993=\"\",\"\",VLOOKUP(H1993,#REF!,2,0))","v":{"$error":"#REF!"}},{"v":8811,"d":"8,811 "},null,{"v":8776,"d":"8,776 "},{"v":35,"d":"35 "}]
["H28",{"$f":"IF(D1994=\"\",\"\",VLOOKUP(D1994,#REF!,2,0))","v":{"$error":"#REF!"}},{"$f":"IF(D1994=\"\",\"\",VLOOKUP(D1994,#REF!,3,0))","v":{"$error":"#REF!"}},"大阪",{"$f":"IF(D1994=\"\",\"\",VLOOKUP(D1994,#REF!,4,0))","v":{"$error":"#REF!"}},{"$f":"IF(C1994=\"\",\"\",VLOOKUP(D1994,#REF!,5,0))","v":{"$error":"#REF!"}},"輸入","マレーシア",{"$f":"IF(H1994=\"\",\"\",VLOOKUP(H1994,#REF!,2,0))","v":{"$error":"#REF!"}},{"v":22130,"d":"22,130 "},null,{"v":22130,"d":"22,130 "},{"v":0,"d":"0 "}]
["H28",{"$f":"IF(D1995=\"\",\"\",VLOOKUP(D1995,#REF!,2,0))","v":{"$error":"#REF!"}},{"$f":"IF(D1995=\"\",\"\",VLOOKUP(D1995,#REF!,3,0))","v":{"$error":"#REF!"}},"大阪",{"$f":"IF(D1995=\"\",\"\",VLOOKUP(D1995,#REF!,4,0))","v":{"$error":"#REF!"}},{"$f":"IF(C1995=\"\",\"\",VLOOKUP(D1995,#REF!,5,0))","v":{"$error":"#REF!"}},"輸入","ベトナム",{"$f":"IF(H1995=\"\",\"\",VLOOKUP(H1995,#REF!,2,0))","v":{"$error":"#REF!"}},{"v":37270,"d":"37,270 "},null,{"v":37227,"d":"37,227 "},{"v":43,"d":"43 "}]
["H28",{"$f":"IF(D1996=\"\",\"\",VLOOKUP(D1996,#REF!,2,0))","v":{"$error":"#REF!"}},{"$f":"IF(D1996=\"\",\"\",VLOOKUP(D1996,#REF!,3,0))","v":{"$error":"#REF!"}},"大阪",{"$f":"IF(D1996=\"\",\"\",VLOOKUP(D1996,#REF!,4,0))","v":{"$error":"#REF!"}},{"$f":"IF(C1996=\"\",\"\",VLOOKUP(D1996,#REF!,5,0))","v":{"$error":"#REF!"}},"輸入","インド",{"$f":"IF(H1996=\"\",\"\",VLOOKUP(H1996,#REF!,2,0))","v":{"$error":"#REF!"}},{"v":232,"d":"232 "},null,{"v":232,"d":"232 "},{"v":0,"d":"0 "}]
["H28",{"$f":"IF(D1997=\"\",\"\",VLOOKUP(D1997,#REF!,2,0))","v":{"$error":"#REF!"}},{"$f":"IF(D1997=\"\",\"\",VLOOKUP(D1997,#REF!,3,0))","v":{"$error":"#REF!"}},"大阪",{"$f":"IF(D1997=\"\",\"\",VLOOKUP(D1997,#REF!,4,0))","v":{"$error":"#REF!"}},{"$f":"IF(C1997=\"\",\"\",VLOOKUP(D1997,#REF!,5,0))","v":{"$error":"#REF!"}},"輸入","スリランカ",{"$f":"IF(H1997=\"\",\"\",VLOOKUP(H1997,#REF!,2,0))","v":{"$error":"#REF!"}},{"v":295,"d":"295 "},null,{"v":295,"d":"295 "},{"v":0,"d":"0 "}]
["H28",{"$f":"IF(D1998=\"\",\"\",VLOOKUP(D1998,#REF!,2,0))","v":{"$error":"#REF!"}},{"$f":"IF(D1998=\"\",\"\",VLOOKUP(D1998,#REF!,3,0))","v":{"$error":"#REF!"}},"大阪",{"$f":"IF(D1998=\"\",\"\",VLOOKUP(D1998,#REF!,4,0))","v":{"$error":"#REF!"}},{"$f":"IF(C1998=\"\",\"\",VLOOKUP(D1998,#REF!,5,0))","v":{"$error":"#REF!"}},"輸入","パキスタン",{"$f":"IF(H1998=\"\",\"\",VLOOKUP(H1998,#REF!,2,0))","v":{"$error":"#REF!"}},{"v":207,"d":"207 "},null,{"v":207,"d":"207 "},{"v":0,"d":"0 "}]
["H28",{"$f":"IF(D1999=\"\",\"\",VLOOKUP(D1999,#REF!,2,0))","v":{"$error":"#REF!"}},{"$f":"IF(D1999=\"\",\"\",VLOOKUP(D1999,#REF!,3,0))","v":{"$error":"#REF!"}},"大阪",{"$f":"IF(D1999=\"\",\"\",VLOOKUP(D1999,#REF!,4,0))","v":{"$error":"#REF!"}},{"$f":"IF(C1999=\"\",\"\",VLOOKUP(D1999,#REF!,5,0))","v":{"$error":"#REF!"}},"輸入","オーストラリア",{"$f":"IF(H1999=\"\",\"\",VLOOKUP(H1999,#REF!,2,0))","v":{"$error":"#REF!"}},{"v":27038,"d":"27,038 "},null,{"v":19608,"d":"19,608 "},{"v":7430,"d":"7,430 "}]
["H28",{"$f":"IF(D2000=\"\",\"\",VLOOKUP(D2000,#REF!,2,0))","v":{"$error":"#REF!"}},{"$f":"IF(D2000=\"\",\"\",VLOOKUP(D2000,#REF!,3,0))","v":{"$error":"#REF!"}},"大阪",{"$f":"IF(D2000=\"\",\"\",VLOOKUP(D2000,#REF!,4,0))","v":{"$error":"#REF!"}},{"$f":"IF(C2000=\"\",\"\",VLOOKUP(D2000,#REF!,5,0))","v":{"$error":"#REF!"}},"輸入","アメリカ合衆国",{"$f":"IF(H2000=\"\",\"\",VLOOKUP(H2000,#REF!,2,0))","v":{"$error":"#REF!"}},{"v":9691,"d":"9,691 "},null,{"v":8917,"d":"8,917 "},{"v":774,"d":"774 "}]
["H28",{"$f":"IF(D2001=\"\",\"\",VLOOKUP(D2001,#REF!,2,0))","v":{"$error":"#REF!"}},{"$f":"IF(D2001=\"\",\"\",VLOOKUP(D2001,#REF!,3,0))","v":{"$error":"#REF!"}},"大阪",{"$f":"IF(D2001=\"\",\"\",VLOOKUP(D2001,#REF!,4,0))","v":{"$error":"#REF!"}},{"$f":"IF(C2001=\"\",\"\",VLOOKUP(D2001,#REF!,5,0))","v":{"$error":"#REF!"}},"輸入","カナダ",{"$f":"IF(H2001=\"\",\"\",VLOOKUP(H2001,#REF!,2,0))","v":{"$error":"#REF!"}},{"v":8304,"d":"8,304 "},null,{"v":7612,"d":"7,612 "},{"v":692,"d":"692 "}]
["H28",{"$f":"IF(D2002=\"\",\"\",VLOOKUP(D2002,#REF!,2,0))","v":{"$error":"#REF!"}},{"$f":"IF(D2002=\"\",\"\",VLOOKUP(D2002,#REF!,3,0))","v":{"$error":"#REF!"}},"神戸",{"$f":"IF(D2002=\"\",\"\",VLOOKUP(D2002,#REF!,4,0))","v":{"$error":"#REF!"}},{"$f":"IF(C2002=\"\",\"\",VLOOKUP(D2002,#REF!,5,0))","v":{"$error":"#REF!"}},"輸入","韓国",{"$f":"IF(H2002=\"\",\"\",VLOOKUP(H2002,#REF!,2,0))","v":{"$error":"#REF!"}},{"v":56962,"d":"56,962 "},126,{"v":47663,"d":"47,663 "},{"v":9299,"d":"9,299 "}]
["H28",{"$f":"IF(D2003=\"\",\"\",VLOOKUP(D2003,#REF!,2,0))","v":{"$error":"#REF!"}},{"$f":"IF(D2003=\"\",\"\",VLOOKUP(D2003,#REF!,3,0))","v":{"$error":"#REF!"}},"神戸",{"$f":"IF(D2003=\"\",\"\",VLOOKUP(D2003,#REF!,4,0))","v":{"$error":"#REF!"}},{"$f":"IF(C2003=\"\",\"\",VLOOKUP(D2003,#REF!,5,0))","v":{"$error":"#REF!"}},"輸入","台湾",{"$f":"IF(H2003=\"\",\"\",VLOOKUP(H2003,#REF!,2,0))","v":{"$error":"#REF!"}},{"v":63873,"d":"63,873 "},null,{"v":58782,"d":"58,782 "},{"v":5091,"d":"5,091 "}]
["H28",{"$f":"IF(D2004=\"\",\"\",VLOOKUP(D2004,#REF!,2,0))","v":{"$error":"#REF!"}},{"$f":"IF(D2004=\"\",\"\",VLOOKUP(D2004,#REF!,3,0))","v":{"$error":"#REF!"}},"神戸",{"$f":"IF(D2004=\"\",\"\",VLOOKUP(D2004,#REF!,4,0))","v":{"$error":"#REF!"}},{"$f":"IF(C2004=\"\",\"\",VLOOKUP(D2004,#REF!,5,0))","v":{"$error":"#REF!"}},"輸入","中国",{"$f":"IF(H2004=\"\",\"\",VLOOKUP(H2004,#REF!,2,0))","v":{"$error":"#REF!"}},{"v":279772.25,"d":"279,772 "},{"v":7211,"d":"7,211"},{"v":267841.75,"d":"267,842 "},{"v":11930.5,"d":"11,931 "}]
["H28",{"$f":"IF(D2005=\"\",\"\",VLOOKUP(D2005,#REF!,2,0))","v":{"$error":"#REF!"}},{"$f":"IF(D2005=\"\",\"\",VLOOKUP(D2005,#REF!,3,0))","v":{"$error":"#REF!"}},"神戸",{"$f":"IF(D2005=\"\",\"\",VLOOKUP(D2005,#REF!,4,0))","v":{"$error":"#REF!"}},{"$f":"IF(C2005=\"\",\"\",VLOOKUP(D2005,#REF!,5,0))","v":{"$error":"#REF!"}},"輸入","香港",{"$f":"IF(H2005=\"\",\"\",VLOOKUP(H2005,#REF!,2,0))","v":{"$error":"#REF!"}},{"v":69674,"d":"69,674 "},null,{"v":67351,"d":"67,351 "},{"v":2323,"d":"2,323 "}]
["H28",{"$f":"IF(D2006=\"\",\"\",VLOOKUP(D2006,#REF!,2,0))","v":{"$error":"#REF!"}},{"$f":"IF(D2006=\"\",\"\",VLOOKUP(D2006,#REF!,3,0))","v":{"$error":"#REF!"}},"神戸",{"$f":"IF(D2006=\"\",\"\",VLOOKUP(D2006,#REF!,4,0))","v":{"$error":"#REF!"}},{"$f":"IF(C2006=\"\",\"\",VLOOKUP(D2006,#REF!,5,0))","v":{"$error":"#REF!"}},"輸入","インドネシア",{"$f":"IF(H2006=\"\",\"\",VLOOKUP(H2006,#REF!,2,0))","v":{"$error":"#REF!"}},{"v":12412,"d":"12,412 "},null,{"v":12294,"d":"12,294 "},{"v":118,"d":"118 "}]
["H28",{"$f":"IF(D2007=\"\",\"\",VLOOKUP(D2007,#REF!,2,0))","v":{"$error":"#REF!"}},{"$f":"IF(D2007=\"\",\"\",VLOOKUP(D2007,#REF!,3,0))","v":{"$error":"#REF!"}},"神戸",{"$f":"IF(D2007=\"\",\"\",VLOOKUP(D2007,#REF!,4,0))","v":{"$error":"#REF!"}},{"$f":"IF(C2007=\"\",\"\",VLOOKUP(D2007,#REF!,5,0))","v":{"$error":"#REF!"}},"輸入","カンボジア",{"$f":"IF(H2007=\"\",\"\",VLOOKUP(H2007,#REF!,2,0))","v":{"$error":"#REF!"}},{"v":4,"d":"4 "},3,{"v":3,"d":"3 "},{"v":1,"d":"1 "}]
["H28",{"$f":"IF(D2008=\"\",\"\",VLOOKUP(D2008,#REF!,2,0))","v":{"$error":"#REF!"}},{"$f":"IF(D2008=\"\",\"\",VLOOKUP(D2008,#REF!,3,0))","v":{"$error":"#REF!"}},"神戸",{"$f":"IF(D2008=\"\",\"\",VLOOKUP(D2008,#REF!,4,0))","v":{"$error":"#REF!"}},{"$f":"IF(C2008=\"\",\"\",VLOOKUP(D2008,#REF!,5,0))","v":{"$error":"#REF!"}},"輸入","シンガポール",{"$f":"IF(H2008=\"\",\"\",VLOOKUP(H2008,#REF!,2,0))","v":{"$error":"#REF!"}},{"v":62507,"d":"62,507 "},4,{"v":61238,"d":"61,238 "},{"v":1269,"d":"1,269 "}]
["H28",{"$f":"IF(D2009=\"\",\"\",VLOOKUP(D2009,#REF!,2,0))","v":{"$error":"#REF!"}},{"$f":"IF(D2009=\"\",\"\",VLOOKUP(D2009,#REF!,3,0))","v":{"$error":"#REF!"}},"神戸",{"$f":"IF(D2009=\"\",\"\",VLOOKUP(D2009,#REF!,4,0))","v":{"$error":"#REF!"}},{"$f":"IF(C2009=\"\",\"\",VLOOKUP(D2009,#REF!,5,0))","v":{"$error":"#REF!"}},"輸入","タイ",{"$f":"IF(H2009=\"\",\"\",VLOOKUP(H2009,#REF!,2,0))","v":{"$error":"#REF!"}},{"v":51567.75,"d":"51,568 "},{"v":896.75,"d":"897"},{"v":50223.75,"d":"50,224 "},{"v":1344,"d":"1,344 "}]
["H28",{"$f":"IF(D2010=\"\",\"\",VLOOKUP(D2010,#REF!,2,0))","v":{"$error":"#REF!"}},{"$f":"IF(D2010=\"\",\"\",VLOOKUP(D2010,#REF!,3,0))","v":{"$error":"#REF!"}},"神戸",{"$f":"IF(D2010=\"\",\"\",VLOOKUP(D2010,#REF!,4,0))","v":{"$error":"#REF!"}},{"$f":"IF(C2010=\"\",\"\",VLOOKUP(D2010,#REF!,5,0))","v":{"$error":"#REF!"}},"輸入","フィリピン",{"$f":"IF(H2010=\"\",\"\",VLOOKUP(H2010,#REF!,2,0))","v":{"$error":"#REF!"}},{"v":6141,"d":"6,141 "},null,{"v":3689,"d":"3,689 "},{"v":2452,"d":"2,452 "}]
["H28",{"$f":"IF(D2011=\"\",\"\",VLOOKUP(D2011,#REF!,2,0))","v":{"$error":"#REF!"}},{"$f":"IF(D2011=\"\",\"\",VLOOKUP(D2011,#REF!,3,0))","v":{"$error":"#REF!"}},"神戸",{"$f":"IF(D2011=\"\",\"\",VLOOKUP(D2011,#REF!,4,0))","v":{"$error":"#REF!"}},{"$f":"IF(C2011=\"\",\"\",VLOOKUP(D2011,#REF!,5,0))","v":{"$error":"#REF!"}},"輸入","マレーシア",{"$f":"IF(H2011=\"\",\"\",VLOOKUP(H2011,#REF!,2,0))","v":{"$error":"#REF!"}},{"v":36820,"d":"36,820 "},2,{"v":34804,"d":"34,804 "},{"v":2016,"d":"2,016 "}]
["H28",{"$f":"IF(D2012=\"\",\"\",VLOOKUP(D2012,#REF!,2,0))","v":{"$error":"#REF!"}},{"$f":"IF(D2012=\"\",\"\",VLOOKUP(D2012,#REF!,3,0))","v":{"$error":"#REF!"}},"神戸",{"$f":"IF(D2012=\"\",\"\",VLOOKUP(D2012,#REF!,4,0))","v":{"$error":"#REF!"}},{"$f":"IF(C2012=\"\",\"\",VLOOKUP(D2012,#REF!,5,0))","v":{"$error":"#REF!"}},"輸入","ベトナム",{"$f":"IF(H2012=\"\",\"\",VLOOKUP(H2012,#REF!,2,0))","v":{"$error":"#REF!"}},{"v":43174,"d":"43,174 "},{"v":1914,"d":"1,914"},{"v":42294,"d":"42,294 "},{"v":880,"d":"880 "}]
["H28",{"$f":"IF(D2013=\"\",\"\",VLOOKUP(D2013,#REF!,2,0))","v":{"$error":"#REF!"}},{"$f":"IF(D2013=\"\",\"\",VLOOKUP(D2013,#REF!,3,0))","v":{"$error":"#REF!"}},"神戸",{"$f":"IF(D2013=\"\",\"\",VLOOKUP(D2013,#REF!,4,0))","v":{"$error":"#REF!"}},{"$f":"IF(C2013=\"\",\"\",VLOOKUP(D2013,#REF!,5,0))","v":{"$error":"#REF!"}},"輸入","インド",{"$f":"IF(H2013=\"\",\"\",VLOOKUP(H2013,#REF!,2,0))","v":{"$error":"#REF!"}},{"v":978,"d":"978 "},null,{"v":227,"d":"227 "},{"v":751,"d":"751 "}]
["H28",{"$f":"IF(D2014=\"\",\"\",VLOOKUP(D2014,#REF!,2,0))","v":{"$error":"#REF!"}},{"$f":"IF(D2014=\"\",\"\",VLOOKUP(D2014,#REF!,3,0))","v":{"$error":"#REF!"}},"神戸",{"$f":"IF(D2014=\"\",\"\",VLOOKUP(D2014,#REF!,4,0))","v":{"$error":"#REF!"}},{"$f":"IF(C2014=\"\",\"\",VLOOKUP(D2014,#REF!,5,0))","v":{"$error":"#REF!"}},"輸入","スリランカ",{"$f":"IF(H2014=\"\",\"\",VLOOKUP(H2014,#REF!,2,0))","v":{"$error":"#REF!"}},{"v":1114,"d":"1,114 "},null,{"v":1106,"d":"1,106 "},{"v":8,"d":"8 "}]
["H28",{"$f":"IF(D2015=\"\",\"\",VLOOKUP(D2015,#REF!,2,0))","v":{"$error":"#REF!"}},{"$f":"IF(D2015=\"\",\"\",VLOOKUP(D2015,#REF!,3,0))","v":{"$error":"#REF!"}},"神戸",{"$f":"IF(D2015=\"\",\"\",VLOOKUP(D2015,#REF!,4,0))","v":{"$error":"#REF!"}},{"$f":"IF(C2015=\"\",\"\",VLOOKUP(D2015,#REF!,5,0))","v":{"$error":"#REF!"}},"輸入","パキスタン",{"$f":"IF(H2015=\"\",\"\",VLOOKUP(H2015,#REF!,2,0))","v":{"$error":"#REF!"}},{"v":270,"d":"270 "},null,{"v":16,"d":"16 "},{"v":254,"d":"254 "}]
["H28",{"$f":"IF(D2016=\"\",\"\",VLOOKUP(D2016,#REF!,2,0))","v":{"$error":"#REF!"}},{"$f":"IF(D2016=\"\",\"\",VLOOKUP(D2016,#REF!,3,0))","v":{"$error":"#REF!"}},"神戸",{"$f":"IF(D2016=\"\",\"\",VLOOKUP(D2016,#REF!,4,0))","v":{"$error":"#REF!"}},{"$f":"IF(C2016=\"\",\"\",VLOOKUP(D2016,#REF!,5,0))","v":{"$error":"#REF!"}},"輸入","オーストラリア",{"$f":"IF(H2016=\"\",\"\",VLOOKUP(H2016,#REF!,2,0))","v":{"$error":"#REF!"}},{"v":68,"d":"68 "},null,{"v":0,"d":"0 "},{"v":68,"d":"68 "}]
["H28",{"$f":"IF(D2017=\"\",\"\",VLOOKUP(D2017,#REF!,2,0))","v":{"$error":"#REF!"}},{"$f":"IF(D2017=\"\",\"\",VLOOKUP(D2017,#REF!,3,0))","v":{"$error":"#REF!"}},"神戸",{"$f":"IF(D2017=\"\",\"\",VLOOKUP(D2017,#REF!,4,0))","v":{"$error":"#REF!"}},{"$f":"IF(C2017=\"\",\"\",VLOOKUP(D2017,#REF!,5,0))","v":{"$error":"#REF!"}},"輸入","仏領ポリネシア",{"$f":"IF(H2017=\"\",\"\",VLOOKUP(H2017,#REF!,2,0))","v":{"$error":"#REF!"}},{"v":8,"d":"8 "},null,{"v":6,"d":"6 "},{"v":2,"d":"2 "}]
["H28",{"$f":"IF(D2018=\"\",\"\",VLOOKUP(D2018,#REF!,2,0))","v":{"$error":"#REF!"}},{"$f":"IF(D2018=\"\",\"\",VLOOKUP(D2018,#REF!,3,0))","v":{"$error":"#REF!"}},"神戸",{"$f":"IF(D2018=\"\",\"\",VLOOKUP(D2018,#REF!,4,0))","v":{"$error":"#REF!"}},{"$f":"IF(C2018=\"\",\"\",VLOOKUP(D2018,#REF!,5,0))","v":{"$error":"#REF!"}},"輸入","グアム",{"$f":"IF(H2018=\"\",\"\",VLOOKUP(H2018,#REF!,2,0))","v":{"$error":"#REF!"}},{"v":28,"d":"28 "},null,{"v":5,"d":"5 "},{"v":23,"d":"23 "}]
["H28",{"$f":"IF(D2019=\"\",\"\",VLOOKUP(D2019,#REF!,2,0))","v":{"$error":"#REF!"}},{"$f":"IF(D2019=\"\",\"\",VLOOKUP(D2019,#REF!,3,0))","v":{"$error":"#REF!"}},"神戸",{"$f":"IF(D2019=\"\",\"\",VLOOKUP(D2019,#REF!,4,0))","v":{"$error":"#REF!"}},{"$f":"IF(C2019=\"\",\"\",VLOOKUP(D2019,#REF!,5,0))","v":{"$error":"#REF!"}},"輸入","サモア独立国",{"$f":"IF(H2019=\"\",\"\",VLOOKUP(H2019,#REF!,2,0))","v":{"$error":"#REF!"}},{"v":5,"d":"5 "},null,{"v":0,"d":"0 "},{"v":5,"d":"5 "}]
["H28",{"$f":"IF(D2020=\"\",\"\",VLOOKUP(D2020,#REF!,2,0))","v":{"$error":"#REF!"}},{"$f":"IF(D2020=\"\",\"\",VLOOKUP(D2020,#REF!,3,0))","v":{"$error":"#REF!"}},"神戸",{"$f":"IF(D2020=\"\",\"\",VLOOKUP(D2020,#REF!,4,0))","v":{"$error":"#REF!"}},{"$f":"IF(C2020=\"\",\"\",VLOOKUP(D2020,#REF!,5,0))","v":{"$error":"#REF!"}},"輸入","ソロモン諸島",{"$f":"IF(H2020=\"\",\"\",VLOOKUP(H2020,#REF!,2,0))","v":{"$error":"#REF!"}},{"v":1,"d":"1 "},null,{"v":0,"d":"0 "},{"v":1,"d":"1 "}]
["H28",{"$f":"IF(D2021=\"\",\"\",VLOOKUP(D2021,#REF!,2,0))","v":{"$error":"#REF!"}},{"$f":"IF(D2021=\"\",\"\",VLOOKUP(D2021,#REF!,3,0))","v":{"$error":"#REF!"}},"神戸",{"$f":"IF(D2021=\"\",\"\",VLOOKUP(D2021,#REF!,4,0))","v":{"$error":"#REF!"}},{"$f":"IF(C2021=\"\",\"\",VLOOKUP(D2021,#REF!,5,0))","v":{"$error":"#REF!"}},"輸入","トンガ",{"$f":"IF(H2021=\"\",\"\",VLOOKUP(H2021,#REF!,2,0))","v":{"$error":"#REF!"}},{"v":228,"d":"228 "},null,{"v":228,"d":"228 "},{"v":0,"d":"0 "}]
["H28",{"$f":"IF(D2022=\"\",\"\",VLOOKUP(D2022,#REF!,2,0))","v":{"$error":"#REF!"}},{"$f":"IF(D2022=\"\",\"\",VLOOKUP(D2022,#REF!,3,0))","v":{"$error":"#REF!"}},"神戸",{"$f":"IF(D2022=\"\",\"\",VLOOKUP(D2022,#REF!,4,0))","v":{"$error":"#REF!"}},{"$f":"IF(C2022=\"\",\"\",VLOOKUP(D2022,#REF!,5,0))","v":{"$error":"#REF!"}},"輸入","ニューカレドニア",{"$f":"IF(H2022=\"\",\"\",VLOOKUP(H2022,#REF!,2,0))","v":{"$error":"#REF!"}},{"v":1,"d":"1 "},null,{"v":0,"d":"0 "},{"v":1,"d":"1 "}]
["H28",{"$f":"IF(D2023=\"\",\"\",VLOOKUP(D2023,#REF!,2,0))","v":{"$error":"#REF!"}},{"$f":"IF(D2023=\"\",\"\",VLOOKUP(D2023,#REF!,3,0))","v":{"$error":"#REF!"}},"神戸",{"$f":"IF(D2023=\"\",\"\",VLOOKUP(D2023,#REF!,4,0))","v":{"$error":"#REF!"}},{"$f":"IF(C2023=\"\",\"\",VLOOKUP(D2023,#REF!,5,0))","v":{"$error":"#REF!"}},"輸入","ニュージーランド",{"$f":"IF(H2023=\"\",\"\",VLOOKUP(H2023,#REF!,2,0))","v":{"$error":"#REF!"}},{"v":8153,"d":"8,153 "},null,{"v":7617,"d":"7,617 "},{"v":536,"d":"536 "}]
["H28",{"$f":"IF(D2024=\"\",\"\",VLOOKUP(D2024,#REF!,2,0))","v":{"$error":"#REF!"}},{"$f":"IF(D2024=\"\",\"\",VLOOKUP(D2024,#REF!,3,0))","v":{"$error":"#REF!"}},"神戸",{"$f":"IF(D2024=\"\",\"\",VLOOKUP(D2024,#REF!,4,0))","v":{"$error":"#REF!"}},{"$f":"IF(C2024=\"\",\"\",VLOOKUP(D2024,#REF!,5,0))","v":{"$error":"#REF!"}},"輸入","パプアニューギニア",{"$f":"IF(H2024=\"\",\"\",VLOOKUP(H2024,#REF!,2,0))","v":{"$error":"#REF!"}},{"v":18,"d":"18 "},null,{"v":9,"d":"9 "},{"v":9,"d":"9 "}]
["H28",{"$f":"IF(D2025=\"\",\"\",VLOOKUP(D2025,#REF!,2,0))","v":{"$error":"#REF!"}},{"$f":"IF(D2025=\"\",\"\",VLOOKUP(D2025,#REF!,3,0))","v":{"$error":"#REF!"}},"神戸",{"$f":"IF(D2025=\"\",\"\",VLOOKUP(D2025,#REF!,4,0))","v":{"$error":"#REF!"}},{"$f":"IF(C2025=\"\",\"\",VLOOKUP(D2025,#REF!,5,0))","v":{"$error":"#REF!"}},"輸入","フィジー",{"$f":"IF(H2025=\"\",\"\",VLOOKUP(H2025,#REF!,2,0))","v":{"$error":"#REF!"}},{"v":1,"d":"1 "},null,{"v":0,"d":"0 "},{"v":1,"d":"1 "}]
["H28",{"$f":"IF(D2026=\"\",\"\",VLOOKUP(D2026,#REF!,2,0))","v":{"$error":"#REF!"}},{"$f":"IF(D2026=\"\",\"\",VLOOKUP(D2026,#REF!,3,0))","v":{"$error":"#REF!"}},"神戸",{"$f":"IF(D2026=\"\",\"\",VLOOKUP(D2026,#REF!,4,0))","v":{"$error":"#REF!"}},{"$f":"IF(C2026=\"\",\"\",VLOOKUP(D2026,#REF!,5,0))","v":{"$error":"#REF!"}},"輸入","キリバス",{"$f":"IF(H2026=\"\",\"\",VLOOKUP(H2026,#REF!,2,0))","v":{"$error":"#REF!"}},{"v":15,"d":"15 "},null,{"v":0,"d":"0 "},{"v":15,"d":"15 "}]
["H28",{"$f":"IF(D2027=\"\",\"\",VLOOKUP(D2027,#REF!,2,0))","v":{"$error":"#REF!"}},{"$f":"IF(D2027=\"\",\"\",VLOOKUP(D2027,#REF!,3,0))","v":{"$error":"#REF!"}},"神戸",{"$f":"IF(D2027=\"\",\"\",VLOOKUP(D2027,#REF!,4,0))","v":{"$error":"#REF!"}},{"$f":"IF(C2027=\"\",\"\",VLOOKUP(D2027,#REF!,5,0))","v":{"$error":"#REF!"}},"輸入","バヌアツ",{"$f":"IF(H2027=\"\",\"\",VLOOKUP(H2027,#REF!,2,0))","v":{"$error":"#REF!"}},{"v":12,"d":"12 "},null,{"v":11,"d":"11 "},{"v":1,"d":"1 "}]
["H28",{"$f":"IF(D2028=\"\",\"\",VLOOKUP(D2028,#REF!,2,0))","v":{"$error":"#REF!"}},{"$f":"IF(D2028=\"\",\"\",VLOOKUP(D2028,#REF!,3,0))","v":{"$error":"#REF!"}},"神戸",{"$f":"IF(D2028=\"\",\"\",VLOOKUP(D2028,#REF!,4,0))","v":{"$error":"#REF!"}},{"$f":"IF(C2028=\"\",\"\",VLOOKUP(D2028,#REF!,5,0))","v":{"$error":"#REF!"}},"輸入","米領サモア",{"$f":"IF(H2028=\"\",\"\",VLOOKUP(H2028,#REF!,2,0))","v":{"$error":"#REF!"}},{"v":4,"d":"4 "},null,{"v":0,"d":"0 "},{"v":4,"d":"4 "}]
["H28",{"$f":"IF(D2029=\"\",\"\",VLOOKUP(D2029,#REF!,2,0))","v":{"$error":"#REF!"}},{"$f":"IF(D2029=\"\",\"\",VLOOKUP(D2029,#REF!,3,0))","v":{"$error":"#REF!"}},"神戸",{"$f":"IF(D2029=\"\",\"\",VLOOKUP(D2029,#REF!,4,0))","v":{"$error":"#REF!"}},{"$f":"IF(C2029=\"\",\"\",VLOOKUP(D2029,#REF!,5,0))","v":{"$error":"#REF!"}},"輸入","ミクロネシア",{"$f":"IF(H2029=\"\",\"\",VLOOKUP(H2029,#REF!,2,0))","v":{"$error":"#REF!"}},{"v":38,"d":"38 "},null,{"v":0,"d":"0 "},{"v":38,"d":"38 "}]
["H28",{"$f":"IF(D2030=\"\",\"\",VLOOKUP(D2030,#REF!,2,0))","v":{"$error":"#REF!"}},{"$f":"IF(D2030=\"\",\"\",VLOOKUP(D2030,#REF!,3,0))","v":{"$error":"#REF!"}},"神戸",{"$f":"IF(D2030=\"\",\"\",VLOOKUP(D2030,#REF!,4,0))","v":{"$error":"#REF!"}},{"$f":"IF(C2030=\"\",\"\",VLOOKUP(D2030,#REF!,5,0))","v":{"$error":"#REF!"}},"輸入","マーシャル諸島",{"$f":"IF(H2030=\"\",\"\",VLOOKUP(H2030,#REF!,2,0))","v":{"$error":"#REF!"}},{"v":6,"d":"6 "},null,{"v":0,"d":"0 "},{"v":6,"d":"6 "}]
["H28",{"$f":"IF(D2031=\"\",\"\",VLOOKUP(D2031,#REF!,2,0))","v":{"$error":"#REF!"}},{"$f":"IF(D2031=\"\",\"\",VLOOKUP(D2031,#REF!,3,0))","v":{"$error":"#REF!"}},"神戸",{"$f":"IF(D2031=\"\",\"\",VLOOKUP(D2031,#REF!,4,0))","v":{"$error":"#REF!"}},{"$f":"IF(C2031=\"\",\"\",VLOOKUP(D2031,#REF!,5,0))","v":{"$error":"#REF!"}},"輸入","北マリアナ諸島",{"$f":"IF(H2031=\"\",\"\",VLOOKUP(H2031,#REF!,2,0))","v":{"$error":"#REF!"}},{"v":10,"d":"10 "},null,{"v":1,"d":"1 "},{"v":9,"d":"9 "}]
["H28",{"$f":"IF(D2032=\"\",\"\",VLOOKUP(D2032,#REF!,2,0))","v":{"$error":"#REF!"}},{"$f":"IF(D2032=\"\",\"\",VLOOKUP(D2032,#REF!,3,0))","v":{"$error":"#REF!"}},"神戸",{"$f":"IF(D2032=\"\",\"\",VLOOKUP(D2032,#REF!,4,0))","v":{"$error":"#REF!"}},{"$f":"IF(C2032=\"\",\"\",VLOOKUP(D2032,#REF!,5,0))","v":{"$error":"#REF!"}},"輸入","南アフリカ",{"$f":"IF(H2032=\"\",\"\",VLOOKUP(H2032,#REF!,2,0))","v":{"$error":"#REF!"}},{"v":276,"d":"276 "},null,{"v":276,"d":"276 "},{"v":0,"d":"0 "}]
["H28",{"$f":"IF(D2033=\"\",\"\",VLOOKUP(D2033,#REF!,2,0))","v":{"$error":"#REF!"}},{"$f":"IF(D2033=\"\",\"\",VLOOKUP(D2033,#REF!,3,0))","v":{"$error":"#REF!"}},"神戸",{"$f":"IF(D2033=\"\",\"\",VLOOKUP(D2033,#REF!,4,0))","v":{"$error":"#REF!"}},{"$f":"IF(C2033=\"\",\"\",VLOOKUP(D2033,#REF!,5,0))","v":{"$error":"#REF!"}},"輸入","イギリス",{"$f":"IF(H2033=\"\",\"\",VLOOKUP(H2033,#REF!,2,0))","v":{"$error":"#REF!"}},{"v":6260,"d":"6,260 "},8,{"v":5580,"d":"5,580 "},{"v":680,"d":"680 "}]
["H28",{"$f":"IF(D2034=\"\",\"\",VLOOKUP(D2034,#REF!,2,0))","v":{"$error":"#REF!"}},{"$f":"IF(D2034=\"\",\"\",VLOOKUP(D2034,#REF!,3,0))","v":{"$error":"#REF!"}},"神戸",{"$f":"IF(D2034=\"\",\"\",VLOOKUP(D2034,#REF!,4,0))","v":{"$error":"#REF!"}},{"$f":"IF(C2034=\"\",\"\",VLOOKUP(D2034,#REF!,5,0))","v":{"$error":"#REF!"}},"輸入","オランダ",{"$f":"IF(H2034=\"\",\"\",VLOOKUP(H2034,#REF!,2,0))","v":{"$error":"#REF!"}},{"v":27035.25,"d":"27,035 "},null,{"v":26165.25,"d":"26,165 "},{"v":870,"d":"870 "}]
["H28",{"$f":"IF(D2035=\"\",\"\",VLOOKUP(D2035,#REF!,2,0))","v":{"$error":"#REF!"}},{"$f":"IF(D2035=\"\",\"\",VLOOKUP(D2035,#REF!,3,0))","v":{"$error":"#REF!"}},"神戸",{"$f":"IF(D2035=\"\",\"\",VLOOKUP(D2035,#REF!,4,0))","v":{"$error":"#REF!"}},{"$f":"IF(C2035=\"\",\"\",VLOOKUP(D2035,#REF!,5,0))","v":{"$error":"#REF!"}},"輸入","ドイツ",{"$f":"IF(H2035=\"\",\"\",VLOOKUP(H2035,#REF!,2,0))","v":{"$error":"#REF!"}},{"v":37161,"d":"37,161 "},null,{"v":36673,"d":"36,673 "},{"v":488,"d":"488 "}]
["H28",{"$f":"IF(D2036=\"\",\"\",VLOOKUP(D2036,#REF!,2,0))","v":{"$error":"#REF!"}},{"$f":"IF(D2036=\"\",\"\",VLOOKUP(D2036,#REF!,3,0))","v":{"$error":"#REF!"}},"神戸",{"$f":"IF(D2036=\"\",\"\",VLOOKUP(D2036,#REF!,4,0))","v":{"$error":"#REF!"}},{"$f":"IF(C2036=\"\",\"\",VLOOKUP(D2036,#REF!,5,0))","v":{"$error":"#REF!"}},"輸入","フランス",{"$f":"IF(H2036=\"\",\"\",VLOOKUP(H2036,#REF!,2,0))","v":{"$error":"#REF!"}},{"v":7983,"d":"7,983 "},1,{"v":7821,"d":"7,821 "},{"v":162,"d":"162 "}]
["H28",{"$f":"IF(D2037=\"\",\"\",VLOOKUP(D2037,#REF!,2,0))","v":{"$error":"#REF!"}},{"$f":"IF(D2037=\"\",\"\",VLOOKUP(D2037,#REF!,3,0))","v":{"$error":"#REF!"}},"神戸",{"$f":"IF(D2037=\"\",\"\",VLOOKUP(D2037,#REF!,4,0))","v":{"$error":"#REF!"}},{"$f":"IF(C2037=\"\",\"\",VLOOKUP(D2037,#REF!,5,0))","v":{"$error":"#REF!"}},"輸入","ベルギー",{"$f":"IF(H2037=\"\",\"\",VLOOKUP(H2037,#REF!,2,0))","v":{"$error":"#REF!"}},{"v":223,"d":"223 "},null,{"v":0,"d":"0 "},{"v":223,"d":"223 "}]
["H28",{"$f":"IF(D2038=\"\",\"\",VLOOKUP(D2038,#REF!,2,0))","v":{"$error":"#REF!"}},{"$f":"IF(D2038=\"\",\"\",VLOOKUP(D2038,#REF!,3,0))","v":{"$error":"#REF!"}},"神戸",{"$f":"IF(D2038=\"\",\"\",VLOOKUP(D2038,#REF!,4,0))","v":{"$error":"#REF!"}},{"$f":"IF(C2038=\"\",\"\",VLOOKUP(D2038,#REF!,5,0))","v":{"$error":"#REF!"}},"輸入","ポーランド",{"$f":"IF(H2038=\"\",\"\",VLOOKUP(H2038,#REF!,2,0))","v":{"$error":"#REF!"}},{"v":40,"d":"40 "},null,{"v":40,"d":"40 "},{"v":0,"d":"0 "}]
["H28",{"$f":"IF(D2039=\"\",\"\",VLOOKUP(D2039,#REF!,2,0))","v":{"$error":"#REF!"}},{"$f":"IF(D2039=\"\",\"\",VLOOKUP(D2039,#REF!,3,0))","v":{"$error":"#REF!"}},"神戸",{"$f":"IF(D2039=\"\",\"\",VLOOKUP(D2039,#REF!,4,0))","v":{"$error":"#REF!"}},{"$f":"IF(C2039=\"\",\"\",VLOOKUP(D2039,#REF!,5,0))","v":{"$error":"#REF!"}},"輸入","ロシア",{"$f":"IF(H2039=\"\",\"\",VLOOKUP(H2039,#REF!,2,0))","v":{"$error":"#REF!"}},{"v":327,"d":"327 "},null,{"v":127,"d":"127 "},{"v":200,"d":"200 "}]
["H28",{"$f":"IF(D2040=\"\",\"\",VLOOKUP(D2040,#REF!,2,0))","v":{"$error":"#REF!"}},{"$f":"IF(D2040=\"\",\"\",VLOOKUP(D2040,#REF!,3,0))","v":{"$error":"#REF!"}},"神戸",{"$f":"IF(D2040=\"\",\"\",VLOOKUP(D2040,#REF!,4,0))","v":{"$error":"#REF!"}},{"$f":"IF(C2040=\"\",\"\",VLOOKUP(D2040,#REF!,5,0))","v":{"$error":"#REF!"}},"輸入","アメリカ合衆国",{"$f":"IF(H2040=\"\",\"\",VLOOKUP(H2040,#REF!,2,0))","v":{"$error":"#REF!"}},{"v":185214.5,"d":"185,215 "},{"v":4950,"d":"4,950"},{"v":157158,"d":"157,158 "},{"v":28056.5,"d":"28,057 "}]
["H28",{"$f":"IF(D2041=\"\",\"\",VLOOKUP(D2041,#REF!,2,0))","v":{"$error":"#REF!"}},{"$f":"IF(D2041=\"\",\"\",VLOOKUP(D2041,#REF!,3,0))","v":{"$error":"#REF!"}},"神戸",{"$f":"IF(D2041=\"\",\"\",VLOOKUP(D2041,#REF!,4,0))","v":{"$error":"#REF!"}},{"$f":"IF(C2041=\"\",\"\",VLOOKUP(D2041,#REF!,5,0))","v":{"$error":"#REF!"}},"輸入","カナダ",{"$f":"IF(H2041=\"\",\"\",VLOOKUP(H2041,#REF!,2,0))","v":{"$error":"#REF!"}},{"v":28210.75,"d":"28,211 "},935,{"v":27257.5,"d":"27,258 "},{"v":953.25,"d":"953 "}]
["H28",{"$f":"IF(D2042=\"\",\"\",VLOOKUP(D2042,#REF!,2,0))","v":{"$error":"#REF!"}},{"$f":"IF(D2042=\"\",\"\",VLOOKUP(D2042,#REF!,3,0))","v":{"$error":"#REF!"}},"神戸",{"$f":"IF(D2042=\"\",\"\",VLOOKUP(D2042,#REF!,4,0))","v":{"$error":"#REF!"}},{"$f":"IF(C2042=\"\",\"\",VLOOKUP(D2042,#REF!,5,0))","v":{"$error":"#REF!"}},"輸入","パナマ",{"$f":"IF(H2042=\"\",\"\",VLOOKUP(H2042,#REF!,2,0))","v":{"$error":"#REF!"}},{"v":4290,"d":"4,290 "},null,{"v":993,"d":"993 "},{"v":3297,"d":"3,297 "}]
["H28",{"$f":"IF(D2043=\"\",\"\",VLOOKUP(D2043,#REF!,2,0))","v":{"$error":"#REF!"}},{"$f":"IF(D2043=\"\",\"\",VLOOKUP(D2043,#REF!,3,0))","v":{"$error":"#REF!"}},"和歌山下津",{"$f":"IF(D2043=\"\",\"\",VLOOKUP(D2043,#REF!,4,0))","v":{"$error":"#REF!"}},{"$f":"IF(C2043=\"\",\"\",VLOOKUP(D2043,#REF!,5,0))","v":{"$error":"#REF!"}},"輸入","韓国",{"$f":"IF(H2043=\"\",\"\",VLOOKUP(H2043,#REF!,2,0))","v":{"$error":"#REF!"}},{"v":2839,"d":"2,839 "},null,{"v":2836,"d":"2,836 "},{"v":3,"d":"3 "}]
["H28",{"$f":"IF(D2044=\"\",\"\",VLOOKUP(D2044,#REF!,2,0))","v":{"$error":"#REF!"}},{"$f":"IF(D2044=\"\",\"\",VLOOKUP(D2044,#REF!,3,0))","v":{"$error":"#REF!"}},"和歌山下津",{"$f":"IF(D2044=\"\",\"\",VLOOKUP(D2044,#REF!,4,0))","v":{"$error":"#REF!"}},{"$f":"IF(C2044=\"\",\"\",VLOOKUP(D2044,#REF!,5,0))","v":{"$error":"#REF!"}},"輸入","中国",{"$f":"IF(H2044=\"\",\"\",VLOOKUP(H2044,#REF!,2,0))","v":{"$error":"#REF!"}},{"v":27,"d":"27 "},null,{"v":27,"d":"27 "},{"v":0,"d":"0 "}]
["H29",{"$f":"IF(D2045=\"\",\"\",VLOOKUP(D2045,#REF!,2,0))","v":{"$error":"#REF!"}},{"$f":"IF(D2045=\"\",\"\",VLOOKUP(D2045,#REF!,3,0))","v":{"$error":"#REF!"}},"舞鶴",{"$f":"IF(D2045=\"\",\"\",VLOOKUP(D2045,#REF!,4,0))","v":{"$error":"#REF!"}},{"$f":"IF(C2045=\"\",\"\",VLOOKUP(D2045,#REF!,5,0))","v":{"$error":"#REF!"}},"輸出","韓国",{"$f":"IF(H2045=\"\",\"\",VLOOKUP(H2045,#REF!,2,0))","v":{"$error":"#REF!"}},{"v":7090,"d":"7,090"},null,{"v":4326,"d":"4,326"},{"v":2764,"d":"2,764"}]
["H29",{"$f":"IF(D2046=\"\",\"\",VLOOKUP(D2046,#REF!,2,0))","v":{"$error":"#REF!"}},{"$f":"IF(D2046=\"\",\"\",VLOOKUP(D2046,#REF!,3,0))","v":{"$error":"#REF!"}},"舞鶴",{"$f":"IF(D2046=\"\",\"\",VLOOKUP(D2046,#REF!,4,0))","v":{"$error":"#REF!"}},{"$f":"IF(C2046=\"\",\"\",VLOOKUP(D2046,#REF!,5,0))","v":{"$error":"#REF!"}},"輸出","中国",{"$f":"IF(H2046=\"\",\"\",VLOOKUP(H2046,#REF!,2,0))","v":{"$error":"#REF!"}},{"v":2599,"d":"2,599"},null,{"v":1171,"d":"1,171"},{"v":1428,"d":"1,428"}]
["H29",{"$f":"IF(D2047=\"\",\"\",VLOOKUP(D2047,#REF!,2,0))","v":{"$error":"#REF!"}},{"$f":"IF(D2047=\"\",\"\",VLOOKUP(D2047,#REF!,3,0))","v":{"$error":"#REF!"}},"舞鶴",{"$f":"IF(D2047=\"\",\"\",VLOOKUP(D2047,#REF!,4,0))","v":{"$error":"#REF!"}},{"$f":"IF(C2047=\"\",\"\",VLOOKUP(D2047,#REF!,5,0))","v":{"$error":"#REF!"}},"輸出","ロシア",{"$f":"IF(H2047=\"\",\"\",VLOOKUP(H2047,#REF!,2,0))","v":{"$error":"#REF!"}},64,null,64,0]
["H29",{"$f":"IF(D2048=\"\",\"\",VLOOKUP(D2048,#REF!,2,0))","v":{"$error":"#REF!"}},{"$f":"IF(D2048=\"\",\"\",VLOOKUP(D2048,#REF!,3,0))","v":{"$error":"#REF!"}},"堺泉北",{"$f":"IF(D2048=\"\",\"\",VLOOKUP(D2048,#REF!,4,0))","v":{"$error":"#REF!"}},{"$f":"IF(C2048=\"\",\"\",VLOOKUP(D2048,#REF!,5,0))","v":{"$error":"#REF!"}},"輸出","韓国",{"$f":"IF(H2048=\"\",\"\",VLOOKUP(H2048,#REF!,2,0))","v":{"$error":"#REF!"}},392,null,22,370]
["H29",{"$f":"IF(D2049=\"\",\"\",VLOOKUP(D2049,#REF!,2,0))","v":{"$error":"#REF!"}},{"$f":"IF(D2049=\"\",\"\",VLOOKUP(D2049,#REF!,3,0))","v":{"$error":"#REF!"}},"堺泉北",{"$f":"IF(D2049=\"\",\"\",VLOOKUP(D2049,#REF!,4,0))","v":{"$error":"#REF!"}},{"$f":"IF(C2049=\"\",\"\",VLOOKUP(D2049,#REF!,5,0))","v":{"$error":"#REF!"}},"輸出","中国",{"$f":"IF(H2049=\"\",\"\",VLOOKUP(H2049,#REF!,2,0))","v":{"$error":"#REF!"}},{"v":11137,"d":"11,137"},null,774,{"v":10363,"d":"10,363"}]
["H29",{"$f":"IF(D2050=\"\",\"\",VLOOKUP(D2050,#REF!,2,0))","v":{"$error":"#REF!"}},{"$f":"IF(D2050=\"\",\"\",VLOOKUP(D2050,#REF!,3,0))","v":{"$error":"#REF!"}},"堺泉北",{"$f":"IF(D2050=\"\",\"\",VLOOKUP(D2050,#REF!,4,0))","v":{"$error":"#REF!"}},{"$f":"IF(C2050=\"\",\"\",VLOOKUP(D2050,#REF!,5,0))","v":{"$error":"#REF!"}},"輸出","香港",{"$f":"IF(H2050=\"\",\"\",VLOOKUP(H2050,#REF!,2,0))","v":{"$error":"#REF!"}},41,null,41,0]
["H29",{"$f":"IF(D2051=\"\",\"\",VLOOKUP(D2051,#REF!,2,0))","v":{"$error":"#REF!"}},{"$f":"IF(D2051=\"\",\"\",VLOOKUP(D2051,#REF!,3,0))","v":{"$error":"#REF!"}},"堺泉北",{"$f":"IF(D2051=\"\",\"\",VLOOKUP(D2051,#REF!,4,0))","v":{"$error":"#REF!"}},{"$f":"IF(C2051=\"\",\"\",VLOOKUP(D2051,#REF!,5,0))","v":{"$error":"#REF!"}},"輸出","タイ",{"$f":"IF(H2051=\"\",\"\",VLOOKUP(H2051,#REF!,2,0))","v":{"$error":"#REF!"}},34,null,16,18]
["H29",{"$f":"IF(D2052=\"\",\"\",VLOOKUP(D2052,#REF!,2,0))","v":{"$error":"#REF!"}},{"$f":"IF(D2052=\"\",\"\",VLOOKUP(D2052,#REF!,3,0))","v":{"$error":"#REF!"}},"堺泉北",{"$f":"IF(D2052=\"\",\"\",VLOOKUP(D2052,#REF!,4,0))","v":{"$error":"#REF!"}},{"$f":"IF(C2052=\"\",\"\",VLOOKUP(D2052,#REF!,5,0))","v":{"$error":"#REF!"}},"輸出","ベトナム",{"$f":"IF(H2052=\"\",\"\",VLOOKUP(H2052,#REF!,2,0))","v":{"$error":"#REF!"}},142,null,142,0]
["H29",{"$f":"IF(D2053=\"\",\"\",VLOOKUP(D2053,#REF!,2,0))","v":{"$error":"#REF!"}},{"$f":"IF(D2053=\"\",\"\",VLOOKUP(D2053,#REF!,3,0))","v":{"$error":"#REF!"}},"大阪",{"$f":"IF(D2053=\"\",\"\",VLOOKUP(D2053,#REF!,4,0))","v":{"$error":"#REF!"}},{"$f":"IF(C2053=\"\",\"\",VLOOKUP(D2053,#REF!,5,0))","v":{"$error":"#REF!"}},"輸出","韓国",{"$f":"IF(H2053=\"\",\"\",VLOOKUP(H2053,#REF!,2,0))","v":{"$error":"#REF!"}},{"v":128382,"d":"128,382"},null,{"v":68943,"d":"68,943"},{"v":59439,"d":"59,439"}]
["H29",{"$f":"IF(D2054=\"\",\"\",VLOOKUP(D2054,#REF!,2,0))","v":{"$error":"#REF!"}},{"$f":"IF(D2054=\"\",\"\",VLOOKUP(D2054,#REF!,3,0))","v":{"$error":"#REF!"}},"大阪",{"$f":"IF(D2054=\"\",\"\",VLOOKUP(D2054,#REF!,4,0))","v":{"$error":"#REF!"}},{"$f":"IF(C2054=\"\",\"\",VLOOKUP(D2054,#REF!,5,0))","v":{"$error":"#REF!"}},"輸出","台湾",{"$f":"IF(H2054=\"\",\"\",VLOOKUP(H2054,#REF!,2,0))","v":{"$error":"#REF!"}},{"v":89154,"d":"89,154"},null,{"v":64598,"d":"64,598"},{"v":24556,"d":"24,556"}]
["H29",{"$f":"IF(D2055=\"\",\"\",VLOOKUP(D2055,#REF!,2,0))","v":{"$error":"#REF!"}},{"$f":"IF(D2055=\"\",\"\",VLOOKUP(D2055,#REF!,3,0))","v":{"$error":"#REF!"}},"大阪",{"$f":"IF(D2055=\"\",\"\",VLOOKUP(D2055,#REF!,4,0))","v":{"$error":"#REF!"}},{"$f":"IF(C2055=\"\",\"\",VLOOKUP(D2055,#REF!,5,0))","v":{"$error":"#REF!"}},"輸出","中国",{"$f":"IF(H2055=\"\",\"\",VLOOKUP(H2055,#REF!,2,0))","v":{"$error":"#REF!"}},{"v":575064.5,"d":"575,065"},null,{"v":149145,"d":"149,145"},{"v":425919.5,"d":"425,920"}]
["H29",{"$f":"IF(D2056=\"\",\"\",VLOOKUP(D2056,#REF!,2,0))","v":{"$error":"#REF!"}},{"$f":"IF(D2056=\"\",\"\",VLOOKUP(D2056,#REF!,3,0))","v":{"$error":"#REF!"}},"大阪",{"$f":"IF(D2056=\"\",\"\",VLOOKUP(D2056,#REF!,4,0))","v":{"$error":"#REF!"}},{"$f":"IF(C2056=\"\",\"\",VLOOKUP(D2056,#REF!,5,0))","v":{"$error":"#REF!"}},"輸出","香港",{"$f":"IF(H2056=\"\",\"\",VLOOKUP(H2056,#REF!,2,0))","v":{"$error":"#REF!"}},{"v":58390,"d":"58,390"},null,{"v":47039,"d":"47,039"},{"v":11351,"d":"11,351"}]
["H29",{"$f":"IF(D2057=\"\",\"\",VLOOKUP(D2057,#REF!,2,0))","v":{"$error":"#REF!"}},{"$f":"IF(D2057=\"\",\"\",VLOOKUP(D2057,#REF!,3,0))","v":{"$error":"#REF!"}},"大阪",{"$f":"IF(D2057=\"\",\"\",VLOOKUP(D2057,#REF!,4,0))","v":{"$error":"#REF!"}},{"$f":"IF(C2057=\"\",\"\",VLOOKUP(D2057,#REF!,5,0))","v":{"$error":"#REF!"}},"輸出","カンボジア",{"$f":"IF(H2057=\"\",\"\",VLOOKUP(H2057,#REF!,2,0))","v":{"$error":"#REF!"}},472,null,472,0]
["H29",{"$f":"IF(D2058=\"\",\"\",VLOOKUP(D2058,#REF!,2,0))","v":{"$error":"#REF!"}},{"$f":"IF(D2058=\"\",\"\",VLOOKUP(D2058,#REF!,3,0))","v":{"$error":"#REF!"}},"大阪",{"$f":"IF(D2058=\"\",\"\",VLOOKUP(D2058,#REF!,4,0))","v":{"$error":"#REF!"}},{"$f":"IF(C2058=\"\",\"\",VLOOKUP(D2058,#REF!,5,0))","v":{"$error":"#REF!"}},"輸出","シンガポール",{"$f":"IF(H2058=\"\",\"\",VLOOKUP(H2058,#REF!,2,0))","v":{"$error":"#REF!"}},{"v":13418,"d":"13,418"},null,{"v":13185,"d":"13,185"},233]
["H29",{"$f":"IF(D2059=\"\",\"\",VLOOKUP(D2059,#REF!,2,0))","v":{"$error":"#REF!"}},{"$f":"IF(D2059=\"\",\"\",VLOOKUP(D2059,#REF!,3,0))","v":{"$error":"#REF!"}},"大阪",{"$f":"IF(D2059=\"\",\"\",VLOOKUP(D2059,#REF!,4,0))","v":{"$error":"#REF!"}},{"$f":"IF(C2059=\"\",\"\",VLOOKUP(D2059,#REF!,5,0))","v":{"$error":"#REF!"}},"輸出","タイ",{"$f":"IF(H2059=\"\",\"\",VLOOKUP(H2059,#REF!,2,0))","v":{"$error":"#REF!"}},{"v":29267,"d":"29,267"},null,{"v":24966,"d":"24,966"},{"v":4301,"d":"4,301"}]
["H29",{"$f":"IF(D2060=\"\",\"\",VLOOKUP(D2060,#REF!,2,0))","v":{"$error":"#REF!"}},{"$f":"IF(D2060=\"\",\"\",VLOOKUP(D2060,#REF!,3,0))","v":{"$error":"#REF!"}},"大阪",{"$f":"IF(D2060=\"\",\"\",VLOOKUP(D2060,#REF!,4,0))","v":{"$error":"#REF!"}},{"$f":"IF(C2060=\"\",\"\",VLOOKUP(D2060,#REF!,5,0))","v":{"$error":"#REF!"}},"輸出","フィリピン",{"$f":"IF(H2060=\"\",\"\",VLOOKUP(H2060,#REF!,2,0))","v":{"$error":"#REF!"}},{"v":1781,"d":"1,781"},null,{"v":1768,"d":"1,768"},13]
["H29",{"$f":"IF(D2061=\"\",\"\",VLOOKUP(D2061,#REF!,2,0))","v":{"$error":"#REF!"}},{"$f":"IF(D2061=\"\",\"\",VLOOKUP(D2061,#REF!,3,0))","v":{"$error":"#REF!"}},"大阪",{"$f":"IF(D2061=\"\",\"\",VLOOKUP(D2061,#REF!,4,0))","v":{"$error":"#REF!"}},{"$f":"IF(C2061=\"\",\"\",VLOOKUP(D2061,#REF!,5,0))","v":{"$error":"#REF!"}},"輸出","マレーシア",{"$f":"IF(H2061=\"\",\"\",VLOOKUP(H2061,#REF!,2,0))","v":{"$error":"#REF!"}},{"v":9497,"d":"9,497"},null,{"v":9470,"d":"9,470"},27]
["H29",{"$f":"IF(D2062=\"\",\"\",VLOOKUP(D2062,#REF!,2,0))","v":{"$error":"#REF!"}},{"$f":"IF(D2062=\"\",\"\",VLOOKUP(D2062,#REF!,3,0))","v":{"$error":"#REF!"}},"大阪",{"$f":"IF(D2062=\"\",\"\",VLOOKUP(D2062,#REF!,4,0))","v":{"$error":"#REF!"}},{"$f":"IF(C2062=\"\",\"\",VLOOKUP(D2062,#REF!,5,0))","v":{"$error":"#REF!"}},"輸出","ベトナム",{"$f":"IF(H2062=\"\",\"\",VLOOKUP(H2062,#REF!,2,0))","v":{"$error":"#REF!"}},{"v":15167,"d":"15,167"},null,{"v":14605,"d":"14,605"},562]
["H29",{"$f":"IF(D2063=\"\",\"\",VLOOKUP(D2063,#REF!,2,0))","v":{"$error":"#REF!"}},{"$f":"IF(D2063=\"\",\"\",VLOOKUP(D2063,#REF!,3,0))","v":{"$error":"#REF!"}},"大阪",{"$f":"IF(D2063=\"\",\"\",VLOOKUP(D2063,#REF!,4,0))","v":{"$error":"#REF!"}},{"$f":"IF(C2063=\"\",\"\",VLOOKUP(D2063,#REF!,5,0))","v":{"$error":"#REF!"}},"輸出","インド",{"$f":"IF(H2063=\"\",\"\",VLOOKUP(H2063,#REF!,2,0))","v":{"$error":"#REF!"}},{"v":1480,"d":"1,480"},null,{"v":1388,"d":"1,388"},92]
["H29",{"$f":"IF(D2064=\"\",\"\",VLOOKUP(D2064,#REF!,2,0))","v":{"$error":"#REF!"}},{"$f":"IF(D2064=\"\",\"\",VLOOKUP(D2064,#REF!,3,0))","v":{"$error":"#REF!"}},"大阪",{"$f":"IF(D2064=\"\",\"\",VLOOKUP(D2064,#REF!,4,0))","v":{"$error":"#REF!"}},{"$f":"IF(C2064=\"\",\"\",VLOOKUP(D2064,#REF!,5,0))","v":{"$error":"#REF!"}},"輸出","スリランカ",{"$f":"IF(H2064=\"\",\"\",VLOOKUP(H2064,#REF!,2,0))","v":{"$error":"#REF!"}},141,null,141,0]
["H29",{"$f":"IF(D2065=\"\",\"\",VLOOKUP(D2065,#REF!,2,0))","v":{"$error":"#REF!"}},{"$f":"IF(D2065=\"\",\"\",VLOOKUP(D2065,#REF!,3,0))","v":{"$error":"#REF!"}},"大阪",{"$f":"IF(D2065=\"\",\"\",VLOOKUP(D2065,#REF!,4,0))","v":{"$error":"#REF!"}},{"$f":"IF(C2065=\"\",\"\",VLOOKUP(D2065,#REF!,5,0))","v":{"$error":"#REF!"}},"輸出","パキスタン",{"$f":"IF(H2065=\"\",\"\",VLOOKUP(H2065,#REF!,2,0))","v":{"$error":"#REF!"}},{"v":1445,"d":"1,445"},null,{"v":1445,"d":"1,445"},0]
["H29",{"$f":"IF(D2066=\"\",\"\",VLOOKUP(D2066,#REF!,2,0))","v":{"$error":"#REF!"}},{"$f":"IF(D2066=\"\",\"\",VLOOKUP(D2066,#REF!,3,0))","v":{"$error":"#REF!"}},"大阪",{"$f":"IF(D2066=\"\",\"\",VLOOKUP(D2066,#REF!,4,0))","v":{"$error":"#REF!"}},{"$f":"IF(C2066=\"\",\"\",VLOOKUP(D2066,#REF!,5,0))","v":{"$error":"#REF!"}},"輸出","オーストラリア",{"$f":"IF(H2066=\"\",\"\",VLOOKUP(H2066,#REF!,2,0))","v":{"$error":"#REF!"}},{"v":7683,"d":"7,683"},null,{"v":5921,"d":"5,921"},{"v":1762,"d":"1,762"}]
["H29",{"$f":"IF(D2067=\"\",\"\",VLOOKUP(D2067,#REF!,2,0))","v":{"$error":"#REF!"}},{"$f":"IF(D2067=\"\",\"\",VLOOKUP(D2067,#REF!,3,0))","v":{"$error":"#REF!"}},"大阪",{"$f":"IF(D2067=\"\",\"\",VLOOKUP(D2067,#REF!,4,0))","v":{"$error":"#REF!"}},{"$f":"IF(C2067=\"\",\"\",VLOOKUP(D2067,#REF!,5,0))","v":{"$error":"#REF!"}},"輸出","アメリカ合衆国",{"$f":"IF(H2067=\"\",\"\",VLOOKUP(H2067,#REF!,2,0))","v":{"$error":"#REF!"}},{"v":4648,"d":"4,648"},null,{"v":4636,"d":"4,636"},12]
["H29",{"$f":"IF(D2068=\"\",\"\",VLOOKUP(D2068,#REF!,2,0))","v":{"$error":"#REF!"}},{"$f":"IF(D2068=\"\",\"\",VLOOKUP(D2068,#REF!,3,0))","v":{"$error":"#REF!"}},"大阪",{"$f":"IF(D2068=\"\",\"\",VLOOKUP(D2068,#REF!,4,0))","v":{"$error":"#REF!"}},{"$f":"IF(C2068=\"\",\"\",VLOOKUP(D2068,#REF!,5,0))","v":{"$error":"#REF!"}},"輸出","カナダ",{"$f":"IF(H2068=\"\",\"\",VLOOKUP(H2068,#REF!,2,0))","v":{"$error":"#REF!"}},{"v":2297,"d":"2,297"},null,{"v":2284,"d":"2,284"},13]
["H29",{"$f":"IF(D2069=\"\",\"\",VLOOKUP(D2069,#REF!,2,0))","v":{"$error":"#REF!"}},{"$f":"IF(D2069=\"\",\"\",VLOOKUP(D2069,#REF!,3,0))","v":{"$error":"#REF!"}},"神戸",{"$f":"IF(D2069=\"\",\"\",VLOOKUP(D2069,#REF!,4,0))","v":{"$error":"#REF!"}},{"$f":"IF(C2069=\"\",\"\",VLOOKUP(D2069,#REF!,5,0))","v":{"$error":"#REF!"}},"輸出","韓国",{"$f":"IF(H2069=\"\",\"\",VLOOKUP(H2069,#REF!,2,0))","v":{"$error":"#REF!"}},{"v":83680,"d":"83,680"},null,{"v":63793,"d":"63,793"},{"v":19887,"d":"19,887"}]
["H29",{"$f":"IF(D2070=\"\",\"\",VLOOKUP(D2070,#REF!,2,0))","v":{"$error":"#REF!"}},{"$f":"IF(D2070=\"\",\"\",VLOOKUP(D2070,#REF!,3,0))","v":{"$error":"#REF!"}},"神戸",{"$f":"IF(D2070=\"\",\"\",VLOOKUP(D2070,#REF!,4,0))","v":{"$error":"#REF!"}},{"$f":"IF(C2070=\"\",\"\",VLOOKUP(D2070,#REF!,5,0))","v":{"$error":"#REF!"}},"輸出","台湾",{"$f":"IF(H2070=\"\",\"\",VLOOKUP(H2070,#REF!,2,0))","v":{"$error":"#REF!"}},{"v":120454.25,"d":"120,454"},null,{"v":111062,"d":"111,062"},{"v":9392.25,"d":"9,392"}]
["H29",{"$f":"IF(D2071=\"\",\"\",VLOOKUP(D2071,#REF!,2,0))","v":{"$error":"#REF!"}},{"$f":"IF(D2071=\"\",\"\",VLOOKUP(D2071,#REF!,3,0))","v":{"$error":"#REF!"}},"神戸",{"$f":"IF(D2071=\"\",\"\",VLOOKUP(D2071,#REF!,4,0))","v":{"$error":"#REF!"}},{"$f":"IF(C2071=\"\",\"\",VLOOKUP(D2071,#REF!,5,0))","v":{"$error":"#REF!"}},"輸出","中国",{"$f":"IF(H2071=\"\",\"\",VLOOKUP(H2071,#REF!,2,0))","v":{"$error":"#REF!"}},{"v":400689,"d":"400,689"},null,{"v":240929,"d":"240,929"},{"v":159760,"d":"159,760"}]
["H29",{"$f":"IF(D2072=\"\",\"\",VLOOKUP(D2072,#REF!,2,0))","v":{"$error":"#REF!"}},{"$f":"IF(D2072=\"\",\"\",VLOOKUP(D2072,#REF!,3,0))","v":{"$error":"#REF!"}},"神戸",{"$f":"IF(D2072=\"\",\"\",VLOOKUP(D2072,#REF!,4,0))","v":{"$error":"#REF!"}},{"$f":"IF(C2072=\"\",\"\",VLOOKUP(D2072,#REF!,5,0))","v":{"$error":"#REF!"}},"輸出","香港",{"$f":"IF(H2072=\"\",\"\",VLOOKUP(H2072,#REF!,2,0))","v":{"$error":"#REF!"}},{"v":97704,"d":"97,704"},null,{"v":90938,"d":"90,938"},{"v":6766,"d":"6,766"}]
["H29",{"$f":"IF(D2073=\"\",\"\",VLOOKUP(D2073,#REF!,2,0))","v":{"$error":"#REF!"}},{"$f":"IF(D2073=\"\",\"\",VLOOKUP(D2073,#REF!,3,0))","v":{"$error":"#REF!"}},"神戸",{"$f":"IF(D2073=\"\",\"\",VLOOKUP(D2073,#REF!,4,0))","v":{"$error":"#REF!"}},{"$f":"IF(C2073=\"\",\"\",VLOOKUP(D2073,#REF!,5,0))","v":{"$error":"#REF!"}},"輸出","インドネシア",{"$f":"IF(H2073=\"\",\"\",VLOOKUP(H2073,#REF!,2,0))","v":{"$error":"#REF!"}},{"v":31678,"d":"31,678"},null,{"v":31668,"d":"31,668"},10]
["H29",{"$f":"IF(D2074=\"\",\"\",VLOOKUP(D2074,#REF!,2,0))","v":{"$error":"#REF!"}},{"$f":"IF(D2074=\"\",\"\",VLOOKUP(D2074,#REF!,3,0))","v":{"$error":"#REF!"}},"神戸",{"$f":"IF(D2074=\"\",\"\",VLOOKUP(D2074,#REF!,4,0))","v":{"$error":"#REF!"}},{"$f":"IF(C2074=\"\",\"\",VLOOKUP(D2074,#REF!,5,0))","v":{"$error":"#REF!"}},"輸出","カンボジア",{"$f":"IF(H2074=\"\",\"\",VLOOKUP(H2074,#REF!,2,0))","v":{"$error":"#REF!"}},827,null,753,74]
["H29",{"$f":"IF(D2075=\"\",\"\",VLOOKUP(D2075,#REF!,2,0))","v":{"$error":"#REF!"}},{"$f":"IF(D2075=\"\",\"\",VLOOKUP(D2075,#REF!,3,0))","v":{"$error":"#REF!"}},"神戸",{"$f":"IF(D2075=\"\",\"\",VLOOKUP(D2075,#REF!,4,0))","v":{"$error":"#REF!"}},{"$f":"IF(C2075=\"\",\"\",VLOOKUP(D2075,#REF!,5,0))","v":{"$error":"#REF!"}},"輸出","シンガポール",{"$f":"IF(H2075=\"\",\"\",VLOOKUP(H2075,#REF!,2,0))","v":{"$error":"#REF!"}},{"v":115808,"d":"115,808"},null,{"v":109524,"d":"109,524"},{"v":6284,"d":"6,284"}]
["H29",{"$f":"IF(D2076=\"\",\"\",VLOOKUP(D2076,#REF!,2,0))","v":{"$error":"#REF!"}},{"$f":"IF(D2076=\"\",\"\",VLOOKUP(D2076,#REF!,3,0))","v":{"$error":"#REF!"}},"神戸",{"$f":"IF(D2076=\"\",\"\",VLOOKUP(D2076,#REF!,4,0))","v":{"$error":"#REF!"}},{"$f":"IF(C2076=\"\",\"\",VLOOKUP(D2076,#REF!,5,0))","v":{"$error":"#REF!"}},"輸出","タイ",{"$f":"IF(H2076=\"\",\"\",VLOOKUP(H2076,#REF!,2,0))","v":{"$error":"#REF!"}},{"v":80271,"d":"80,271"},null,{"v":73543,"d":"73,543"},{"v":6728,"d":"6,728"}]
["H29",{"$f":"IF(D2077=\"\",\"\",VLOOKUP(D2077,#REF!,2,0))","v":{"$error":"#REF!"}},{"$f":"IF(D2077=\"\",\"\",VLOOKUP(D2077,#REF!,3,0))","v":{"$error":"#REF!"}},"神戸",{"$f":"IF(D2077=\"\",\"\",VLOOKUP(D2077,#REF!,4,0))","v":{"$error":"#REF!"}},{"$f":"IF(C2077=\"\",\"\",VLOOKUP(D2077,#REF!,5,0))","v":{"$error":"#REF!"}},"輸出","フィリピン",{"$f":"IF(H2077=\"\",\"\",VLOOKUP(H2077,#REF!,2,0))","v":{"$error":"#REF!"}},{"v":17792,"d":"17,792"},null,{"v":14481,"d":"14,481"},{"v":3311,"d":"3,311"}]
["H29",{"$f":"IF(D2078=\"\",\"\",VLOOKUP(D2078,#REF!,2,0))","v":{"$error":"#REF!"}},{"$f":"IF(D2078=\"\",\"\",VLOOKUP(D2078,#REF!,3,0))","v":{"$error":"#REF!"}},"神戸",{"$f":"IF(D2078=\"\",\"\",VLOOKUP(D2078,#REF!,4,0))","v":{"$error":"#REF!"}},{"$f":"IF(C2078=\"\",\"\",VLOOKUP(D2078,#REF!,5,0))","v":{"$error":"#REF!"}},"輸出","マレーシア",{"$f":"IF(H2078=\"\",\"\",VLOOKUP(H2078,#REF!,2,0))","v":{"$error":"#REF!"}},{"v":42692.25,"d":"42,692"},null,{"v":42468,"d":"42,468"},{"v":224.25,"d":"224"}]
["H29",{"$f":"IF(D2079=\"\",\"\",VLOOKUP(D2079,#REF!,2,0))","v":{"$error":"#REF!"}},{"$f":"IF(D2079=\"\",\"\",VLOOKUP(D2079,#REF!,3,0))","v":{"$error":"#REF!"}},"神戸",{"$f":"IF(D2079=\"\",\"\",VLOOKUP(D2079,#REF!,4,0))","v":{"$error":"#REF!"}},{"$f":"IF(C2079=\"\",\"\",VLOOKUP(D2079,#REF!,5,0))","v":{"$error":"#REF!"}},"輸出","ベトナム",{"$f":"IF(H2079=\"\",\"\",VLOOKUP(H2079,#REF!,2,0))","v":{"$error":"#REF!"}},{"v":43449,"d":"43,449"},null,{"v":41422,"d":"41,422"},{"v":2027,"d":"2,027"}]
["H29",{"$f":"IF(D2080=\"\",\"\",VLOOKUP(D2080,#REF!,2,0))","v":{"$error":"#REF!"}},{"$f":"IF(D2080=\"\",\"\",VLOOKUP(D2080,#REF!,3,0))","v":{"$error":"#REF!"}},"神戸",{"$f":"IF(D2080=\"\",\"\",VLOOKUP(D2080,#REF!,4,0))","v":{"$error":"#REF!"}},{"$f":"IF(C2080=\"\",\"\",VLOOKUP(D2080,#REF!,5,0))","v":{"$error":"#REF!"}},"輸出","インド",{"$f":"IF(H2080=\"\",\"\",VLOOKUP(H2080,#REF!,2,0))","v":{"$error":"#REF!"}},{"v":1722,"d":"1,722"},null,{"v":1702,"d":"1,702"},20]
["H29",{"$f":"IF(D2081=\"\",\"\",VLOOKUP(D2081,#REF!,2,0))","v":{"$error":"#REF!"}},{"$f":"IF(D2081=\"\",\"\",VLOOKUP(D2081,#REF!,3,0))","v":{"$error":"#REF!"}},"神戸",{"$f":"IF(D2081=\"\",\"\",VLOOKUP(D2081,#REF!,4,0))","v":{"$error":"#REF!"}},{"$f":"IF(C2081=\"\",\"\",VLOOKUP(D2081,#REF!,5,0))","v":{"$error":"#REF!"}},"輸出","パキスタン",{"$f":"IF(H2081=\"\",\"\",VLOOKUP(H2081,#REF!,2,0))","v":{"$error":"#REF!"}},661,null,661,0]
["H29",{"$f":"IF(D2082=\"\",\"\",VLOOKUP(D2082,#REF!,2,0))","v":{"$error":"#REF!"}},{"$f":"IF(D2082=\"\",\"\",VLOOKUP(D2082,#REF!,3,0))","v":{"$error":"#REF!"}},"神戸",{"$f":"IF(D2082=\"\",\"\",VLOOKUP(D2082,#REF!,4,0))","v":{"$error":"#REF!"}},{"$f":"IF(C2082=\"\",\"\",VLOOKUP(D2082,#REF!,5,0))","v":{"$error":"#REF!"}},"輸出","サウジアラビア",{"$f":"IF(H2082=\"\",\"\",VLOOKUP(H2082,#REF!,2,0))","v":{"$error":"#REF!"}},{"v":1065,"d":"1,065"},null,{"v":1065,"d":"1,065"},0]
["H29",{"$f":"IF(D2083=\"\",\"\",VLOOKUP(D2083,#REF!,2,0))","v":{"$error":"#REF!"}},{"$f":"IF(D2083=\"\",\"\",VLOOKUP(D2083,#REF!,3,0))","v":{"$error":"#REF!"}},"神戸",{"$f":"IF(D2083=\"\",\"\",VLOOKUP(D2083,#REF!,4,0))","v":{"$error":"#REF!"}},{"$f":"IF(C2083=\"\",\"\",VLOOKUP(D2083,#REF!,5,0))","v":{"$error":"#REF!"}},"輸出","オーストラリア",{"$f":"IF(H2083=\"\",\"\",VLOOKUP(H2083,#REF!,2,0))","v":{"$error":"#REF!"}},541,null,329,212]
["H29",{"$f":"IF(D2084=\"\",\"\",VLOOKUP(D2084,#REF!,2,0))","v":{"$error":"#REF!"}},{"$f":"IF(D2084=\"\",\"\",VLOOKUP(D2084,#REF!,3,0))","v":{"$error":"#REF!"}},"神戸",{"$f":"IF(D2084=\"\",\"\",VLOOKUP(D2084,#REF!,4,0))","v":{"$error":"#REF!"}},{"$f":"IF(C2084=\"\",\"\",VLOOKUP(D2084,#REF!,5,0))","v":{"$error":"#REF!"}},"輸出","仏領ポリネシア",{"$f":"IF(H2084=\"\",\"\",VLOOKUP(H2084,#REF!,2,0))","v":{"$error":"#REF!"}},91,null,91,0]
["H29",{"$f":"IF(D2085=\"\",\"\",VLOOKUP(D2085,#REF!,2,0))","v":{"$error":"#REF!"}},{"$f":"IF(D2085=\"\",\"\",VLOOKUP(D2085,#REF!,3,0))","v":{"$error":"#REF!"}},"神戸",{"$f":"IF(D2085=\"\",\"\",VLOOKUP(D2085,#REF!,4,0))","v":{"$error":"#REF!"}},{"$f":"IF(C2085=\"\",\"\",VLOOKUP(D2085,#REF!,5,0))","v":{"$error":"#REF!"}},"輸出","グアム",{"$f":"IF(H2085=\"\",\"\",VLOOKUP(H2085,#REF!,2,0))","v":{"$error":"#REF!"}},59,null,59,0]
["H29",{"$f":"IF(D2086=\"\",\"\",VLOOKUP(D2086,#REF!,2,0))","v":{"$error":"#REF!"}},{"$f":"IF(D2086=\"\",\"\",VLOOKUP(D2086,#REF!,3,0))","v":{"$error":"#REF!"}},"神戸",{"$f":"IF(D2086=\"\",\"\",VLOOKUP(D2086,#REF!,4,0))","v":{"$error":"#REF!"}},{"$f":"IF(C2086=\"\",\"\",VLOOKUP(D2086,#REF!,5,0))","v":{"$error":"#REF!"}},"輸出","サモア独立国",{"$f":"IF(H2086=\"\",\"\",VLOOKUP(H2086,#REF!,2,0))","v":{"$error":"#REF!"}},36,null,36,0]
["H29",{"$f":"IF(D2087=\"\",\"\",VLOOKUP(D2087,#REF!,2,0))","v":{"$error":"#REF!"}},{"$f":"IF(D2087=\"\",\"\",VLOOKUP(D2087,#REF!,3,0))","v":{"$error":"#REF!"}},"神戸",{"$f":"IF(D2087=\"\",\"\",VLOOKUP(D2087,#REF!,4,0))","v":{"$error":"#REF!"}},{"$f":"IF(C2087=\"\",\"\",VLOOKUP(D2087,#REF!,5,0))","v":{"$error":"#REF!"}},"輸出","ソロモン諸島",{"$f":"IF(H2087=\"\",\"\",VLOOKUP(H2087,#REF!,2,0))","v":{"$error":"#REF!"}},16,null,16,0]
["H29",{"$f":"IF(D2088=\"\",\"\",VLOOKUP(D2088,#REF!,2,0))","v":{"$error":"#REF!"}},{"$f":"IF(D2088=\"\",\"\",VLOOKUP(D2088,#REF!,3,0))","v":{"$error":"#REF!"}},"神戸",{"$f":"IF(D2088=\"\",\"\",VLOOKUP(D2088,#REF!,4,0))","v":{"$error":"#REF!"}},{"$f":"IF(C2088=\"\",\"\",VLOOKUP(D2088,#REF!,5,0))","v":{"$error":"#REF!"}},"輸出","トンガ",{"$f":"IF(H2088=\"\",\"\",VLOOKUP(H2088,#REF!,2,0))","v":{"$error":"#REF!"}},3,null,3,0]
["H29",{"$f":"IF(D2089=\"\",\"\",VLOOKUP(D2089,#REF!,2,0))","v":{"$error":"#REF!"}},{"$f":"IF(D2089=\"\",\"\",VLOOKUP(D2089,#REF!,3,0))","v":{"$error":"#REF!"}},"神戸",{"$f":"IF(D2089=\"\",\"\",VLOOKUP(D2089,#REF!,4,0))","v":{"$error":"#REF!"}},{"$f":"IF(C2089=\"\",\"\",VLOOKUP(D2089,#REF!,5,0))","v":{"$error":"#REF!"}},"輸出","ニューカレドニア",{"$f":"IF(H2089=\"\",\"\",VLOOKUP(H2089,#REF!,2,0))","v":{"$error":"#REF!"}},40,null,40,0]
["H29",{"$f":"IF(D2090=\"\",\"\",VLOOKUP(D2090,#REF!,2,0))","v":{"$error":"#REF!"}},{"$f":"IF(D2090=\"\",\"\",VLOOKUP(D2090,#REF!,3,0))","v":{"$error":"#REF!"}},"神戸",{"$f":"IF(D2090=\"\",\"\",VLOOKUP(D2090,#REF!,4,0))","v":{"$error":"#REF!"}},{"$f":"IF(C2090=\"\",\"\",VLOOKUP(D2090,#REF!,5,0))","v":{"$error":"#REF!"}},"輸出","ニュージーランド",{"$f":"IF(H2090=\"\",\"\",VLOOKUP(H2090,#REF!,2,0))","v":{"$error":"#REF!"}},{"v":2548,"d":"2,548"},null,{"v":1420,"d":"1,420"},{"v":1128,"d":"1,128"}]
["H29",{"$f":"IF(D2091=\"\",\"\",VLOOKUP(D2091,#REF!,2,0))","v":{"$error":"#REF!"}},{"$f":"IF(D2091=\"\",\"\",VLOOKUP(D2091,#REF!,3,0))","v":{"$error":"#REF!"}},"神戸",{"$f":"IF(D2091=\"\",\"\",VLOOKUP(D2091,#REF!,4,0))","v":{"$error":"#REF!"}},{"$f":"IF(C2091=\"\",\"\",VLOOKUP(D2091,#REF!,5,0))","v":{"$error":"#REF!"}},"輸出","パプアニューギニア",{"$f":"IF(H2091=\"\",\"\",VLOOKUP(H2091,#REF!,2,0))","v":{"$error":"#REF!"}},77,null,77,0]
["H29",{"$f":"IF(D2092=\"\",\"\",VLOOKUP(D2092,#REF!,2,0))","v":{"$error":"#REF!"}},{"$f":"IF(D2092=\"\",\"\",VLOOKUP(D2092,#REF!,3,0))","v":{"$error":"#REF!"}},"神戸",{"$f":"IF(D2092=\"\",\"\",VLOOKUP(D2092,#REF!,4,0))","v":{"$error":"#REF!"}},{"$f":"IF(C2092=\"\",\"\",VLOOKUP(D2092,#REF!,5,0))","v":{"$error":"#REF!"}},"輸出","フィジー",{"$f":"IF(H2092=\"\",\"\",VLOOKUP(H2092,#REF!,2,0))","v":{"$error":"#REF!"}},19,null,19,0]
["H29",{"$f":"IF(D2093=\"\",\"\",VLOOKUP(D2093,#REF!,2,0))","v":{"$error":"#REF!"}},{"$f":"IF(D2093=\"\",\"\",VLOOKUP(D2093,#REF!,3,0))","v":{"$error":"#REF!"}},"神戸",{"$f":"IF(D2093=\"\",\"\",VLOOKUP(D2093,#REF!,4,0))","v":{"$error":"#REF!"}},{"$f":"IF(C2093=\"\",\"\",VLOOKUP(D2093,#REF!,5,0))","v":{"$error":"#REF!"}},"輸出","キリバス",{"$f":"IF(H2093=\"\",\"\",VLOOKUP(H2093,#REF!,2,0))","v":{"$error":"#REF!"}},16,null,16,0]
["H29",{"$f":"IF(D2094=\"\",\"\",VLOOKUP(D2094,#REF!,2,0))","v":{"$error":"#REF!"}},{"$f":"IF(D2094=\"\",\"\",VLOOKUP(D2094,#REF!,3,0))","v":{"$error":"#REF!"}},"神戸",{"$f":"IF(D2094=\"\",\"\",VLOOKUP(D2094,#REF!,4,0))","v":{"$error":"#REF!"}},{"$f":"IF(C2094=\"\",\"\",VLOOKUP(D2094,#REF!,5,0))","v":{"$error":"#REF!"}},"輸出","バヌアツ",{"$f":"IF(H2094=\"\",\"\",VLOOKUP(H2094,#REF!,2,0))","v":{"$error":"#REF!"}},10,null,7,3]
["H29",{"$f":"IF(D2095=\"\",\"\",VLOOKUP(D2095,#REF!,2,0))","v":{"$error":"#REF!"}},{"$f":"IF(D2095=\"\",\"\",VLOOKUP(D2095,#REF!,3,0))","v":{"$error":"#REF!"}},"神戸",{"$f":"IF(D2095=\"\",\"\",VLOOKUP(D2095,#REF!,4,0))","v":{"$error":"#REF!"}},{"$f":"IF(C2095=\"\",\"\",VLOOKUP(D2095,#REF!,5,0))","v":{"$error":"#REF!"}},"輸出","米領サモア",{"$f":"IF(H2095=\"\",\"\",VLOOKUP(H2095,#REF!,2,0))","v":{"$error":"#REF!"}},3,null,3,0]
["H29",{"$f":"IF(D2096=\"\",\"\",VLOOKUP(D2096,#REF!,2,0))","v":{"$error":"#REF!"}},{"$f":"IF(D2096=\"\",\"\",VLOOKUP(D2096,#REF!,3,0))","v":{"$error":"#REF!"}},"神戸",{"$f":"IF(D2096=\"\",\"\",VLOOKUP(D2096,#REF!,4,0))","v":{"$error":"#REF!"}},{"$f":"IF(C2096=\"\",\"\",VLOOKUP(D2096,#REF!,5,0))","v":{"$error":"#REF!"}},"輸出","ミクロネシア",{"$f":"IF(H2096=\"\",\"\",VLOOKUP(H2096,#REF!,2,0))","v":{"$error":"#REF!"}},146,null,74,72]
["H29",{"$f":"IF(D2097=\"\",\"\",VLOOKUP(D2097,#REF!,2,0))","v":{"$error":"#REF!"}},{"$f":"IF(D2097=\"\",\"\",VLOOKUP(D2097,#REF!,3,0))","v":{"$error":"#REF!"}},"神戸",{"$f":"IF(D2097=\"\",\"\",VLOOKUP(D2097,#REF!,4,0))","v":{"$error":"#REF!"}},{"$f":"IF(C2097=\"\",\"\",VLOOKUP(D2097,#REF!,5,0))","v":{"$error":"#REF!"}},"輸出","マーシャル諸島",{"$f":"IF(H2097=\"\",\"\",VLOOKUP(H2097,#REF!,2,0))","v":{"$error":"#REF!"}},24,null,24,0]
["H29",{"$f":"IF(D2098=\"\",\"\",VLOOKUP(D2098,#REF!,2,0))","v":{"$error":"#REF!"}},{"$f":"IF(D2098=\"\",\"\",VLOOKUP(D2098,#REF!,3,0))","v":{"$error":"#REF!"}},"神戸",{"$f":"IF(D2098=\"\",\"\",VLOOKUP(D2098,#REF!,4,0))","v":{"$error":"#REF!"}},{"$f":"IF(C2098=\"\",\"\",VLOOKUP(D2098,#REF!,5,0))","v":{"$error":"#REF!"}},"輸出","北マリアナ諸島",{"$f":"IF(H2098=\"\",\"\",VLOOKUP(H2098,#REF!,2,0))","v":{"$error":"#REF!"}},29,null,29,0]
["H29",{"$f":"IF(D2099=\"\",\"\",VLOOKUP(D2099,#REF!,2,0))","v":{"$error":"#REF!"}},{"$f":"IF(D2099=\"\",\"\",VLOOKUP(D2099,#REF!,3,0))","v":{"$error":"#REF!"}},"神戸",{"$f":"IF(D2099=\"\",\"\",VLOOKUP(D2099,#REF!,4,0))","v":{"$error":"#REF!"}},{"$f":"IF(C2099=\"\",\"\",VLOOKUP(D2099,#REF!,5,0))","v":{"$error":"#REF!"}},"輸出","パラオ",{"$f":"IF(H2099=\"\",\"\",VLOOKUP(H2099,#REF!,2,0))","v":{"$error":"#REF!"}},22,null,20,2]
["H29",{"$f":"IF(D2100=\"\",\"\",VLOOKUP(D2100,#REF!,2,0))","v":{"$error":"#REF!"}},{"$f":"IF(D2100=\"\",\"\",VLOOKUP(D2100,#REF!,3,0))","v":{"$error":"#REF!"}},"神戸",{"$f":"IF(D2100=\"\",\"\",VLOOKUP(D2100,#REF!,4,0))","v":{"$error":"#REF!"}},{"$f":"IF(C2100=\"\",\"\",VLOOKUP(D2100,#REF!,5,0))","v":{"$error":"#REF!"}},"輸出","南アフリカ",{"$f":"IF(H2100=\"\",\"\",VLOOKUP(H2100,#REF!,2,0))","v":{"$error":"#REF!"}},{"v":2463,"d":"2,463"},null,{"v":2463,"d":"2,463"},0]
["H29",{"$f":"IF(D2101=\"\",\"\",VLOOKUP(D2101,#REF!,2,0))","v":{"$error":"#REF!"}},{"$f":"IF(D2101=\"\",\"\",VLOOKUP(D2101,#REF!,3,0))","v":{"$error":"#REF!"}},"神戸",{"$f":"IF(D2101=\"\",\"\",VLOOKUP(D2101,#REF!,4,0))","v":{"$error":"#REF!"}},{"$f":"IF(C2101=\"\",\"\",VLOOKUP(D2101,#REF!,5,0))","v":{"$error":"#REF!"}},"輸出","モーリシャス",{"$f":"IF(H2101=\"\",\"\",VLOOKUP(H2101,#REF!,2,0))","v":{"$error":"#REF!"}},203,null,203,0]
["H29",{"$f":"IF(D2102=\"\",\"\",VLOOKUP(D2102,#REF!,2,0))","v":{"$error":"#REF!"}},{"$f":"IF(D2102=\"\",\"\",VLOOKUP(D2102,#REF!,3,0))","v":{"$error":"#REF!"}},"神戸",{"$f":"IF(D2102=\"\",\"\",VLOOKUP(D2102,#REF!,4,0))","v":{"$error":"#REF!"}},{"$f":"IF(C2102=\"\",\"\",VLOOKUP(D2102,#REF!,5,0))","v":{"$error":"#REF!"}},"輸出","イギリス",{"$f":"IF(H2102=\"\",\"\",VLOOKUP(H2102,#REF!,2,0))","v":{"$error":"#REF!"}},{"v":2988,"d":"2,988"},null,{"v":2884,"d":"2,884"},104]
["H29",{"$f":"IF(D2103=\"\",\"\",VLOOKUP(D2103,#REF!,2,0))","v":{"$error":"#REF!"}},{"$f":"IF(D2103=\"\",\"\",VLOOKUP(D2103,#REF!,3,0))","v":{"$error":"#REF!"}},"神戸",{"$f":"IF(D2103=\"\",\"\",VLOOKUP(D2103,#REF!,4,0))","v":{"$error":"#REF!"}},{"$f":"IF(C2103=\"\",\"\",VLOOKUP(D2103,#REF!,5,0))","v":{"$error":"#REF!"}},"輸出","イタリア",{"$f":"IF(H2103=\"\",\"\",VLOOKUP(H2103,#REF!,2,0))","v":{"$error":"#REF!"}},6,null,6,0]
["H29",{"$f":"IF(D2104=\"\",\"\",VLOOKUP(D2104,#REF!,2,0))","v":{"$error":"#REF!"}},{"$f":"IF(D2104=\"\",\"\",VLOOKUP(D2104,#REF!,3,0))","v":{"$error":"#REF!"}},"神戸",{"$f":"IF(D2104=\"\",\"\",VLOOKUP(D2104,#REF!,4,0))","v":{"$error":"#REF!"}},{"$f":"IF(C2104=\"\",\"\",VLOOKUP(D2104,#REF!,5,0))","v":{"$error":"#REF!"}},"輸出","オランダ",{"$f":"IF(H2104=\"\",\"\",VLOOKUP(H2104,#REF!,2,0))","v":{"$error":"#REF!"}},{"v":26353,"d":"26,353"},null,{"v":25431,"d":"25,431"},922]
["H29",{"$f":"IF(D2105=\"\",\"\",VLOOKUP(D2105,#REF!,2,0))","v":{"$error":"#REF!"}},{"$f":"IF(D2105=\"\",\"\",VLOOKUP(D2105,#REF!,3,0))","v":{"$error":"#REF!"}},"神戸",{"$f":"IF(D2105=\"\",\"\",VLOOKUP(D2105,#REF!,4,0))","v":{"$error":"#REF!"}},{"$f":"IF(C2105=\"\",\"\",VLOOKUP(D2105,#REF!,5,0))","v":{"$error":"#REF!"}},"輸出","ドイツ",{"$f":"IF(H2105=\"\",\"\",VLOOKUP(H2105,#REF!,2,0))","v":{"$error":"#REF!"}},{"v":10797,"d":"10,797"},null,{"v":10585,"d":"10,585"},212]
["H29",{"$f":"IF(D2106=\"\",\"\",VLOOKUP(D2106,#REF!,2,0))","v":{"$error":"#REF!"}},{"$f":"IF(D2106=\"\",\"\",VLOOKUP(D2106,#REF!,3,0))","v":{"$error":"#REF!"}},"神戸",{"$f":"IF(D2106=\"\",\"\",VLOOKUP(D2106,#REF!,4,0))","v":{"$error":"#REF!"}},{"$f":"IF(C2106=\"\",\"\",VLOOKUP(D2106,#REF!,5,0))","v":{"$error":"#REF!"}},"輸出","フランス",{"$f":"IF(H2106=\"\",\"\",VLOOKUP(H2106,#REF!,2,0))","v":{"$error":"#REF!"}},{"v":2408,"d":"2,408"},null,{"v":2238,"d":"2,238"},170]
["H29",{"$f":"IF(D2107=\"\",\"\",VLOOKUP(D2107,#REF!,2,0))","v":{"$error":"#REF!"}},{"$f":"IF(D2107=\"\",\"\",VLOOKUP(D2107,#REF!,3,0))","v":{"$error":"#REF!"}},"神戸",{"$f":"IF(D2107=\"\",\"\",VLOOKUP(D2107,#REF!,4,0))","v":{"$error":"#REF!"}},{"$f":"IF(C2107=\"\",\"\",VLOOKUP(D2107,#REF!,5,0))","v":{"$error":"#REF!"}},"輸出","ベルギー",{"$f":"IF(H2107=\"\",\"\",VLOOKUP(H2107,#REF!,2,0))","v":{"$error":"#REF!"}},5,null,5,0]
["H29",{"$f":"IF(D2108=\"\",\"\",VLOOKUP(D2108,#REF!,2,0))","v":{"$error":"#REF!"}},{"$f":"IF(D2108=\"\",\"\",VLOOKUP(D2108,#REF!,3,0))","v":{"$error":"#REF!"}},"神戸",{"$f":"IF(D2108=\"\",\"\",VLOOKUP(D2108,#REF!,4,0))","v":{"$error":"#REF!"}},{"$f":"IF(C2108=\"\",\"\",VLOOKUP(D2108,#REF!,5,0))","v":{"$error":"#REF!"}},"輸出","ロシア",{"$f":"IF(H2108=\"\",\"\",VLOOKUP(H2108,#REF!,2,0))","v":{"$error":"#REF!"}},{"v":1585,"d":"1,585"},null,{"v":1585,"d":"1,585"},0]
["H29",{"$f":"IF(D2109=\"\",\"\",VLOOKUP(D2109,#REF!,2,0))","v":{"$error":"#REF!"}},{"$f":"IF(D2109=\"\",\"\",VLOOKUP(D2109,#REF!,3,0))","v":{"$error":"#REF!"}},"神戸",{"$f":"IF(D2109=\"\",\"\",VLOOKUP(D2109,#REF!,4,0))","v":{"$error":"#REF!"}},{"$f":"IF(C2109=\"\",\"\",VLOOKUP(D2109,#REF!,5,0))","v":{"$error":"#REF!"}},"輸出","アメリカ合衆国",{"$f":"IF(H2109=\"\",\"\",VLOOKUP(H2109,#REF!,2,0))","v":{"$error":"#REF!"}},{"v":92082.75,"d":"92,083"},null,{"v":89693.75,"d":"89,694"},{"v":2389,"d":"2,389"}]
["H29",{"$f":"IF(D2110=\"\",\"\",VLOOKUP(D2110,#REF!,2,0))","v":{"$error":"#REF!"}},{"$f":"IF(D2110=\"\",\"\",VLOOKUP(D2110,#REF!,3,0))","v":{"$error":"#REF!"}},"神戸",{"$f":"IF(D2110=\"\",\"\",VLOOKUP(D2110,#REF!,4,0))","v":{"$error":"#REF!"}},{"$f":"IF(C2110=\"\",\"\",VLOOKUP(D2110,#REF!,5,0))","v":{"$error":"#REF!"}},"輸出","カナダ",{"$f":"IF(H2110=\"\",\"\",VLOOKUP(H2110,#REF!,2,0))","v":{"$error":"#REF!"}},{"v":2754,"d":"2,754"},null,{"v":2754,"d":"2,754"},0]
["H29",{"$f":"IF(D2111=\"\",\"\",VLOOKUP(D2111,#REF!,2,0))","v":{"$error":"#REF!"}},{"$f":"IF(D2111=\"\",\"\",VLOOKUP(D2111,#REF!,3,0))","v":{"$error":"#REF!"}},"神戸",{"$f":"IF(D2111=\"\",\"\",VLOOKUP(D2111,#REF!,4,0))","v":{"$error":"#REF!"}},{"$f":"IF(C2111=\"\",\"\",VLOOKUP(D2111,#REF!,5,0))","v":{"$error":"#REF!"}},"輸出","パナマ",{"$f":"IF(H2111=\"\",\"\",VLOOKUP(H2111,#REF!,2,0))","v":{"$error":"#REF!"}},{"v":1253,"d":"1,253"},null,192,{"v":1061,"d":"1,061"}]
["H29",{"$f":"IF(D2112=\"\",\"\",VLOOKUP(D2112,#REF!,2,0))","v":{"$error":"#REF!"}},{"$f":"IF(D2112=\"\",\"\",VLOOKUP(D2112,#REF!,3,0))","v":{"$error":"#REF!"}},"神戸",{"$f":"IF(D2112=\"\",\"\",VLOOKUP(D2112,#REF!,4,0))","v":{"$error":"#REF!"}},{"$f":"IF(C2112=\"\",\"\",VLOOKUP(D2112,#REF!,5,0))","v":{"$error":"#REF!"}},"輸出","アルバ",{"$f":"IF(H2112=\"\",\"\",VLOOKUP(H2112,#REF!,2,0))","v":{"$error":"#REF!"}},1,null,1,0]
["H29",{"$f":"IF(D2113=\"\",\"\",VLOOKUP(D2113,#REF!,2,0))","v":{"$error":"#REF!"}},{"$f":"IF(D2113=\"\",\"\",VLOOKUP(D2113,#REF!,3,0))","v":{"$error":"#REF!"}},"和歌山下津",{"$f":"IF(D2113=\"\",\"\",VLOOKUP(D2113,#REF!,4,0))","v":{"$error":"#REF!"}},{"$f":"IF(C2113=\"\",\"\",VLOOKUP(D2113,#REF!,5,0))","v":{"$error":"#REF!"}},"輸出","韓国",{"$f":"IF(H2113=\"\",\"\",VLOOKUP(H2113,#REF!,2,0))","v":{"$error":"#REF!"}},{"v":3226,"d":"3,226"},null,996,{"v":2230,"d":"2,230"}]
["H29",{"$f":"IF(D2114=\"\",\"\",VLOOKUP(D2114,#REF!,2,0))","v":{"$error":"#REF!"}},{"$f":"IF(D2114=\"\",\"\",VLOOKUP(D2114,#REF!,3,0))","v":{"$error":"#REF!"}},"和歌山下津",{"$f":"IF(D2114=\"\",\"\",VLOOKUP(D2114,#REF!,4,0))","v":{"$error":"#REF!"}},{"$f":"IF(C2114=\"\",\"\",VLOOKUP(D2114,#REF!,5,0))","v":{"$error":"#REF!"}},"輸出","中国",{"$f":"IF(H2114=\"\",\"\",VLOOKUP(H2114,#REF!,2,0))","v":{"$error":"#REF!"}},233,null,93,140]
["H29",{"$f":"IF(D2115=\"\",\"\",VLOOKUP(D2115,#REF!,2,0))","v":{"$error":"#REF!"}},{"$f":"IF(D2115=\"\",\"\",VLOOKUP(D2115,#REF!,3,0))","v":{"$error":"#REF!"}},"舞鶴",{"$f":"IF(D2115=\"\",\"\",VLOOKUP(D2115,#REF!,4,0))","v":{"$error":"#REF!"}},{"$f":"IF(C2115=\"\",\"\",VLOOKUP(D2115,#REF!,5,0))","v":{"$error":"#REF!"}},"輸入","韓国",{"$f":"IF(H2115=\"\",\"\",VLOOKUP(H2115,#REF!,2,0))","v":{"$error":"#REF!"}},{"v":7193,"d":"7,193"},null,{"v":5575,"d":"5,575"},{"v":1618,"d":"1,618"}]
["H29",{"$f":"IF(D2116=\"\",\"\",VLOOKUP(D2116,#REF!,2,0))","v":{"$error":"#REF!"}},{"$f":"IF(D2116=\"\",\"\",VLOOKUP(D2116,#REF!,3,0))","v":{"$error":"#REF!"}},"舞鶴",{"$f":"IF(D2116=\"\",\"\",VLOOKUP(D2116,#REF!,4,0))","v":{"$error":"#REF!"}},{"$f":"IF(C2116=\"\",\"\",VLOOKUP(D2116,#REF!,5,0))","v":{"$error":"#REF!"}},"輸入","中国",{"$f":"IF(H2116=\"\",\"\",VLOOKUP(H2116,#REF!,2,0))","v":{"$error":"#REF!"}},{"v":2269,"d":"2,269"},null,{"v":2265,"d":"2,265"},4]
["H29",{"$f":"IF(D2117=\"\",\"\",VLOOKUP(D2117,#REF!,2,0))","v":{"$error":"#REF!"}},{"$f":"IF(D2117=\"\",\"\",VLOOKUP(D2117,#REF!,3,0))","v":{"$error":"#REF!"}},"舞鶴",{"$f":"IF(D2117=\"\",\"\",VLOOKUP(D2117,#REF!,4,0))","v":{"$error":"#REF!"}},{"$f":"IF(C2117=\"\",\"\",VLOOKUP(D2117,#REF!,5,0))","v":{"$error":"#REF!"}},"輸入","ロシア",{"$f":"IF(H2117=\"\",\"\",VLOOKUP(H2117,#REF!,2,0))","v":{"$error":"#REF!"}},57,null,1,56]
["H29",{"$f":"IF(D2118=\"\",\"\",VLOOKUP(D2118,#REF!,2,0))","v":{"$error":"#REF!"}},{"$f":"IF(D2118=\"\",\"\",VLOOKUP(D2118,#REF!,3,0))","v":{"$error":"#REF!"}},"堺泉北",{"$f":"IF(D2118=\"\",\"\",VLOOKUP(D2118,#REF!,4,0))","v":{"$error":"#REF!"}},{"$f":"IF(C2118=\"\",\"\",VLOOKUP(D2118,#REF!,5,0))","v":{"$error":"#REF!"}},"輸入","韓国",{"$f":"IF(H2118=\"\",\"\",VLOOKUP(H2118,#REF!,2,0))","v":{"$error":"#REF!"}},2,null,2,0]
["H29",{"$f":"IF(D2119=\"\",\"\",VLOOKUP(D2119,#REF!,2,0))","v":{"$error":"#REF!"}},{"$f":"IF(D2119=\"\",\"\",VLOOKUP(D2119,#REF!,3,0))","v":{"$error":"#REF!"}},"堺泉北",{"$f":"IF(D2119=\"\",\"\",VLOOKUP(D2119,#REF!,4,0))","v":{"$error":"#REF!"}},{"$f":"IF(C2119=\"\",\"\",VLOOKUP(D2119,#REF!,5,0))","v":{"$error":"#REF!"}},"輸入","中国",{"$f":"IF(H2119=\"\",\"\",VLOOKUP(H2119,#REF!,2,0))","v":{"$error":"#REF!"}},{"v":12790,"d":"12,790"},null,{"v":12206,"d":"12,206"},584]
["H29",{"$f":"IF(D2120=\"\",\"\",VLOOKUP(D2120,#REF!,2,0))","v":{"$error":"#REF!"}},{"$f":"IF(D2120=\"\",\"\",VLOOKUP(D2120,#REF!,3,0))","v":{"$error":"#REF!"}},"堺泉北",{"$f":"IF(D2120=\"\",\"\",VLOOKUP(D2120,#REF!,4,0))","v":{"$error":"#REF!"}},{"$f":"IF(C2120=\"\",\"\",VLOOKUP(D2120,#REF!,5,0))","v":{"$error":"#REF!"}},"輸入","香港",{"$f":"IF(H2120=\"\",\"\",VLOOKUP(H2120,#REF!,2,0))","v":{"$error":"#REF!"}},2,null,2,0]
["H29",{"$f":"IF(D2121=\"\",\"\",VLOOKUP(D2121,#REF!,2,0))","v":{"$error":"#REF!"}},{"$f":"IF(D2121=\"\",\"\",VLOOKUP(D2121,#REF!,3,0))","v":{"$error":"#REF!"}},"堺泉北",{"$f":"IF(D2121=\"\",\"\",VLOOKUP(D2121,#REF!,4,0))","v":{"$error":"#REF!"}},{"$f":"IF(C2121=\"\",\"\",VLOOKUP(D2121,#REF!,5,0))","v":{"$error":"#REF!"}},"輸入","タイ",{"$f":"IF(H2121=\"\",\"\",VLOOKUP(H2121,#REF!,2,0))","v":{"$error":"#REF!"}},285,null,285,0]
["H29",{"$f":"IF(D2122=\"\",\"\",VLOOKUP(D2122,#REF!,2,0))","v":{"$error":"#REF!"}},{"$f":"IF(D2122=\"\",\"\",VLOOKUP(D2122,#REF!,3,0))","v":{"$error":"#REF!"}},"堺泉北",{"$f":"IF(D2122=\"\",\"\",VLOOKUP(D2122,#REF!,4,0))","v":{"$error":"#REF!"}},{"$f":"IF(C2122=\"\",\"\",VLOOKUP(D2122,#REF!,5,0))","v":{"$error":"#REF!"}},"輸入","ベトナム",{"$f":"IF(H2122=\"\",\"\",VLOOKUP(H2122,#REF!,2,0))","v":{"$error":"#REF!"}},642,null,642,0]
["H29",{"$f":"IF(D2123=\"\",\"\",VLOOKUP(D2123,#REF!,2,0))","v":{"$error":"#REF!"}},{"$f":"IF(D2123=\"\",\"\",VLOOKUP(D2123,#REF!,3,0))","v":{"$error":"#REF!"}},"大阪",{"$f":"IF(D2123=\"\",\"\",VLOOKUP(D2123,#REF!,4,0))","v":{"$error":"#REF!"}},{"$f":"IF(C2123=\"\",\"\",VLOOKUP(D2123,#REF!,5,0))","v":{"$error":"#REF!"}},"輸入","韓国",{"$f":"IF(H2123=\"\",\"\",VLOOKUP(H2123,#REF!,2,0))","v":{"$error":"#REF!"}},{"v":98718.8,"d":"98,719"},null,{"v":93666.8,"d":"93,667"},{"v":5052,"d":"5,052"}]
["H29",{"$f":"IF(D2124=\"\",\"\",VLOOKUP(D2124,#REF!,2,0))","v":{"$error":"#REF!"}},{"$f":"IF(D2124=\"\",\"\",VLOOKUP(D2124,#REF!,3,0))","v":{"$error":"#REF!"}},"大阪",{"$f":"IF(D2124=\"\",\"\",VLOOKUP(D2124,#REF!,4,0))","v":{"$error":"#REF!"}},{"$f":"IF(C2124=\"\",\"\",VLOOKUP(D2124,#REF!,5,0))","v":{"$error":"#REF!"}},"輸入","台湾",{"$f":"IF(H2124=\"\",\"\",VLOOKUP(H2124,#REF!,2,0))","v":{"$error":"#REF!"}},{"v":78197.6,"d":"78,198"},null,{"v":77797.6,"d":"77,798"},400]
["H29",{"$f":"IF(D2125=\"\",\"\",VLOOKUP(D2125,#REF!,2,0))","v":{"$error":"#REF!"}},{"$f":"IF(D2125=\"\",\"\",VLOOKUP(D2125,#REF!,3,0))","v":{"$error":"#REF!"}},"大阪",{"$f":"IF(D2125=\"\",\"\",VLOOKUP(D2125,#REF!,4,0))","v":{"$error":"#REF!"}},{"$f":"IF(C2125=\"\",\"\",VLOOKUP(D2125,#REF!,5,0))","v":{"$error":"#REF!"}},"輸入","中国",{"$f":"IF(H2125=\"\",\"\",VLOOKUP(H2125,#REF!,2,0))","v":{"$error":"#REF!"}},{"v":616934,"d":"616,934"},null,{"v":601326,"d":"601,326"},{"v":15608,"d":"15,608"}]
["H29",{"$f":"IF(D2126=\"\",\"\",VLOOKUP(D2126,#REF!,2,0))","v":{"$error":"#REF!"}},{"$f":"IF(D2126=\"\",\"\",VLOOKUP(D2126,#REF!,3,0))","v":{"$error":"#REF!"}},"大阪",{"$f":"IF(D2126=\"\",\"\",VLOOKUP(D2126,#REF!,4,0))","v":{"$error":"#REF!"}},{"$f":"IF(C2126=\"\",\"\",VLOOKUP(D2126,#REF!,5,0))","v":{"$error":"#REF!"}},"輸入","香港",{"$f":"IF(H2126=\"\",\"\",VLOOKUP(H2126,#REF!,2,0))","v":{"$error":"#REF!"}},{"v":102654,"d":"102,654"},null,{"v":102501,"d":"102,501"},153]
["H29",{"$f":"IF(D2127=\"\",\"\",VLOOKUP(D2127,#REF!,2,0))","v":{"$error":"#REF!"}},{"$f":"IF(D2127=\"\",\"\",VLOOKUP(D2127,#REF!,3,0))","v":{"$error":"#REF!"}},"大阪",{"$f":"IF(D2127=\"\",\"\",VLOOKUP(D2127,#REF!,4,0))","v":{"$error":"#REF!"}},{"$f":"IF(C2127=\"\",\"\",VLOOKUP(D2127,#REF!,5,0))","v":{"$error":"#REF!"}},"輸入","カンボジア",{"$f":"IF(H2127=\"\",\"\",VLOOKUP(H2127,#REF!,2,0))","v":{"$error":"#REF!"}},29,null,29,0]
["H29",{"$f":"IF(D2128=\"\",\"\",VLOOKUP(D2128,#REF!,2,0))","v":{"$error":"#REF!"}},{"$f":"IF(D2128=\"\",\"\",VLOOKUP(D2128,#REF!,3,0))","v":{"$error":"#REF!"}},"大阪",{"$f":"IF(D2128=\"\",\"\",VLOOKUP(D2128,#REF!,4,0))","v":{"$error":"#REF!"}},{"$f":"IF(C2128=\"\",\"\",VLOOKUP(D2128,#REF!,5,0))","v":{"$error":"#REF!"}},"輸入","シンガポール",{"$f":"IF(H2128=\"\",\"\",VLOOKUP(H2128,#REF!,2,0))","v":{"$error":"#REF!"}},{"v":24810,"d":"24,810"},null,{"v":24805,"d":"24,805"},5]
["H29",{"$f":"IF(D2129=\"\",\"\",VLOOKUP(D2129,#REF!,2,0))","v":{"$error":"#REF!"}},{"$f":"IF(D2129=\"\",\"\",VLOOKUP(D2129,#REF!,3,0))","v":{"$error":"#REF!"}},"大阪",{"$f":"IF(D2129=\"\",\"\",VLOOKUP(D2129,#REF!,4,0))","v":{"$error":"#REF!"}},{"$f":"IF(C2129=\"\",\"\",VLOOKUP(D2129,#REF!,5,0))","v":{"$error":"#REF!"}},"輸入","タイ",{"$f":"IF(H2129=\"\",\"\",VLOOKUP(H2129,#REF!,2,0))","v":{"$error":"#REF!"}},{"v":59256,"d":"59,256"},null,{"v":59131,"d":"59,131"},125]
["H29",{"$f":"IF(D2130=\"\",\"\",VLOOKUP(D2130,#REF!,2,0))","v":{"$error":"#REF!"}},{"$f":"IF(D2130=\"\",\"\",VLOOKUP(D2130,#REF!,3,0))","v":{"$error":"#REF!"}},"大阪",{"$f":"IF(D2130=\"\",\"\",VLOOKUP(D2130,#REF!,4,0))","v":{"$error":"#REF!"}},{"$f":"IF(C2130=\"\",\"\",VLOOKUP(D2130,#REF!,5,0))","v":{"$error":"#REF!"}},"輸入","フィリピン",{"$f":"IF(H2130=\"\",\"\",VLOOKUP(H2130,#REF!,2,0))","v":{"$error":"#REF!"}},{"v":11793,"d":"11,793"},null,{"v":11791,"d":"11,791"},2]
["H29",{"$f":"IF(D2131=\"\",\"\",VLOOKUP(D2131,#REF!,2,0))","v":{"$error":"#REF!"}},{"$f":"IF(D2131=\"\",\"\",VLOOKUP(D2131,#REF!,3,0))","v":{"$error":"#REF!"}},"大阪",{"$f":"IF(D2131=\"\",\"\",VLOOKUP(D2131,#REF!,4,0))","v":{"$error":"#REF!"}},{"$f":"IF(C2131=\"\",\"\",VLOOKUP(D2131,#REF!,5,0))","v":{"$error":"#REF!"}},"輸入","マレーシア",{"$f":"IF(H2131=\"\",\"\",VLOOKUP(H2131,#REF!,2,0))","v":{"$error":"#REF!"}},{"v":21005,"d":"21,005"},null,{"v":21005,"d":"21,005"},0]
["H29",{"$f":"IF(D2132=\"\",\"\",VLOOKUP(D2132,#REF!,2,0))","v":{"$error":"#REF!"}},{"$f":"IF(D2132=\"\",\"\",VLOOKUP(D2132,#REF!,3,0))","v":{"$error":"#REF!"}},"大阪",{"$f":"IF(D2132=\"\",\"\",VLOOKUP(D2132,#REF!,4,0))","v":{"$error":"#REF!"}},{"$f":"IF(C2132=\"\",\"\",VLOOKUP(D2132,#REF!,5,0))","v":{"$error":"#REF!"}},"輸入","ベトナム",{"$f":"IF(H2132=\"\",\"\",VLOOKUP(H2132,#REF!,2,0))","v":{"$error":"#REF!"}},{"v":47245,"d":"47,245"},null,{"v":47029,"d":"47,029"},216]
["H29",{"$f":"IF(D2133=\"\",\"\",VLOOKUP(D2133,#REF!,2,0))","v":{"$error":"#REF!"}},{"$f":"IF(D2133=\"\",\"\",VLOOKUP(D2133,#REF!,3,0))","v":{"$error":"#REF!"}},"大阪",{"$f":"IF(D2133=\"\",\"\",VLOOKUP(D2133,#REF!,4,0))","v":{"$error":"#REF!"}},{"$f":"IF(C2133=\"\",\"\",VLOOKUP(D2133,#REF!,5,0))","v":{"$error":"#REF!"}},"輸入","インド",{"$f":"IF(H2133=\"\",\"\",VLOOKUP(H2133,#REF!,2,0))","v":{"$error":"#REF!"}},759,null,759,0]
["H29",{"$f":"IF(D2134=\"\",\"\",VLOOKUP(D2134,#REF!,2,0))","v":{"$error":"#REF!"}},{"$f":"IF(D2134=\"\",\"\",VLOOKUP(D2134,#REF!,3,0))","v":{"$error":"#REF!"}},"大阪",{"$f":"IF(D2134=\"\",\"\",VLOOKUP(D2134,#REF!,4,0))","v":{"$error":"#REF!"}},{"$f":"IF(C2134=\"\",\"\",VLOOKUP(D2134,#REF!,5,0))","v":{"$error":"#REF!"}},"輸入","スリランカ",{"$f":"IF(H2134=\"\",\"\",VLOOKUP(H2134,#REF!,2,0))","v":{"$error":"#REF!"}},681,null,681,0]
["H29",{"$f":"IF(D2135=\"\",\"\",VLOOKUP(D2135,#REF!,2,0))","v":{"$error":"#REF!"}},{"$f":"IF(D2135=\"\",\"\",VLOOKUP(D2135,#REF!,3,0))","v":{"$error":"#REF!"}},"大阪",{"$f":"IF(D2135=\"\",\"\",VLOOKUP(D2135,#REF!,4,0))","v":{"$error":"#REF!"}},{"$f":"IF(C2135=\"\",\"\",VLOOKUP(D2135,#REF!,5,0))","v":{"$error":"#REF!"}},"輸入","パキスタン",{"$f":"IF(H2135=\"\",\"\",VLOOKUP(H2135,#REF!,2,0))","v":{"$error":"#REF!"}},{"v":1016,"d":"1,016"},null,{"v":1016,"d":"1,016"},0]
["H29",{"$f":"IF(D2136=\"\",\"\",VLOOKUP(D2136,#REF!,2,0))","v":{"$error":"#REF!"}},{"$f":"IF(D2136=\"\",\"\",VLOOKUP(D2136,#REF!,3,0))","v":{"$error":"#REF!"}},"大阪",{"$f":"IF(D2136=\"\",\"\",VLOOKUP(D2136,#REF!,4,0))","v":{"$error":"#REF!"}},{"$f":"IF(C2136=\"\",\"\",VLOOKUP(D2136,#REF!,5,0))","v":{"$error":"#REF!"}},"輸入","オーストラリア",{"$f":"IF(H2136=\"\",\"\",VLOOKUP(H2136,#REF!,2,0))","v":{"$error":"#REF!"}},{"v":28552,"d":"28,552"},null,{"v":21119,"d":"21,119"},{"v":7433,"d":"7,433"}]
["H29",{"$f":"IF(D2137=\"\",\"\",VLOOKUP(D2137,#REF!,2,0))","v":{"$error":"#REF!"}},{"$f":"IF(D2137=\"\",\"\",VLOOKUP(D2137,#REF!,3,0))","v":{"$error":"#REF!"}},"大阪",{"$f":"IF(D2137=\"\",\"\",VLOOKUP(D2137,#REF!,4,0))","v":{"$error":"#REF!"}},{"$f":"IF(C2137=\"\",\"\",VLOOKUP(D2137,#REF!,5,0))","v":{"$error":"#REF!"}},"輸入","アメリカ合衆国",{"$f":"IF(H2137=\"\",\"\",VLOOKUP(H2137,#REF!,2,0))","v":{"$error":"#REF!"}},{"v":10084,"d":"10,084"},null,{"v":9992,"d":"9,992"},92]
["H29",{"$f":"IF(D2138=\"\",\"\",VLOOKUP(D2138,#REF!,2,0))","v":{"$error":"#REF!"}},{"$f":"IF(D2138=\"\",\"\",VLOOKUP(D2138,#REF!,3,0))","v":{"$error":"#REF!"}},"大阪",{"$f":"IF(D2138=\"\",\"\",VLOOKUP(D2138,#REF!,4,0))","v":{"$error":"#REF!"}},{"$f":"IF(C2138=\"\",\"\",VLOOKUP(D2138,#REF!,5,0))","v":{"$error":"#REF!"}},"輸入","カナダ",{"$f":"IF(H2138=\"\",\"\",VLOOKUP(H2138,#REF!,2,0))","v":{"$error":"#REF!"}},{"v":9675,"d":"9,675"},null,{"v":8912,"d":"8,912"},763]
["H29",{"$f":"IF(D2139=\"\",\"\",VLOOKUP(D2139,#REF!,2,0))","v":{"$error":"#REF!"}},{"$f":"IF(D2139=\"\",\"\",VLOOKUP(D2139,#REF!,3,0))","v":{"$error":"#REF!"}},"神戸",{"$f":"IF(D2139=\"\",\"\",VLOOKUP(D2139,#REF!,4,0))","v":{"$error":"#REF!"}},{"$f":"IF(C2139=\"\",\"\",VLOOKUP(D2139,#REF!,5,0))","v":{"$error":"#REF!"}},"輸入","韓国",{"$f":"IF(H2139=\"\",\"\",VLOOKUP(H2139,#REF!,2,0))","v":{"$error":"#REF!"}},{"v":55423.05,"d":"55,423"},80,{"v":45823.25,"d":"45,823"},{"v":9599.8,"d":"9,600"}]
["H29",{"$f":"IF(D2140=\"\",\"\",VLOOKUP(D2140,#REF!,2,0))","v":{"$error":"#REF!"}},{"$f":"IF(D2140=\"\",\"\",VLOOKUP(D2140,#REF!,3,0))","v":{"$error":"#REF!"}},"神戸",{"$f":"IF(D2140=\"\",\"\",VLOOKUP(D2140,#REF!,4,0))","v":{"$error":"#REF!"}},{"$f":"IF(C2140=\"\",\"\",VLOOKUP(D2140,#REF!,5,0))","v":{"$error":"#REF!"}},"輸入","台湾",{"$f":"IF(H2140=\"\",\"\",VLOOKUP(H2140,#REF!,2,0))","v":{"$error":"#REF!"}},{"v":59515,"d":"59,515"},null,{"v":54820,"d":"54,820"},{"v":4695,"d":"4,695"}]
["H29",{"$f":"IF(D2141=\"\",\"\",VLOOKUP(D2141,#REF!,2,0))","v":{"$error":"#REF!"}},{"$f":"IF(D2141=\"\",\"\",VLOOKUP(D2141,#REF!,3,0))","v":{"$error":"#REF!"}},"神戸",{"$f":"IF(D2141=\"\",\"\",VLOOKUP(D2141,#REF!,4,0))","v":{"$error":"#REF!"}},{"$f":"IF(C2141=\"\",\"\",VLOOKUP(D2141,#REF!,5,0))","v":{"$error":"#REF!"}},"輸入","中国",{"$f":"IF(H2141=\"\",\"\",VLOOKUP(H2141,#REF!,2,0))","v":{"$error":"#REF!"}},{"v":334073.5,"d":"334,074"},{"v":9764.75,"d":"9,765"},{"v":316181.5,"d":"316,182"},{"v":17892,"d":"17,892"}]
["H29",{"$f":"IF(D2142=\"\",\"\",VLOOKUP(D2142,#REF!,2,0))","v":{"$error":"#REF!"}},{"$f":"IF(D2142=\"\",\"\",VLOOKUP(D2142,#REF!,3,0))","v":{"$error":"#REF!"}},"神戸",{"$f":"IF(D2142=\"\",\"\",VLOOKUP(D2142,#REF!,4,0))","v":{"$error":"#REF!"}},{"$f":"IF(C2142=\"\",\"\",VLOOKUP(D2142,#REF!,5,0))","v":{"$error":"#REF!"}},"輸入","香港",{"$f":"IF(H2142=\"\",\"\",VLOOKUP(H2142,#REF!,2,0))","v":{"$error":"#REF!"}},{"v":70115.75,"d":"70,116"},null,{"v":67215.75,"d":"67,216"},{"v":2900,"d":"2,900"}]
["H29",{"$f":"IF(D2143=\"\",\"\",VLOOKUP(D2143,#REF!,2,0))","v":{"$error":"#REF!"}},{"$f":"IF(D2143=\"\",\"\",VLOOKUP(D2143,#REF!,3,0))","v":{"$error":"#REF!"}},"神戸",{"$f":"IF(D2143=\"\",\"\",VLOOKUP(D2143,#REF!,4,0))","v":{"$error":"#REF!"}},{"$f":"IF(C2143=\"\",\"\",VLOOKUP(D2143,#REF!,5,0))","v":{"$error":"#REF!"}},"輸入","インドネシア",{"$f":"IF(H2143=\"\",\"\",VLOOKUP(H2143,#REF!,2,0))","v":{"$error":"#REF!"}},{"v":13798,"d":"13,798"},1,{"v":13287,"d":"13,287"},511]
["H29",{"$f":"IF(D2144=\"\",\"\",VLOOKUP(D2144,#REF!,2,0))","v":{"$error":"#REF!"}},{"$f":"IF(D2144=\"\",\"\",VLOOKUP(D2144,#REF!,3,0))","v":{"$error":"#REF!"}},"神戸",{"$f":"IF(D2144=\"\",\"\",VLOOKUP(D2144,#REF!,4,0))","v":{"$error":"#REF!"}},{"$f":"IF(C2144=\"\",\"\",VLOOKUP(D2144,#REF!,5,0))","v":{"$error":"#REF!"}},"輸入","カンボジア",{"$f":"IF(H2144=\"\",\"\",VLOOKUP(H2144,#REF!,2,0))","v":{"$error":"#REF!"}},116,4,4,112]
["H29",{"$f":"IF(D2145=\"\",\"\",VLOOKUP(D2145,#REF!,2,0))","v":{"$error":"#REF!"}},{"$f":"IF(D2145=\"\",\"\",VLOOKUP(D2145,#REF!,3,0))","v":{"$error":"#REF!"}},"神戸",{"$f":"IF(D2145=\"\",\"\",VLOOKUP(D2145,#REF!,4,0))","v":{"$error":"#REF!"}},{"$f":"IF(C2145=\"\",\"\",VLOOKUP(D2145,#REF!,5,0))","v":{"$error":"#REF!"}},"輸入","シンガポール",{"$f":"IF(H2145=\"\",\"\",VLOOKUP(H2145,#REF!,2,0))","v":{"$error":"#REF!"}},{"v":54640.25,"d":"54,640"},null,{"v":52956.25,"d":"52,956"},{"v":1684,"d":"1,684"}]
["H29",{"$f":"IF(D2146=\"\",\"\",VLOOKUP(D2146,#REF!,2,0))","v":{"$error":"#REF!"}},{"$f":"IF(D2146=\"\",\"\",VLOOKUP(D2146,#REF!,3,0))","v":{"$error":"#REF!"}},"神戸",{"$f":"IF(D2146=\"\",\"\",VLOOKUP(D2146,#REF!,4,0))","v":{"$error":"#REF!"}},{"$f":"IF(C2146=\"\",\"\",VLOOKUP(D2146,#REF!,5,0))","v":{"$error":"#REF!"}},"輸入","タイ",{"$f":"IF(H2146=\"\",\"\",VLOOKUP(H2146,#REF!,2,0))","v":{"$error":"#REF!"}},{"v":53137,"d":"53,137"},806,{"v":52441,"d":"52,441"},696]
["H29",{"$f":"IF(D2147=\"\",\"\",VLOOKUP(D2147,#REF!,2,0))","v":{"$error":"#REF!"}},{"$f":"IF(D2147=\"\",\"\",VLOOKUP(D2147,#REF!,3,0))","v":{"$error":"#REF!"}},"神戸",{"$f":"IF(D2147=\"\",\"\",VLOOKUP(D2147,#REF!,4,0))","v":{"$error":"#REF!"}},{"$f":"IF(C2147=\"\",\"\",VLOOKUP(D2147,#REF!,5,0))","v":{"$error":"#REF!"}},"輸入","フィリピン",{"$f":"IF(H2147=\"\",\"\",VLOOKUP(H2147,#REF!,2,0))","v":{"$error":"#REF!"}},{"v":9391.75,"d":"9,392"},null,{"v":7285.75,"d":"7,286"},{"v":2106,"d":"2,106"}]
["H29",{"$f":"IF(D2148=\"\",\"\",VLOOKUP(D2148,#REF!,2,0))","v":{"$error":"#REF!"}},{"$f":"IF(D2148=\"\",\"\",VLOOKUP(D2148,#REF!,3,0))","v":{"$error":"#REF!"}},"神戸",{"$f":"IF(D2148=\"\",\"\",VLOOKUP(D2148,#REF!,4,0))","v":{"$error":"#REF!"}},{"$f":"IF(C2148=\"\",\"\",VLOOKUP(D2148,#REF!,5,0))","v":{"$error":"#REF!"}},"輸入","マレーシア",{"$f":"IF(H2148=\"\",\"\",VLOOKUP(H2148,#REF!,2,0))","v":{"$error":"#REF!"}},{"v":30634.5,"d":"30,635"},null,{"v":29687.5,"d":"29,688"},947]
["H29",{"$f":"IF(D2149=\"\",\"\",VLOOKUP(D2149,#REF!,2,0))","v":{"$error":"#REF!"}},{"$f":"IF(D2149=\"\",\"\",VLOOKUP(D2149,#REF!,3,0))","v":{"$error":"#REF!"}},"神戸",{"$f":"IF(D2149=\"\",\"\",VLOOKUP(D2149,#REF!,4,0))","v":{"$error":"#REF!"}},{"$f":"IF(C2149=\"\",\"\",VLOOKUP(D2149,#REF!,5,0))","v":{"$error":"#REF!"}},"輸入","ベトナム",{"$f":"IF(H2149=\"\",\"\",VLOOKUP(H2149,#REF!,2,0))","v":{"$error":"#REF!"}},{"v":44847,"d":"44,847"},{"v":1271,"d":"1,271"},{"v":43657,"d":"43,657"},{"v":1190,"d":"1,190"}]
["H29",{"$f":"IF(D2150=\"\",\"\",VLOOKUP(D2150,#REF!,2,0))","v":{"$error":"#REF!"}},{"$f":"IF(D2150=\"\",\"\",VLOOKUP(D2150,#REF!,3,0))","v":{"$error":"#REF!"}},"神戸",{"$f":"IF(D2150=\"\",\"\",VLOOKUP(D2150,#REF!,4,0))","v":{"$error":"#REF!"}},{"$f":"IF(C2150=\"\",\"\",VLOOKUP(D2150,#REF!,5,0))","v":{"$error":"#REF!"}},"輸入","インド",{"$f":"IF(H2150=\"\",\"\",VLOOKUP(H2150,#REF!,2,0))","v":{"$error":"#REF!"}},626,null,513,113]
["H29",{"$f":"IF(D2151=\"\",\"\",VLOOKUP(D2151,#REF!,2,0))","v":{"$error":"#REF!"}},{"$f":"IF(D2151=\"\",\"\",VLOOKUP(D2151,#REF!,3,0))","v":{"$error":"#REF!"}},"神戸",{"$f":"IF(D2151=\"\",\"\",VLOOKUP(D2151,#REF!,4,0))","v":{"$error":"#REF!"}},{"$f":"IF(C2151=\"\",\"\",VLOOKUP(D2151,#REF!,5,0))","v":{"$error":"#REF!"}},"輸入","スリランカ",{"$f":"IF(H2151=\"\",\"\",VLOOKUP(H2151,#REF!,2,0))","v":{"$error":"#REF!"}},887,null,887,0]
["H29",{"$f":"IF(D2152=\"\",\"\",VLOOKUP(D2152,#REF!,2,0))","v":{"$error":"#REF!"}},{"$f":"IF(D2152=\"\",\"\",VLOOKUP(D2152,#REF!,3,0))","v":{"$error":"#REF!"}},"神戸",{"$f":"IF(D2152=\"\",\"\",VLOOKUP(D2152,#REF!,4,0))","v":{"$error":"#REF!"}},{"$f":"IF(C2152=\"\",\"\",VLOOKUP(D2152,#REF!,5,0))","v":{"$error":"#REF!"}},"輸入","パキスタン",{"$f":"IF(H2152=\"\",\"\",VLOOKUP(H2152,#REF!,2,0))","v":{"$error":"#REF!"}},261,null,46,215]
["H29",{"$f":"IF(D2153=\"\",\"\",VLOOKUP(D2153,#REF!,2,0))","v":{"$error":"#REF!"}},{"$f":"IF(D2153=\"\",\"\",VLOOKUP(D2153,#REF!,3,0))","v":{"$error":"#REF!"}},"神戸",{"$f":"IF(D2153=\"\",\"\",VLOOKUP(D2153,#REF!,4,0))","v":{"$error":"#REF!"}},{"$f":"IF(C2153=\"\",\"\",VLOOKUP(D2153,#REF!,5,0))","v":{"$error":"#REF!"}},"輸入","アラブ首長国連邦",{"$f":"IF(H2153=\"\",\"\",VLOOKUP(H2153,#REF!,2,0))","v":{"$error":"#REF!"}},76,null,0,76]
["H29",{"$f":"IF(D2154=\"\",\"\",VLOOKUP(D2154,#REF!,2,0))","v":{"$error":"#REF!"}},{"$f":"IF(D2154=\"\",\"\",VLOOKUP(D2154,#REF!,3,0))","v":{"$error":"#REF!"}},"神戸",{"$f":"IF(D2154=\"\",\"\",VLOOKUP(D2154,#REF!,4,0))","v":{"$error":"#REF!"}},{"$f":"IF(C2154=\"\",\"\",VLOOKUP(D2154,#REF!,5,0))","v":{"$error":"#REF!"}},"輸入","オーストラリア",{"$f":"IF(H2154=\"\",\"\",VLOOKUP(H2154,#REF!,2,0))","v":{"$error":"#REF!"}},69,10,20,49]
["H29",{"$f":"IF(D2155=\"\",\"\",VLOOKUP(D2155,#REF!,2,0))","v":{"$error":"#REF!"}},{"$f":"IF(D2155=\"\",\"\",VLOOKUP(D2155,#REF!,3,0))","v":{"$error":"#REF!"}},"神戸",{"$f":"IF(D2155=\"\",\"\",VLOOKUP(D2155,#REF!,4,0))","v":{"$error":"#REF!"}},{"$f":"IF(C2155=\"\",\"\",VLOOKUP(D2155,#REF!,5,0))","v":{"$error":"#REF!"}},"輸入","仏領ポリネシア",{"$f":"IF(H2155=\"\",\"\",VLOOKUP(H2155,#REF!,2,0))","v":{"$error":"#REF!"}},13,null,2,11]
["H29",{"$f":"IF(D2156=\"\",\"\",VLOOKUP(D2156,#REF!,2,0))","v":{"$error":"#REF!"}},{"$f":"IF(D2156=\"\",\"\",VLOOKUP(D2156,#REF!,3,0))","v":{"$error":"#REF!"}},"神戸",{"$f":"IF(D2156=\"\",\"\",VLOOKUP(D2156,#REF!,4,0))","v":{"$error":"#REF!"}},{"$f":"IF(C2156=\"\",\"\",VLOOKUP(D2156,#REF!,5,0))","v":{"$error":"#REF!"}},"輸入","グアム",{"$f":"IF(H2156=\"\",\"\",VLOOKUP(H2156,#REF!,2,0))","v":{"$error":"#REF!"}},6,null,1,5]
["H29",{"$f":"IF(D2157=\"\",\"\",VLOOKUP(D2157,#REF!,2,0))","v":{"$error":"#REF!"}},{"$f":"IF(D2157=\"\",\"\",VLOOKUP(D2157,#REF!,3,0))","v":{"$error":"#REF!"}},"神戸",{"$f":"IF(D2157=\"\",\"\",VLOOKUP(D2157,#REF!,4,0))","v":{"$error":"#REF!"}},{"$f":"IF(C2157=\"\",\"\",VLOOKUP(D2157,#REF!,5,0))","v":{"$error":"#REF!"}},"輸入","サモア独立国",{"$f":"IF(H2157=\"\",\"\",VLOOKUP(H2157,#REF!,2,0))","v":{"$error":"#REF!"}},5,null,0,5]
["H29",{"$f":"IF(D2158=\"\",\"\",VLOOKUP(D2158,#REF!,2,0))","v":{"$error":"#REF!"}},{"$f":"IF(D2158=\"\",\"\",VLOOKUP(D2158,#REF!,3,0))","v":{"$error":"#REF!"}},"神戸",{"$f":"IF(D2158=\"\",\"\",VLOOKUP(D2158,#REF!,4,0))","v":{"$error":"#REF!"}},{"$f":"IF(C2158=\"\",\"\",VLOOKUP(D2158,#REF!,5,0))","v":{"$error":"#REF!"}},"輸入","ソロモン諸島",{"$f":"IF(H2158=\"\",\"\",VLOOKUP(H2158,#REF!,2,0))","v":{"$error":"#REF!"}},1,null,1,0]
["H29",{"$f":"IF(D2159=\"\",\"\",VLOOKUP(D2159,#REF!,2,0))","v":{"$error":"#REF!"}},{"$f":"IF(D2159=\"\",\"\",VLOOKUP(D2159,#REF!,3,0))","v":{"$error":"#REF!"}},"神戸",{"$f":"IF(D2159=\"\",\"\",VLOOKUP(D2159,#REF!,4,0))","v":{"$error":"#REF!"}},{"$f":"IF(C2159=\"\",\"\",VLOOKUP(D2159,#REF!,5,0))","v":{"$error":"#REF!"}},"輸入","トンガ",{"$f":"IF(H2159=\"\",\"\",VLOOKUP(H2159,#REF!,2,0))","v":{"$error":"#REF!"}},2,null,0,2]
["H29",{"$f":"IF(D2160=\"\",\"\",VLOOKUP(D2160,#REF!,2,0))","v":{"$error":"#REF!"}},{"$f":"IF(D2160=\"\",\"\",VLOOKUP(D2160,#REF!,3,0))","v":{"$error":"#REF!"}},"神戸",{"$f":"IF(D2160=\"\",\"\",VLOOKUP(D2160,#REF!,4,0))","v":{"$error":"#REF!"}},{"$f":"IF(C2160=\"\",\"\",VLOOKUP(D2160,#REF!,5,0))","v":{"$error":"#REF!"}},"輸入","ニューカレドニア",{"$f":"IF(H2160=\"\",\"\",VLOOKUP(H2160,#REF!,2,0))","v":{"$error":"#REF!"}},3,null,0,3]
["H29",{"$f":"IF(D2161=\"\",\"\",VLOOKUP(D2161,#REF!,2,0))","v":{"$error":"#REF!"}},{"$f":"IF(D2161=\"\",\"\",VLOOKUP(D2161,#REF!,3,0))","v":{"$error":"#REF!"}},"神戸",{"$f":"IF(D2161=\"\",\"\",VLOOKUP(D2161,#REF!,4,0))","v":{"$error":"#REF!"}},{"$f":"IF(C2161=\"\",\"\",VLOOKUP(D2161,#REF!,5,0))","v":{"$error":"#REF!"}},"輸入","ニュージーランド",{"$f":"IF(H2161=\"\",\"\",VLOOKUP(H2161,#REF!,2,0))","v":{"$error":"#REF!"}},{"v":10110,"d":"10,110"},7,{"v":9784,"d":"9,784"},326]
["H29",{"$f":"IF(D2162=\"\",\"\",VLOOKUP(D2162,#REF!,2,0))","v":{"$error":"#REF!"}},{"$f":"IF(D2162=\"\",\"\",VLOOKUP(D2162,#REF!,3,0))","v":{"$error":"#REF!"}},"神戸",{"$f":"IF(D2162=\"\",\"\",VLOOKUP(D2162,#REF!,4,0))","v":{"$error":"#REF!"}},{"$f":"IF(C2162=\"\",\"\",VLOOKUP(D2162,#REF!,5,0))","v":{"$error":"#REF!"}},"輸入","パプアニューギニア",{"$f":"IF(H2162=\"\",\"\",VLOOKUP(H2162,#REF!,2,0))","v":{"$error":"#REF!"}},31,null,3,28]
["H29",{"$f":"IF(D2163=\"\",\"\",VLOOKUP(D2163,#REF!,2,0))","v":{"$error":"#REF!"}},{"$f":"IF(D2163=\"\",\"\",VLOOKUP(D2163,#REF!,3,0))","v":{"$error":"#REF!"}},"神戸",{"$f":"IF(D2163=\"\",\"\",VLOOKUP(D2163,#REF!,4,0))","v":{"$error":"#REF!"}},{"$f":"IF(C2163=\"\",\"\",VLOOKUP(D2163,#REF!,5,0))","v":{"$error":"#REF!"}},"輸入","フィジー",{"$f":"IF(H2163=\"\",\"\",VLOOKUP(H2163,#REF!,2,0))","v":{"$error":"#REF!"}},3,null,0,3]
["H29",{"$f":"IF(D2164=\"\",\"\",VLOOKUP(D2164,#REF!,2,0))","v":{"$error":"#REF!"}},{"$f":"IF(D2164=\"\",\"\",VLOOKUP(D2164,#REF!,3,0))","v":{"$error":"#REF!"}},"神戸",{"$f":"IF(D2164=\"\",\"\",VLOOKUP(D2164,#REF!,4,0))","v":{"$error":"#REF!"}},{"$f":"IF(C2164=\"\",\"\",VLOOKUP(D2164,#REF!,5,0))","v":{"$error":"#REF!"}},"輸入","キリバス",{"$f":"IF(H2164=\"\",\"\",VLOOKUP(H2164,#REF!,2,0))","v":{"$error":"#REF!"}},6,null,0,6]
["H29",{"$f":"IF(D2165=\"\",\"\",VLOOKUP(D2165,#REF!,2,0))","v":{"$error":"#REF!"}},{"$f":"IF(D2165=\"\",\"\",VLOOKUP(D2165,#REF!,3,0))","v":{"$error":"#REF!"}},"神戸",{"$f":"IF(D2165=\"\",\"\",VLOOKUP(D2165,#REF!,4,0))","v":{"$error":"#REF!"}},{"$f":"IF(C2165=\"\",\"\",VLOOKUP(D2165,#REF!,5,0))","v":{"$error":"#REF!"}},"輸入","バヌアツ",{"$f":"IF(H2165=\"\",\"\",VLOOKUP(H2165,#REF!,2,0))","v":{"$error":"#REF!"}},11,null,10,1]
["H29",{"$f":"IF(D2166=\"\",\"\",VLOOKUP(D2166,#REF!,2,0))","v":{"$error":"#REF!"}},{"$f":"IF(D2166=\"\",\"\",VLOOKUP(D2166,#REF!,3,0))","v":{"$error":"#REF!"}},"神戸",{"$f":"IF(D2166=\"\",\"\",VLOOKUP(D2166,#REF!,4,0))","v":{"$error":"#REF!"}},{"$f":"IF(C2166=\"\",\"\",VLOOKUP(D2166,#REF!,5,0))","v":{"$error":"#REF!"}},"輸入","米領サモア",{"$f":"IF(H2166=\"\",\"\",VLOOKUP(H2166,#REF!,2,0))","v":{"$error":"#REF!"}},14,null,0,14]
["H29",{"$f":"IF(D2167=\"\",\"\",VLOOKUP(D2167,#REF!,2,0))","v":{"$error":"#REF!"}},{"$f":"IF(D2167=\"\",\"\",VLOOKUP(D2167,#REF!,3,0))","v":{"$error":"#REF!"}},"神戸",{"$f":"IF(D2167=\"\",\"\",VLOOKUP(D2167,#REF!,4,0))","v":{"$error":"#REF!"}},{"$f":"IF(C2167=\"\",\"\",VLOOKUP(D2167,#REF!,5,0))","v":{"$error":"#REF!"}},"輸入","ミクロネシア",{"$f":"IF(H2167=\"\",\"\",VLOOKUP(H2167,#REF!,2,0))","v":{"$error":"#REF!"}},38,null,0,38]
["H29",{"$f":"IF(D2168=\"\",\"\",VLOOKUP(D2168,#REF!,2,0))","v":{"$error":"#REF!"}},{"$f":"IF(D2168=\"\",\"\",VLOOKUP(D2168,#REF!,3,0))","v":{"$error":"#REF!"}},"神戸",{"$f":"IF(D2168=\"\",\"\",VLOOKUP(D2168,#REF!,4,0))","v":{"$error":"#REF!"}},{"$f":"IF(C2168=\"\",\"\",VLOOKUP(D2168,#REF!,5,0))","v":{"$error":"#REF!"}},"輸入","マーシャル諸島",{"$f":"IF(H2168=\"\",\"\",VLOOKUP(H2168,#REF!,2,0))","v":{"$error":"#REF!"}},7,null,0,7]
["H29",{"$f":"IF(D2169=\"\",\"\",VLOOKUP(D2169,#REF!,2,0))","v":{"$error":"#REF!"}},{"$f":"IF(D2169=\"\",\"\",VLOOKUP(D2169,#REF!,3,0))","v":{"$error":"#REF!"}},"神戸",{"$f":"IF(D2169=\"\",\"\",VLOOKUP(D2169,#REF!,4,0))","v":{"$error":"#REF!"}},{"$f":"IF(C2169=\"\",\"\",VLOOKUP(D2169,#REF!,5,0))","v":{"$error":"#REF!"}},"輸入","北マリアナ諸島",{"$f":"IF(H2169=\"\",\"\",VLOOKUP(H2169,#REF!,2,0))","v":{"$error":"#REF!"}},3,null,0,3]
["H29",{"$f":"IF(D2170=\"\",\"\",VLOOKUP(D2170,#REF!,2,0))","v":{"$error":"#REF!"}},{"$f":"IF(D2170=\"\",\"\",VLOOKUP(D2170,#REF!,3,0))","v":{"$error":"#REF!"}},"神戸",{"$f":"IF(D2170=\"\",\"\",VLOOKUP(D2170,#REF!,4,0))","v":{"$error":"#REF!"}},{"$f":"IF(C2170=\"\",\"\",VLOOKUP(D2170,#REF!,5,0))","v":{"$error":"#REF!"}},"輸入","パラオ",{"$f":"IF(H2170=\"\",\"\",VLOOKUP(H2170,#REF!,2,0))","v":{"$error":"#REF!"}},4,null,0,4]
["H29",{"$f":"IF(D2171=\"\",\"\",VLOOKUP(D2171,#REF!,2,0))","v":{"$error":"#REF!"}},{"$f":"IF(D2171=\"\",\"\",VLOOKUP(D2171,#REF!,3,0))","v":{"$error":"#REF!"}},"神戸",{"$f":"IF(D2171=\"\",\"\",VLOOKUP(D2171,#REF!,4,0))","v":{"$error":"#REF!"}},{"$f":"IF(C2171=\"\",\"\",VLOOKUP(D2171,#REF!,5,0))","v":{"$error":"#REF!"}},"輸入","南アフリカ",{"$f":"IF(H2171=\"\",\"\",VLOOKUP(H2171,#REF!,2,0))","v":{"$error":"#REF!"}},708,null,670,38]
["H29",{"$f":"IF(D2172=\"\",\"\",VLOOKUP(D2172,#REF!,2,0))","v":{"$error":"#REF!"}},{"$f":"IF(D2172=\"\",\"\",VLOOKUP(D2172,#REF!,3,0))","v":{"$error":"#REF!"}},"神戸",{"$f":"IF(D2172=\"\",\"\",VLOOKUP(D2172,#REF!,4,0))","v":{"$error":"#REF!"}},{"$f":"IF(C2172=\"\",\"\",VLOOKUP(D2172,#REF!,5,0))","v":{"$error":"#REF!"}},"輸入","イギリス",{"$f":"IF(H2172=\"\",\"\",VLOOKUP(H2172,#REF!,2,0))","v":{"$error":"#REF!"}},{"v":7065,"d":"7,065"},null,{"v":6164,"d":"6,164"},901]
["H29",{"$f":"IF(D2173=\"\",\"\",VLOOKUP(D2173,#REF!,2,0))","v":{"$error":"#REF!"}},{"$f":"IF(D2173=\"\",\"\",VLOOKUP(D2173,#REF!,3,0))","v":{"$error":"#REF!"}},"神戸",{"$f":"IF(D2173=\"\",\"\",VLOOKUP(D2173,#REF!,4,0))","v":{"$error":"#REF!"}},{"$f":"IF(C2173=\"\",\"\",VLOOKUP(D2173,#REF!,5,0))","v":{"$error":"#REF!"}},"輸入","オランダ",{"$f":"IF(H2173=\"\",\"\",VLOOKUP(H2173,#REF!,2,0))","v":{"$error":"#REF!"}},{"v":24207,"d":"24,207"},2,{"v":24021,"d":"24,021"},186]
["H29",{"$f":"IF(D2174=\"\",\"\",VLOOKUP(D2174,#REF!,2,0))","v":{"$error":"#REF!"}},{"$f":"IF(D2174=\"\",\"\",VLOOKUP(D2174,#REF!,3,0))","v":{"$error":"#REF!"}},"神戸",{"$f":"IF(D2174=\"\",\"\",VLOOKUP(D2174,#REF!,4,0))","v":{"$error":"#REF!"}},{"$f":"IF(C2174=\"\",\"\",VLOOKUP(D2174,#REF!,5,0))","v":{"$error":"#REF!"}},"輸入","ドイツ",{"$f":"IF(H2174=\"\",\"\",VLOOKUP(H2174,#REF!,2,0))","v":{"$error":"#REF!"}},{"v":26532.25,"d":"26,532"},2,{"v":26395.25,"d":"26,395"},137]
["H29",{"$f":"IF(D2175=\"\",\"\",VLOOKUP(D2175,#REF!,2,0))","v":{"$error":"#REF!"}},{"$f":"IF(D2175=\"\",\"\",VLOOKUP(D2175,#REF!,3,0))","v":{"$error":"#REF!"}},"神戸",{"$f":"IF(D2175=\"\",\"\",VLOOKUP(D2175,#REF!,4,0))","v":{"$error":"#REF!"}},{"$f":"IF(C2175=\"\",\"\",VLOOKUP(D2175,#REF!,5,0))","v":{"$error":"#REF!"}},"輸入","フランス",{"$f":"IF(H2175=\"\",\"\",VLOOKUP(H2175,#REF!,2,0))","v":{"$error":"#REF!"}},{"v":8417,"d":"8,417"},null,{"v":8416,"d":"8,416"},1]
["H29",{"$f":"IF(D2176=\"\",\"\",VLOOKUP(D2176,#REF!,2,0))","v":{"$error":"#REF!"}},{"$f":"IF(D2176=\"\",\"\",VLOOKUP(D2176,#REF!,3,0))","v":{"$error":"#REF!"}},"神戸",{"$f":"IF(D2176=\"\",\"\",VLOOKUP(D2176,#REF!,4,0))","v":{"$error":"#REF!"}},{"$f":"IF(C2176=\"\",\"\",VLOOKUP(D2176,#REF!,5,0))","v":{"$error":"#REF!"}},"輸入","ロシア",{"$f":"IF(H2176=\"\",\"\",VLOOKUP(H2176,#REF!,2,0))","v":{"$error":"#REF!"}},592,null,45,547]
["H29",{"$f":"IF(D2177=\"\",\"\",VLOOKUP(D2177,#REF!,2,0))","v":{"$error":"#REF!"}},{"$f":"IF(D2177=\"\",\"\",VLOOKUP(D2177,#REF!,3,0))","v":{"$error":"#REF!"}},"神戸",{"$f":"IF(D2177=\"\",\"\",VLOOKUP(D2177,#REF!,4,0))","v":{"$error":"#REF!"}},{"$f":"IF(C2177=\"\",\"\",VLOOKUP(D2177,#REF!,5,0))","v":{"$error":"#REF!"}},"輸入","アメリカ合衆国",{"$f":"IF(H2177=\"\",\"\",VLOOKUP(H2177,#REF!,2,0))","v":{"$error":"#REF!"}},{"v":200053,"d":"200,053"},{"v":5950.5,"d":"(5951)"},{"v":163030,"d":"163,030"},{"v":37023,"d":"37,023"}]
["H29",{"$f":"IF(D2178=\"\",\"\",VLOOKUP(D2178,#REF!,2,0))","v":{"$error":"#REF!"}},{"$f":"IF(D2178=\"\",\"\",VLOOKUP(D2178,#REF!,3,0))","v":{"$error":"#REF!"}},"神戸",{"$f":"IF(D2178=\"\",\"\",VLOOKUP(D2178,#REF!,4,0))","v":{"$error":"#REF!"}},{"$f":"IF(C2178=\"\",\"\",VLOOKUP(D2178,#REF!,5,0))","v":{"$error":"#REF!"}},"輸入","カナダ",{"$f":"IF(H2178=\"\",\"\",VLOOKUP(H2178,#REF!,2,0))","v":{"$error":"#REF!"}},{"v":26323.5,"d":"26,324"},239,{"v":24172.5,"d":"24,173"},{"v":2151,"d":"2,151"}]
["H29",{"$f":"IF(D2179=\"\",\"\",VLOOKUP(D2179,#REF!,2,0))","v":{"$error":"#REF!"}},{"$f":"IF(D2179=\"\",\"\",VLOOKUP(D2179,#REF!,3,0))","v":{"$error":"#REF!"}},"神戸",{"$f":"IF(D2179=\"\",\"\",VLOOKUP(D2179,#REF!,4,0))","v":{"$error":"#REF!"}},{"$f":"IF(C2179=\"\",\"\",VLOOKUP(D2179,#REF!,5,0))","v":{"$error":"#REF!"}},"輸入","パナマ",{"$f":"IF(H2179=\"\",\"\",VLOOKUP(H2179,#REF!,2,0))","v":{"$error":"#REF!"}},{"v":2024,"d":"2,024"},26,{"v":1350,"d":"1,350"},674]
["H29",{"$f":"IF(D2180=\"\",\"\",VLOOKUP(D2180,#REF!,2,0))","v":{"$error":"#REF!"}},{"$f":"IF(D2180=\"\",\"\",VLOOKUP(D2180,#REF!,3,0))","v":{"$error":"#REF!"}},"和歌山下津",{"$f":"IF(D2180=\"\",\"\",VLOOKUP(D2180,#REF!,4,0))","v":{"$error":"#REF!"}},{"$f":"IF(C2180=\"\",\"\",VLOOKUP(D2180,#REF!,5,0))","v":{"$error":"#REF!"}},"輸入","韓国",{"$f":"IF(H2180=\"\",\"\",VLOOKUP(H2180,#REF!,2,0))","v":{"$error":"#REF!"}},{"v":3261,"d":"3,261"},null,{"v":3249,"d":"3,249"},12]
["H29",{"$f":"IF(D2181=\"\",\"\",VLOOKUP(D2181,#REF!,2,0))","v":{"$error":"#REF!"}},{"$f":"IF(D2181=\"\",\"\",VLOOKUP(D2181,#REF!,3,0))","v":{"$error":"#REF!"}},"和歌山下津",{"$f":"IF(D2181=\"\",\"\",VLOOKUP(D2181,#REF!,4,0))","v":{"$error":"#REF!"}},{"$f":"IF(C2181=\"\",\"\",VLOOKUP(D2181,#REF!,5,0))","v":{"$error":"#REF!"}},"輸入","中国",{"$f":"IF(H2181=\"\",\"\",VLOOKUP(H2181,#REF!,2,0))","v":{"$error":"#REF!"}},25,null,25,0]
["H30",{"$f":"IF(D2182=\"\",\"\",VLOOKUP(D2182,#REF!,2,0))","v":{"$error":"#REF!"}},{"$f":"IF(D2182=\"\",\"\",VLOOKUP(D2182,#REF!,3,0))","v":{"$error":"#REF!"}},"舞鶴",{"$f":"IF(D2182=\"\",\"\",VLOOKUP(D2182,#REF!,4,0))","v":{"$error":"#REF!"}},{"$f":"IF(C2182=\"\",\"\",VLOOKUP(D2182,#REF!,5,0))","v":{"$error":"#REF!"}},"輸出","韓国",{"$f":"IF(H2182=\"\",\"\",VLOOKUP(H2182,#REF!,2,0))","v":{"$error":"#REF!"}},{"v":6781,"d":"6,781 "},null,{"v":4692,"d":"4,692"},{"v":2089,"d":"2,089"}]
["H30",{"$f":"IF(D2183=\"\",\"\",VLOOKUP(D2183,#REF!,2,0))","v":{"$error":"#REF!"}},{"$f":"IF(D2183=\"\",\"\",VLOOKUP(D2183,#REF!,3,0))","v":{"$error":"#REF!"}},"舞鶴",{"$f":"IF(D2183=\"\",\"\",VLOOKUP(D2183,#REF!,4,0))","v":{"$error":"#REF!"}},{"$f":"IF(C2183=\"\",\"\",VLOOKUP(D2183,#REF!,5,0))","v":{"$error":"#REF!"}},"輸出","中国",{"$f":"IF(H2183=\"\",\"\",VLOOKUP(H2183,#REF!,2,0))","v":{"$error":"#REF!"}},{"v":2582,"d":"2,582 "},null,933,{"v":1649,"d":"1,649"}]
["H30",{"$f":"IF(D2184=\"\",\"\",VLOOKUP(D2184,#REF!,2,0))","v":{"$error":"#REF!"}},{"$f":"IF(D2184=\"\",\"\",VLOOKUP(D2184,#REF!,3,0))","v":{"$error":"#REF!"}},"舞鶴",{"$f":"IF(D2184=\"\",\"\",VLOOKUP(D2184,#REF!,4,0))","v":{"$error":"#REF!"}},{"$f":"IF(C2184=\"\",\"\",VLOOKUP(D2184,#REF!,5,0))","v":{"$error":"#REF!"}},"輸出","ロシア",{"$f":"IF(H2184=\"\",\"\",VLOOKUP(H2184,#REF!,2,0))","v":{"$error":"#REF!"}},{"v":79,"d":"79 "},null,79,0]
["H30",{"$f":"IF(D2185=\"\",\"\",VLOOKUP(D2185,#REF!,2,0))","v":{"$error":"#REF!"}},{"$f":"IF(D2185=\"\",\"\",VLOOKUP(D2185,#REF!,3,0))","v":{"$error":"#REF!"}},"堺泉北",{"$f":"IF(D2185=\"\",\"\",VLOOKUP(D2185,#REF!,4,0))","v":{"$error":"#REF!"}},{"$f":"IF(C2185=\"\",\"\",VLOOKUP(D2185,#REF!,5,0))","v":{"$error":"#REF!"}},"輸出","韓国",{"$f":"IF(H2185=\"\",\"\",VLOOKUP(H2185,#REF!,2,0))","v":{"$error":"#REF!"}},{"v":47,"d":"47 "},null,27,20]
["H30",{"$f":"IF(D2186=\"\",\"\",VLOOKUP(D2186,#REF!,2,0))","v":{"$error":"#REF!"}},{"$f":"IF(D2186=\"\",\"\",VLOOKUP(D2186,#REF!,3,0))","v":{"$error":"#REF!"}},"堺泉北",{"$f":"IF(D2186=\"\",\"\",VLOOKUP(D2186,#REF!,4,0))","v":{"$error":"#REF!"}},{"$f":"IF(C2186=\"\",\"\",VLOOKUP(D2186,#REF!,5,0))","v":{"$error":"#REF!"}},"輸出","中国",{"$f":"IF(H2186=\"\",\"\",VLOOKUP(H2186,#REF!,2,0))","v":{"$error":"#REF!"}},{"v":13216,"d":"13,216 "},null,{"v":1011,"d":"1,011"},{"v":12205,"d":"12,205"}]
["H30",{"$f":"IF(D2187=\"\",\"\",VLOOKUP(D2187,#REF!,2,0))","v":{"$error":"#REF!"}},{"$f":"IF(D2187=\"\",\"\",VLOOKUP(D2187,#REF!,3,0))","v":{"$error":"#REF!"}},"堺泉北",{"$f":"IF(D2187=\"\",\"\",VLOOKUP(D2187,#REF!,4,0))","v":{"$error":"#REF!"}},{"$f":"IF(C2187=\"\",\"\",VLOOKUP(D2187,#REF!,5,0))","v":{"$error":"#REF!"}},"輸出","タイ",{"$f":"IF(H2187=\"\",\"\",VLOOKUP(H2187,#REF!,2,0))","v":{"$error":"#REF!"}},{"v":8,"d":"8 "},null,8,0]
["H30",{"$f":"IF(D2188=\"\",\"\",VLOOKUP(D2188,#REF!,2,0))","v":{"$error":"#REF!"}},{"$f":"IF(D2188=\"\",\"\",VLOOKUP(D2188,#REF!,3,0))","v":{"$error":"#REF!"}},"堺泉北",{"$f":"IF(D2188=\"\",\"\",VLOOKUP(D2188,#REF!,4,0))","v":{"$error":"#REF!"}},{"$f":"IF(C2188=\"\",\"\",VLOOKUP(D2188,#REF!,5,0))","v":{"$error":"#REF!"}},"輸出","ベトナム",{"$f":"IF(H2188=\"\",\"\",VLOOKUP(H2188,#REF!,2,0))","v":{"$error":"#REF!"}},{"v":235,"d":"235 "},null,228,7]
["H30",{"$f":"IF(D2189=\"\",\"\",VLOOKUP(D2189,#REF!,2,0))","v":{"$error":"#REF!"}},{"$f":"IF(D2189=\"\",\"\",VLOOKUP(D2189,#REF!,3,0))","v":{"$error":"#REF!"}},"大阪",{"$f":"IF(D2189=\"\",\"\",VLOOKUP(D2189,#REF!,4,0))","v":{"$error":"#REF!"}},{"$f":"IF(C2189=\"\",\"\",VLOOKUP(D2189,#REF!,5,0))","v":{"$error":"#REF!"}},"輸出","韓国",{"$f":"IF(H2189=\"\",\"\",VLOOKUP(H2189,#REF!,2,0))","v":{"$error":"#REF!"}},{"v":133575.4,"d":"133,575 "},null,{"v":78054.8,"d":"78,055"},{"v":55520.6,"d":"55,521"}]
["H30",{"$f":"IF(D2190=\"\",\"\",VLOOKUP(D2190,#REF!,2,0))","v":{"$error":"#REF!"}},{"$f":"IF(D2190=\"\",\"\",VLOOKUP(D2190,#REF!,3,0))","v":{"$error":"#REF!"}},"大阪",{"$f":"IF(D2190=\"\",\"\",VLOOKUP(D2190,#REF!,4,0))","v":{"$error":"#REF!"}},{"$f":"IF(C2190=\"\",\"\",VLOOKUP(D2190,#REF!,5,0))","v":{"$error":"#REF!"}},"輸出","台湾",{"$f":"IF(H2190=\"\",\"\",VLOOKUP(H2190,#REF!,2,0))","v":{"$error":"#REF!"}},{"v":86698,"d":"86,698 "},null,{"v":62146,"d":"62,146"},{"v":24552,"d":"24,552"}]
["H30",{"$f":"IF(D2191=\"\",\"\",VLOOKUP(D2191,#REF!,2,0))","v":{"$error":"#REF!"}},{"$f":"IF(D2191=\"\",\"\",VLOOKUP(D2191,#REF!,3,0))","v":{"$error":"#REF!"}},"大阪",{"$f":"IF(D2191=\"\",\"\",VLOOKUP(D2191,#REF!,4,0))","v":{"$error":"#REF!"}},{"$f":"IF(C2191=\"\",\"\",VLOOKUP(D2191,#REF!,5,0))","v":{"$error":"#REF!"}},"輸出","中国",{"$f":"IF(H2191=\"\",\"\",VLOOKUP(H2191,#REF!,2,0))","v":{"$error":"#REF!"}},{"v":571674,"d":"571,674 "},null,{"v":159859.5,"d":"159,860"},{"v":411814.5,"d":"411,815"}]
["H30",{"$f":"IF(D2192=\"\",\"\",VLOOKUP(D2192,#REF!,2,0))","v":{"$error":"#REF!"}},{"$f":"IF(D2192=\"\",\"\",VLOOKUP(D2192,#REF!,3,0))","v":{"$error":"#REF!"}},"大阪",{"$f":"IF(D2192=\"\",\"\",VLOOKUP(D2192,#REF!,4,0))","v":{"$error":"#REF!"}},{"$f":"IF(C2192=\"\",\"\",VLOOKUP(D2192,#REF!,5,0))","v":{"$error":"#REF!"}},"輸出","香港",{"$f":"IF(H2192=\"\",\"\",VLOOKUP(H2192,#REF!,2,0))","v":{"$error":"#REF!"}},{"v":52711,"d":"52,711 "},null,{"v":39671,"d":"39,671"},{"v":13040,"d":"13,040"}]
["H30",{"$f":"IF(D2193=\"\",\"\",VLOOKUP(D2193,#REF!,2,0))","v":{"$error":"#REF!"}},{"$f":"IF(D2193=\"\",\"\",VLOOKUP(D2193,#REF!,3,0))","v":{"$error":"#REF!"}},"大阪",{"$f":"IF(D2193=\"\",\"\",VLOOKUP(D2193,#REF!,4,0))","v":{"$error":"#REF!"}},{"$f":"IF(C2193=\"\",\"\",VLOOKUP(D2193,#REF!,5,0))","v":{"$error":"#REF!"}},"輸出","カンボジア",{"$f":"IF(H2193=\"\",\"\",VLOOKUP(H2193,#REF!,2,0))","v":{"$error":"#REF!"}},{"v":348,"d":"348 "},null,342,6]
["H30",{"$f":"IF(D2194=\"\",\"\",VLOOKUP(D2194,#REF!,2,0))","v":{"$error":"#REF!"}},{"$f":"IF(D2194=\"\",\"\",VLOOKUP(D2194,#REF!,3,0))","v":{"$error":"#REF!"}},"大阪",{"$f":"IF(D2194=\"\",\"\",VLOOKUP(D2194,#REF!,4,0))","v":{"$error":"#REF!"}},{"$f":"IF(C2194=\"\",\"\",VLOOKUP(D2194,#REF!,5,0))","v":{"$error":"#REF!"}},"輸出","シンガポール",{"$f":"IF(H2194=\"\",\"\",VLOOKUP(H2194,#REF!,2,0))","v":{"$error":"#REF!"}},{"v":14278,"d":"14,278 "},null,{"v":11583,"d":"11,583"},{"v":2695,"d":"2,695"}]
["H30",{"$f":"IF(D2195=\"\",\"\",VLOOKUP(D2195,#REF!,2,0))","v":{"$error":"#REF!"}},{"$f":"IF(D2195=\"\",\"\",VLOOKUP(D2195,#REF!,3,0))","v":{"$error":"#REF!"}},"大阪",{"$f":"IF(D2195=\"\",\"\",VLOOKUP(D2195,#REF!,4,0))","v":{"$error":"#REF!"}},{"$f":"IF(C2195=\"\",\"\",VLOOKUP(D2195,#REF!,5,0))","v":{"$error":"#REF!"}},"輸出","タイ",{"$f":"IF(H2195=\"\",\"\",VLOOKUP(H2195,#REF!,2,0))","v":{"$error":"#REF!"}},{"v":35304,"d":"35,304 "},null,{"v":26513,"d":"26,513"},{"v":8791,"d":"8,791"}]
["H30",{"$f":"IF(D2196=\"\",\"\",VLOOKUP(D2196,#REF!,2,0))","v":{"$error":"#REF!"}},{"$f":"IF(D2196=\"\",\"\",VLOOKUP(D2196,#REF!,3,0))","v":{"$error":"#REF!"}},"大阪",{"$f":"IF(D2196=\"\",\"\",VLOOKUP(D2196,#REF!,4,0))","v":{"$error":"#REF!"}},{"$f":"IF(C2196=\"\",\"\",VLOOKUP(D2196,#REF!,5,0))","v":{"$error":"#REF!"}},"輸出","フィリピン",{"$f":"IF(H2196=\"\",\"\",VLOOKUP(H2196,#REF!,2,0))","v":{"$error":"#REF!"}},{"v":838,"d":"838 "},null,838,0]
["H30",{"$f":"IF(D2197=\"\",\"\",VLOOKUP(D2197,#REF!,2,0))","v":{"$error":"#REF!"}},{"$f":"IF(D2197=\"\",\"\",VLOOKUP(D2197,#REF!,3,0))","v":{"$error":"#REF!"}},"大阪",{"$f":"IF(D2197=\"\",\"\",VLOOKUP(D2197,#REF!,4,0))","v":{"$error":"#REF!"}},{"$f":"IF(C2197=\"\",\"\",VLOOKUP(D2197,#REF!,5,0))","v":{"$error":"#REF!"}},"輸出","マレーシア",{"$f":"IF(H2197=\"\",\"\",VLOOKUP(H2197,#REF!,2,0))","v":{"$error":"#REF!"}},{"v":14919,"d":"14,919 "},null,{"v":14866,"d":"14,866"},53]
["H30",{"$f":"IF(D2198=\"\",\"\",VLOOKUP(D2198,#REF!,2,0))","v":{"$error":"#REF!"}},{"$f":"IF(D2198=\"\",\"\",VLOOKUP(D2198,#REF!,3,0))","v":{"$error":"#REF!"}},"大阪",{"$f":"IF(D2198=\"\",\"\",VLOOKUP(D2198,#REF!,4,0))","v":{"$error":"#REF!"}},{"$f":"IF(C2198=\"\",\"\",VLOOKUP(D2198,#REF!,5,0))","v":{"$error":"#REF!"}},"輸出","ベトナム",{"$f":"IF(H2198=\"\",\"\",VLOOKUP(H2198,#REF!,2,0))","v":{"$error":"#REF!"}},{"v":18181,"d":"18,181 "},null,{"v":16956,"d":"16,956"},{"v":1225,"d":"1,225"}]
["H30",{"$f":"IF(D2199=\"\",\"\",VLOOKUP(D2199,#REF!,2,0))","v":{"$error":"#REF!"}},{"$f":"IF(D2199=\"\",\"\",VLOOKUP(D2199,#REF!,3,0))","v":{"$error":"#REF!"}},"大阪",{"$f":"IF(D2199=\"\",\"\",VLOOKUP(D2199,#REF!,4,0))","v":{"$error":"#REF!"}},{"$f":"IF(C2199=\"\",\"\",VLOOKUP(D2199,#REF!,5,0))","v":{"$error":"#REF!"}},"輸出","インド",{"$f":"IF(H2199=\"\",\"\",VLOOKUP(H2199,#REF!,2,0))","v":{"$error":"#REF!"}},{"v":713,"d":"713 "},null,713,0]
["H30",{"$f":"IF(D2200=\"\",\"\",VLOOKUP(D2200,#REF!,2,0))","v":{"$error":"#REF!"}},{"$f":"IF(D2200=\"\",\"\",VLOOKUP(D2200,#REF!,3,0))","v":{"$error":"#REF!"}},"大阪",{"$f":"IF(D2200=\"\",\"\",VLOOKUP(D2200,#REF!,4,0))","v":{"$error":"#REF!"}},{"$f":"IF(C2200=\"\",\"\",VLOOKUP(D2200,#REF!,5,0))","v":{"$error":"#REF!"}},"輸出","スリランカ",{"$f":"IF(H2200=\"\",\"\",VLOOKUP(H2200,#REF!,2,0))","v":{"$error":"#REF!"}},{"v":77,"d":"77 "},null,77,0]
["H30",{"$f":"IF(D2201=\"\",\"\",VLOOKUP(D2201,#REF!,2,0))","v":{"$error":"#REF!"}},{"$f":"IF(D2201=\"\",\"\",VLOOKUP(D2201,#REF!,3,0))","v":{"$error":"#REF!"}},"大阪",{"$f":"IF(D2201=\"\",\"\",VLOOKUP(D2201,#REF!,4,0))","v":{"$error":"#REF!"}},{"$f":"IF(C2201=\"\",\"\",VLOOKUP(D2201,#REF!,5,0))","v":{"$error":"#REF!"}},"輸出","パキスタン",{"$f":"IF(H2201=\"\",\"\",VLOOKUP(H2201,#REF!,2,0))","v":{"$error":"#REF!"}},{"v":161,"d":"161 "},null,161,0]
["H30",{"$f":"IF(D2202=\"\",\"\",VLOOKUP(D2202,#REF!,2,0))","v":{"$error":"#REF!"}},{"$f":"IF(D2202=\"\",\"\",VLOOKUP(D2202,#REF!,3,0))","v":{"$error":"#REF!"}},"大阪",{"$f":"IF(D2202=\"\",\"\",VLOOKUP(D2202,#REF!,4,0))","v":{"$error":"#REF!"}},{"$f":"IF(C2202=\"\",\"\",VLOOKUP(D2202,#REF!,5,0))","v":{"$error":"#REF!"}},"輸出","オーストラリア",{"$f":"IF(H2202=\"\",\"\",VLOOKUP(H2202,#REF!,2,0))","v":{"$error":"#REF!"}},{"v":8244,"d":"8,244 "},null,{"v":5203,"d":"5,203"},{"v":3041,"d":"3,041"}]
["H30",{"$f":"IF(D2203=\"\",\"\",VLOOKUP(D2203,#REF!,2,0))","v":{"$error":"#REF!"}},{"$f":"IF(D2203=\"\",\"\",VLOOKUP(D2203,#REF!,3,0))","v":{"$error":"#REF!"}},"大阪",{"$f":"IF(D2203=\"\",\"\",VLOOKUP(D2203,#REF!,4,0))","v":{"$error":"#REF!"}},{"$f":"IF(C2203=\"\",\"\",VLOOKUP(D2203,#REF!,5,0))","v":{"$error":"#REF!"}},"輸出","アメリカ合衆国",{"$f":"IF(H2203=\"\",\"\",VLOOKUP(H2203,#REF!,2,0))","v":{"$error":"#REF!"}},{"v":4896,"d":"4,896 "},null,{"v":4878,"d":"4,878"},18]
["H30",{"$f":"IF(D2204=\"\",\"\",VLOOKUP(D2204,#REF!,2,0))","v":{"$error":"#REF!"}},{"$f":"IF(D2204=\"\",\"\",VLOOKUP(D2204,#REF!,3,0))","v":{"$error":"#REF!"}},"大阪",{"$f":"IF(D2204=\"\",\"\",VLOOKUP(D2204,#REF!,4,0))","v":{"$error":"#REF!"}},{"$f":"IF(C2204=\"\",\"\",VLOOKUP(D2204,#REF!,5,0))","v":{"$error":"#REF!"}},"輸出","カナダ",{"$f":"IF(H2204=\"\",\"\",VLOOKUP(H2204,#REF!,2,0))","v":{"$error":"#REF!"}},{"v":2965,"d":"2,965 "},null,{"v":2963,"d":"2,963"},2]
["H30",{"$f":"IF(D2205=\"\",\"\",VLOOKUP(D2205,#REF!,2,0))","v":{"$error":"#REF!"}},{"$f":"IF(D2205=\"\",\"\",VLOOKUP(D2205,#REF!,3,0))","v":{"$error":"#REF!"}},"神戸",{"$f":"IF(D2205=\"\",\"\",VLOOKUP(D2205,#REF!,4,0))","v":{"$error":"#REF!"}},{"$f":"IF(C2205=\"\",\"\",VLOOKUP(D2205,#REF!,5,0))","v":{"$error":"#REF!"}},"輸出","韓国",{"$f":"IF(H2205=\"\",\"\",VLOOKUP(H2205,#REF!,2,0))","v":{"$error":"#REF!"}},{"v":106832,"d":"106,832 "},170,{"v":85814,"d":"85,814"},{"v":21018,"d":"21,018"}]
["H30",{"$f":"IF(D2206=\"\",\"\",VLOOKUP(D2206,#REF!,2,0))","v":{"$error":"#REF!"}},{"$f":"IF(D2206=\"\",\"\",VLOOKUP(D2206,#REF!,3,0))","v":{"$error":"#REF!"}},"神戸",{"$f":"IF(D2206=\"\",\"\",VLOOKUP(D2206,#REF!,4,0))","v":{"$error":"#REF!"}},{"$f":"IF(C2206=\"\",\"\",VLOOKUP(D2206,#REF!,5,0))","v":{"$error":"#REF!"}},"輸出","台湾",{"$f":"IF(H2206=\"\",\"\",VLOOKUP(H2206,#REF!,2,0))","v":{"$error":"#REF!"}},{"v":119173.25,"d":"119,173 "},20,{"v":106696,"d":"106,696"},{"v":12477.25,"d":"12,477"}]
["H30",{"$f":"IF(D2207=\"\",\"\",VLOOKUP(D2207,#REF!,2,0))","v":{"$error":"#REF!"}},{"$f":"IF(D2207=\"\",\"\",VLOOKUP(D2207,#REF!,3,0))","v":{"$error":"#REF!"}},"神戸",{"$f":"IF(D2207=\"\",\"\",VLOOKUP(D2207,#REF!,4,0))","v":{"$error":"#REF!"}},{"$f":"IF(C2207=\"\",\"\",VLOOKUP(D2207,#REF!,5,0))","v":{"$error":"#REF!"}},"輸出","中国",{"$f":"IF(H2207=\"\",\"\",VLOOKUP(H2207,#REF!,2,0))","v":{"$error":"#REF!"}},{"v":387214,"d":"387,214 "},{"v":4989,"d":"4,989"},{"v":243531.5,"d":"243,532"},{"v":143682.5,"d":"143,683"}]
["H30",{"$f":"IF(D2208=\"\",\"\",VLOOKUP(D2208,#REF!,2,0))","v":{"$error":"#REF!"}},{"$f":"IF(D2208=\"\",\"\",VLOOKUP(D2208,#REF!,3,0))","v":{"$error":"#REF!"}},"神戸",{"$f":"IF(D2208=\"\",\"\",VLOOKUP(D2208,#REF!,4,0))","v":{"$error":"#REF!"}},{"$f":"IF(C2208=\"\",\"\",VLOOKUP(D2208,#REF!,5,0))","v":{"$error":"#REF!"}},"輸出","香港",{"$f":"IF(H2208=\"\",\"\",VLOOKUP(H2208,#REF!,2,0))","v":{"$error":"#REF!"}},{"v":87602,"d":"87,602 "},null,{"v":82860,"d":"82,860"},{"v":4742,"d":"4,742"}]
["H30",{"$f":"IF(D2209=\"\",\"\",VLOOKUP(D2209,#REF!,2,0))","v":{"$error":"#REF!"}},{"$f":"IF(D2209=\"\",\"\",VLOOKUP(D2209,#REF!,3,0))","v":{"$error":"#REF!"}},"神戸",{"$f":"IF(D2209=\"\",\"\",VLOOKUP(D2209,#REF!,4,0))","v":{"$error":"#REF!"}},{"$f":"IF(C2209=\"\",\"\",VLOOKUP(D2209,#REF!,5,0))","v":{"$error":"#REF!"}},"輸出","インドネシア",{"$f":"IF(H2209=\"\",\"\",VLOOKUP(H2209,#REF!,2,0))","v":{"$error":"#REF!"}},{"v":33236.25,"d":"33,236 "},13,{"v":33227.25,"d":"33,227"},9]
["H30",{"$f":"IF(D2210=\"\",\"\",VLOOKUP(D2210,#REF!,2,0))","v":{"$error":"#REF!"}},{"$f":"IF(D2210=\"\",\"\",VLOOKUP(D2210,#REF!,3,0))","v":{"$error":"#REF!"}},"神戸",{"$f":"IF(D2210=\"\",\"\",VLOOKUP(D2210,#REF!,4,0))","v":{"$error":"#REF!"}},{"$f":"IF(C2210=\"\",\"\",VLOOKUP(D2210,#REF!,5,0))","v":{"$error":"#REF!"}},"輸出","カンボジア",{"$f":"IF(H2210=\"\",\"\",VLOOKUP(H2210,#REF!,2,0))","v":{"$error":"#REF!"}},{"v":594,"d":"594 "},386,540,54]
["H30",{"$f":"IF(D2211=\"\",\"\",VLOOKUP(D2211,#REF!,2,0))","v":{"$error":"#REF!"}},{"$f":"IF(D2211=\"\",\"\",VLOOKUP(D2211,#REF!,3,0))","v":{"$error":"#REF!"}},"神戸",{"$f":"IF(D2211=\"\",\"\",VLOOKUP(D2211,#REF!,4,0))","v":{"$error":"#REF!"}},{"$f":"IF(C2211=\"\",\"\",VLOOKUP(D2211,#REF!,5,0))","v":{"$error":"#REF!"}},"輸出","シンガポール",{"$f":"IF(H2211=\"\",\"\",VLOOKUP(H2211,#REF!,2,0))","v":{"$error":"#REF!"}},{"v":123194,"d":"123,194 "},4,{"v":115771,"d":"115,771"},{"v":7423,"d":"7,423"}]
["H30",{"$f":"IF(D2212=\"\",\"\",VLOOKUP(D2212,#REF!,2,0))","v":{"$error":"#REF!"}},{"$f":"IF(D2212=\"\",\"\",VLOOKUP(D2212,#REF!,3,0))","v":{"$error":"#REF!"}},"神戸",{"$f":"IF(D2212=\"\",\"\",VLOOKUP(D2212,#REF!,4,0))","v":{"$error":"#REF!"}},{"$f":"IF(C2212=\"\",\"\",VLOOKUP(D2212,#REF!,5,0))","v":{"$error":"#REF!"}},"輸出","タイ",{"$f":"IF(H2212=\"\",\"\",VLOOKUP(H2212,#REF!,2,0))","v":{"$error":"#REF!"}},{"v":89149.25,"d":"89,149 "},{"v":2818,"d":"2,818"},{"v":82071.25,"d":"82,071"},{"v":7078,"d":"7,078"}]
["H30",{"$f":"IF(D2213=\"\",\"\",VLOOKUP(D2213,#REF!,2,0))","v":{"$error":"#REF!"}},{"$f":"IF(D2213=\"\",\"\",VLOOKUP(D2213,#REF!,3,0))","v":{"$error":"#REF!"}},"神戸",{"$f":"IF(D2213=\"\",\"\",VLOOKUP(D2213,#REF!,4,0))","v":{"$error":"#REF!"}},{"$f":"IF(C2213=\"\",\"\",VLOOKUP(D2213,#REF!,5,0))","v":{"$error":"#REF!"}},"輸出","フィリピン",{"$f":"IF(H2213=\"\",\"\",VLOOKUP(H2213,#REF!,2,0))","v":{"$error":"#REF!"}},{"v":15797.5,"d":"15,798 "},98,{"v":11363.5,"d":"11,364"},{"v":4434,"d":"4,434"}]
["H30",{"$f":"IF(D2214=\"\",\"\",VLOOKUP(D2214,#REF!,2,0))","v":{"$error":"#REF!"}},{"$f":"IF(D2214=\"\",\"\",VLOOKUP(D2214,#REF!,3,0))","v":{"$error":"#REF!"}},"神戸",{"$f":"IF(D2214=\"\",\"\",VLOOKUP(D2214,#REF!,4,0))","v":{"$error":"#REF!"}},{"$f":"IF(C2214=\"\",\"\",VLOOKUP(D2214,#REF!,5,0))","v":{"$error":"#REF!"}},"輸出","マレーシア",{"$f":"IF(H2214=\"\",\"\",VLOOKUP(H2214,#REF!,2,0))","v":{"$error":"#REF!"}},{"v":51103,"d":"51,103 "},null,{"v":50492,"d":"50,492"},611]
["H30",{"$f":"IF(D2215=\"\",\"\",VLOOKUP(D2215,#REF!,2,0))","v":{"$error":"#REF!"}},{"$f":"IF(D2215=\"\",\"\",VLOOKUP(D2215,#REF!,3,0))","v":{"$error":"#REF!"}},"神戸",{"$f":"IF(D2215=\"\",\"\",VLOOKUP(D2215,#REF!,4,0))","v":{"$error":"#REF!"}},{"$f":"IF(C2215=\"\",\"\",VLOOKUP(D2215,#REF!,5,0))","v":{"$error":"#REF!"}},"輸出","ベトナム",{"$f":"IF(H2215=\"\",\"\",VLOOKUP(H2215,#REF!,2,0))","v":{"$error":"#REF!"}},{"v":50176,"d":"50,176 "},{"v":2573,"d":"2,573"},{"v":47437,"d":"47,437"},{"v":2739,"d":"2,739"}]
["H30",{"$f":"IF(D2216=\"\",\"\",VLOOKUP(D2216,#REF!,2,0))","v":{"$error":"#REF!"}},{"$f":"IF(D2216=\"\",\"\",VLOOKUP(D2216,#REF!,3,0))","v":{"$error":"#REF!"}},"神戸",{"$f":"IF(D2216=\"\",\"\",VLOOKUP(D2216,#REF!,4,0))","v":{"$error":"#REF!"}},{"$f":"IF(C2216=\"\",\"\",VLOOKUP(D2216,#REF!,5,0))","v":{"$error":"#REF!"}},"輸出","インド",{"$f":"IF(H2216=\"\",\"\",VLOOKUP(H2216,#REF!,2,0))","v":{"$error":"#REF!"}},{"v":485,"d":"485 "},null,485,0]
["H30",{"$f":"IF(D2217=\"\",\"\",VLOOKUP(D2217,#REF!,2,0))","v":{"$error":"#REF!"}},{"$f":"IF(D2217=\"\",\"\",VLOOKUP(D2217,#REF!,3,0))","v":{"$error":"#REF!"}},"神戸",{"$f":"IF(D2217=\"\",\"\",VLOOKUP(D2217,#REF!,4,0))","v":{"$error":"#REF!"}},{"$f":"IF(C2217=\"\",\"\",VLOOKUP(D2217,#REF!,5,0))","v":{"$error":"#REF!"}},"輸出","スリランカ",{"$f":"IF(H2217=\"\",\"\",VLOOKUP(H2217,#REF!,2,0))","v":{"$error":"#REF!"}},{"v":4,"d":"4 "},null,4,0]
["H30",{"$f":"IF(D2218=\"\",\"\",VLOOKUP(D2218,#REF!,2,0))","v":{"$error":"#REF!"}},{"$f":"IF(D2218=\"\",\"\",VLOOKUP(D2218,#REF!,3,0))","v":{"$error":"#REF!"}},"神戸",{"$f":"IF(D2218=\"\",\"\",VLOOKUP(D2218,#REF!,4,0))","v":{"$error":"#REF!"}},{"$f":"IF(C2218=\"\",\"\",VLOOKUP(D2218,#REF!,5,0))","v":{"$error":"#REF!"}},"輸出","パキスタン",{"$f":"IF(H2218=\"\",\"\",VLOOKUP(H2218,#REF!,2,0))","v":{"$error":"#REF!"}},{"v":174,"d":"174 "},null,174,0]
["H30",{"$f":"IF(D2219=\"\",\"\",VLOOKUP(D2219,#REF!,2,0))","v":{"$error":"#REF!"}},{"$f":"IF(D2219=\"\",\"\",VLOOKUP(D2219,#REF!,3,0))","v":{"$error":"#REF!"}},"神戸",{"$f":"IF(D2219=\"\",\"\",VLOOKUP(D2219,#REF!,4,0))","v":{"$error":"#REF!"}},{"$f":"IF(C2219=\"\",\"\",VLOOKUP(D2219,#REF!,5,0))","v":{"$error":"#REF!"}},"輸出","サウジアラビア",{"$f":"IF(H2219=\"\",\"\",VLOOKUP(H2219,#REF!,2,0))","v":{"$error":"#REF!"}},{"v":960,"d":"960 "},null,960,0]
["H30",{"$f":"IF(D2220=\"\",\"\",VLOOKUP(D2220,#REF!,2,0))","v":{"$error":"#REF!"}},{"$f":"IF(D2220=\"\",\"\",VLOOKUP(D2220,#REF!,3,0))","v":{"$error":"#REF!"}},"神戸",{"$f":"IF(D2220=\"\",\"\",VLOOKUP(D2220,#REF!,4,0))","v":{"$error":"#REF!"}},{"$f":"IF(C2220=\"\",\"\",VLOOKUP(D2220,#REF!,5,0))","v":{"$error":"#REF!"}},"輸出","オーストラリア",{"$f":"IF(H2220=\"\",\"\",VLOOKUP(H2220,#REF!,2,0))","v":{"$error":"#REF!"}},{"v":581,"d":"581 "},null,303,278]
["H30",{"$f":"IF(D2221=\"\",\"\",VLOOKUP(D2221,#REF!,2,0))","v":{"$error":"#REF!"}},{"$f":"IF(D2221=\"\",\"\",VLOOKUP(D2221,#REF!,3,0))","v":{"$error":"#REF!"}},"神戸",{"$f":"IF(D2221=\"\",\"\",VLOOKUP(D2221,#REF!,4,0))","v":{"$error":"#REF!"}},{"$f":"IF(C2221=\"\",\"\",VLOOKUP(D2221,#REF!,5,0))","v":{"$error":"#REF!"}},"輸出","仏領ポリネシア",{"$f":"IF(H2221=\"\",\"\",VLOOKUP(H2221,#REF!,2,0))","v":{"$error":"#REF!"}},{"v":77,"d":"77 "},null,77,0]
["H30",{"$f":"IF(D2222=\"\",\"\",VLOOKUP(D2222,#REF!,2,0))","v":{"$error":"#REF!"}},{"$f":"IF(D2222=\"\",\"\",VLOOKUP(D2222,#REF!,3,0))","v":{"$error":"#REF!"}},"神戸",{"$f":"IF(D2222=\"\",\"\",VLOOKUP(D2222,#REF!,4,0))","v":{"$error":"#REF!"}},{"$f":"IF(C2222=\"\",\"\",VLOOKUP(D2222,#REF!,5,0))","v":{"$error":"#REF!"}},"輸出","グアム",{"$f":"IF(H2222=\"\",\"\",VLOOKUP(H2222,#REF!,2,0))","v":{"$error":"#REF!"}},{"v":65,"d":"65 "},null,65,0]
["H30",{"$f":"IF(D2223=\"\",\"\",VLOOKUP(D2223,#REF!,2,0))","v":{"$error":"#REF!"}},{"$f":"IF(D2223=\"\",\"\",VLOOKUP(D2223,#REF!,3,0))","v":{"$error":"#REF!"}},"神戸",{"$f":"IF(D2223=\"\",\"\",VLOOKUP(D2223,#REF!,4,0))","v":{"$error":"#REF!"}},{"$f":"IF(C2223=\"\",\"\",VLOOKUP(D2223,#REF!,5,0))","v":{"$error":"#REF!"}},"輸出","サモア独立国",{"$f":"IF(H2223=\"\",\"\",VLOOKUP(H2223,#REF!,2,0))","v":{"$error":"#REF!"}},{"v":78,"d":"78 "},null,78,0]
["H30",{"$f":"IF(D2224=\"\",\"\",VLOOKUP(D2224,#REF!,2,0))","v":{"$error":"#REF!"}},{"$f":"IF(D2224=\"\",\"\",VLOOKUP(D2224,#REF!,3,0))","v":{"$error":"#REF!"}},"神戸",{"$f":"IF(D2224=\"\",\"\",VLOOKUP(D2224,#REF!,4,0))","v":{"$error":"#REF!"}},{"$f":"IF(C2224=\"\",\"\",VLOOKUP(D2224,#REF!,5,0))","v":{"$error":"#REF!"}},"輸出","ソロモン諸島",{"$f":"IF(H2224=\"\",\"\",VLOOKUP(H2224,#REF!,2,0))","v":{"$error":"#REF!"}},{"v":20,"d":"20 "},null,20,0]
["H30",{"$f":"IF(D2225=\"\",\"\",VLOOKUP(D2225,#REF!,2,0))","v":{"$error":"#REF!"}},{"$f":"IF(D2225=\"\",\"\",VLOOKUP(D2225,#REF!,3,0))","v":{"$error":"#REF!"}},"神戸",{"$f":"IF(D2225=\"\",\"\",VLOOKUP(D2225,#REF!,4,0))","v":{"$error":"#REF!"}},{"$f":"IF(C2225=\"\",\"\",VLOOKUP(D2225,#REF!,5,0))","v":{"$error":"#REF!"}},"輸出","トンガ",{"$f":"IF(H2225=\"\",\"\",VLOOKUP(H2225,#REF!,2,0))","v":{"$error":"#REF!"}},{"v":8,"d":"8 "},null,2,6]
["H30",{"$f":"IF(D2226=\"\",\"\",VLOOKUP(D2226,#REF!,2,0))","v":{"$error":"#REF!"}},{"$f":"IF(D2226=\"\",\"\",VLOOKUP(D2226,#REF!,3,0))","v":{"$error":"#REF!"}},"神戸",{"$f":"IF(D2226=\"\",\"\",VLOOKUP(D2226,#REF!,4,0))","v":{"$error":"#REF!"}},{"$f":"IF(C2226=\"\",\"\",VLOOKUP(D2226,#REF!,5,0))","v":{"$error":"#REF!"}},"輸出","ニューカレドニア",{"$f":"IF(H2226=\"\",\"\",VLOOKUP(H2226,#REF!,2,0))","v":{"$error":"#REF!"}},{"v":33,"d":"33 "},null,33,0]
["H30",{"$f":"IF(D2227=\"\",\"\",VLOOKUP(D2227,#REF!,2,0))","v":{"$error":"#REF!"}},{"$f":"IF(D2227=\"\",\"\",VLOOKUP(D2227,#REF!,3,0))","v":{"$error":"#REF!"}},"神戸",{"$f":"IF(D2227=\"\",\"\",VLOOKUP(D2227,#REF!,4,0))","v":{"$error":"#REF!"}},{"$f":"IF(C2227=\"\",\"\",VLOOKUP(D2227,#REF!,5,0))","v":{"$error":"#REF!"}},"輸出","ニュージーランド",{"$f":"IF(H2227=\"\",\"\",VLOOKUP(H2227,#REF!,2,0))","v":{"$error":"#REF!"}},{"v":2471,"d":"2,471 "},null,{"v":1035,"d":"1,035"},{"v":1436,"d":"1,436"}]
["H30",{"$f":"IF(D2228=\"\",\"\",VLOOKUP(D2228,#REF!,2,0))","v":{"$error":"#REF!"}},{"$f":"IF(D2228=\"\",\"\",VLOOKUP(D2228,#REF!,3,0))","v":{"$error":"#REF!"}},"神戸",{"$f":"IF(D2228=\"\",\"\",VLOOKUP(D2228,#REF!,4,0))","v":{"$error":"#REF!"}},{"$f":"IF(C2228=\"\",\"\",VLOOKUP(D2228,#REF!,5,0))","v":{"$error":"#REF!"}},"輸出","パプアニューギニア",{"$f":"IF(H2228=\"\",\"\",VLOOKUP(H2228,#REF!,2,0))","v":{"$error":"#REF!"}},{"v":21,"d":"21 "},null,21,0]
["H30",{"$f":"IF(D2229=\"\",\"\",VLOOKUP(D2229,#REF!,2,0))","v":{"$error":"#REF!"}},{"$f":"IF(D2229=\"\",\"\",VLOOKUP(D2229,#REF!,3,0))","v":{"$error":"#REF!"}},"神戸",{"$f":"IF(D2229=\"\",\"\",VLOOKUP(D2229,#REF!,4,0))","v":{"$error":"#REF!"}},{"$f":"IF(C2229=\"\",\"\",VLOOKUP(D2229,#REF!,5,0))","v":{"$error":"#REF!"}},"輸出","フィジー",{"$f":"IF(H2229=\"\",\"\",VLOOKUP(H2229,#REF!,2,0))","v":{"$error":"#REF!"}},{"v":18,"d":"18 "},null,18,0]
["H30",{"$f":"IF(D2230=\"\",\"\",VLOOKUP(D2230,#REF!,2,0))","v":{"$error":"#REF!"}},{"$f":"IF(D2230=\"\",\"\",VLOOKUP(D2230,#REF!,3,0))","v":{"$error":"#REF!"}},"神戸",{"$f":"IF(D2230=\"\",\"\",VLOOKUP(D2230,#REF!,4,0))","v":{"$error":"#REF!"}},{"$f":"IF(C2230=\"\",\"\",VLOOKUP(D2230,#REF!,5,0))","v":{"$error":"#REF!"}},"輸出","キリバス",{"$f":"IF(H2230=\"\",\"\",VLOOKUP(H2230,#REF!,2,0))","v":{"$error":"#REF!"}},{"v":31,"d":"31 "},null,31,0]
["H30",{"$f":"IF(D2231=\"\",\"\",VLOOKUP(D2231,#REF!,2,0))","v":{"$error":"#REF!"}},{"$f":"IF(D2231=\"\",\"\",VLOOKUP(D2231,#REF!,3,0))","v":{"$error":"#REF!"}},"神戸",{"$f":"IF(D2231=\"\",\"\",VLOOKUP(D2231,#REF!,4,0))","v":{"$error":"#REF!"}},{"$f":"IF(C2231=\"\",\"\",VLOOKUP(D2231,#REF!,5,0))","v":{"$error":"#REF!"}},"輸出","バヌアツ",{"$f":"IF(H2231=\"\",\"\",VLOOKUP(H2231,#REF!,2,0))","v":{"$error":"#REF!"}},{"v":2,"d":"2 "},null,1,1]
["H30",{"$f":"IF(D2232=\"\",\"\",VLOOKUP(D2232,#REF!,2,0))","v":{"$error":"#REF!"}},{"$f":"IF(D2232=\"\",\"\",VLOOKUP(D2232,#REF!,3,0))","v":{"$error":"#REF!"}},"神戸",{"$f":"IF(D2232=\"\",\"\",VLOOKUP(D2232,#REF!,4,0))","v":{"$error":"#REF!"}},{"$f":"IF(C2232=\"\",\"\",VLOOKUP(D2232,#REF!,5,0))","v":{"$error":"#REF!"}},"輸出","米領サモア",{"$f":"IF(H2232=\"\",\"\",VLOOKUP(H2232,#REF!,2,0))","v":{"$error":"#REF!"}},{"v":1,"d":"1 "},null,1,0]
["H30",{"$f":"IF(D2233=\"\",\"\",VLOOKUP(D2233,#REF!,2,0))","v":{"$error":"#REF!"}},{"$f":"IF(D2233=\"\",\"\",VLOOKUP(D2233,#REF!,3,0))","v":{"$error":"#REF!"}},"神戸",{"$f":"IF(D2233=\"\",\"\",VLOOKUP(D2233,#REF!,4,0))","v":{"$error":"#REF!"}},{"$f":"IF(C2233=\"\",\"\",VLOOKUP(D2233,#REF!,5,0))","v":{"$error":"#REF!"}},"輸出","ミクロネシア",{"$f":"IF(H2233=\"\",\"\",VLOOKUP(H2233,#REF!,2,0))","v":{"$error":"#REF!"}},{"v":41,"d":"41 "},null,41,0]
["H30",{"$f":"IF(D2234=\"\",\"\",VLOOKUP(D2234,#REF!,2,0))","v":{"$error":"#REF!"}},{"$f":"IF(D2234=\"\",\"\",VLOOKUP(D2234,#REF!,3,0))","v":{"$error":"#REF!"}},"神戸",{"$f":"IF(D2234=\"\",\"\",VLOOKUP(D2234,#REF!,4,0))","v":{"$error":"#REF!"}},{"$f":"IF(C2234=\"\",\"\",VLOOKUP(D2234,#REF!,5,0))","v":{"$error":"#REF!"}},"輸出","マーシャル諸島",{"$f":"IF(H2234=\"\",\"\",VLOOKUP(H2234,#REF!,2,0))","v":{"$error":"#REF!"}},{"v":17,"d":"17 "},null,17,0]
["H30",{"$f":"IF(D2235=\"\",\"\",VLOOKUP(D2235,#REF!,2,0))","v":{"$error":"#REF!"}},{"$f":"IF(D2235=\"\",\"\",VLOOKUP(D2235,#REF!,3,0))","v":{"$error":"#REF!"}},"神戸",{"$f":"IF(D2235=\"\",\"\",VLOOKUP(D2235,#REF!,4,0))","v":{"$error":"#REF!"}},{"$f":"IF(C2235=\"\",\"\",VLOOKUP(D2235,#REF!,5,0))","v":{"$error":"#REF!"}},"輸出","北マリアナ諸島",{"$f":"IF(H2235=\"\",\"\",VLOOKUP(H2235,#REF!,2,0))","v":{"$error":"#REF!"}},{"v":25,"d":"25 "},null,25,0]
["H30",{"$f":"IF(D2236=\"\",\"\",VLOOKUP(D2236,#REF!,2,0))","v":{"$error":"#REF!"}},{"$f":"IF(D2236=\"\",\"\",VLOOKUP(D2236,#REF!,3,0))","v":{"$error":"#REF!"}},"神戸",{"$f":"IF(D2236=\"\",\"\",VLOOKUP(D2236,#REF!,4,0))","v":{"$error":"#REF!"}},{"$f":"IF(C2236=\"\",\"\",VLOOKUP(D2236,#REF!,5,0))","v":{"$error":"#REF!"}},"輸出","パラオ",{"$f":"IF(H2236=\"\",\"\",VLOOKUP(H2236,#REF!,2,0))","v":{"$error":"#REF!"}},{"v":27,"d":"27 "},null,27,0]
["H30",{"$f":"IF(D2237=\"\",\"\",VLOOKUP(D2237,#REF!,2,0))","v":{"$error":"#REF!"}},{"$f":"IF(D2237=\"\",\"\",VLOOKUP(D2237,#REF!,3,0))","v":{"$error":"#REF!"}},"神戸",{"$f":"IF(D2237=\"\",\"\",VLOOKUP(D2237,#REF!,4,0))","v":{"$error":"#REF!"}},{"$f":"IF(C2237=\"\",\"\",VLOOKUP(D2237,#REF!,5,0))","v":{"$error":"#REF!"}},"輸出","南アフリカ",{"$f":"IF(H2237=\"\",\"\",VLOOKUP(H2237,#REF!,2,0))","v":{"$error":"#REF!"}},{"v":2692,"d":"2,692 "},null,{"v":2232,"d":"2,232"},460]
["H30",{"$f":"IF(D2238=\"\",\"\",VLOOKUP(D2238,#REF!,2,0))","v":{"$error":"#REF!"}},{"$f":"IF(D2238=\"\",\"\",VLOOKUP(D2238,#REF!,3,0))","v":{"$error":"#REF!"}},"神戸",{"$f":"IF(D2238=\"\",\"\",VLOOKUP(D2238,#REF!,4,0))","v":{"$error":"#REF!"}},{"$f":"IF(C2238=\"\",\"\",VLOOKUP(D2238,#REF!,5,0))","v":{"$error":"#REF!"}},"輸出","セネガル",{"$f":"IF(H2238=\"\",\"\",VLOOKUP(H2238,#REF!,2,0))","v":{"$error":"#REF!"}},{"v":12,"d":"12 "},null,12,0]
["H30",{"$f":"IF(D2239=\"\",\"\",VLOOKUP(D2239,#REF!,2,0))","v":{"$error":"#REF!"}},{"$f":"IF(D2239=\"\",\"\",VLOOKUP(D2239,#REF!,3,0))","v":{"$error":"#REF!"}},"神戸",{"$f":"IF(D2239=\"\",\"\",VLOOKUP(D2239,#REF!,4,0))","v":{"$error":"#REF!"}},{"$f":"IF(C2239=\"\",\"\",VLOOKUP(D2239,#REF!,5,0))","v":{"$error":"#REF!"}},"輸出","モーリシャス",{"$f":"IF(H2239=\"\",\"\",VLOOKUP(H2239,#REF!,2,0))","v":{"$error":"#REF!"}},{"v":213,"d":"213 "},null,213,0]
["H30",{"$f":"IF(D2240=\"\",\"\",VLOOKUP(D2240,#REF!,2,0))","v":{"$error":"#REF!"}},{"$f":"IF(D2240=\"\",\"\",VLOOKUP(D2240,#REF!,3,0))","v":{"$error":"#REF!"}},"神戸",{"$f":"IF(D2240=\"\",\"\",VLOOKUP(D2240,#REF!,4,0))","v":{"$error":"#REF!"}},{"$f":"IF(C2240=\"\",\"\",VLOOKUP(D2240,#REF!,5,0))","v":{"$error":"#REF!"}},"輸出","イギリス",{"$f":"IF(H2240=\"\",\"\",VLOOKUP(H2240,#REF!,2,0))","v":{"$error":"#REF!"}},{"v":3375,"d":"3,375 "},null,{"v":3374,"d":"3,374"},1]
["H30",{"$f":"IF(D2241=\"\",\"\",VLOOKUP(D2241,#REF!,2,0))","v":{"$error":"#REF!"}},{"$f":"IF(D2241=\"\",\"\",VLOOKUP(D2241,#REF!,3,0))","v":{"$error":"#REF!"}},"神戸",{"$f":"IF(D2241=\"\",\"\",VLOOKUP(D2241,#REF!,4,0))","v":{"$error":"#REF!"}},{"$f":"IF(C2241=\"\",\"\",VLOOKUP(D2241,#REF!,5,0))","v":{"$error":"#REF!"}},"輸出","オランダ",{"$f":"IF(H2241=\"\",\"\",VLOOKUP(H2241,#REF!,2,0))","v":{"$error":"#REF!"}},{"v":25768,"d":"25,768 "},null,{"v":25511,"d":"25,511"},257]
["H30",{"$f":"IF(D2242=\"\",\"\",VLOOKUP(D2242,#REF!,2,0))","v":{"$error":"#REF!"}},{"$f":"IF(D2242=\"\",\"\",VLOOKUP(D2242,#REF!,3,0))","v":{"$error":"#REF!"}},"神戸",{"$f":"IF(D2242=\"\",\"\",VLOOKUP(D2242,#REF!,4,0))","v":{"$error":"#REF!"}},{"$f":"IF(C2242=\"\",\"\",VLOOKUP(D2242,#REF!,5,0))","v":{"$error":"#REF!"}},"輸出","ドイツ",{"$f":"IF(H2242=\"\",\"\",VLOOKUP(H2242,#REF!,2,0))","v":{"$error":"#REF!"}},{"v":11103,"d":"11,103 "},null,{"v":11023,"d":"11,023"},80]
["H30",{"$f":"IF(D2243=\"\",\"\",VLOOKUP(D2243,#REF!,2,0))","v":{"$error":"#REF!"}},{"$f":"IF(D2243=\"\",\"\",VLOOKUP(D2243,#REF!,3,0))","v":{"$error":"#REF!"}},"神戸",{"$f":"IF(D2243=\"\",\"\",VLOOKUP(D2243,#REF!,4,0))","v":{"$error":"#REF!"}},{"$f":"IF(C2243=\"\",\"\",VLOOKUP(D2243,#REF!,5,0))","v":{"$error":"#REF!"}},"輸出","フランス",{"$f":"IF(H2243=\"\",\"\",VLOOKUP(H2243,#REF!,2,0))","v":{"$error":"#REF!"}},{"v":2598,"d":"2,598 "},null,{"v":2526,"d":"2,526"},72]
["H30",{"$f":"IF(D2244=\"\",\"\",VLOOKUP(D2244,#REF!,2,0))","v":{"$error":"#REF!"}},{"$f":"IF(D2244=\"\",\"\",VLOOKUP(D2244,#REF!,3,0))","v":{"$error":"#REF!"}},"神戸",{"$f":"IF(D2244=\"\",\"\",VLOOKUP(D2244,#REF!,4,0))","v":{"$error":"#REF!"}},{"$f":"IF(C2244=\"\",\"\",VLOOKUP(D2244,#REF!,5,0))","v":{"$error":"#REF!"}},"輸出","ベルギー",{"$f":"IF(H2244=\"\",\"\",VLOOKUP(H2244,#REF!,2,0))","v":{"$error":"#REF!"}},{"v":7,"d":"7 "},null,7,0]
["H30",{"$f":"IF(D2245=\"\",\"\",VLOOKUP(D2245,#REF!,2,0))","v":{"$error":"#REF!"}},{"$f":"IF(D2245=\"\",\"\",VLOOKUP(D2245,#REF!,3,0))","v":{"$error":"#REF!"}},"神戸",{"$f":"IF(D2245=\"\",\"\",VLOOKUP(D2245,#REF!,4,0))","v":{"$error":"#REF!"}},{"$f":"IF(C2245=\"\",\"\",VLOOKUP(D2245,#REF!,5,0))","v":{"$error":"#REF!"}},"輸出","ロシア",{"$f":"IF(H2245=\"\",\"\",VLOOKUP(H2245,#REF!,2,0))","v":{"$error":"#REF!"}},{"v":1954,"d":"1,954 "},null,{"v":1954,"d":"1,954"},0]
["H30",{"$f":"IF(D2246=\"\",\"\",VLOOKUP(D2246,#REF!,2,0))","v":{"$error":"#REF!"}},{"$f":"IF(D2246=\"\",\"\",VLOOKUP(D2246,#REF!,3,0))","v":{"$error":"#REF!"}},"神戸",{"$f":"IF(D2246=\"\",\"\",VLOOKUP(D2246,#REF!,4,0))","v":{"$error":"#REF!"}},{"$f":"IF(C2246=\"\",\"\",VLOOKUP(D2246,#REF!,5,0))","v":{"$error":"#REF!"}},"輸出","アメリカ合衆国",{"$f":"IF(H2246=\"\",\"\",VLOOKUP(H2246,#REF!,2,0))","v":{"$error":"#REF!"}},{"v":84837.25,"d":"84,837 "},1,{"v":81027,"d":"81,027"},{"v":3810.25,"d":"3,810"}]
["H30",{"$f":"IF(D2247=\"\",\"\",VLOOKUP(D2247,#REF!,2,0))","v":{"$error":"#REF!"}},{"$f":"IF(D2247=\"\",\"\",VLOOKUP(D2247,#REF!,3,0))","v":{"$error":"#REF!"}},"神戸",{"$f":"IF(D2247=\"\",\"\",VLOOKUP(D2247,#REF!,4,0))","v":{"$error":"#REF!"}},{"$f":"IF(C2247=\"\",\"\",VLOOKUP(D2247,#REF!,5,0))","v":{"$error":"#REF!"}},"輸出","カナダ",{"$f":"IF(H2247=\"\",\"\",VLOOKUP(H2247,#REF!,2,0))","v":{"$error":"#REF!"}},{"v":506,"d":"506 "},null,506,0]
["H30",{"$f":"IF(D2248=\"\",\"\",VLOOKUP(D2248,#REF!,2,0))","v":{"$error":"#REF!"}},{"$f":"IF(D2248=\"\",\"\",VLOOKUP(D2248,#REF!,3,0))","v":{"$error":"#REF!"}},"神戸",{"$f":"IF(D2248=\"\",\"\",VLOOKUP(D2248,#REF!,4,0))","v":{"$error":"#REF!"}},{"$f":"IF(C2248=\"\",\"\",VLOOKUP(D2248,#REF!,5,0))","v":{"$error":"#REF!"}},"輸出","パナマ",{"$f":"IF(H2248=\"\",\"\",VLOOKUP(H2248,#REF!,2,0))","v":{"$error":"#REF!"}},{"v":314,"d":"314 "},null,311,3]
["H30",{"$f":"IF(D2249=\"\",\"\",VLOOKUP(D2249,#REF!,2,0))","v":{"$error":"#REF!"}},{"$f":"IF(D2249=\"\",\"\",VLOOKUP(D2249,#REF!,3,0))","v":{"$error":"#REF!"}},"神戸",{"$f":"IF(D2249=\"\",\"\",VLOOKUP(D2249,#REF!,4,0))","v":{"$error":"#REF!"}},{"$f":"IF(C2249=\"\",\"\",VLOOKUP(D2249,#REF!,5,0))","v":{"$error":"#REF!"}},"輸出","メキシコ",{"$f":"IF(H2249=\"\",\"\",VLOOKUP(H2249,#REF!,2,0))","v":{"$error":"#REF!"}},{"v":11,"d":"11 "},null,11,0]
["H30",{"$f":"IF(D2250=\"\",\"\",VLOOKUP(D2250,#REF!,2,0))","v":{"$error":"#REF!"}},{"$f":"IF(D2250=\"\",\"\",VLOOKUP(D2250,#REF!,3,0))","v":{"$error":"#REF!"}},"和歌山下津",{"$f":"IF(D2250=\"\",\"\",VLOOKUP(D2250,#REF!,4,0))","v":{"$error":"#REF!"}},{"$f":"IF(C2250=\"\",\"\",VLOOKUP(D2250,#REF!,5,0))","v":{"$error":"#REF!"}},"輸出","韓国",{"$f":"IF(H2250=\"\",\"\",VLOOKUP(H2250,#REF!,2,0))","v":{"$error":"#REF!"}},{"v":1325,"d":"1,325 "},null,370,955]
["H30",{"$f":"IF(D2251=\"\",\"\",VLOOKUP(D2251,#REF!,2,0))","v":{"$error":"#REF!"}},{"$f":"IF(D2251=\"\",\"\",VLOOKUP(D2251,#REF!,3,0))","v":{"$error":"#REF!"}},"和歌山下津",{"$f":"IF(D2251=\"\",\"\",VLOOKUP(D2251,#REF!,4,0))","v":{"$error":"#REF!"}},{"$f":"IF(C2251=\"\",\"\",VLOOKUP(D2251,#REF!,5,0))","v":{"$error":"#REF!"}},"輸出","中国",{"$f":"IF(H2251=\"\",\"\",VLOOKUP(H2251,#REF!,2,0))","v":{"$error":"#REF!"}},{"v":179,"d":"179 "},null,69,110]
["H30",{"$f":"IF(D2252=\"\",\"\",VLOOKUP(D2252,#REF!,2,0))","v":{"$error":"#REF!"}},{"$f":"IF(D2252=\"\",\"\",VLOOKUP(D2252,#REF!,3,0))","v":{"$error":"#REF!"}},"舞鶴",{"$f":"IF(D2252=\"\",\"\",VLOOKUP(D2252,#REF!,4,0))","v":{"$error":"#REF!"}},{"$f":"IF(C2252=\"\",\"\",VLOOKUP(D2252,#REF!,5,0))","v":{"$error":"#REF!"}},"輸入","韓国",{"$f":"IF(H2252=\"\",\"\",VLOOKUP(H2252,#REF!,2,0))","v":{"$error":"#REF!"}},{"v":6592,"d":"6,592 "},null,{"v":5086,"d":"5,086"},{"v":1506,"d":"1,506"}]
["H30",{"$f":"IF(D2253=\"\",\"\",VLOOKUP(D2253,#REF!,2,0))","v":{"$error":"#REF!"}},{"$f":"IF(D2253=\"\",\"\",VLOOKUP(D2253,#REF!,3,0))","v":{"$error":"#REF!"}},"舞鶴",{"$f":"IF(D2253=\"\",\"\",VLOOKUP(D2253,#REF!,4,0))","v":{"$error":"#REF!"}},{"$f":"IF(C2253=\"\",\"\",VLOOKUP(D2253,#REF!,5,0))","v":{"$error":"#REF!"}},"輸入","中国",{"$f":"IF(H2253=\"\",\"\",VLOOKUP(H2253,#REF!,2,0))","v":{"$error":"#REF!"}},{"v":2546,"d":"2,546 "},null,{"v":2536,"d":"2,536"},10]
["H30",{"$f":"IF(D2254=\"\",\"\",VLOOKUP(D2254,#REF!,2,0))","v":{"$error":"#REF!"}},{"$f":"IF(D2254=\"\",\"\",VLOOKUP(D2254,#REF!,3,0))","v":{"$error":"#REF!"}},"舞鶴",{"$f":"IF(D2254=\"\",\"\",VLOOKUP(D2254,#REF!,4,0))","v":{"$error":"#REF!"}},{"$f":"IF(C2254=\"\",\"\",VLOOKUP(D2254,#REF!,5,0))","v":{"$error":"#REF!"}},"輸入","ロシア",{"$f":"IF(H2254=\"\",\"\",VLOOKUP(H2254,#REF!,2,0))","v":{"$error":"#REF!"}},{"v":43,"d":"43 "},null,0,43]
["H30",{"$f":"IF(D2255=\"\",\"\",VLOOKUP(D2255,#REF!,2,0))","v":{"$error":"#REF!"}},{"$f":"IF(D2255=\"\",\"\",VLOOKUP(D2255,#REF!,3,0))","v":{"$error":"#REF!"}},"堺泉北",{"$f":"IF(D2255=\"\",\"\",VLOOKUP(D2255,#REF!,4,0))","v":{"$error":"#REF!"}},{"$f":"IF(C2255=\"\",\"\",VLOOKUP(D2255,#REF!,5,0))","v":{"$error":"#REF!"}},"輸入","中国",{"$f":"IF(H2255=\"\",\"\",VLOOKUP(H2255,#REF!,2,0))","v":{"$error":"#REF!"}},{"v":16945,"d":"16,945 "},null,{"v":16817,"d":"16,817"},128]
["H30",{"$f":"IF(D2256=\"\",\"\",VLOOKUP(D2256,#REF!,2,0))","v":{"$error":"#REF!"}},{"$f":"IF(D2256=\"\",\"\",VLOOKUP(D2256,#REF!,3,0))","v":{"$error":"#REF!"}},"堺泉北",{"$f":"IF(D2256=\"\",\"\",VLOOKUP(D2256,#REF!,4,0))","v":{"$error":"#REF!"}},{"$f":"IF(C2256=\"\",\"\",VLOOKUP(D2256,#REF!,5,0))","v":{"$error":"#REF!"}},"輸入","タイ",{"$f":"IF(H2256=\"\",\"\",VLOOKUP(H2256,#REF!,2,0))","v":{"$error":"#REF!"}},{"v":226,"d":"226 "},null,226,0]
["H30",{"$f":"IF(D2257=\"\",\"\",VLOOKUP(D2257,#REF!,2,0))","v":{"$error":"#REF!"}},{"$f":"IF(D2257=\"\",\"\",VLOOKUP(D2257,#REF!,3,0))","v":{"$error":"#REF!"}},"堺泉北",{"$f":"IF(D2257=\"\",\"\",VLOOKUP(D2257,#REF!,4,0))","v":{"$error":"#REF!"}},{"$f":"IF(C2257=\"\",\"\",VLOOKUP(D2257,#REF!,5,0))","v":{"$error":"#REF!"}},"輸入","ベトナム",{"$f":"IF(H2257=\"\",\"\",VLOOKUP(H2257,#REF!,2,0))","v":{"$error":"#REF!"}},{"v":699,"d":"699 "},null,699,0]
["H30",{"$f":"IF(D2258=\"\",\"\",VLOOKUP(D2258,#REF!,2,0))","v":{"$error":"#REF!"}},{"$f":"IF(D2258=\"\",\"\",VLOOKUP(D2258,#REF!,3,0))","v":{"$error":"#REF!"}},"大阪",{"$f":"IF(D2258=\"\",\"\",VLOOKUP(D2258,#REF!,4,0))","v":{"$error":"#REF!"}},{"$f":"IF(C2258=\"\",\"\",VLOOKUP(D2258,#REF!,5,0))","v":{"$error":"#REF!"}},"輸入","韓国",{"$f":"IF(H2258=\"\",\"\",VLOOKUP(H2258,#REF!,2,0))","v":{"$error":"#REF!"}},{"v":113127.2,"d":"113,127 "},null,{"v":105731.8,"d":"105,732"},{"v":7395.4,"d":"7,395"}]
["H30",{"$f":"IF(D2259=\"\",\"\",VLOOKUP(D2259,#REF!,2,0))","v":{"$error":"#REF!"}},{"$f":"IF(D2259=\"\",\"\",VLOOKUP(D2259,#REF!,3,0))","v":{"$error":"#REF!"}},"大阪",{"$f":"IF(D2259=\"\",\"\",VLOOKUP(D2259,#REF!,4,0))","v":{"$error":"#REF!"}},{"$f":"IF(C2259=\"\",\"\",VLOOKUP(D2259,#REF!,5,0))","v":{"$error":"#REF!"}},"輸入","台湾",{"$f":"IF(H2259=\"\",\"\",VLOOKUP(H2259,#REF!,2,0))","v":{"$error":"#REF!"}},{"v":85500,"d":"85,500 "},null,{"v":85167,"d":"85,167"},333]
["H30",{"$f":"IF(D2260=\"\",\"\",VLOOKUP(D2260,#REF!,2,0))","v":{"$error":"#REF!"}},{"$f":"IF(D2260=\"\",\"\",VLOOKUP(D2260,#REF!,3,0))","v":{"$error":"#REF!"}},"大阪",{"$f":"IF(D2260=\"\",\"\",VLOOKUP(D2260,#REF!,4,0))","v":{"$error":"#REF!"}},{"$f":"IF(C2260=\"\",\"\",VLOOKUP(D2260,#REF!,5,0))","v":{"$error":"#REF!"}},"輸入","中国",{"$f":"IF(H2260=\"\",\"\",VLOOKUP(H2260,#REF!,2,0))","v":{"$error":"#REF!"}},{"v":619487,"d":"619,487 "},null,{"v":606715,"d":"606,715"},{"v":12772,"d":"12,772"}]
["H30",{"$f":"IF(D2261=\"\",\"\",VLOOKUP(D2261,#REF!,2,0))","v":{"$error":"#REF!"}},{"$f":"IF(D2261=\"\",\"\",VLOOKUP(D2261,#REF!,3,0))","v":{"$error":"#REF!"}},"大阪",{"$f":"IF(D2261=\"\",\"\",VLOOKUP(D2261,#REF!,4,0))","v":{"$error":"#REF!"}},{"$f":"IF(C2261=\"\",\"\",VLOOKUP(D2261,#REF!,5,0))","v":{"$error":"#REF!"}},"輸入","香港",{"$f":"IF(H2261=\"\",\"\",VLOOKUP(H2261,#REF!,2,0))","v":{"$error":"#REF!"}},{"v":96712,"d":"96,712 "},null,{"v":96611,"d":"96,611"},101]
["H30",{"$f":"IF(D2262=\"\",\"\",VLOOKUP(D2262,#REF!,2,0))","v":{"$error":"#REF!"}},{"$f":"IF(D2262=\"\",\"\",VLOOKUP(D2262,#REF!,3,0))","v":{"$error":"#REF!"}},"大阪",{"$f":"IF(D2262=\"\",\"\",VLOOKUP(D2262,#REF!,4,0))","v":{"$error":"#REF!"}},{"$f":"IF(C2262=\"\",\"\",VLOOKUP(D2262,#REF!,5,0))","v":{"$error":"#REF!"}},"輸入","カンボジア",{"$f":"IF(H2262=\"\",\"\",VLOOKUP(H2262,#REF!,2,0))","v":{"$error":"#REF!"}},{"v":41,"d":"41 "},null,41,0]
["H30",{"$f":"IF(D2263=\"\",\"\",VLOOKUP(D2263,#REF!,2,0))","v":{"$error":"#REF!"}},{"$f":"IF(D2263=\"\",\"\",VLOOKUP(D2263,#REF!,3,0))","v":{"$error":"#REF!"}},"大阪",{"$f":"IF(D2263=\"\",\"\",VLOOKUP(D2263,#REF!,4,0))","v":{"$error":"#REF!"}},{"$f":"IF(C2263=\"\",\"\",VLOOKUP(D2263,#REF!,5,0))","v":{"$error":"#REF!"}},"輸入","シンガポール",{"$f":"IF(H2263=\"\",\"\",VLOOKUP(H2263,#REF!,2,0))","v":{"$error":"#REF!"}},{"v":28404,"d":"28,404 "},null,{"v":28390,"d":"28,390"},14]
["H30",{"$f":"IF(D2264=\"\",\"\",VLOOKUP(D2264,#REF!,2,0))","v":{"$error":"#REF!"}},{"$f":"IF(D2264=\"\",\"\",VLOOKUP(D2264,#REF!,3,0))","v":{"$error":"#REF!"}},"大阪",{"$f":"IF(D2264=\"\",\"\",VLOOKUP(D2264,#REF!,4,0))","v":{"$error":"#REF!"}},{"$f":"IF(C2264=\"\",\"\",VLOOKUP(D2264,#REF!,5,0))","v":{"$error":"#REF!"}},"輸入","タイ",{"$f":"IF(H2264=\"\",\"\",VLOOKUP(H2264,#REF!,2,0))","v":{"$error":"#REF!"}},{"v":66295,"d":"66,295 "},null,{"v":66199,"d":"66,199"},96]
["H30",{"$f":"IF(D2265=\"\",\"\",VLOOKUP(D2265,#REF!,2,0))","v":{"$error":"#REF!"}},{"$f":"IF(D2265=\"\",\"\",VLOOKUP(D2265,#REF!,3,0))","v":{"$error":"#REF!"}},"大阪",{"$f":"IF(D2265=\"\",\"\",VLOOKUP(D2265,#REF!,4,0))","v":{"$error":"#REF!"}},{"$f":"IF(C2265=\"\",\"\",VLOOKUP(D2265,#REF!,5,0))","v":{"$error":"#REF!"}},"輸入","フィリピン",{"$f":"IF(H2265=\"\",\"\",VLOOKUP(H2265,#REF!,2,0))","v":{"$error":"#REF!"}},{"v":5545,"d":"5,545 "},null,{"v":5496,"d":"5,496"},49]
["H30",{"$f":"IF(D2266=\"\",\"\",VLOOKUP(D2266,#REF!,2,0))","v":{"$error":"#REF!"}},{"$f":"IF(D2266=\"\",\"\",VLOOKUP(D2266,#REF!,3,0))","v":{"$error":"#REF!"}},"大阪",{"$f":"IF(D2266=\"\",\"\",VLOOKUP(D2266,#REF!,4,0))","v":{"$error":"#REF!"}},{"$f":"IF(C2266=\"\",\"\",VLOOKUP(D2266,#REF!,5,0))","v":{"$error":"#REF!"}},"輸入","マレーシア",{"$f":"IF(H2266=\"\",\"\",VLOOKUP(H2266,#REF!,2,0))","v":{"$error":"#REF!"}},{"v":21665,"d":"21,665 "},null,{"v":21645,"d":"21,645"},20]
["H30",{"$f":"IF(D2267=\"\",\"\",VLOOKUP(D2267,#REF!,2,0))","v":{"$error":"#REF!"}},{"$f":"IF(D2267=\"\",\"\",VLOOKUP(D2267,#REF!,3,0))","v":{"$error":"#REF!"}},"大阪",{"$f":"IF(D2267=\"\",\"\",VLOOKUP(D2267,#REF!,4,0))","v":{"$error":"#REF!"}},{"$f":"IF(C2267=\"\",\"\",VLOOKUP(D2267,#REF!,5,0))","v":{"$error":"#REF!"}},"輸入","ベトナム",{"$f":"IF(H2267=\"\",\"\",VLOOKUP(H2267,#REF!,2,0))","v":{"$error":"#REF!"}},{"v":56471,"d":"56,471 "},null,{"v":56442,"d":"56,442"},29]
["H30",{"$f":"IF(D2268=\"\",\"\",VLOOKUP(D2268,#REF!,2,0))","v":{"$error":"#REF!"}},{"$f":"IF(D2268=\"\",\"\",VLOOKUP(D2268,#REF!,3,0))","v":{"$error":"#REF!"}},"大阪",{"$f":"IF(D2268=\"\",\"\",VLOOKUP(D2268,#REF!,4,0))","v":{"$error":"#REF!"}},{"$f":"IF(C2268=\"\",\"\",VLOOKUP(D2268,#REF!,5,0))","v":{"$error":"#REF!"}},"輸入","インド",{"$f":"IF(H2268=\"\",\"\",VLOOKUP(H2268,#REF!,2,0))","v":{"$error":"#REF!"}},{"v":144,"d":"144 "},null,144,0]
["H30",{"$f":"IF(D2269=\"\",\"\",VLOOKUP(D2269,#REF!,2,0))","v":{"$error":"#REF!"}},{"$f":"IF(D2269=\"\",\"\",VLOOKUP(D2269,#REF!,3,0))","v":{"$error":"#REF!"}},"大阪",{"$f":"IF(D2269=\"\",\"\",VLOOKUP(D2269,#REF!,4,0))","v":{"$error":"#REF!"}},{"$f":"IF(C2269=\"\",\"\",VLOOKUP(D2269,#REF!,5,0))","v":{"$error":"#REF!"}},"輸入","スリランカ",{"$f":"IF(H2269=\"\",\"\",VLOOKUP(H2269,#REF!,2,0))","v":{"$error":"#REF!"}},{"v":160,"d":"160 "},null,160,0]
["H30",{"$f":"IF(D2270=\"\",\"\",VLOOKUP(D2270,#REF!,2,0))","v":{"$error":"#REF!"}},{"$f":"IF(D2270=\"\",\"\",VLOOKUP(D2270,#REF!,3,0))","v":{"$error":"#REF!"}},"大阪",{"$f":"IF(D2270=\"\",\"\",VLOOKUP(D2270,#REF!,4,0))","v":{"$error":"#REF!"}},{"$f":"IF(C2270=\"\",\"\",VLOOKUP(D2270,#REF!,5,0))","v":{"$error":"#REF!"}},"輸入","パキスタン",{"$f":"IF(H2270=\"\",\"\",VLOOKUP(H2270,#REF!,2,0))","v":{"$error":"#REF!"}},{"v":316,"d":"316 "},null,316,0]
["H30",{"$f":"IF(D2271=\"\",\"\",VLOOKUP(D2271,#REF!,2,0))","v":{"$error":"#REF!"}},{"$f":"IF(D2271=\"\",\"\",VLOOKUP(D2271,#REF!,3,0))","v":{"$error":"#REF!"}},"大阪",{"$f":"IF(D2271=\"\",\"\",VLOOKUP(D2271,#REF!,4,0))","v":{"$error":"#REF!"}},{"$f":"IF(C2271=\"\",\"\",VLOOKUP(D2271,#REF!,5,0))","v":{"$error":"#REF!"}},"輸入","オーストラリア",{"$f":"IF(H2271=\"\",\"\",VLOOKUP(H2271,#REF!,2,0))","v":{"$error":"#REF!"}},{"v":33384,"d":"33,384 "},null,{"v":21180,"d":"21,180"},{"v":12204,"d":"12,204"}]
["H30",{"$f":"IF(D2272=\"\",\"\",VLOOKUP(D2272,#REF!,2,0))","v":{"$error":"#REF!"}},{"$f":"IF(D2272=\"\",\"\",VLOOKUP(D2272,#REF!,3,0))","v":{"$error":"#REF!"}},"大阪",{"$f":"IF(D2272=\"\",\"\",VLOOKUP(D2272,#REF!,4,0))","v":{"$error":"#REF!"}},{"$f":"IF(C2272=\"\",\"\",VLOOKUP(D2272,#REF!,5,0))","v":{"$error":"#REF!"}},"輸入","アメリカ合衆国",{"$f":"IF(H2272=\"\",\"\",VLOOKUP(H2272,#REF!,2,0))","v":{"$error":"#REF!"}},{"v":11045,"d":"11,045 "},null,{"v":10982,"d":"10,982"},63]
["H30",{"$f":"IF(D2273=\"\",\"\",VLOOKUP(D2273,#REF!,2,0))","v":{"$error":"#REF!"}},{"$f":"IF(D2273=\"\",\"\",VLOOKUP(D2273,#REF!,3,0))","v":{"$error":"#REF!"}},"大阪",{"$f":"IF(D2273=\"\",\"\",VLOOKUP(D2273,#REF!,4,0))","v":{"$error":"#REF!"}},{"$f":"IF(C2273=\"\",\"\",VLOOKUP(D2273,#REF!,5,0))","v":{"$error":"#REF!"}},"輸入","カナダ",{"$f":"IF(H2273=\"\",\"\",VLOOKUP(H2273,#REF!,2,0))","v":{"$error":"#REF!"}},{"v":12137,"d":"12,137 "},null,{"v":11522,"d":"11,522"},615]
["H30",{"$f":"IF(D2274=\"\",\"\",VLOOKUP(D2274,#REF!,2,0))","v":{"$error":"#REF!"}},{"$f":"IF(D2274=\"\",\"\",VLOOKUP(D2274,#REF!,3,0))","v":{"$error":"#REF!"}},"神戸",{"$f":"IF(D2274=\"\",\"\",VLOOKUP(D2274,#REF!,4,0))","v":{"$error":"#REF!"}},{"$f":"IF(C2274=\"\",\"\",VLOOKUP(D2274,#REF!,5,0))","v":{"$error":"#REF!"}},"輸入","韓国",{"$f":"IF(H2274=\"\",\"\",VLOOKUP(H2274,#REF!,2,0))","v":{"$error":"#REF!"}},{"v":64047,"d":"64,047 "},null,{"v":52296,"d":"52,296"},{"v":11751,"d":"11,751"}]
["H30",{"$f":"IF(D2275=\"\",\"\",VLOOKUP(D2275,#REF!,2,0))","v":{"$error":"#REF!"}},{"$f":"IF(D2275=\"\",\"\",VLOOKUP(D2275,#REF!,3,0))","v":{"$error":"#REF!"}},"神戸",{"$f":"IF(D2275=\"\",\"\",VLOOKUP(D2275,#REF!,4,0))","v":{"$error":"#REF!"}},{"$f":"IF(C2275=\"\",\"\",VLOOKUP(D2275,#REF!,5,0))","v":{"$error":"#REF!"}},"輸入","台湾",{"$f":"IF(H2275=\"\",\"\",VLOOKUP(H2275,#REF!,2,0))","v":{"$error":"#REF!"}},{"v":60234.75,"d":"60,235 "},null,{"v":57287.75,"d":"57,288"},{"v":2947,"d":"2,947"}]
["H30",{"$f":"IF(D2276=\"\",\"\",VLOOKUP(D2276,#REF!,2,0))","v":{"$error":"#REF!"}},{"$f":"IF(D2276=\"\",\"\",VLOOKUP(D2276,#REF!,3,0))","v":{"$error":"#REF!"}},"神戸",{"$f":"IF(D2276=\"\",\"\",VLOOKUP(D2276,#REF!,4,0))","v":{"$error":"#REF!"}},{"$f":"IF(C2276=\"\",\"\",VLOOKUP(D2276,#REF!,5,0))","v":{"$error":"#REF!"}},"輸入","中国",{"$f":"IF(H2276=\"\",\"\",VLOOKUP(H2276,#REF!,2,0))","v":{"$error":"#REF!"}},{"v":349657.25,"d":"349,657 "},{"v":8184,"d":"8,184"},{"v":328138.25,"d":"328,138"},{"v":21519,"d":"21,519"}]
["H30",{"$f":"IF(D2277=\"\",\"\",VLOOKUP(D2277,#REF!,2,0))","v":{"$error":"#REF!"}},{"$f":"IF(D2277=\"\",\"\",VLOOKUP(D2277,#REF!,3,0))","v":{"$error":"#REF!"}},"神戸",{"$f":"IF(D2277=\"\",\"\",VLOOKUP(D2277,#REF!,4,0))","v":{"$error":"#REF!"}},{"$f":"IF(C2277=\"\",\"\",VLOOKUP(D2277,#REF!,5,0))","v":{"$error":"#REF!"}},"輸入","香港",{"$f":"IF(H2277=\"\",\"\",VLOOKUP(H2277,#REF!,2,0))","v":{"$error":"#REF!"}},{"v":67098.75,"d":"67,099 "},26,{"v":61048.25,"d":"61,048"},{"v":6050.5,"d":"6,051"}]
["H30",{"$f":"IF(D2278=\"\",\"\",VLOOKUP(D2278,#REF!,2,0))","v":{"$error":"#REF!"}},{"$f":"IF(D2278=\"\",\"\",VLOOKUP(D2278,#REF!,3,0))","v":{"$error":"#REF!"}},"神戸",{"$f":"IF(D2278=\"\",\"\",VLOOKUP(D2278,#REF!,4,0))","v":{"$error":"#REF!"}},{"$f":"IF(C2278=\"\",\"\",VLOOKUP(D2278,#REF!,5,0))","v":{"$error":"#REF!"}},"輸入","インドネシア",{"$f":"IF(H2278=\"\",\"\",VLOOKUP(H2278,#REF!,2,0))","v":{"$error":"#REF!"}},{"v":13247,"d":"13,247 "},null,{"v":12945,"d":"12,945"},302]
["H30",{"$f":"IF(D2279=\"\",\"\",VLOOKUP(D2279,#REF!,2,0))","v":{"$error":"#REF!"}},{"$f":"IF(D2279=\"\",\"\",VLOOKUP(D2279,#REF!,3,0))","v":{"$error":"#REF!"}},"神戸",{"$f":"IF(D2279=\"\",\"\",VLOOKUP(D2279,#REF!,4,0))","v":{"$error":"#REF!"}},{"$f":"IF(C2279=\"\",\"\",VLOOKUP(D2279,#REF!,5,0))","v":{"$error":"#REF!"}},"輸入","カンボジア",{"$f":"IF(H2279=\"\",\"\",VLOOKUP(H2279,#REF!,2,0))","v":{"$error":"#REF!"}},{"v":25,"d":"25 "},6,25,0]
["H30",{"$f":"IF(D2280=\"\",\"\",VLOOKUP(D2280,#REF!,2,0))","v":{"$error":"#REF!"}},{"$f":"IF(D2280=\"\",\"\",VLOOKUP(D2280,#REF!,3,0))","v":{"$error":"#REF!"}},"神戸",{"$f":"IF(D2280=\"\",\"\",VLOOKUP(D2280,#REF!,4,0))","v":{"$error":"#REF!"}},{"$f":"IF(C2280=\"\",\"\",VLOOKUP(D2280,#REF!,5,0))","v":{"$error":"#REF!"}},"輸入","シンガポール",{"$f":"IF(H2280=\"\",\"\",VLOOKUP(H2280,#REF!,2,0))","v":{"$error":"#REF!"}},{"v":62971,"d":"62,971 "},1,{"v":61094,"d":"61,094"},{"v":1877,"d":"1,877"}]
["H30",{"$f":"IF(D2281=\"\",\"\",VLOOKUP(D2281,#REF!,2,0))","v":{"$error":"#REF!"}},{"$f":"IF(D2281=\"\",\"\",VLOOKUP(D2281,#REF!,3,0))","v":{"$error":"#REF!"}},"神戸",{"$f":"IF(D2281=\"\",\"\",VLOOKUP(D2281,#REF!,4,0))","v":{"$error":"#REF!"}},{"$f":"IF(C2281=\"\",\"\",VLOOKUP(D2281,#REF!,5,0))","v":{"$error":"#REF!"}},"輸入","タイ",{"$f":"IF(H2281=\"\",\"\",VLOOKUP(H2281,#REF!,2,0))","v":{"$error":"#REF!"}},{"v":56919,"d":"56,919 "},308,{"v":56293,"d":"56,293"},626]
["H30",{"$f":"IF(D2282=\"\",\"\",VLOOKUP(D2282,#REF!,2,0))","v":{"$error":"#REF!"}},{"$f":"IF(D2282=\"\",\"\",VLOOKUP(D2282,#REF!,3,0))","v":{"$error":"#REF!"}},"神戸",{"$f":"IF(D2282=\"\",\"\",VLOOKUP(D2282,#REF!,4,0))","v":{"$error":"#REF!"}},{"$f":"IF(C2282=\"\",\"\",VLOOKUP(D2282,#REF!,5,0))","v":{"$error":"#REF!"}},"輸入","フィリピン",{"$f":"IF(H2282=\"\",\"\",VLOOKUP(H2282,#REF!,2,0))","v":{"$error":"#REF!"}},{"v":6243.5,"d":"6,244 "},null,{"v":4052.5,"d":"4,053"},{"v":2191,"d":"2,191"}]
["H30",{"$f":"IF(D2283=\"\",\"\",VLOOKUP(D2283,#REF!,2,0))","v":{"$error":"#REF!"}},{"$f":"IF(D2283=\"\",\"\",VLOOKUP(D2283,#REF!,3,0))","v":{"$error":"#REF!"}},"神戸",{"$f":"IF(D2283=\"\",\"\",VLOOKUP(D2283,#REF!,4,0))","v":{"$error":"#REF!"}},{"$f":"IF(C2283=\"\",\"\",VLOOKUP(D2283,#REF!,5,0))","v":{"$error":"#REF!"}},"輸入","マレーシア",{"$f":"IF(H2283=\"\",\"\",VLOOKUP(H2283,#REF!,2,0))","v":{"$error":"#REF!"}},{"v":30835.5,"d":"30,836 "},8,{"v":30305.5,"d":"30,306"},530]
["H30",{"$f":"IF(D2284=\"\",\"\",VLOOKUP(D2284,#REF!,2,0))","v":{"$error":"#REF!"}},{"$f":"IF(D2284=\"\",\"\",VLOOKUP(D2284,#REF!,3,0))","v":{"$error":"#REF!"}},"神戸",{"$f":"IF(D2284=\"\",\"\",VLOOKUP(D2284,#REF!,4,0))","v":{"$error":"#REF!"}},{"$f":"IF(C2284=\"\",\"\",VLOOKUP(D2284,#REF!,5,0))","v":{"$error":"#REF!"}},"輸入","ベトナム",{"$f":"IF(H2284=\"\",\"\",VLOOKUP(H2284,#REF!,2,0))","v":{"$error":"#REF!"}},{"v":44529,"d":"44,529 "},347,{"v":43652,"d":"43,652"},877]
["H30",{"$f":"IF(D2285=\"\",\"\",VLOOKUP(D2285,#REF!,2,0))","v":{"$error":"#REF!"}},{"$f":"IF(D2285=\"\",\"\",VLOOKUP(D2285,#REF!,3,0))","v":{"$error":"#REF!"}},"神戸",{"$f":"IF(D2285=\"\",\"\",VLOOKUP(D2285,#REF!,4,0))","v":{"$error":"#REF!"}},{"$f":"IF(C2285=\"\",\"\",VLOOKUP(D2285,#REF!,5,0))","v":{"$error":"#REF!"}},"輸入","インド",{"$f":"IF(H2285=\"\",\"\",VLOOKUP(H2285,#REF!,2,0))","v":{"$error":"#REF!"}},{"v":319,"d":"319 "},null,313,6]
["H30",{"$f":"IF(D2286=\"\",\"\",VLOOKUP(D2286,#REF!,2,0))","v":{"$error":"#REF!"}},{"$f":"IF(D2286=\"\",\"\",VLOOKUP(D2286,#REF!,3,0))","v":{"$error":"#REF!"}},"神戸",{"$f":"IF(D2286=\"\",\"\",VLOOKUP(D2286,#REF!,4,0))","v":{"$error":"#REF!"}},{"$f":"IF(C2286=\"\",\"\",VLOOKUP(D2286,#REF!,5,0))","v":{"$error":"#REF!"}},"輸入","スリランカ",{"$f":"IF(H2286=\"\",\"\",VLOOKUP(H2286,#REF!,2,0))","v":{"$error":"#REF!"}},{"v":312,"d":"312 "},null,312,0]
["H30",{"$f":"IF(D2287=\"\",\"\",VLOOKUP(D2287,#REF!,2,0))","v":{"$error":"#REF!"}},{"$f":"IF(D2287=\"\",\"\",VLOOKUP(D2287,#REF!,3,0))","v":{"$error":"#REF!"}},"神戸",{"$f":"IF(D2287=\"\",\"\",VLOOKUP(D2287,#REF!,4,0))","v":{"$error":"#REF!"}},{"$f":"IF(C2287=\"\",\"\",VLOOKUP(D2287,#REF!,5,0))","v":{"$error":"#REF!"}},"輸入","パキスタン",{"$f":"IF(H2287=\"\",\"\",VLOOKUP(H2287,#REF!,2,0))","v":{"$error":"#REF!"}},{"v":9,"d":"9 "},null,7,2]
["H30",{"$f":"IF(D2288=\"\",\"\",VLOOKUP(D2288,#REF!,2,0))","v":{"$error":"#REF!"}},{"$f":"IF(D2288=\"\",\"\",VLOOKUP(D2288,#REF!,3,0))","v":{"$error":"#REF!"}},"神戸",{"$f":"IF(D2288=\"\",\"\",VLOOKUP(D2288,#REF!,4,0))","v":{"$error":"#REF!"}},{"$f":"IF(C2288=\"\",\"\",VLOOKUP(D2288,#REF!,5,0))","v":{"$error":"#REF!"}},"輸入","オーストラリア",{"$f":"IF(H2288=\"\",\"\",VLOOKUP(H2288,#REF!,2,0))","v":{"$error":"#REF!"}},{"v":132,"d":"132 "},null,27,105]
["H30",{"$f":"IF(D2289=\"\",\"\",VLOOKUP(D2289,#REF!,2,0))","v":{"$error":"#REF!"}},{"$f":"IF(D2289=\"\",\"\",VLOOKUP(D2289,#REF!,3,0))","v":{"$error":"#REF!"}},"神戸",{"$f":"IF(D2289=\"\",\"\",VLOOKUP(D2289,#REF!,4,0))","v":{"$error":"#REF!"}},{"$f":"IF(C2289=\"\",\"\",VLOOKUP(D2289,#REF!,5,0))","v":{"$error":"#REF!"}},"輸入","仏領ポリネシア",{"$f":"IF(H2289=\"\",\"\",VLOOKUP(H2289,#REF!,2,0))","v":{"$error":"#REF!"}},{"v":25,"d":"25 "},null,3,22]
["H30",{"$f":"IF(D2290=\"\",\"\",VLOOKUP(D2290,#REF!,2,0))","v":{"$error":"#REF!"}},{"$f":"IF(D2290=\"\",\"\",VLOOKUP(D2290,#REF!,3,0))","v":{"$error":"#REF!"}},"神戸",{"$f":"IF(D2290=\"\",\"\",VLOOKUP(D2290,#REF!,4,0))","v":{"$error":"#REF!"}},{"$f":"IF(C2290=\"\",\"\",VLOOKUP(D2290,#REF!,5,0))","v":{"$error":"#REF!"}},"輸入","グアム",{"$f":"IF(H2290=\"\",\"\",VLOOKUP(H2290,#REF!,2,0))","v":{"$error":"#REF!"}},{"v":3,"d":"3 "},null,2,1]
["H30",{"$f":"IF(D2291=\"\",\"\",VLOOKUP(D2291,#REF!,2,0))","v":{"$error":"#REF!"}},{"$f":"IF(D2291=\"\",\"\",VLOOKUP(D2291,#REF!,3,0))","v":{"$error":"#REF!"}},"神戸",{"$f":"IF(D2291=\"\",\"\",VLOOKUP(D2291,#REF!,4,0))","v":{"$error":"#REF!"}},{"$f":"IF(C2291=\"\",\"\",VLOOKUP(D2291,#REF!,5,0))","v":{"$error":"#REF!"}},"輸入","サモア独立国",{"$f":"IF(H2291=\"\",\"\",VLOOKUP(H2291,#REF!,2,0))","v":{"$error":"#REF!"}},{"v":1,"d":"1 "},null,1,0]
["H30",{"$f":"IF(D2292=\"\",\"\",VLOOKUP(D2292,#REF!,2,0))","v":{"$error":"#REF!"}},{"$f":"IF(D2292=\"\",\"\",VLOOKUP(D2292,#REF!,3,0))","v":{"$error":"#REF!"}},"神戸",{"$f":"IF(D2292=\"\",\"\",VLOOKUP(D2292,#REF!,4,0))","v":{"$error":"#REF!"}},{"$f":"IF(C2292=\"\",\"\",VLOOKUP(D2292,#REF!,5,0))","v":{"$error":"#REF!"}},"輸入","ソロモン諸島",{"$f":"IF(H2292=\"\",\"\",VLOOKUP(H2292,#REF!,2,0))","v":{"$error":"#REF!"}},{"v":4,"d":"4 "},null,0,4]
["H30",{"$f":"IF(D2293=\"\",\"\",VLOOKUP(D2293,#REF!,2,0))","v":{"$error":"#REF!"}},{"$f":"IF(D2293=\"\",\"\",VLOOKUP(D2293,#REF!,3,0))","v":{"$error":"#REF!"}},"神戸",{"$f":"IF(D2293=\"\",\"\",VLOOKUP(D2293,#REF!,4,0))","v":{"$error":"#REF!"}},{"$f":"IF(C2293=\"\",\"\",VLOOKUP(D2293,#REF!,5,0))","v":{"$error":"#REF!"}},"輸入","トンガ",{"$f":"IF(H2293=\"\",\"\",VLOOKUP(H2293,#REF!,2,0))","v":{"$error":"#REF!"}},{"v":5,"d":"5 "},null,1,4]
["H30",{"$f":"IF(D2294=\"\",\"\",VLOOKUP(D2294,#REF!,2,0))","v":{"$error":"#REF!"}},{"$f":"IF(D2294=\"\",\"\",VLOOKUP(D2294,#REF!,3,0))","v":{"$error":"#REF!"}},"神戸",{"$f":"IF(D2294=\"\",\"\",VLOOKUP(D2294,#REF!,4,0))","v":{"$error":"#REF!"}},{"$f":"IF(C2294=\"\",\"\",VLOOKUP(D2294,#REF!,5,0))","v":{"$error":"#REF!"}},"輸入","ニューカレドニア",{"$f":"IF(H2294=\"\",\"\",VLOOKUP(H2294,#REF!,2,0))","v":{"$error":"#REF!"}},{"v":7,"d":"7 "},null,0,7]
["H30",{"$f":"IF(D2295=\"\",\"\",VLOOKUP(D2295,#REF!,2,0))","v":{"$error":"#REF!"}},{"$f":"IF(D2295=\"\",\"\",VLOOKUP(D2295,#REF!,3,0))","v":{"$error":"#REF!"}},"神戸",{"$f":"IF(D2295=\"\",\"\",VLOOKUP(D2295,#REF!,4,0))","v":{"$error":"#REF!"}},{"$f":"IF(C2295=\"\",\"\",VLOOKUP(D2295,#REF!,5,0))","v":{"$error":"#REF!"}},"輸入","ニュージーランド",{"$f":"IF(H2295=\"\",\"\",VLOOKUP(H2295,#REF!,2,0))","v":{"$error":"#REF!"}},{"v":8963.5,"d":"8,964 "},1,{"v":8835.5,"d":"8,836"},128]
["H30",{"$f":"IF(D2296=\"\",\"\",VLOOKUP(D2296,#REF!,2,0))","v":{"$error":"#REF!"}},{"$f":"IF(D2296=\"\",\"\",VLOOKUP(D2296,#REF!,3,0))","v":{"$error":"#REF!"}},"神戸",{"$f":"IF(D2296=\"\",\"\",VLOOKUP(D2296,#REF!,4,0))","v":{"$error":"#REF!"}},{"$f":"IF(C2296=\"\",\"\",VLOOKUP(D2296,#REF!,5,0))","v":{"$error":"#REF!"}},"輸入","パプアニューギニア",{"$f":"IF(H2296=\"\",\"\",VLOOKUP(H2296,#REF!,2,0))","v":{"$error":"#REF!"}},{"v":10,"d":"10 "},null,10,0]
["H30",{"$f":"IF(D2297=\"\",\"\",VLOOKUP(D2297,#REF!,2,0))","v":{"$error":"#REF!"}},{"$f":"IF(D2297=\"\",\"\",VLOOKUP(D2297,#REF!,3,0))","v":{"$error":"#REF!"}},"神戸",{"$f":"IF(D2297=\"\",\"\",VLOOKUP(D2297,#REF!,4,0))","v":{"$error":"#REF!"}},{"$f":"IF(C2297=\"\",\"\",VLOOKUP(D2297,#REF!,5,0))","v":{"$error":"#REF!"}},"輸入","フィジー",{"$f":"IF(H2297=\"\",\"\",VLOOKUP(H2297,#REF!,2,0))","v":{"$error":"#REF!"}},{"v":13,"d":"13 "},null,0,13]
["H30",{"$f":"IF(D2298=\"\",\"\",VLOOKUP(D2298,#REF!,2,0))","v":{"$error":"#REF!"}},{"$f":"IF(D2298=\"\",\"\",VLOOKUP(D2298,#REF!,3,0))","v":{"$error":"#REF!"}},"神戸",{"$f":"IF(D2298=\"\",\"\",VLOOKUP(D2298,#REF!,4,0))","v":{"$error":"#REF!"}},{"$f":"IF(C2298=\"\",\"\",VLOOKUP(D2298,#REF!,5,0))","v":{"$error":"#REF!"}},"輸入","キリバス",{"$f":"IF(H2298=\"\",\"\",VLOOKUP(H2298,#REF!,2,0))","v":{"$error":"#REF!"}},{"v":6,"d":"6 "},null,0,6]
["H30",{"$f":"IF(D2299=\"\",\"\",VLOOKUP(D2299,#REF!,2,0))","v":{"$error":"#REF!"}},{"$f":"IF(D2299=\"\",\"\",VLOOKUP(D2299,#REF!,3,0))","v":{"$error":"#REF!"}},"神戸",{"$f":"IF(D2299=\"\",\"\",VLOOKUP(D2299,#REF!,4,0))","v":{"$error":"#REF!"}},{"$f":"IF(C2299=\"\",\"\",VLOOKUP(D2299,#REF!,5,0))","v":{"$error":"#REF!"}},"輸入","バヌアツ",{"$f":"IF(H2299=\"\",\"\",VLOOKUP(H2299,#REF!,2,0))","v":{"$error":"#REF!"}},{"v":9,"d":"9 "},null,4,5]
["H30",{"$f":"IF(D2300=\"\",\"\",VLOOKUP(D2300,#REF!,2,0))","v":{"$error":"#REF!"}},{"$f":"IF(D2300=\"\",\"\",VLOOKUP(D2300,#REF!,3,0))","v":{"$error":"#REF!"}},"神戸",{"$f":"IF(D2300=\"\",\"\",VLOOKUP(D2300,#REF!,4,0))","v":{"$error":"#REF!"}},{"$f":"IF(C2300=\"\",\"\",VLOOKUP(D2300,#REF!,5,0))","v":{"$error":"#REF!"}},"輸入","米領サモア",{"$f":"IF(H2300=\"\",\"\",VLOOKUP(H2300,#REF!,2,0))","v":{"$error":"#REF!"}},{"v":1,"d":"1 "},null,0,1]
["H30",{"$f":"IF(D2301=\"\",\"\",VLOOKUP(D2301,#REF!,2,0))","v":{"$error":"#REF!"}},{"$f":"IF(D2301=\"\",\"\",VLOOKUP(D2301,#REF!,3,0))","v":{"$error":"#REF!"}},"神戸",{"$f":"IF(D2301=\"\",\"\",VLOOKUP(D2301,#REF!,4,0))","v":{"$error":"#REF!"}},{"$f":"IF(C2301=\"\",\"\",VLOOKUP(D2301,#REF!,5,0))","v":{"$error":"#REF!"}},"輸入","ミクロネシア",{"$f":"IF(H2301=\"\",\"\",VLOOKUP(H2301,#REF!,2,0))","v":{"$error":"#REF!"}},{"v":46,"d":"46 "},null,0,46]
["H30",{"$f":"IF(D2302=\"\",\"\",VLOOKUP(D2302,#REF!,2,0))","v":{"$error":"#REF!"}},{"$f":"IF(D2302=\"\",\"\",VLOOKUP(D2302,#REF!,3,0))","v":{"$error":"#REF!"}},"神戸",{"$f":"IF(D2302=\"\",\"\",VLOOKUP(D2302,#REF!,4,0))","v":{"$error":"#REF!"}},{"$f":"IF(C2302=\"\",\"\",VLOOKUP(D2302,#REF!,5,0))","v":{"$error":"#REF!"}},"輸入","マーシャル諸島",{"$f":"IF(H2302=\"\",\"\",VLOOKUP(H2302,#REF!,2,0))","v":{"$error":"#REF!"}},{"v":3,"d":"3 "},null,0,3]
["H30",{"$f":"IF(D2303=\"\",\"\",VLOOKUP(D2303,#REF!,2,0))","v":{"$error":"#REF!"}},{"$f":"IF(D2303=\"\",\"\",VLOOKUP(D2303,#REF!,3,0))","v":{"$error":"#REF!"}},"神戸",{"$f":"IF(D2303=\"\",\"\",VLOOKUP(D2303,#REF!,4,0))","v":{"$error":"#REF!"}},{"$f":"IF(C2303=\"\",\"\",VLOOKUP(D2303,#REF!,5,0))","v":{"$error":"#REF!"}},"輸入","北マリアナ諸島",{"$f":"IF(H2303=\"\",\"\",VLOOKUP(H2303,#REF!,2,0))","v":{"$error":"#REF!"}},{"v":15,"d":"15 "},null,0,15]
["H30",{"$f":"IF(D2304=\"\",\"\",VLOOKUP(D2304,#REF!,2,0))","v":{"$error":"#REF!"}},{"$f":"IF(D2304=\"\",\"\",VLOOKUP(D2304,#REF!,3,0))","v":{"$error":"#REF!"}},"神戸",{"$f":"IF(D2304=\"\",\"\",VLOOKUP(D2304,#REF!,4,0))","v":{"$error":"#REF!"}},{"$f":"IF(C2304=\"\",\"\",VLOOKUP(D2304,#REF!,5,0))","v":{"$error":"#REF!"}},"輸入","南アフリカ",{"$f":"IF(H2304=\"\",\"\",VLOOKUP(H2304,#REF!,2,0))","v":{"$error":"#REF!"}},{"v":5361,"d":"5,361 "},null,{"v":1011,"d":"1,011"},{"v":4350,"d":"4,350"}]
["H30",{"$f":"IF(D2305=\"\",\"\",VLOOKUP(D2305,#REF!,2,0))","v":{"$error":"#REF!"}},{"$f":"IF(D2305=\"\",\"\",VLOOKUP(D2305,#REF!,3,0))","v":{"$error":"#REF!"}},"神戸",{"$f":"IF(D2305=\"\",\"\",VLOOKUP(D2305,#REF!,4,0))","v":{"$error":"#REF!"}},{"$f":"IF(C2305=\"\",\"\",VLOOKUP(D2305,#REF!,5,0))","v":{"$error":"#REF!"}},"輸入","レユニオン",{"$f":"IF(H2305=\"\",\"\",VLOOKUP(H2305,#REF!,2,0))","v":{"$error":"#REF!"}},{"v":156,"d":"156 "},null,0,156]
["H30",{"$f":"IF(D2306=\"\",\"\",VLOOKUP(D2306,#REF!,2,0))","v":{"$error":"#REF!"}},{"$f":"IF(D2306=\"\",\"\",VLOOKUP(D2306,#REF!,3,0))","v":{"$error":"#REF!"}},"神戸",{"$f":"IF(D2306=\"\",\"\",VLOOKUP(D2306,#REF!,4,0))","v":{"$error":"#REF!"}},{"$f":"IF(C2306=\"\",\"\",VLOOKUP(D2306,#REF!,5,0))","v":{"$error":"#REF!"}},"輸入","イギリス",{"$f":"IF(H2306=\"\",\"\",VLOOKUP(H2306,#REF!,2,0))","v":{"$error":"#REF!"}},{"v":6565,"d":"6,565 "},null,{"v":5900,"d":"5,900"},665]
["H30",{"$f":"IF(D2307=\"\",\"\",VLOOKUP(D2307,#REF!,2,0))","v":{"$error":"#REF!"}},{"$f":"IF(D2307=\"\",\"\",VLOOKUP(D2307,#REF!,3,0))","v":{"$error":"#REF!"}},"神戸",{"$f":"IF(D2307=\"\",\"\",VLOOKUP(D2307,#REF!,4,0))","v":{"$error":"#REF!"}},{"$f":"IF(C2307=\"\",\"\",VLOOKUP(D2307,#REF!,5,0))","v":{"$error":"#REF!"}},"輸入","オランダ",{"$f":"IF(H2307=\"\",\"\",VLOOKUP(H2307,#REF!,2,0))","v":{"$error":"#REF!"}},{"v":21601,"d":"21,601 "},null,{"v":21494,"d":"21,494"},107]
["H30",{"$f":"IF(D2308=\"\",\"\",VLOOKUP(D2308,#REF!,2,0))","v":{"$error":"#REF!"}},{"$f":"IF(D2308=\"\",\"\",VLOOKUP(D2308,#REF!,3,0))","v":{"$error":"#REF!"}},"神戸",{"$f":"IF(D2308=\"\",\"\",VLOOKUP(D2308,#REF!,4,0))","v":{"$error":"#REF!"}},{"$f":"IF(C2308=\"\",\"\",VLOOKUP(D2308,#REF!,5,0))","v":{"$error":"#REF!"}},"輸入","ドイツ",{"$f":"IF(H2308=\"\",\"\",VLOOKUP(H2308,#REF!,2,0))","v":{"$error":"#REF!"}},{"v":21835,"d":"21,835 "},null,{"v":21715,"d":"21,715"},120]
["H30",{"$f":"IF(D2309=\"\",\"\",VLOOKUP(D2309,#REF!,2,0))","v":{"$error":"#REF!"}},{"$f":"IF(D2309=\"\",\"\",VLOOKUP(D2309,#REF!,3,0))","v":{"$error":"#REF!"}},"神戸",{"$f":"IF(D2309=\"\",\"\",VLOOKUP(D2309,#REF!,4,0))","v":{"$error":"#REF!"}},{"$f":"IF(C2309=\"\",\"\",VLOOKUP(D2309,#REF!,5,0))","v":{"$error":"#REF!"}},"輸入","フランス",{"$f":"IF(H2309=\"\",\"\",VLOOKUP(H2309,#REF!,2,0))","v":{"$error":"#REF!"}},{"v":6071,"d":"6,071 "},3,{"v":6020,"d":"6,020"},51]
["H30",{"$f":"IF(D2310=\"\",\"\",VLOOKUP(D2310,#REF!,2,0))","v":{"$error":"#REF!"}},{"$f":"IF(D2310=\"\",\"\",VLOOKUP(D2310,#REF!,3,0))","v":{"$error":"#REF!"}},"神戸",{"$f":"IF(D2310=\"\",\"\",VLOOKUP(D2310,#REF!,4,0))","v":{"$error":"#REF!"}},{"$f":"IF(C2310=\"\",\"\",VLOOKUP(D2310,#REF!,5,0))","v":{"$error":"#REF!"}},"輸入","ロシア",{"$f":"IF(H2310=\"\",\"\",VLOOKUP(H2310,#REF!,2,0))","v":{"$error":"#REF!"}},{"v":1094,"d":"1,094 "},null,607,487]
["H30",{"$f":"IF(D2311=\"\",\"\",VLOOKUP(D2311,#REF!,2,0))","v":{"$error":"#REF!"}},{"$f":"IF(D2311=\"\",\"\",VLOOKUP(D2311,#REF!,3,0))","v":{"$error":"#REF!"}},"神戸",{"$f":"IF(D2311=\"\",\"\",VLOOKUP(D2311,#REF!,4,0))","v":{"$error":"#REF!"}},{"$f":"IF(C2311=\"\",\"\",VLOOKUP(D2311,#REF!,5,0))","v":{"$error":"#REF!"}},"輸入","アメリカ合衆国",{"$f":"IF(H2311=\"\",\"\",VLOOKUP(H2311,#REF!,2,0))","v":{"$error":"#REF!"}},{"v":164643.25,"d":"164,643 "},{"v":2061,"d":"2,061"},{"v":145234.5,"d":"145,235"},{"v":19408.75,"d":"19,409"}]
["H30",{"$f":"IF(D2312=\"\",\"\",VLOOKUP(D2312,#REF!,2,0))","v":{"$error":"#REF!"}},{"$f":"IF(D2312=\"\",\"\",VLOOKUP(D2312,#REF!,3,0))","v":{"$error":"#REF!"}},"神戸",{"$f":"IF(D2312=\"\",\"\",VLOOKUP(D2312,#REF!,4,0))","v":{"$error":"#REF!"}},{"$f":"IF(C2312=\"\",\"\",VLOOKUP(D2312,#REF!,5,0))","v":{"$error":"#REF!"}},"輸入","カナダ",{"$f":"IF(H2312=\"\",\"\",VLOOKUP(H2312,#REF!,2,0))","v":{"$error":"#REF!"}},{"v":22986,"d":"22,986 "},121,{"v":20688,"d":"20,688"},{"v":2298,"d":"2,298"}]
["H30",{"$f":"IF(D2313=\"\",\"\",VLOOKUP(D2313,#REF!,2,0))","v":{"$error":"#REF!"}},{"$f":"IF(D2313=\"\",\"\",VLOOKUP(D2313,#REF!,3,0))","v":{"$error":"#REF!"}},"神戸",{"$f":"IF(D2313=\"\",\"\",VLOOKUP(D2313,#REF!,4,0))","v":{"$error":"#REF!"}},{"$f":"IF(C2313=\"\",\"\",VLOOKUP(D2313,#REF!,5,0))","v":{"$error":"#REF!"}},"輸入","パナマ",{"$f":"IF(H2313=\"\",\"\",VLOOKUP(H2313,#REF!,2,0))","v":{"$error":"#REF!"}},{"v":992,"d":"992 "},19,755,237]
["H30",{"$f":"IF(D2314=\"\",\"\",VLOOKUP(D2314,#REF!,2,0))","v":{"$error":"#REF!"}},{"$f":"IF(D2314=\"\",\"\",VLOOKUP(D2314,#REF!,3,0))","v":{"$error":"#REF!"}},"和歌山下津",{"$f":"IF(D2314=\"\",\"\",VLOOKUP(D2314,#REF!,4,0))","v":{"$error":"#REF!"}},{"$f":"IF(C2314=\"\",\"\",VLOOKUP(D2314,#REF!,5,0))","v":{"$error":"#REF!"}},"輸入","韓国",{"$f":"IF(H2314=\"\",\"\",VLOOKUP(H2314,#REF!,2,0))","v":{"$error":"#REF!"}},{"v":2134,"d":"2,134 "},null,{"v":2090,"d":"2,090"},44]
["H30",{"$f":"IF(D2315=\"\",\"\",VLOOKUP(D2315,#REF!,2,0))","v":{"$error":"#REF!"}},{"$f":"IF(D2315=\"\",\"\",VLOOKUP(D2315,#REF!,3,0))","v":{"$error":"#REF!"}},"和歌山下津",{"$f":"IF(D2315=\"\",\"\",VLOOKUP(D2315,#REF!,4,0))","v":{"$error":"#REF!"}},{"$f":"IF(C2315=\"\",\"\",VLOOKUP(D2315,#REF!,5,0))","v":{"$error":"#REF!"}},"輸入","中国",{"$f":"IF(H2315=\"\",\"\",VLOOKUP(H2315,#REF!,2,0))","v":{"$error":"#REF!"}},{"v":49,"d":"49 "},null,49,0]
["H30",{"$f":"IF(D2316=\"\",\"\",VLOOKUP(D2316,#REF!,2,0))","v":{"$error":"#REF!"}},{"$f":"IF(D2316=\"\",\"\",VLOOKUP(D2316,#REF!,3,0))","v":{"$error":"#REF!"}},"和歌山下津",{"$f":"IF(D2316=\"\",\"\",VLOOKUP(D2316,#REF!,4,0))","v":{"$error":"#REF!"}},{"$f":"IF(C2316=\"\",\"\",VLOOKUP(D2316,#REF!,5,0))","v":{"$error":"#REF!"}},"輸入","タイ",{"$f":"IF(H2316=\"\",\"\",VLOOKUP(H2316,#REF!,2,0))","v":{"$error":"#REF!"}},{"v":18,"d":"18 "},null,18,0]
["R1","京都府",{"$f":"IF(D2317=\"\",\"\",VLOOKUP(D2317,#REF!,3,0))","v":{"$error":"#REF!"}},"舞鶴",{"$f":"IF(D2317=\"\",\"\",VLOOKUP(D2317,#REF!,4,0))","v":{"$error":"#REF!"}},{"$f":"IF(C2317=\"\",\"\",VLOOKUP(D2317,#REF!,5,0))","v":{"$error":"#REF!"}},"輸出","韓国",{"$f":"IF(H2317=\"\",\"\",VLOOKUP(H2317,#REF!,2,0))","v":{"$error":"#REF!"}},{"v":7089,"d":"7,089"},null,{"v":5378,"d":"5,378"},{"v":1711,"d":"1,711"}]
["R1","京都府",{"$f":"IF(D2318=\"\",\"\",VLOOKUP(D2318,#REF!,3,0))","v":{"$error":"#REF!"}},"舞鶴",{"$f":"IF(D2318=\"\",\"\",VLOOKUP(D2318,#REF!,4,0))","v":{"$error":"#REF!"}},{"$f":"IF(C2318=\"\",\"\",VLOOKUP(D2318,#REF!,5,0))","v":{"$error":"#REF!"}},"輸出","中国",{"$f":"IF(H2318=\"\",\"\",VLOOKUP(H2318,#REF!,2,0))","v":{"$error":"#REF!"}},{"v":2906,"d":"2,906"},null,607,{"v":2299,"d":"2,299"}]
["R1","京都府",{"$f":"IF(D2319=\"\",\"\",VLOOKUP(D2319,#REF!,3,0))","v":{"$error":"#REF!"}},"舞鶴",{"$f":"IF(D2319=\"\",\"\",VLOOKUP(D2319,#REF!,4,0))","v":{"$error":"#REF!"}},{"$f":"IF(C2319=\"\",\"\",VLOOKUP(D2319,#REF!,5,0))","v":{"$error":"#REF!"}},"輸出","ロシア",{"$f":"IF(H2319=\"\",\"\",VLOOKUP(H2319,#REF!,2,0))","v":{"$error":"#REF!"}},73,null,73,0]
["R1","大阪府",{"$f":"IF(D2320=\"\",\"\",VLOOKUP(D2320,#REF!,3,0))","v":{"$error":"#REF!"}},"堺泉北",{"$f":"IF(D2320=\"\",\"\",VLOOKUP(D2320,#REF!,4,0))","v":{"$error":"#REF!"}},{"$f":"IF(C2320=\"\",\"\",VLOOKUP(D2320,#REF!,5,0))","v":{"$error":"#REF!"}},"輸出","韓国",{"$f":"IF(H2320=\"\",\"\",VLOOKUP(H2320,#REF!,2,0))","v":{"$error":"#REF!"}},103,null,63,40]
["R1","大阪府",{"$f":"IF(D2321=\"\",\"\",VLOOKUP(D2321,#REF!,3,0))","v":{"$error":"#REF!"}},"堺泉北",{"$f":"IF(D2321=\"\",\"\",VLOOKUP(D2321,#REF!,4,0))","v":{"$error":"#REF!"}},{"$f":"IF(C2321=\"\",\"\",VLOOKUP(D2321,#REF!,5,0))","v":{"$error":"#REF!"}},"輸出","中国",{"$f":"IF(H2321=\"\",\"\",VLOOKUP(H2321,#REF!,2,0))","v":{"$error":"#REF!"}},{"v":14230,"d":"14,230"},null,{"v":1698,"d":"1,698"},{"v":12532,"d":"12,532"}]
["R1","大阪府",{"$f":"IF(D2322=\"\",\"\",VLOOKUP(D2322,#REF!,3,0))","v":{"$error":"#REF!"}},"堺泉北",{"$f":"IF(D2322=\"\",\"\",VLOOKUP(D2322,#REF!,4,0))","v":{"$error":"#REF!"}},{"$f":"IF(C2322=\"\",\"\",VLOOKUP(D2322,#REF!,5,0))","v":{"$error":"#REF!"}},"輸出","タイ",{"$f":"IF(H2322=\"\",\"\",VLOOKUP(H2322,#REF!,2,0))","v":{"$error":"#REF!"}},8,null,8,0]
["R1","大阪府",{"$f":"IF(D2323=\"\",\"\",VLOOKUP(D2323,#REF!,3,0))","v":{"$error":"#REF!"}},"堺泉北",{"$f":"IF(D2323=\"\",\"\",VLOOKUP(D2323,#REF!,4,0))","v":{"$error":"#REF!"}},{"$f":"IF(C2323=\"\",\"\",VLOOKUP(D2323,#REF!,5,0))","v":{"$error":"#REF!"}},"輸出","ベトナム",{"$f":"IF(H2323=\"\",\"\",VLOOKUP(H2323,#REF!,2,0))","v":{"$error":"#REF!"}},568,null,568,0]
["R1","大阪府",{"$f":"IF(D2324=\"\",\"\",VLOOKUP(D2324,#REF!,3,0))","v":{"$error":"#REF!"}},"大阪",{"$f":"IF(D2324=\"\",\"\",VLOOKUP(D2324,#REF!,4,0))","v":{"$error":"#REF!"}},{"$f":"IF(C2324=\"\",\"\",VLOOKUP(D2324,#REF!,5,0))","v":{"$error":"#REF!"}},"輸出","韓国",{"$f":"IF(H2324=\"\",\"\",VLOOKUP(H2324,#REF!,2,0))","v":{"$error":"#REF!"}},{"v":160982,"d":"160,982"},null,{"v":81839,"d":"81,839"},{"v":79143,"d":"79,143"}]
["R1","大阪府",{"$f":"IF(D2325=\"\",\"\",VLOOKUP(D2325,#REF!,3,0))","v":{"$error":"#REF!"}},"大阪",{"$f":"IF(D2325=\"\",\"\",VLOOKUP(D2325,#REF!,4,0))","v":{"$error":"#REF!"}},{"$f":"IF(C2325=\"\",\"\",VLOOKUP(D2325,#REF!,5,0))","v":{"$error":"#REF!"}},"輸出","台湾",{"$f":"IF(H2325=\"\",\"\",VLOOKUP(H2325,#REF!,2,0))","v":{"$error":"#REF!"}},{"v":74710,"d":"74,710"},null,{"v":60631,"d":"60,631"},{"v":14079,"d":"14,079"}]
["R1","大阪府",{"$f":"IF(D2326=\"\",\"\",VLOOKUP(D2326,#REF!,3,0))","v":{"$error":"#REF!"}},"大阪",{"$f":"IF(D2326=\"\",\"\",VLOOKUP(D2326,#REF!,4,0))","v":{"$error":"#REF!"}},{"$f":"IF(C2326=\"\",\"\",VLOOKUP(D2326,#REF!,5,0))","v":{"$error":"#REF!"}},"輸出","中国",{"$f":"IF(H2326=\"\",\"\",VLOOKUP(H2326,#REF!,2,0))","v":{"$error":"#REF!"}},{"v":568523,"d":"568,523"},null,{"v":133294,"d":"133,294"},{"v":435230,"d":"435,230"}]
["R1","大阪府",{"$f":"IF(D2327=\"\",\"\",VLOOKUP(D2327,#REF!,3,0))","v":{"$error":"#REF!"}},"大阪",{"$f":"IF(D2327=\"\",\"\",VLOOKUP(D2327,#REF!,4,0))","v":{"$error":"#REF!"}},{"$f":"IF(C2327=\"\",\"\",VLOOKUP(D2327,#REF!,5,0))","v":{"$error":"#REF!"}},"輸出","中国(ホンコン)",{"$f":"IF(H2327=\"\",\"\",VLOOKUP(H2327,#REF!,2,0))","v":{"$error":"#REF!"}},{"v":50283,"d":"50,283"},null,{"v":37945,"d":"37,945"},{"v":12338,"d":"12,338"}]
["R1","大阪府",{"$f":"IF(D2328=\"\",\"\",VLOOKUP(D2328,#REF!,3,0))","v":{"$error":"#REF!"}},"大阪",{"$f":"IF(D2328=\"\",\"\",VLOOKUP(D2328,#REF!,4,0))","v":{"$error":"#REF!"}},{"$f":"IF(C2328=\"\",\"\",VLOOKUP(D2328,#REF!,5,0))","v":{"$error":"#REF!"}},"輸出","カンボジア",{"$f":"IF(H2328=\"\",\"\",VLOOKUP(H2328,#REF!,2,0))","v":{"$error":"#REF!"}},405,null,405,0]
["R1","大阪府",{"$f":"IF(D2329=\"\",\"\",VLOOKUP(D2329,#REF!,3,0))","v":{"$error":"#REF!"}},"大阪",{"$f":"IF(D2329=\"\",\"\",VLOOKUP(D2329,#REF!,4,0))","v":{"$error":"#REF!"}},{"$f":"IF(C2329=\"\",\"\",VLOOKUP(D2329,#REF!,5,0))","v":{"$error":"#REF!"}},"輸出","シンガポール",{"$f":"IF(H2329=\"\",\"\",VLOOKUP(H2329,#REF!,2,0))","v":{"$error":"#REF!"}},{"v":14685,"d":"14,685"},null,{"v":13151,"d":"13,151"},{"v":1534,"d":"1,534"}]
["R1","大阪府",{"$f":"IF(D2330=\"\",\"\",VLOOKUP(D2330,#REF!,3,0))","v":{"$error":"#REF!"}},"大阪",{"$f":"IF(D2330=\"\",\"\",VLOOKUP(D2330,#REF!,4,0))","v":{"$error":"#REF!"}},{"$f":"IF(C2330=\"\",\"\",VLOOKUP(D2330,#REF!,5,0))","v":{"$error":"#REF!"}},"輸出","タイ",{"$f":"IF(H2330=\"\",\"\",VLOOKUP(H2330,#REF!,2,0))","v":{"$error":"#REF!"}},{"v":37112,"d":"37,112"},null,{"v":25915,"d":"25,915"},{"v":11197,"d":"11,197"}]
["R1","大阪府",{"$f":"IF(D2331=\"\",\"\",VLOOKUP(D2331,#REF!,3,0))","v":{"$error":"#REF!"}},"大阪",{"$f":"IF(D2331=\"\",\"\",VLOOKUP(D2331,#REF!,4,0))","v":{"$error":"#REF!"}},{"$f":"IF(C2331=\"\",\"\",VLOOKUP(D2331,#REF!,5,0))","v":{"$error":"#REF!"}},"輸出","フィリピン",{"$f":"IF(H2331=\"\",\"\",VLOOKUP(H2331,#REF!,2,0))","v":{"$error":"#REF!"}},{"v":1256,"d":"1,256"},null,{"v":1256,"d":"1,256"},0]
["R1","大阪府",{"$f":"IF(D2332=\"\",\"\",VLOOKUP(D2332,#REF!,3,0))","v":{"$error":"#REF!"}},"大阪",{"$f":"IF(D2332=\"\",\"\",VLOOKUP(D2332,#REF!,4,0))","v":{"$error":"#REF!"}},{"$f":"IF(C2332=\"\",\"\",VLOOKUP(D2332,#REF!,5,0))","v":{"$error":"#REF!"}},"輸出","マレーシア",{"$f":"IF(H2332=\"\",\"\",VLOOKUP(H2332,#REF!,2,0))","v":{"$error":"#REF!"}},{"v":22513,"d":"22,513"},null,{"v":22200,"d":"22,200"},313]
["R1","大阪府",{"$f":"IF(D2333=\"\",\"\",VLOOKUP(D2333,#REF!,3,0))","v":{"$error":"#REF!"}},"大阪",{"$f":"IF(D2333=\"\",\"\",VLOOKUP(D2333,#REF!,4,0))","v":{"$error":"#REF!"}},{"$f":"IF(C2333=\"\",\"\",VLOOKUP(D2333,#REF!,5,0))","v":{"$error":"#REF!"}},"輸出","ベトナム",{"$f":"IF(H2333=\"\",\"\",VLOOKUP(H2333,#REF!,2,0))","v":{"$error":"#REF!"}},{"v":24780,"d":"24,780"},null,{"v":21873,"d":"21,873"},{"v":2907,"d":"2,907"}]
["R1","大阪府",{"$f":"IF(D2334=\"\",\"\",VLOOKUP(D2334,#REF!,3,0))","v":{"$error":"#REF!"}},"大阪",{"$f":"IF(D2334=\"\",\"\",VLOOKUP(D2334,#REF!,4,0))","v":{"$error":"#REF!"}},{"$f":"IF(C2334=\"\",\"\",VLOOKUP(D2334,#REF!,5,0))","v":{"$error":"#REF!"}},"輸出","オーストラリア",{"$f":"IF(H2334=\"\",\"\",VLOOKUP(H2334,#REF!,2,0))","v":{"$error":"#REF!"}},{"v":5423,"d":"5,423"},null,{"v":3924,"d":"3,924"},{"v":1499,"d":"1,499"}]
["R1","大阪府",{"$f":"IF(D2335=\"\",\"\",VLOOKUP(D2335,#REF!,3,0))","v":{"$error":"#REF!"}},"大阪",{"$f":"IF(D2335=\"\",\"\",VLOOKUP(D2335,#REF!,4,0))","v":{"$error":"#REF!"}},{"$f":"IF(C2335=\"\",\"\",VLOOKUP(D2335,#REF!,5,0))","v":{"$error":"#REF!"}},"輸出","アメリカ",{"$f":"IF(H2335=\"\",\"\",VLOOKUP(H2335,#REF!,2,0))","v":{"$error":"#REF!"}},{"v":4677,"d":"4,677"},null,{"v":4659,"d":"4,659"},18]
["R1","大阪府",{"$f":"IF(D2336=\"\",\"\",VLOOKUP(D2336,#REF!,3,0))","v":{"$error":"#REF!"}},"大阪",{"$f":"IF(D2336=\"\",\"\",VLOOKUP(D2336,#REF!,4,0))","v":{"$error":"#REF!"}},{"$f":"IF(C2336=\"\",\"\",VLOOKUP(D2336,#REF!,5,0))","v":{"$error":"#REF!"}},"輸出","カナダ",{"$f":"IF(H2336=\"\",\"\",VLOOKUP(H2336,#REF!,2,0))","v":{"$error":"#REF!"}},{"v":2952,"d":"2,952"},null,{"v":2948,"d":"2,948"},4]
["R1","兵庫県",{"$f":"IF(D2337=\"\",\"\",VLOOKUP(D2337,#REF!,3,0))","v":{"$error":"#REF!"}},"神戸",{"$f":"IF(D2337=\"\",\"\",VLOOKUP(D2337,#REF!,4,0))","v":{"$error":"#REF!"}},{"$f":"IF(C2337=\"\",\"\",VLOOKUP(D2337,#REF!,5,0))","v":{"$error":"#REF!"}},"輸出","韓国",{"$f":"IF(H2337=\"\",\"\",VLOOKUP(H2337,#REF!,2,0))","v":{"$error":"#REF!"}},{"v":114543,"d":"114,543"},null,{"v":94149,"d":"94,149"},{"v":20394,"d":"20,394"}]
["R1","兵庫県",{"$f":"IF(D2338=\"\",\"\",VLOOKUP(D2338,#REF!,3,0))","v":{"$error":"#REF!"}},"神戸",{"$f":"IF(D2338=\"\",\"\",VLOOKUP(D2338,#REF!,4,0))","v":{"$error":"#REF!"}},{"$f":"IF(C2338=\"\",\"\",VLOOKUP(D2338,#REF!,5,0))","v":{"$error":"#REF!"}},"輸出","台湾",{"$f":"IF(H2338=\"\",\"\",VLOOKUP(H2338,#REF!,2,0))","v":{"$error":"#REF!"}},{"v":113560,"d":"113,560"},null,{"v":103477,"d":"103,477"},{"v":10083,"d":"10,083"}]
["R1","兵庫県",{"$f":"IF(D2339=\"\",\"\",VLOOKUP(D2339,#REF!,3,0))","v":{"$error":"#REF!"}},"神戸",{"$f":"IF(D2339=\"\",\"\",VLOOKUP(D2339,#REF!,4,0))","v":{"$error":"#REF!"}},{"$f":"IF(C2339=\"\",\"\",VLOOKUP(D2339,#REF!,5,0))","v":{"$error":"#REF!"}},"輸出","中国",{"$f":"IF(H2339=\"\",\"\",VLOOKUP(H2339,#REF!,2,0))","v":{"$error":"#REF!"}},{"v":385689,"d":"385,689"},null,{"v":234352,"d":"234,352"},{"v":151337,"d":"151,337"}]
["R1","兵庫県",{"$f":"IF(D2340=\"\",\"\",VLOOKUP(D2340,#REF!,3,0))","v":{"$error":"#REF!"}},"神戸",{"$f":"IF(D2340=\"\",\"\",VLOOKUP(D2340,#REF!,4,0))","v":{"$error":"#REF!"}},{"$f":"IF(C2340=\"\",\"\",VLOOKUP(D2340,#REF!,5,0))","v":{"$error":"#REF!"}},"輸出","中国(ホンコン)",{"$f":"IF(H2340=\"\",\"\",VLOOKUP(H2340,#REF!,2,0))","v":{"$error":"#REF!"}},{"v":77914,"d":"77,914"},null,{"v":70298,"d":"70,298"},{"v":7616,"d":"7,616"}]
["R1","兵庫県",{"$f":"IF(D2341=\"\",\"\",VLOOKUP(D2341,#REF!,3,0))","v":{"$error":"#REF!"}},"神戸",{"$f":"IF(D2341=\"\",\"\",VLOOKUP(D2341,#REF!,4,0))","v":{"$error":"#REF!"}},{"$f":"IF(C2341=\"\",\"\",VLOOKUP(D2341,#REF!,5,0))","v":{"$error":"#REF!"}},"輸出","インドネシア",{"$f":"IF(H2341=\"\",\"\",VLOOKUP(H2341,#REF!,2,0))","v":{"$error":"#REF!"}},{"v":31285,"d":"31,285"},null,{"v":31285,"d":"31,285"},0]
["R1","兵庫県",{"$f":"IF(D2342=\"\",\"\",VLOOKUP(D2342,#REF!,3,0))","v":{"$error":"#REF!"}},"神戸",{"$f":"IF(D2342=\"\",\"\",VLOOKUP(D2342,#REF!,4,0))","v":{"$error":"#REF!"}},{"$f":"IF(C2342=\"\",\"\",VLOOKUP(D2342,#REF!,5,0))","v":{"$error":"#REF!"}},"輸出","カンボジア",{"$f":"IF(H2342=\"\",\"\",VLOOKUP(H2342,#REF!,2,0))","v":{"$error":"#REF!"}},613,null,613,0]
["R1","兵庫県",{"$f":"IF(D2343=\"\",\"\",VLOOKUP(D2343,#REF!,3,0))","v":{"$error":"#REF!"}},"神戸",{"$f":"IF(D2343=\"\",\"\",VLOOKUP(D2343,#REF!,4,0))","v":{"$error":"#REF!"}},{"$f":"IF(C2343=\"\",\"\",VLOOKUP(D2343,#REF!,5,0))","v":{"$error":"#REF!"}},"輸出","シンガポール",{"$f":"IF(H2343=\"\",\"\",VLOOKUP(H2343,#REF!,2,0))","v":{"$error":"#REF!"}},{"v":110111,"d":"110,111"},null,{"v":105733,"d":"105,733"},{"v":4378,"d":"4,378"}]
["R1","兵庫県",{"$f":"IF(D2344=\"\",\"\",VLOOKUP(D2344,#REF!,3,0))","v":{"$error":"#REF!"}},"神戸",{"$f":"IF(D2344=\"\",\"\",VLOOKUP(D2344,#REF!,4,0))","v":{"$error":"#REF!"}},{"$f":"IF(C2344=\"\",\"\",VLOOKUP(D2344,#REF!,5,0))","v":{"$error":"#REF!"}},"輸出","タイ",{"$f":"IF(H2344=\"\",\"\",VLOOKUP(H2344,#REF!,2,0))","v":{"$error":"#REF!"}},{"v":81920,"d":"81,920"},null,{"v":75243,"d":"75,243"},{"v":6677,"d":"6,677"}]
["R1","兵庫県",{"$f":"IF(D2345=\"\",\"\",VLOOKUP(D2345,#REF!,3,0))","v":{"$error":"#REF!"}},"神戸",{"$f":"IF(D2345=\"\",\"\",VLOOKUP(D2345,#REF!,4,0))","v":{"$error":"#REF!"}},{"$f":"IF(C2345=\"\",\"\",VLOOKUP(D2345,#REF!,5,0))","v":{"$error":"#REF!"}},"輸出","フィリピン",{"$f":"IF(H2345=\"\",\"\",VLOOKUP(H2345,#REF!,2,0))","v":{"$error":"#REF!"}},{"v":19893,"d":"19,893"},null,{"v":13195,"d":"13,195"},{"v":6698,"d":"6,698"}]
["R1","兵庫県",{"$f":"IF(D2346=\"\",\"\",VLOOKUP(D2346,#REF!,3,0))","v":{"$error":"#REF!"}},"神戸",{"$f":"IF(D2346=\"\",\"\",VLOOKUP(D2346,#REF!,4,0))","v":{"$error":"#REF!"}},{"$f":"IF(C2346=\"\",\"\",VLOOKUP(D2346,#REF!,5,0))","v":{"$error":"#REF!"}},"輸出","マレーシア",{"$f":"IF(H2346=\"\",\"\",VLOOKUP(H2346,#REF!,2,0))","v":{"$error":"#REF!"}},{"v":53248,"d":"53,248"},null,{"v":52588,"d":"52,588"},660]
["R1","兵庫県",{"$f":"IF(D2347=\"\",\"\",VLOOKUP(D2347,#REF!,3,0))","v":{"$error":"#REF!"}},"神戸",{"$f":"IF(D2347=\"\",\"\",VLOOKUP(D2347,#REF!,4,0))","v":{"$error":"#REF!"}},{"$f":"IF(C2347=\"\",\"\",VLOOKUP(D2347,#REF!,5,0))","v":{"$error":"#REF!"}},"輸出","ベトナム",{"$f":"IF(H2347=\"\",\"\",VLOOKUP(H2347,#REF!,2,0))","v":{"$error":"#REF!"}},{"v":46985,"d":"46,985"},null,{"v":44679,"d":"44,679"},{"v":2306,"d":"2,306"}]
["R1","兵庫県",{"$f":"IF(D2348=\"\",\"\",VLOOKUP(D2348,#REF!,3,0))","v":{"$error":"#REF!"}},"神戸",{"$f":"IF(D2348=\"\",\"\",VLOOKUP(D2348,#REF!,4,0))","v":{"$error":"#REF!"}},{"$f":"IF(C2348=\"\",\"\",VLOOKUP(D2348,#REF!,5,0))","v":{"$error":"#REF!"}},"輸出","サウジアラビア",{"$f":"IF(H2348=\"\",\"\",VLOOKUP(H2348,#REF!,2,0))","v":{"$error":"#REF!"}},174,null,174,0]
["R1","兵庫県",{"$f":"IF(D2349=\"\",\"\",VLOOKUP(D2349,#REF!,3,0))","v":{"$error":"#REF!"}},"神戸",{"$f":"IF(D2349=\"\",\"\",VLOOKUP(D2349,#REF!,4,0))","v":{"$error":"#REF!"}},{"$f":"IF(C2349=\"\",\"\",VLOOKUP(D2349,#REF!,5,0))","v":{"$error":"#REF!"}},"輸出","オーストラリア",{"$f":"IF(H2349=\"\",\"\",VLOOKUP(H2349,#REF!,2,0))","v":{"$error":"#REF!"}},302,null,276,26]
["R1","兵庫県",{"$f":"IF(D2350=\"\",\"\",VLOOKUP(D2350,#REF!,3,0))","v":{"$error":"#REF!"}},"神戸",{"$f":"IF(D2350=\"\",\"\",VLOOKUP(D2350,#REF!,4,0))","v":{"$error":"#REF!"}},{"$f":"IF(C2350=\"\",\"\",VLOOKUP(D2350,#REF!,5,0))","v":{"$error":"#REF!"}},"輸出","仏領ポリネシア",{"$f":"IF(H2350=\"\",\"\",VLOOKUP(H2350,#REF!,2,0))","v":{"$error":"#REF!"}},80,null,80,0]
["R1","兵庫県",{"$f":"IF(D2351=\"\",\"\",VLOOKUP(D2351,#REF!,3,0))","v":{"$error":"#REF!"}},"神戸",{"$f":"IF(D2351=\"\",\"\",VLOOKUP(D2351,#REF!,4,0))","v":{"$error":"#REF!"}},{"$f":"IF(C2351=\"\",\"\",VLOOKUP(D2351,#REF!,5,0))","v":{"$error":"#REF!"}},"輸出","グァム",{"$f":"IF(H2351=\"\",\"\",VLOOKUP(H2351,#REF!,2,0))","v":{"$error":"#REF!"}},40,null,40,0]
["R1","兵庫県",{"$f":"IF(D2352=\"\",\"\",VLOOKUP(D2352,#REF!,3,0))","v":{"$error":"#REF!"}},"神戸",{"$f":"IF(D2352=\"\",\"\",VLOOKUP(D2352,#REF!,4,0))","v":{"$error":"#REF!"}},{"$f":"IF(C2352=\"\",\"\",VLOOKUP(D2352,#REF!,5,0))","v":{"$error":"#REF!"}},"輸出","サモア",{"$f":"IF(H2352=\"\",\"\",VLOOKUP(H2352,#REF!,2,0))","v":{"$error":"#REF!"}},120,null,120,0]
["R1","兵庫県",{"$f":"IF(D2353=\"\",\"\",VLOOKUP(D2353,#REF!,3,0))","v":{"$error":"#REF!"}},"神戸",{"$f":"IF(D2353=\"\",\"\",VLOOKUP(D2353,#REF!,4,0))","v":{"$error":"#REF!"}},{"$f":"IF(C2353=\"\",\"\",VLOOKUP(D2353,#REF!,5,0))","v":{"$error":"#REF!"}},"輸出","トンガ",{"$f":"IF(H2353=\"\",\"\",VLOOKUP(H2353,#REF!,2,0))","v":{"$error":"#REF!"}},2,null,2,0]
["R1","兵庫県",{"$f":"IF(D2354=\"\",\"\",VLOOKUP(D2354,#REF!,3,0))","v":{"$error":"#REF!"}},"神戸",{"$f":"IF(D2354=\"\",\"\",VLOOKUP(D2354,#REF!,4,0))","v":{"$error":"#REF!"}},{"$f":"IF(C2354=\"\",\"\",VLOOKUP(D2354,#REF!,5,0))","v":{"$error":"#REF!"}},"輸出","ニューカレドニア",{"$f":"IF(H2354=\"\",\"\",VLOOKUP(H2354,#REF!,2,0))","v":{"$error":"#REF!"}},35,null,35,0]
["R1","兵庫県",{"$f":"IF(D2355=\"\",\"\",VLOOKUP(D2355,#REF!,3,0))","v":{"$error":"#REF!"}},"神戸",{"$f":"IF(D2355=\"\",\"\",VLOOKUP(D2355,#REF!,4,0))","v":{"$error":"#REF!"}},{"$f":"IF(C2355=\"\",\"\",VLOOKUP(D2355,#REF!,5,0))","v":{"$error":"#REF!"}},"輸出","ニュージーランド",{"$f":"IF(H2355=\"\",\"\",VLOOKUP(H2355,#REF!,2,0))","v":{"$error":"#REF!"}},{"v":1968,"d":"1,968"},null,916,{"v":1052,"d":"1,052"}]
["R1","兵庫県",{"$f":"IF(D2356=\"\",\"\",VLOOKUP(D2356,#REF!,3,0))","v":{"$error":"#REF!"}},"神戸",{"$f":"IF(D2356=\"\",\"\",VLOOKUP(D2356,#REF!,4,0))","v":{"$error":"#REF!"}},{"$f":"IF(C2356=\"\",\"\",VLOOKUP(D2356,#REF!,5,0))","v":{"$error":"#REF!"}},"輸出","パプアニューギニア",{"$f":"IF(H2356=\"\",\"\",VLOOKUP(H2356,#REF!,2,0))","v":{"$error":"#REF!"}},3,null,3,0]
["R1","兵庫県",{"$f":"IF(D2357=\"\",\"\",VLOOKUP(D2357,#REF!,3,0))","v":{"$error":"#REF!"}},"神戸",{"$f":"IF(D2357=\"\",\"\",VLOOKUP(D2357,#REF!,4,0))","v":{"$error":"#REF!"}},{"$f":"IF(C2357=\"\",\"\",VLOOKUP(D2357,#REF!,5,0))","v":{"$error":"#REF!"}},"輸出","フィジー",{"$f":"IF(H2357=\"\",\"\",VLOOKUP(H2357,#REF!,2,0))","v":{"$error":"#REF!"}},34,null,34,0]
["R1","兵庫県",{"$f":"IF(D2358=\"\",\"\",VLOOKUP(D2358,#REF!,3,0))","v":{"$error":"#REF!"}},"神戸",{"$f":"IF(D2358=\"\",\"\",VLOOKUP(D2358,#REF!,4,0))","v":{"$error":"#REF!"}},{"$f":"IF(C2358=\"\",\"\",VLOOKUP(D2358,#REF!,5,0))","v":{"$error":"#REF!"}},"輸出","キリバス",{"$f":"IF(H2358=\"\",\"\",VLOOKUP(H2358,#REF!,2,0))","v":{"$error":"#REF!"}},2,null,2,0]
["R1","兵庫県",{"$f":"IF(D2359=\"\",\"\",VLOOKUP(D2359,#REF!,3,0))","v":{"$error":"#REF!"}},"神戸",{"$f":"IF(D2359=\"\",\"\",VLOOKUP(D2359,#REF!,4,0))","v":{"$error":"#REF!"}},{"$f":"IF(C2359=\"\",\"\",VLOOKUP(D2359,#REF!,5,0))","v":{"$error":"#REF!"}},"輸出","バヌアツ",{"$f":"IF(H2359=\"\",\"\",VLOOKUP(H2359,#REF!,2,0))","v":{"$error":"#REF!"}},3,null,2,1]
["R1","兵庫県",{"$f":"IF(D2360=\"\",\"\",VLOOKUP(D2360,#REF!,3,0))","v":{"$error":"#REF!"}},"神戸",{"$f":"IF(D2360=\"\",\"\",VLOOKUP(D2360,#REF!,4,0))","v":{"$error":"#REF!"}},{"$f":"IF(C2360=\"\",\"\",VLOOKUP(D2360,#REF!,5,0))","v":{"$error":"#REF!"}},"輸出","ミクロネシア連邦",{"$f":"IF(H2360=\"\",\"\",VLOOKUP(H2360,#REF!,2,0))","v":{"$error":"#REF!"}},62,null,62,0]
["R1","兵庫県",{"$f":"IF(D2361=\"\",\"\",VLOOKUP(D2361,#REF!,3,0))","v":{"$error":"#REF!"}},"神戸",{"$f":"IF(D2361=\"\",\"\",VLOOKUP(D2361,#REF!,4,0))","v":{"$error":"#REF!"}},{"$f":"IF(C2361=\"\",\"\",VLOOKUP(D2361,#REF!,5,0))","v":{"$error":"#REF!"}},"輸出","マーシャル諸島",{"$f":"IF(H2361=\"\",\"\",VLOOKUP(H2361,#REF!,2,0))","v":{"$error":"#REF!"}},21,null,21,0]
["R1","兵庫県",{"$f":"IF(D2362=\"\",\"\",VLOOKUP(D2362,#REF!,3,0))","v":{"$error":"#REF!"}},"神戸",{"$f":"IF(D2362=\"\",\"\",VLOOKUP(D2362,#REF!,4,0))","v":{"$error":"#REF!"}},{"$f":"IF(C2362=\"\",\"\",VLOOKUP(D2362,#REF!,5,0))","v":{"$error":"#REF!"}},"輸出","北マリアナ諸島",{"$f":"IF(H2362=\"\",\"\",VLOOKUP(H2362,#REF!,2,0))","v":{"$error":"#REF!"}},28,null,28,0]
["R1","兵庫県",{"$f":"IF(D2363=\"\",\"\",VLOOKUP(D2363,#REF!,3,0))","v":{"$error":"#REF!"}},"神戸",{"$f":"IF(D2363=\"\",\"\",VLOOKUP(D2363,#REF!,4,0))","v":{"$error":"#REF!"}},{"$f":"IF(C2363=\"\",\"\",VLOOKUP(D2363,#REF!,5,0))","v":{"$error":"#REF!"}},"輸出","パラオ",{"$f":"IF(H2363=\"\",\"\",VLOOKUP(H2363,#REF!,2,0))","v":{"$error":"#REF!"}},32,null,32,0]
["R1","兵庫県",{"$f":"IF(D2364=\"\",\"\",VLOOKUP(D2364,#REF!,3,0))","v":{"$error":"#REF!"}},"神戸",{"$f":"IF(D2364=\"\",\"\",VLOOKUP(D2364,#REF!,4,0))","v":{"$error":"#REF!"}},{"$f":"IF(C2364=\"\",\"\",VLOOKUP(D2364,#REF!,5,0))","v":{"$error":"#REF!"}},"輸出","南アフリカ",{"$f":"IF(H2364=\"\",\"\",VLOOKUP(H2364,#REF!,2,0))","v":{"$error":"#REF!"}},{"v":1730,"d":"1,730"},null,{"v":1730,"d":"1,730"},0]
["R1","兵庫県",{"$f":"IF(D2365=\"\",\"\",VLOOKUP(D2365,#REF!,3,0))","v":{"$error":"#REF!"}},"神戸",{"$f":"IF(D2365=\"\",\"\",VLOOKUP(D2365,#REF!,4,0))","v":{"$error":"#REF!"}},{"$f":"IF(C2365=\"\",\"\",VLOOKUP(D2365,#REF!,5,0))","v":{"$error":"#REF!"}},"輸出","モーリシャス",{"$f":"IF(H2365=\"\",\"\",VLOOKUP(H2365,#REF!,2,0))","v":{"$error":"#REF!"}},183,null,183,0]
["R1","兵庫県",{"$f":"IF(D2366=\"\",\"\",VLOOKUP(D2366,#REF!,3,0))","v":{"$error":"#REF!"}},"神戸",{"$f":"IF(D2366=\"\",\"\",VLOOKUP(D2366,#REF!,4,0))","v":{"$error":"#REF!"}},{"$f":"IF(C2366=\"\",\"\",VLOOKUP(D2366,#REF!,5,0))","v":{"$error":"#REF!"}},"輸出","イギリス",{"$f":"IF(H2366=\"\",\"\",VLOOKUP(H2366,#REF!,2,0))","v":{"$error":"#REF!"}},{"v":3840,"d":"3,840"},null,{"v":3835,"d":"3,835"},5]
["R1","兵庫県",{"$f":"IF(D2367=\"\",\"\",VLOOKUP(D2367,#REF!,3,0))","v":{"$error":"#REF!"}},"神戸",{"$f":"IF(D2367=\"\",\"\",VLOOKUP(D2367,#REF!,4,0))","v":{"$error":"#REF!"}},{"$f":"IF(C2367=\"\",\"\",VLOOKUP(D2367,#REF!,5,0))","v":{"$error":"#REF!"}},"輸出","オランダ",{"$f":"IF(H2367=\"\",\"\",VLOOKUP(H2367,#REF!,2,0))","v":{"$error":"#REF!"}},{"v":30365,"d":"30,365"},null,{"v":30176,"d":"30,176"},189]
["R1","兵庫県",{"$f":"IF(D2368=\"\",\"\",VLOOKUP(D2368,#REF!,3,0))","v":{"$error":"#REF!"}},"神戸",{"$f":"IF(D2368=\"\",\"\",VLOOKUP(D2368,#REF!,4,0))","v":{"$error":"#REF!"}},{"$f":"IF(C2368=\"\",\"\",VLOOKUP(D2368,#REF!,5,0))","v":{"$error":"#REF!"}},"輸出","ドイツ",{"$f":"IF(H2368=\"\",\"\",VLOOKUP(H2368,#REF!,2,0))","v":{"$error":"#REF!"}},{"v":14282,"d":"14,282"},null,{"v":14205,"d":"14,205"},77]
["R1","兵庫県",{"$f":"IF(D2369=\"\",\"\",VLOOKUP(D2369,#REF!,3,0))","v":{"$error":"#REF!"}},"神戸",{"$f":"IF(D2369=\"\",\"\",VLOOKUP(D2369,#REF!,4,0))","v":{"$error":"#REF!"}},{"$f":"IF(C2369=\"\",\"\",VLOOKUP(D2369,#REF!,5,0))","v":{"$error":"#REF!"}},"輸出","フランス",{"$f":"IF(H2369=\"\",\"\",VLOOKUP(H2369,#REF!,2,0))","v":{"$error":"#REF!"}},{"v":3003,"d":"3,003"},null,{"v":2996,"d":"2,996"},7]
["R1","兵庫県",{"$f":"IF(D2370=\"\",\"\",VLOOKUP(D2370,#REF!,3,0))","v":{"$error":"#REF!"}},"神戸",{"$f":"IF(D2370=\"\",\"\",VLOOKUP(D2370,#REF!,4,0))","v":{"$error":"#REF!"}},{"$f":"IF(C2370=\"\",\"\",VLOOKUP(D2370,#REF!,5,0))","v":{"$error":"#REF!"}},"輸出","ベルギー",{"$f":"IF(H2370=\"\",\"\",VLOOKUP(H2370,#REF!,2,0))","v":{"$error":"#REF!"}},8,null,8,0]
["R1","兵庫県",{"$f":"IF(D2371=\"\",\"\",VLOOKUP(D2371,#REF!,3,0))","v":{"$error":"#REF!"}},"神戸",{"$f":"IF(D2371=\"\",\"\",VLOOKUP(D2371,#REF!,4,0))","v":{"$error":"#REF!"}},{"$f":"IF(C2371=\"\",\"\",VLOOKUP(D2371,#REF!,5,0))","v":{"$error":"#REF!"}},"輸出","ロシア",{"$f":"IF(H2371=\"\",\"\",VLOOKUP(H2371,#REF!,2,0))","v":{"$error":"#REF!"}},{"v":2945,"d":"2,945"},null,{"v":2945,"d":"2,945"},0]
["R1","兵庫県",{"$f":"IF(D2372=\"\",\"\",VLOOKUP(D2372,#REF!,3,0))","v":{"$error":"#REF!"}},"神戸",{"$f":"IF(D2372=\"\",\"\",VLOOKUP(D2372,#REF!,4,0))","v":{"$error":"#REF!"}},{"$f":"IF(C2372=\"\",\"\",VLOOKUP(D2372,#REF!,5,0))","v":{"$error":"#REF!"}},"輸出","アメリカ",{"$f":"IF(H2372=\"\",\"\",VLOOKUP(H2372,#REF!,2,0))","v":{"$error":"#REF!"}},{"v":83589,"d":"83,589"},null,{"v":80395,"d":"80,395"},{"v":3194,"d":"3,194"}]
["R1","兵庫県",{"$f":"IF(D2373=\"\",\"\",VLOOKUP(D2373,#REF!,3,0))","v":{"$error":"#REF!"}},"神戸",{"$f":"IF(D2373=\"\",\"\",VLOOKUP(D2373,#REF!,4,0))","v":{"$error":"#REF!"}},{"$f":"IF(C2373=\"\",\"\",VLOOKUP(D2373,#REF!,5,0))","v":{"$error":"#REF!"}},"輸出","カナダ",{"$f":"IF(H2373=\"\",\"\",VLOOKUP(H2373,#REF!,2,0))","v":{"$error":"#REF!"}},194,null,194,0]
["R1","兵庫県",{"$f":"IF(D2374=\"\",\"\",VLOOKUP(D2374,#REF!,3,0))","v":{"$error":"#REF!"}},"神戸",{"$f":"IF(D2374=\"\",\"\",VLOOKUP(D2374,#REF!,4,0))","v":{"$error":"#REF!"}},{"$f":"IF(C2374=\"\",\"\",VLOOKUP(D2374,#REF!,5,0))","v":{"$error":"#REF!"}},"輸出","パナマ",{"$f":"IF(H2374=\"\",\"\",VLOOKUP(H2374,#REF!,2,0))","v":{"$error":"#REF!"}},331,null,329,2]
["R1","兵庫県",{"$f":"IF(D2375=\"\",\"\",VLOOKUP(D2375,#REF!,3,0))","v":{"$error":"#REF!"}},"神戸",{"$f":"IF(D2375=\"\",\"\",VLOOKUP(D2375,#REF!,4,0))","v":{"$error":"#REF!"}},{"$f":"IF(C2375=\"\",\"\",VLOOKUP(D2375,#REF!,5,0))","v":{"$error":"#REF!"}},"輸出","メキシコ",{"$f":"IF(H2375=\"\",\"\",VLOOKUP(H2375,#REF!,2,0))","v":{"$error":"#REF!"}},22,null,22,0]
["R1","和歌山県",{"$f":"IF(D2376=\"\",\"\",VLOOKUP(D2376,#REF!,3,0))","v":{"$error":"#REF!"}},"和歌山下津",{"$f":"IF(D2376=\"\",\"\",VLOOKUP(D2376,#REF!,4,0))","v":{"$error":"#REF!"}},{"$f":"IF(C2376=\"\",\"\",VLOOKUP(D2376,#REF!,5,0))","v":{"$error":"#REF!"}},"輸出","韓国",{"$f":"IF(H2376=\"\",\"\",VLOOKUP(H2376,#REF!,2,0))","v":{"$error":"#REF!"}},{"v":1257,"d":"1,257"},null,130,{"v":1127,"d":"1,127"}]
["R1","京都府",{"$f":"IF(D2377=\"\",\"\",VLOOKUP(D2377,#REF!,3,0))","v":{"$error":"#REF!"}},"舞鶴",{"$f":"IF(D2377=\"\",\"\",VLOOKUP(D2377,#REF!,4,0))","v":{"$error":"#REF!"}},{"$f":"IF(C2377=\"\",\"\",VLOOKUP(D2377,#REF!,5,0))","v":{"$error":"#REF!"}},"輸入","韓国",{"$f":"IF(H2377=\"\",\"\",VLOOKUP(H2377,#REF!,2,0))","v":{"$error":"#REF!"}},{"v":6841,"d":"6,841"},null,{"v":4229,"d":"4,229"},{"v":2612,"d":"2,612"}]
["R1","京都府",{"$f":"IF(D2378=\"\",\"\",VLOOKUP(D2378,#REF!,3,0))","v":{"$error":"#REF!"}},"舞鶴",{"$f":"IF(D2378=\"\",\"\",VLOOKUP(D2378,#REF!,4,0))","v":{"$error":"#REF!"}},{"$f":"IF(C2378=\"\",\"\",VLOOKUP(D2378,#REF!,5,0))","v":{"$error":"#REF!"}},"輸入","中国",{"$f":"IF(H2378=\"\",\"\",VLOOKUP(H2378,#REF!,2,0))","v":{"$error":"#REF!"}},{"v":2857,"d":"2,857"},null,{"v":2857,"d":"2,857"},0]
["R1","京都府",{"$f":"IF(D2379=\"\",\"\",VLOOKUP(D2379,#REF!,3,0))","v":{"$error":"#REF!"}},"舞鶴",{"$f":"IF(D2379=\"\",\"\",VLOOKUP(D2379,#REF!,4,0))","v":{"$error":"#REF!"}},{"$f":"IF(C2379=\"\",\"\",VLOOKUP(D2379,#REF!,5,0))","v":{"$error":"#REF!"}},"輸入","ロシア",{"$f":"IF(H2379=\"\",\"\",VLOOKUP(H2379,#REF!,2,0))","v":{"$error":"#REF!"}},46,null,1,45]
["R1","大阪府",{"$f":"IF(D2380=\"\",\"\",VLOOKUP(D2380,#REF!,3,0))","v":{"$error":"#REF!"}},"堺泉北",{"$f":"IF(D2380=\"\",\"\",VLOOKUP(D2380,#REF!,4,0))","v":{"$error":"#REF!"}},{"$f":"IF(C2380=\"\",\"\",VLOOKUP(D2380,#REF!,5,0))","v":{"$error":"#REF!"}},"輸入","中国",{"$f":"IF(H2380=\"\",\"\",VLOOKUP(H2380,#REF!,2,0))","v":{"$error":"#REF!"}},{"v":15904,"d":"15,904"},null,{"v":15721,"d":"15,721"},183]
["R1","大阪府",{"$f":"IF(D2381=\"\",\"\",VLOOKUP(D2381,#REF!,3,0))","v":{"$error":"#REF!"}},"堺泉北",{"$f":"IF(D2381=\"\",\"\",VLOOKUP(D2381,#REF!,4,0))","v":{"$error":"#REF!"}},{"$f":"IF(C2381=\"\",\"\",VLOOKUP(D2381,#REF!,5,0))","v":{"$error":"#REF!"}},"輸入","タイ",{"$f":"IF(H2381=\"\",\"\",VLOOKUP(H2381,#REF!,2,0))","v":{"$error":"#REF!"}},226,null,226,0]
["R1","大阪府",{"$f":"IF(D2382=\"\",\"\",VLOOKUP(D2382,#REF!,3,0))","v":{"$error":"#REF!"}},"堺泉北",{"$f":"IF(D2382=\"\",\"\",VLOOKUP(D2382,#REF!,4,0))","v":{"$error":"#REF!"}},{"$f":"IF(C2382=\"\",\"\",VLOOKUP(D2382,#REF!,5,0))","v":{"$error":"#REF!"}},"輸入","ベトナム",{"$f":"IF(H2382=\"\",\"\",VLOOKUP(H2382,#REF!,2,0))","v":{"$error":"#REF!"}},933,null,933,0]
["R1","大阪府",{"$f":"IF(D2383=\"\",\"\",VLOOKUP(D2383,#REF!,3,0))","v":{"$error":"#REF!"}},"大阪",{"$f":"IF(D2383=\"\",\"\",VLOOKUP(D2383,#REF!,4,0))","v":{"$error":"#REF!"}},{"$f":"IF(C2383=\"\",\"\",VLOOKUP(D2383,#REF!,5,0))","v":{"$error":"#REF!"}},"輸入","韓国",{"$f":"IF(H2383=\"\",\"\",VLOOKUP(H2383,#REF!,2,0))","v":{"$error":"#REF!"}},{"v":121391,"d":"121,391"},null,{"v":110407,"d":"110,407"},{"v":10984,"d":"10,984"}]
["R1","大阪府",{"$f":"IF(D2384=\"\",\"\",VLOOKUP(D2384,#REF!,3,0))","v":{"$error":"#REF!"}},"大阪",{"$f":"IF(D2384=\"\",\"\",VLOOKUP(D2384,#REF!,4,0))","v":{"$error":"#REF!"}},{"$f":"IF(C2384=\"\",\"\",VLOOKUP(D2384,#REF!,5,0))","v":{"$error":"#REF!"}},"輸入","台湾",{"$f":"IF(H2384=\"\",\"\",VLOOKUP(H2384,#REF!,2,0))","v":{"$error":"#REF!"}},{"v":89093,"d":"89,093"},null,{"v":88825,"d":"88,825"},268]
["R1","大阪府",{"$f":"IF(D2385=\"\",\"\",VLOOKUP(D2385,#REF!,3,0))","v":{"$error":"#REF!"}},"大阪",{"$f":"IF(D2385=\"\",\"\",VLOOKUP(D2385,#REF!,4,0))","v":{"$error":"#REF!"}},{"$f":"IF(C2385=\"\",\"\",VLOOKUP(D2385,#REF!,5,0))","v":{"$error":"#REF!"}},"輸入","中国",{"$f":"IF(H2385=\"\",\"\",VLOOKUP(H2385,#REF!,2,0))","v":{"$error":"#REF!"}},{"v":617590,"d":"617,590"},null,{"v":607461,"d":"607,461"},{"v":10129,"d":"10,129"}]
["R1","大阪府",{"$f":"IF(D2386=\"\",\"\",VLOOKUP(D2386,#REF!,3,0))","v":{"$error":"#REF!"}},"大阪",{"$f":"IF(D2386=\"\",\"\",VLOOKUP(D2386,#REF!,4,0))","v":{"$error":"#REF!"}},{"$f":"IF(C2386=\"\",\"\",VLOOKUP(D2386,#REF!,5,0))","v":{"$error":"#REF!"}},"輸入","中国(ホンコン)",{"$f":"IF(H2386=\"\",\"\",VLOOKUP(H2386,#REF!,2,0))","v":{"$error":"#REF!"}},{"v":91506,"d":"91,506"},null,{"v":91402,"d":"91,402"},104]
["R1","大阪府",{"$f":"IF(D2387=\"\",\"\",VLOOKUP(D2387,#REF!,3,0))","v":{"$error":"#REF!"}},"大阪",{"$f":"IF(D2387=\"\",\"\",VLOOKUP(D2387,#REF!,4,0))","v":{"$error":"#REF!"}},{"$f":"IF(C2387=\"\",\"\",VLOOKUP(D2387,#REF!,5,0))","v":{"$error":"#REF!"}},"輸入","カンボジア",{"$f":"IF(H2387=\"\",\"\",VLOOKUP(H2387,#REF!,2,0))","v":{"$error":"#REF!"}},6,null,6,0]
["R1","大阪府",{"$f":"IF(D2388=\"\",\"\",VLOOKUP(D2388,#REF!,3,0))","v":{"$error":"#REF!"}},"大阪",{"$f":"IF(D2388=\"\",\"\",VLOOKUP(D2388,#REF!,4,0))","v":{"$error":"#REF!"}},{"$f":"IF(C2388=\"\",\"\",VLOOKUP(D2388,#REF!,5,0))","v":{"$error":"#REF!"}},"輸入","シンガポール",{"$f":"IF(H2388=\"\",\"\",VLOOKUP(H2388,#REF!,2,0))","v":{"$error":"#REF!"}},{"v":21821,"d":"21,821"},null,{"v":21819,"d":"21,819"},2]
["R1","大阪府",{"$f":"IF(D2389=\"\",\"\",VLOOKUP(D2389,#REF!,3,0))","v":{"$error":"#REF!"}},"大阪",{"$f":"IF(D2389=\"\",\"\",VLOOKUP(D2389,#REF!,4,0))","v":{"$error":"#REF!"}},{"$f":"IF(C2389=\"\",\"\",VLOOKUP(D2389,#REF!,5,0))","v":{"$error":"#REF!"}},"輸入","タイ",{"$f":"IF(H2389=\"\",\"\",VLOOKUP(H2389,#REF!,2,0))","v":{"$error":"#REF!"}},{"v":67944,"d":"67,944"},null,{"v":67847,"d":"67,847"},97]
["R1","大阪府",{"$f":"IF(D2390=\"\",\"\",VLOOKUP(D2390,#REF!,3,0))","v":{"$error":"#REF!"}},"大阪",{"$f":"IF(D2390=\"\",\"\",VLOOKUP(D2390,#REF!,4,0))","v":{"$error":"#REF!"}},{"$f":"IF(C2390=\"\",\"\",VLOOKUP(D2390,#REF!,5,0))","v":{"$error":"#REF!"}},"輸入","フィリピン",{"$f":"IF(H2390=\"\",\"\",VLOOKUP(H2390,#REF!,2,0))","v":{"$error":"#REF!"}},{"v":6325,"d":"6,325"},null,{"v":6319,"d":"6,319"},6]
["R1","大阪府",{"$f":"IF(D2391=\"\",\"\",VLOOKUP(D2391,#REF!,3,0))","v":{"$error":"#REF!"}},"大阪",{"$f":"IF(D2391=\"\",\"\",VLOOKUP(D2391,#REF!,4,0))","v":{"$error":"#REF!"}},{"$f":"IF(C2391=\"\",\"\",VLOOKUP(D2391,#REF!,5,0))","v":{"$error":"#REF!"}},"輸入","マレーシア",{"$f":"IF(H2391=\"\",\"\",VLOOKUP(H2391,#REF!,2,0))","v":{"$error":"#REF!"}},{"v":25663,"d":"25,663"},null,{"v":25603,"d":"25,603"},60]
["R1","大阪府",{"$f":"IF(D2392=\"\",\"\",VLOOKUP(D2392,#REF!,3,0))","v":{"$error":"#REF!"}},"大阪",{"$f":"IF(D2392=\"\",\"\",VLOOKUP(D2392,#REF!,4,0))","v":{"$error":"#REF!"}},{"$f":"IF(C2392=\"\",\"\",VLOOKUP(D2392,#REF!,5,0))","v":{"$error":"#REF!"}},"輸入","ベトナム",{"$f":"IF(H2392=\"\",\"\",VLOOKUP(H2392,#REF!,2,0))","v":{"$error":"#REF!"}},{"v":65348,"d":"65,348"},null,{"v":65296,"d":"65,296"},52]
["R1","大阪府",{"$f":"IF(D2393=\"\",\"\",VLOOKUP(D2393,#REF!,3,0))","v":{"$error":"#REF!"}},"大阪",{"$f":"IF(D2393=\"\",\"\",VLOOKUP(D2393,#REF!,4,0))","v":{"$error":"#REF!"}},{"$f":"IF(C2393=\"\",\"\",VLOOKUP(D2393,#REF!,5,0))","v":{"$error":"#REF!"}},"輸入","オーストラリア",{"$f":"IF(H2393=\"\",\"\",VLOOKUP(H2393,#REF!,2,0))","v":{"$error":"#REF!"}},{"v":33425,"d":"33,425"},null,{"v":20591,"d":"20,591"},{"v":12834,"d":"12,834"}]
["R1","大阪府",{"$f":"IF(D2394=\"\",\"\",VLOOKUP(D2394,#REF!,3,0))","v":{"$error":"#REF!"}},"大阪",{"$f":"IF(D2394=\"\",\"\",VLOOKUP(D2394,#REF!,4,0))","v":{"$error":"#REF!"}},{"$f":"IF(C2394=\"\",\"\",VLOOKUP(D2394,#REF!,5,0))","v":{"$error":"#REF!"}},"輸入","アメリカ",{"$f":"IF(H2394=\"\",\"\",VLOOKUP(H2394,#REF!,2,0))","v":{"$error":"#REF!"}},{"v":10783,"d":"10,783"},null,{"v":10742,"d":"10,742"},41]
["R1","大阪府",{"$f":"IF(D2395=\"\",\"\",VLOOKUP(D2395,#REF!,3,0))","v":{"$error":"#REF!"}},"大阪",{"$f":"IF(D2395=\"\",\"\",VLOOKUP(D2395,#REF!,4,0))","v":{"$error":"#REF!"}},{"$f":"IF(C2395=\"\",\"\",VLOOKUP(D2395,#REF!,5,0))","v":{"$error":"#REF!"}},"輸入","カナダ",{"$f":"IF(H2395=\"\",\"\",VLOOKUP(H2395,#REF!,2,0))","v":{"$error":"#REF!"}},{"v":10744,"d":"10,744"},null,{"v":10339,"d":"10,339"},405]
["R1","兵庫県",{"$f":"IF(D2396=\"\",\"\",VLOOKUP(D2396,#REF!,3,0))","v":{"$error":"#REF!"}},"神戸",{"$f":"IF(D2396=\"\",\"\",VLOOKUP(D2396,#REF!,4,0))","v":{"$error":"#REF!"}},{"$f":"IF(C2396=\"\",\"\",VLOOKUP(D2396,#REF!,5,0))","v":{"$error":"#REF!"}},"輸入","韓国",{"$f":"IF(H2396=\"\",\"\",VLOOKUP(H2396,#REF!,2,0))","v":{"$error":"#REF!"}},{"v":75190,"d":"75,190"},66,{"v":59314,"d":"59,314"},{"v":15876,"d":"15,876"}]
["R1","兵庫県",{"$f":"IF(D2397=\"\",\"\",VLOOKUP(D2397,#REF!,3,0))","v":{"$error":"#REF!"}},"神戸",{"$f":"IF(D2397=\"\",\"\",VLOOKUP(D2397,#REF!,4,0))","v":{"$error":"#REF!"}},{"$f":"IF(C2397=\"\",\"\",VLOOKUP(D2397,#REF!,5,0))","v":{"$error":"#REF!"}},"輸入","台湾",{"$f":"IF(H2397=\"\",\"\",VLOOKUP(H2397,#REF!,2,0))","v":{"$error":"#REF!"}},{"v":57222,"d":"57,222"},null,{"v":54571,"d":"54,571"},{"v":2651,"d":"2,651"}]
["R1","兵庫県",{"$f":"IF(D2398=\"\",\"\",VLOOKUP(D2398,#REF!,3,0))","v":{"$error":"#REF!"}},"神戸",{"$f":"IF(D2398=\"\",\"\",VLOOKUP(D2398,#REF!,4,0))","v":{"$error":"#REF!"}},{"$f":"IF(C2398=\"\",\"\",VLOOKUP(D2398,#REF!,5,0))","v":{"$error":"#REF!"}},"輸入","中国",{"$f":"IF(H2398=\"\",\"\",VLOOKUP(H2398,#REF!,2,0))","v":{"$error":"#REF!"}},{"v":338542,"d":"338,542"},{"v":6205,"d":"6,205"},{"v":324127,"d":"324,127"},{"v":14415,"d":"14,415"}]
["R1","兵庫県",{"$f":"IF(D2399=\"\",\"\",VLOOKUP(D2399,#REF!,3,0))","v":{"$error":"#REF!"}},"神戸",{"$f":"IF(D2399=\"\",\"\",VLOOKUP(D2399,#REF!,4,0))","v":{"$error":"#REF!"}},{"$f":"IF(C2399=\"\",\"\",VLOOKUP(D2399,#REF!,5,0))","v":{"$error":"#REF!"}},"輸入","中国(ホンコン)",{"$f":"IF(H2399=\"\",\"\",VLOOKUP(H2399,#REF!,2,0))","v":{"$error":"#REF!"}},{"v":51601,"d":"51,601"},null,{"v":50691,"d":"50,691"},910]
["R1","兵庫県",{"$f":"IF(D2400=\"\",\"\",VLOOKUP(D2400,#REF!,3,0))","v":{"$error":"#REF!"}},"神戸",{"$f":"IF(D2400=\"\",\"\",VLOOKUP(D2400,#REF!,4,0))","v":{"$error":"#REF!"}},{"$f":"IF(C2400=\"\",\"\",VLOOKUP(D2400,#REF!,5,0))","v":{"$error":"#REF!"}},"輸入","インドネシア",{"$f":"IF(H2400=\"\",\"\",VLOOKUP(H2400,#REF!,2,0))","v":{"$error":"#REF!"}},{"v":13488,"d":"13,488"},null,{"v":13344,"d":"13,344"},144]
["R1","兵庫県",{"$f":"IF(D2401=\"\",\"\",VLOOKUP(D2401,#REF!,3,0))","v":{"$error":"#REF!"}},"神戸",{"$f":"IF(D2401=\"\",\"\",VLOOKUP(D2401,#REF!,4,0))","v":{"$error":"#REF!"}},{"$f":"IF(C2401=\"\",\"\",VLOOKUP(D2401,#REF!,5,0))","v":{"$error":"#REF!"}},"輸入","カンボジア",{"$f":"IF(H2401=\"\",\"\",VLOOKUP(H2401,#REF!,2,0))","v":{"$error":"#REF!"}},14,6,14,0]
["R1","兵庫県",{"$f":"IF(D2402=\"\",\"\",VLOOKUP(D2402,#REF!,3,0))","v":{"$error":"#REF!"}},"神戸",{"$f":"IF(D2402=\"\",\"\",VLOOKUP(D2402,#REF!,4,0))","v":{"$error":"#REF!"}},{"$f":"IF(C2402=\"\",\"\",VLOOKUP(D2402,#REF!,5,0))","v":{"$error":"#REF!"}},"輸入","シンガポール",{"$f":"IF(H2402=\"\",\"\",VLOOKUP(H2402,#REF!,2,0))","v":{"$error":"#REF!"}},{"v":61971,"d":"61,971"},82,{"v":60797,"d":"60,797"},{"v":1174,"d":"1,174"}]
["R1","兵庫県",{"$f":"IF(D2403=\"\",\"\",VLOOKUP(D2403,#REF!,3,0))","v":{"$error":"#REF!"}},"神戸",{"$f":"IF(D2403=\"\",\"\",VLOOKUP(D2403,#REF!,4,0))","v":{"$error":"#REF!"}},{"$f":"IF(C2403=\"\",\"\",VLOOKUP(D2403,#REF!,5,0))","v":{"$error":"#REF!"}},"輸入","タイ",{"$f":"IF(H2403=\"\",\"\",VLOOKUP(H2403,#REF!,2,0))","v":{"$error":"#REF!"}},{"v":57681,"d":"57,681"},463,{"v":57060,"d":"57,060"},621]
["R1","兵庫県",{"$f":"IF(D2404=\"\",\"\",VLOOKUP(D2404,#REF!,3,0))","v":{"$error":"#REF!"}},"神戸",{"$f":"IF(D2404=\"\",\"\",VLOOKUP(D2404,#REF!,4,0))","v":{"$error":"#REF!"}},{"$f":"IF(C2404=\"\",\"\",VLOOKUP(D2404,#REF!,5,0))","v":{"$error":"#REF!"}},"輸入","フィリピン",{"$f":"IF(H2404=\"\",\"\",VLOOKUP(H2404,#REF!,2,0))","v":{"$error":"#REF!"}},{"v":14385,"d":"14,385"},null,{"v":10085,"d":"10,085"},{"v":4300,"d":"4,300"}]
["R1","兵庫県",{"$f":"IF(D2405=\"\",\"\",VLOOKUP(D2405,#REF!,3,0))","v":{"$error":"#REF!"}},"神戸",{"$f":"IF(D2405=\"\",\"\",VLOOKUP(D2405,#REF!,4,0))","v":{"$error":"#REF!"}},{"$f":"IF(C2405=\"\",\"\",VLOOKUP(D2405,#REF!,5,0))","v":{"$error":"#REF!"}},"輸入","マレーシア",{"$f":"IF(H2405=\"\",\"\",VLOOKUP(H2405,#REF!,2,0))","v":{"$error":"#REF!"}},{"v":34281,"d":"34,281"},20,{"v":33835,"d":"33,835"},446]
["R1","兵庫県",{"$f":"IF(D2406=\"\",\"\",VLOOKUP(D2406,#REF!,3,0))","v":{"$error":"#REF!"}},"神戸",{"$f":"IF(D2406=\"\",\"\",VLOOKUP(D2406,#REF!,4,0))","v":{"$error":"#REF!"}},{"$f":"IF(C2406=\"\",\"\",VLOOKUP(D2406,#REF!,5,0))","v":{"$error":"#REF!"}},"輸入","ベトナム",{"$f":"IF(H2406=\"\",\"\",VLOOKUP(H2406,#REF!,2,0))","v":{"$error":"#REF!"}},{"v":44517,"d":"44,517"},102,{"v":43810,"d":"43,810"},707]
["R1","兵庫県",{"$f":"IF(D2407=\"\",\"\",VLOOKUP(D2407,#REF!,3,0))","v":{"$error":"#REF!"}},"神戸",{"$f":"IF(D2407=\"\",\"\",VLOOKUP(D2407,#REF!,4,0))","v":{"$error":"#REF!"}},{"$f":"IF(C2407=\"\",\"\",VLOOKUP(D2407,#REF!,5,0))","v":{"$error":"#REF!"}},"輸入","インド",{"$f":"IF(H2407=\"\",\"\",VLOOKUP(H2407,#REF!,2,0))","v":{"$error":"#REF!"}},162,null,162,0]
["R1","兵庫県",{"$f":"IF(D2408=\"\",\"\",VLOOKUP(D2408,#REF!,3,0))","v":{"$error":"#REF!"}},"神戸",{"$f":"IF(D2408=\"\",\"\",VLOOKUP(D2408,#REF!,4,0))","v":{"$error":"#REF!"}},{"$f":"IF(C2408=\"\",\"\",VLOOKUP(D2408,#REF!,5,0))","v":{"$error":"#REF!"}},"輸入","スリランカ",{"$f":"IF(H2408=\"\",\"\",VLOOKUP(H2408,#REF!,2,0))","v":{"$error":"#REF!"}},10,null,10,0]
["R1","兵庫県",{"$f":"IF(D2409=\"\",\"\",VLOOKUP(D2409,#REF!,3,0))","v":{"$error":"#REF!"}},"神戸",{"$f":"IF(D2409=\"\",\"\",VLOOKUP(D2409,#REF!,4,0))","v":{"$error":"#REF!"}},{"$f":"IF(C2409=\"\",\"\",VLOOKUP(D2409,#REF!,5,0))","v":{"$error":"#REF!"}},"輸入","パキスタン",{"$f":"IF(H2409=\"\",\"\",VLOOKUP(H2409,#REF!,2,0))","v":{"$error":"#REF!"}},13,null,13,0]
["R1","兵庫県",{"$f":"IF(D2410=\"\",\"\",VLOOKUP(D2410,#REF!,3,0))","v":{"$error":"#REF!"}},"神戸",{"$f":"IF(D2410=\"\",\"\",VLOOKUP(D2410,#REF!,4,0))","v":{"$error":"#REF!"}},{"$f":"IF(C2410=\"\",\"\",VLOOKUP(D2410,#REF!,5,0))","v":{"$error":"#REF!"}},"輸入","オーストラリア",{"$f":"IF(H2410=\"\",\"\",VLOOKUP(H2410,#REF!,2,0))","v":{"$error":"#REF!"}},29,null,11,18]
["R1","兵庫県",{"$f":"IF(D2411=\"\",\"\",VLOOKUP(D2411,#REF!,3,0))","v":{"$error":"#REF!"}},"神戸",{"$f":"IF(D2411=\"\",\"\",VLOOKUP(D2411,#REF!,4,0))","v":{"$error":"#REF!"}},{"$f":"IF(C2411=\"\",\"\",VLOOKUP(D2411,#REF!,5,0))","v":{"$error":"#REF!"}},"輸入","仏領ポリネシア",{"$f":"IF(H2411=\"\",\"\",VLOOKUP(H2411,#REF!,2,0))","v":{"$error":"#REF!"}},6,null,4,2]
["R1","兵庫県",{"$f":"IF(D2412=\"\",\"\",VLOOKUP(D2412,#REF!,3,0))","v":{"$error":"#REF!"}},"神戸",{"$f":"IF(D2412=\"\",\"\",VLOOKUP(D2412,#REF!,4,0))","v":{"$error":"#REF!"}},{"$f":"IF(C2412=\"\",\"\",VLOOKUP(D2412,#REF!,5,0))","v":{"$error":"#REF!"}},"輸入","サモア",{"$f":"IF(H2412=\"\",\"\",VLOOKUP(H2412,#REF!,2,0))","v":{"$error":"#REF!"}},2,null,0,2]
["R1","兵庫県",{"$f":"IF(D2413=\"\",\"\",VLOOKUP(D2413,#REF!,3,0))","v":{"$error":"#REF!"}},"神戸",{"$f":"IF(D2413=\"\",\"\",VLOOKUP(D2413,#REF!,4,0))","v":{"$error":"#REF!"}},{"$f":"IF(C2413=\"\",\"\",VLOOKUP(D2413,#REF!,5,0))","v":{"$error":"#REF!"}},"輸入","トンガ",{"$f":"IF(H2413=\"\",\"\",VLOOKUP(H2413,#REF!,2,0))","v":{"$error":"#REF!"}},75,null,70,5]
["R1","兵庫県",{"$f":"IF(D2414=\"\",\"\",VLOOKUP(D2414,#REF!,3,0))","v":{"$error":"#REF!"}},"神戸",{"$f":"IF(D2414=\"\",\"\",VLOOKUP(D2414,#REF!,4,0))","v":{"$error":"#REF!"}},{"$f":"IF(C2414=\"\",\"\",VLOOKUP(D2414,#REF!,5,0))","v":{"$error":"#REF!"}},"輸入","ニュージーランド",{"$f":"IF(H2414=\"\",\"\",VLOOKUP(H2414,#REF!,2,0))","v":{"$error":"#REF!"}},{"v":6871,"d":"6,871"},null,{"v":6855,"d":"6,855"},16]
["R1","兵庫県",{"$f":"IF(D2415=\"\",\"\",VLOOKUP(D2415,#REF!,3,0))","v":{"$error":"#REF!"}},"神戸",{"$f":"IF(D2415=\"\",\"\",VLOOKUP(D2415,#REF!,4,0))","v":{"$error":"#REF!"}},{"$f":"IF(C2415=\"\",\"\",VLOOKUP(D2415,#REF!,5,0))","v":{"$error":"#REF!"}},"輸入","パプアニューギニア",{"$f":"IF(H2415=\"\",\"\",VLOOKUP(H2415,#REF!,2,0))","v":{"$error":"#REF!"}},33,null,33,0]
["R1","兵庫県",{"$f":"IF(D2416=\"\",\"\",VLOOKUP(D2416,#REF!,3,0))","v":{"$error":"#REF!"}},"神戸",{"$f":"IF(D2416=\"\",\"\",VLOOKUP(D2416,#REF!,4,0))","v":{"$error":"#REF!"}},{"$f":"IF(C2416=\"\",\"\",VLOOKUP(D2416,#REF!,5,0))","v":{"$error":"#REF!"}},"輸入","バヌアツ",{"$f":"IF(H2416=\"\",\"\",VLOOKUP(H2416,#REF!,2,0))","v":{"$error":"#REF!"}},5,null,5,0]
["R1","兵庫県",{"$f":"IF(D2417=\"\",\"\",VLOOKUP(D2417,#REF!,3,0))","v":{"$error":"#REF!"}},"神戸",{"$f":"IF(D2417=\"\",\"\",VLOOKUP(D2417,#REF!,4,0))","v":{"$error":"#REF!"}},{"$f":"IF(C2417=\"\",\"\",VLOOKUP(D2417,#REF!,5,0))","v":{"$error":"#REF!"}},"輸入","ミクロネシア連邦",{"$f":"IF(H2417=\"\",\"\",VLOOKUP(H2417,#REF!,2,0))","v":{"$error":"#REF!"}},33,null,0,33]
["R1","兵庫県",{"$f":"IF(D2418=\"\",\"\",VLOOKUP(D2418,#REF!,3,0))","v":{"$error":"#REF!"}},"神戸",{"$f":"IF(D2418=\"\",\"\",VLOOKUP(D2418,#REF!,4,0))","v":{"$error":"#REF!"}},{"$f":"IF(C2418=\"\",\"\",VLOOKUP(D2418,#REF!,5,0))","v":{"$error":"#REF!"}},"輸入","マーシャル諸島",{"$f":"IF(H2418=\"\",\"\",VLOOKUP(H2418,#REF!,2,0))","v":{"$error":"#REF!"}},1,null,0,1]
["R1","兵庫県",{"$f":"IF(D2419=\"\",\"\",VLOOKUP(D2419,#REF!,3,0))","v":{"$error":"#REF!"}},"神戸",{"$f":"IF(D2419=\"\",\"\",VLOOKUP(D2419,#REF!,4,0))","v":{"$error":"#REF!"}},{"$f":"IF(C2419=\"\",\"\",VLOOKUP(D2419,#REF!,5,0))","v":{"$error":"#REF!"}},"輸入","北マリアナ諸島",{"$f":"IF(H2419=\"\",\"\",VLOOKUP(H2419,#REF!,2,0))","v":{"$error":"#REF!"}},4,null,2,2]
["R1","兵庫県",{"$f":"IF(D2420=\"\",\"\",VLOOKUP(D2420,#REF!,3,0))","v":{"$error":"#REF!"}},"神戸",{"$f":"IF(D2420=\"\",\"\",VLOOKUP(D2420,#REF!,4,0))","v":{"$error":"#REF!"}},{"$f":"IF(C2420=\"\",\"\",VLOOKUP(D2420,#REF!,5,0))","v":{"$error":"#REF!"}},"輸入","パラオ",{"$f":"IF(H2420=\"\",\"\",VLOOKUP(H2420,#REF!,2,0))","v":{"$error":"#REF!"}},3,null,0,3]
["R1","兵庫県",{"$f":"IF(D2421=\"\",\"\",VLOOKUP(D2421,#REF!,3,0))","v":{"$error":"#REF!"}},"神戸",{"$f":"IF(D2421=\"\",\"\",VLOOKUP(D2421,#REF!,4,0))","v":{"$error":"#REF!"}},{"$f":"IF(C2421=\"\",\"\",VLOOKUP(D2421,#REF!,5,0))","v":{"$error":"#REF!"}},"輸入","南アフリカ",{"$f":"IF(H2421=\"\",\"\",VLOOKUP(H2421,#REF!,2,0))","v":{"$error":"#REF!"}},{"v":2345,"d":"2,345"},null,{"v":1005,"d":"1,005"},{"v":1340,"d":"1,340"}]
["R1","兵庫県",{"$f":"IF(D2422=\"\",\"\",VLOOKUP(D2422,#REF!,3,0))","v":{"$error":"#REF!"}},"神戸",{"$f":"IF(D2422=\"\",\"\",VLOOKUP(D2422,#REF!,4,0))","v":{"$error":"#REF!"}},{"$f":"IF(C2422=\"\",\"\",VLOOKUP(D2422,#REF!,5,0))","v":{"$error":"#REF!"}},"輸入","イギリス",{"$f":"IF(H2422=\"\",\"\",VLOOKUP(H2422,#REF!,2,0))","v":{"$error":"#REF!"}},{"v":6264,"d":"6,264"},null,{"v":5668,"d":"5,668"},596]
["R1","兵庫県",{"$f":"IF(D2423=\"\",\"\",VLOOKUP(D2423,#REF!,3,0))","v":{"$error":"#REF!"}},"神戸",{"$f":"IF(D2423=\"\",\"\",VLOOKUP(D2423,#REF!,4,0))","v":{"$error":"#REF!"}},{"$f":"IF(C2423=\"\",\"\",VLOOKUP(D2423,#REF!,5,0))","v":{"$error":"#REF!"}},"輸入","オランダ",{"$f":"IF(H2423=\"\",\"\",VLOOKUP(H2423,#REF!,2,0))","v":{"$error":"#REF!"}},{"v":22387,"d":"22,387"},8,{"v":22277,"d":"22,277"},110]
["R1","兵庫県",{"$f":"IF(D2424=\"\",\"\",VLOOKUP(D2424,#REF!,3,0))","v":{"$error":"#REF!"}},"神戸",{"$f":"IF(D2424=\"\",\"\",VLOOKUP(D2424,#REF!,4,0))","v":{"$error":"#REF!"}},{"$f":"IF(C2424=\"\",\"\",VLOOKUP(D2424,#REF!,5,0))","v":{"$error":"#REF!"}},"輸入","ドイツ",{"$f":"IF(H2424=\"\",\"\",VLOOKUP(H2424,#REF!,2,0))","v":{"$error":"#REF!"}},{"v":22631,"d":"22,631"},null,{"v":22554,"d":"22,554"},77]
["R1","兵庫県",{"$f":"IF(D2425=\"\",\"\",VLOOKUP(D2425,#REF!,3,0))","v":{"$error":"#REF!"}},"神戸",{"$f":"IF(D2425=\"\",\"\",VLOOKUP(D2425,#REF!,4,0))","v":{"$error":"#REF!"}},{"$f":"IF(C2425=\"\",\"\",VLOOKUP(D2425,#REF!,5,0))","v":{"$error":"#REF!"}},"輸入","フランス",{"$f":"IF(H2425=\"\",\"\",VLOOKUP(H2425,#REF!,2,0))","v":{"$error":"#REF!"}},{"v":6601,"d":"6,601"},null,{"v":6556,"d":"6,556"},45]
["R1","兵庫県",{"$f":"IF(D2426=\"\",\"\",VLOOKUP(D2426,#REF!,3,0))","v":{"$error":"#REF!"}},"神戸",{"$f":"IF(D2426=\"\",\"\",VLOOKUP(D2426,#REF!,4,0))","v":{"$error":"#REF!"}},{"$f":"IF(C2426=\"\",\"\",VLOOKUP(D2426,#REF!,5,0))","v":{"$error":"#REF!"}},"輸入","ロシア",{"$f":"IF(H2426=\"\",\"\",VLOOKUP(H2426,#REF!,2,0))","v":{"$error":"#REF!"}},{"v":2992,"d":"2,992"},null,{"v":2296,"d":"2,296"},696]
["R1","兵庫県",{"$f":"IF(D2427=\"\",\"\",VLOOKUP(D2427,#REF!,3,0))","v":{"$error":"#REF!"}},"神戸",{"$f":"IF(D2427=\"\",\"\",VLOOKUP(D2427,#REF!,4,0))","v":{"$error":"#REF!"}},{"$f":"IF(C2427=\"\",\"\",VLOOKUP(D2427,#REF!,5,0))","v":{"$error":"#REF!"}},"輸入","アメリカ",{"$f":"IF(H2427=\"\",\"\",VLOOKUP(H2427,#REF!,2,0))","v":{"$error":"#REF!"}},{"v":164826,"d":"164,826"},{"v":5151,"d":"5,151"},{"v":148141,"d":"148,141"},{"v":16684,"d":"16,684"}]
["R1","兵庫県",{"$f":"IF(D2428=\"\",\"\",VLOOKUP(D2428,#REF!,3,0))","v":{"$error":"#REF!"}},"神戸",{"$f":"IF(D2428=\"\",\"\",VLOOKUP(D2428,#REF!,4,0))","v":{"$error":"#REF!"}},{"$f":"IF(C2428=\"\",\"\",VLOOKUP(D2428,#REF!,5,0))","v":{"$error":"#REF!"}},"輸入","カナダ",{"$f":"IF(H2428=\"\",\"\",VLOOKUP(H2428,#REF!,2,0))","v":{"$error":"#REF!"}},{"v":23563,"d":"23,563"},285,{"v":21562,"d":"21,562"},{"v":2001,"d":"2,001"}]
["R1","兵庫県",{"$f":"IF(D2429=\"\",\"\",VLOOKUP(D2429,#REF!,3,0))","v":{"$error":"#REF!"}},"神戸",{"$f":"IF(D2429=\"\",\"\",VLOOKUP(D2429,#REF!,4,0))","v":{"$error":"#REF!"}},{"$f":"IF(C2429=\"\",\"\",VLOOKUP(D2429,#REF!,5,0))","v":{"$error":"#REF!"}},"輸入","パナマ",{"$f":"IF(H2429=\"\",\"\",VLOOKUP(H2429,#REF!,2,0))","v":{"$error":"#REF!"}},{"v":1214,"d":"1,214"},12,887,327]
["R1","和歌山県",{"$f":"IF(D2430=\"\",\"\",VLOOKUP(D2430,#REF!,3,0))","v":{"$error":"#REF!"}},"和歌山下津",{"$f":"IF(D2430=\"\",\"\",VLOOKUP(D2430,#REF!,4,0))","v":{"$error":"#REF!"}},{"$f":"IF(C2430=\"\",\"\",VLOOKUP(D2430,#REF!,5,0))","v":{"$error":"#REF!"}},"輸入","韓国",{"$f":"IF(H2430=\"\",\"\",VLOOKUP(H2430,#REF!,2,0))","v":{"$error":"#REF!"}},{"v":1939,"d":"1,939"},null,{"v":1939,"d":"1,939"},0]
["R1","和歌山県",{"$f":"IF(D2431=\"\",\"\",VLOOKUP(D2431,#REF!,3,0))","v":{"$error":"#REF!"}},"和歌山下津",{"$f":"IF(D2431=\"\",\"\",VLOOKUP(D2431,#REF!,4,0))","v":{"$error":"#REF!"}},{"$f":"IF(C2431=\"\",\"\",VLOOKUP(D2431,#REF!,5,0))","v":{"$error":"#REF!"}},"輸入","中国",{"$f":"IF(H2431=\"\",\"\",VLOOKUP(H2431,#REF!,2,0))","v":{"$error":"#REF!"}},42,null,42,0]
["R2","京都府",{"$f":"IF(D2432=\"\",\"\",VLOOKUP(D2432,#REF!,3,0))","v":{"$error":"#REF!"}},"舞鶴",{"$f":"IF(D2432=\"\",\"\",VLOOKUP(D2432,#REF!,4,0))","v":{"$error":"#REF!"}},"重要港湾","輸出","韓国",{"$f":"IF(H2432=\"\",\"\",VLOOKUP(H2432,#REF!,2,0))","v":{"$error":"#REF!"}},{"v":8101,"d":"8,101"},null,{"v":6350,"d":"6,350"},1751]
["R2","京都府",{"$f":"IF(D2433=\"\",\"\",VLOOKUP(D2433,#REF!,3,0))","v":{"$error":"#REF!"}},"舞鶴",{"$f":"IF(D2433=\"\",\"\",VLOOKUP(D2433,#REF!,4,0))","v":{"$error":"#REF!"}},"重要港湾","輸出","中国",{"$f":"IF(H2433=\"\",\"\",VLOOKUP(H2433,#REF!,2,0))","v":{"$error":"#REF!"}},{"v":2024,"d":"2,024"},null,286,1738]
["R2","京都府",{"$f":"IF(D2434=\"\",\"\",VLOOKUP(D2434,#REF!,3,0))","v":{"$error":"#REF!"}},"舞鶴",{"$f":"IF(D2434=\"\",\"\",VLOOKUP(D2434,#REF!,4,0))","v":{"$error":"#REF!"}},"重要港湾","輸出","ロシア",{"$f":"IF(H2434=\"\",\"\",VLOOKUP(H2434,#REF!,2,0))","v":{"$error":"#REF!"}},27,null,19,8]
["R2","大阪府",{"$f":"IF(D2435=\"\",\"\",VLOOKUP(D2435,#REF!,3,0))","v":{"$error":"#REF!"}},"堺泉北",{"$f":"IF(D2435=\"\",\"\",VLOOKUP(D2435,#REF!,4,0))","v":{"$error":"#REF!"}},"国際拠点港湾","輸出","韓国",{"$f":"IF(H2435=\"\",\"\",VLOOKUP(H2435,#REF!,2,0))","v":{"$error":"#REF!"}},32,null,32,0]
["R2","大阪府",{"$f":"IF(D2436=\"\",\"\",VLOOKUP(D2436,#REF!,3,0))","v":{"$error":"#REF!"}},"堺泉北",{"$f":"IF(D2436=\"\",\"\",VLOOKUP(D2436,#REF!,4,0))","v":{"$error":"#REF!"}},"国際拠点港湾","輸出","中国",{"$f":"IF(H2436=\"\",\"\",VLOOKUP(H2436,#REF!,2,0))","v":{"$error":"#REF!"}},{"v":13786,"d":"13,786"},null,{"v":1319,"d":"1,319"},12467]
["R2","大阪府",{"$f":"IF(D2437=\"\",\"\",VLOOKUP(D2437,#REF!,3,0))","v":{"$error":"#REF!"}},"堺泉北",{"$f":"IF(D2437=\"\",\"\",VLOOKUP(D2437,#REF!,4,0))","v":{"$error":"#REF!"}},"国際拠点港湾","輸出","ベトナム",{"$f":"IF(H2437=\"\",\"\",VLOOKUP(H2437,#REF!,2,0))","v":{"$error":"#REF!"}},123,null,123,0]
["R2","大阪府",{"$f":"IF(D2438=\"\",\"\",VLOOKUP(D2438,#REF!,3,0))","v":{"$error":"#REF!"}},"大阪",{"$f":"IF(D2438=\"\",\"\",VLOOKUP(D2438,#REF!,4,0))","v":{"$error":"#REF!"}},"国際戦略港湾","輸出","韓国",{"$f":"IF(H2438=\"\",\"\",VLOOKUP(H2438,#REF!,2,0))","v":{"$error":"#REF!"}},{"v":141087,"d":"141,087"},null,{"v":70927,"d":"70,927"},70160]
["R2","大阪府",{"$f":"IF(D2439=\"\",\"\",VLOOKUP(D2439,#REF!,3,0))","v":{"$error":"#REF!"}},"大阪",{"$f":"IF(D2439=\"\",\"\",VLOOKUP(D2439,#REF!,4,0))","v":{"$error":"#REF!"}},"国際戦略港湾","輸出","台湾",{"$f":"IF(H2439=\"\",\"\",VLOOKUP(H2439,#REF!,2,0))","v":{"$error":"#REF!"}},{"v":76425,"d":"76,425"},null,{"v":57882,"d":"57,882"},18543]
["R2","大阪府",{"$f":"IF(D2440=\"\",\"\",VLOOKUP(D2440,#REF!,3,0))","v":{"$error":"#REF!"}},"大阪",{"$f":"IF(D2440=\"\",\"\",VLOOKUP(D2440,#REF!,4,0))","v":{"$error":"#REF!"}},"国際戦略港湾","輸出","中国",{"$f":"IF(H2440=\"\",\"\",VLOOKUP(H2440,#REF!,2,0))","v":{"$error":"#REF!"}},{"v":556309,"d":"556,309"},null,{"v":122206,"d":"122,206"},434103]
["R2","大阪府",{"$f":"IF(D2441=\"\",\"\",VLOOKUP(D2441,#REF!,3,0))","v":{"$error":"#REF!"}},"大阪",{"$f":"IF(D2441=\"\",\"\",VLOOKUP(D2441,#REF!,4,0))","v":{"$error":"#REF!"}},"国際戦略港湾","輸出","中国(ホンコン)",{"$f":"IF(H2441=\"\",\"\",VLOOKUP(H2441,#REF!,2,0))","v":{"$error":"#REF!"}},{"v":50861,"d":"50,861"},null,{"v":35754,"d":"35,754"},15107]
["R2","大阪府",{"$f":"IF(D2442=\"\",\"\",VLOOKUP(D2442,#REF!,3,0))","v":{"$error":"#REF!"}},"大阪",{"$f":"IF(D2442=\"\",\"\",VLOOKUP(D2442,#REF!,4,0))","v":{"$error":"#REF!"}},"国際戦略港湾","輸出","カンボジア",{"$f":"IF(H2442=\"\",\"\",VLOOKUP(H2442,#REF!,2,0))","v":{"$error":"#REF!"}},432,null,426,6]
["R2","大阪府",{"$f":"IF(D2443=\"\",\"\",VLOOKUP(D2443,#REF!,3,0))","v":{"$error":"#REF!"}},"大阪",{"$f":"IF(D2443=\"\",\"\",VLOOKUP(D2443,#REF!,4,0))","v":{"$error":"#REF!"}},"国際戦略港湾","輸出","シンガポール",{"$f":"IF(H2443=\"\",\"\",VLOOKUP(H2443,#REF!,2,0))","v":{"$error":"#REF!"}},{"v":15340,"d":"15,340"},null,{"v":14233,"d":"14,233"},1107]
["R2","大阪府",{"$f":"IF(D2444=\"\",\"\",VLOOKUP(D2444,#REF!,3,0))","v":{"$error":"#REF!"}},"大阪",{"$f":"IF(D2444=\"\",\"\",VLOOKUP(D2444,#REF!,4,0))","v":{"$error":"#REF!"}},"国際戦略港湾","輸出","タイ",{"$f":"IF(H2444=\"\",\"\",VLOOKUP(H2444,#REF!,2,0))","v":{"$error":"#REF!"}},{"v":33232,"d":"33,232"},null,{"v":24513,"d":"24,513"},8719]
["R2","大阪府",{"$f":"IF(D2445=\"\",\"\",VLOOKUP(D2445,#REF!,3,0))","v":{"$error":"#REF!"}},"大阪",{"$f":"IF(D2445=\"\",\"\",VLOOKUP(D2445,#REF!,4,0))","v":{"$error":"#REF!"}},"国際戦略港湾","輸出","フィリピン",{"$f":"IF(H2445=\"\",\"\",VLOOKUP(H2445,#REF!,2,0))","v":{"$error":"#REF!"}},{"v":2123,"d":"2,123"},null,{"v":2029,"d":"2,029"},94]
["R2","大阪府",{"$f":"IF(D2446=\"\",\"\",VLOOKUP(D2446,#REF!,3,0))","v":{"$error":"#REF!"}},"大阪",{"$f":"IF(D2446=\"\",\"\",VLOOKUP(D2446,#REF!,4,0))","v":{"$error":"#REF!"}},"国際戦略港湾","輸出","マレーシア",{"$f":"IF(H2446=\"\",\"\",VLOOKUP(H2446,#REF!,2,0))","v":{"$error":"#REF!"}},{"v":23499,"d":"23,499"},null,{"v":23303,"d":"23,303"},196]
["R2","大阪府",{"$f":"IF(D2447=\"\",\"\",VLOOKUP(D2447,#REF!,3,0))","v":{"$error":"#REF!"}},"大阪",{"$f":"IF(D2447=\"\",\"\",VLOOKUP(D2447,#REF!,4,0))","v":{"$error":"#REF!"}},"国際戦略港湾","輸出","ベトナム",{"$f":"IF(H2447=\"\",\"\",VLOOKUP(H2447,#REF!,2,0))","v":{"$error":"#REF!"}},{"v":30147,"d":"30,147"},null,{"v":23975,"d":"23,975"},6172]
["R2","大阪府",{"$f":"IF(D2448=\"\",\"\",VLOOKUP(D2448,#REF!,3,0))","v":{"$error":"#REF!"}},"大阪",{"$f":"IF(D2448=\"\",\"\",VLOOKUP(D2448,#REF!,4,0))","v":{"$error":"#REF!"}},"国際戦略港湾","輸出","オーストラリア",{"$f":"IF(H2448=\"\",\"\",VLOOKUP(H2448,#REF!,2,0))","v":{"$error":"#REF!"}},{"v":5297,"d":"5,297"},null,{"v":4050,"d":"4,050"},1247]
["R2","大阪府",{"$f":"IF(D2449=\"\",\"\",VLOOKUP(D2449,#REF!,3,0))","v":{"$error":"#REF!"}},"大阪",{"$f":"IF(D2449=\"\",\"\",VLOOKUP(D2449,#REF!,4,0))","v":{"$error":"#REF!"}},"国際戦略港湾","輸出","アメリカ合衆国",{"$f":"IF(H2449=\"\",\"\",VLOOKUP(H2449,#REF!,2,0))","v":{"$error":"#REF!"}},{"v":3014,"d":"3,014"},null,{"v":3008,"d":"3,008"},6]
["R2","大阪府",{"$f":"IF(D2450=\"\",\"\",VLOOKUP(D2450,#REF!,3,0))","v":{"$error":"#REF!"}},"大阪",{"$f":"IF(D2450=\"\",\"\",VLOOKUP(D2450,#REF!,4,0))","v":{"$error":"#REF!"}},"国際戦略港湾","輸出","カナダ",{"$f":"IF(H2450=\"\",\"\",VLOOKUP(H2450,#REF!,2,0))","v":{"$error":"#REF!"}},{"v":2744,"d":"2,744"},null,{"v":2744,"d":"2,744"},0]
["R2","兵庫県",{"$f":"IF(D2451=\"\",\"\",VLOOKUP(D2451,#REF!,3,0))","v":{"$error":"#REF!"}},"神戸",{"$f":"IF(D2451=\"\",\"\",VLOOKUP(D2451,#REF!,4,0))","v":{"$error":"#REF!"}},"国際戦略港湾","輸出","韓国",{"$f":"IF(H2451=\"\",\"\",VLOOKUP(H2451,#REF!,2,0))","v":{"$error":"#REF!"}},{"v":109118,"d":"109,118"},null,{"v":84115,"d":"84,115"},25003]
["R2","兵庫県",{"$f":"IF(D2452=\"\",\"\",VLOOKUP(D2452,#REF!,3,0))","v":{"$error":"#REF!"}},"神戸",{"$f":"IF(D2452=\"\",\"\",VLOOKUP(D2452,#REF!,4,0))","v":{"$error":"#REF!"}},"国際戦略港湾","輸出","台湾",{"$f":"IF(H2452=\"\",\"\",VLOOKUP(H2452,#REF!,2,0))","v":{"$error":"#REF!"}},{"v":107468,"d":"107,468"},null,{"v":94667,"d":"94,667"},12801]
["R2","兵庫県",{"$f":"IF(D2453=\"\",\"\",VLOOKUP(D2453,#REF!,3,0))","v":{"$error":"#REF!"}},"神戸",{"$f":"IF(D2453=\"\",\"\",VLOOKUP(D2453,#REF!,4,0))","v":{"$error":"#REF!"}},"国際戦略港湾","輸出","中国",{"$f":"IF(H2453=\"\",\"\",VLOOKUP(H2453,#REF!,2,0))","v":{"$error":"#REF!"}},{"v":326698,"d":"326,698"},null,{"v":181215,"d":"181,215"},145483]
["R2","兵庫県",{"$f":"IF(D2454=\"\",\"\",VLOOKUP(D2454,#REF!,3,0))","v":{"$error":"#REF!"}},"神戸",{"$f":"IF(D2454=\"\",\"\",VLOOKUP(D2454,#REF!,4,0))","v":{"$error":"#REF!"}},"国際戦略港湾","輸出","中国(ホンコン)",{"$f":"IF(H2454=\"\",\"\",VLOOKUP(H2454,#REF!,2,0))","v":{"$error":"#REF!"}},{"v":76062,"d":"76,062"},null,{"v":68431,"d":"68,431"},7631]
["R2","兵庫県",{"$f":"IF(D2455=\"\",\"\",VLOOKUP(D2455,#REF!,3,0))","v":{"$error":"#REF!"}},"神戸",{"$f":"IF(D2455=\"\",\"\",VLOOKUP(D2455,#REF!,4,0))","v":{"$error":"#REF!"}},"国際戦略港湾","輸出","インドネシア",{"$f":"IF(H2455=\"\",\"\",VLOOKUP(H2455,#REF!,2,0))","v":{"$error":"#REF!"}},{"v":25535,"d":"25,535"},null,{"v":25495,"d":"25,495"},40]
["R2","兵庫県",{"$f":"IF(D2456=\"\",\"\",VLOOKUP(D2456,#REF!,3,0))","v":{"$error":"#REF!"}},"神戸",{"$f":"IF(D2456=\"\",\"\",VLOOKUP(D2456,#REF!,4,0))","v":{"$error":"#REF!"}},"国際戦略港湾","輸出","カンボジア",{"$f":"IF(H2456=\"\",\"\",VLOOKUP(H2456,#REF!,2,0))","v":{"$error":"#REF!"}},461,null,417,44]
["R2","兵庫県",{"$f":"IF(D2457=\"\",\"\",VLOOKUP(D2457,#REF!,3,0))","v":{"$error":"#REF!"}},"神戸",{"$f":"IF(D2457=\"\",\"\",VLOOKUP(D2457,#REF!,4,0))","v":{"$error":"#REF!"}},"国際戦略港湾","輸出","シンガポール",{"$f":"IF(H2457=\"\",\"\",VLOOKUP(H2457,#REF!,2,0))","v":{"$error":"#REF!"}},{"v":113913,"d":"113,913"},null,{"v":105845,"d":"105,845"},8068]
["R2","兵庫県",{"$f":"IF(D2458=\"\",\"\",VLOOKUP(D2458,#REF!,3,0))","v":{"$error":"#REF!"}},"神戸",{"$f":"IF(D2458=\"\",\"\",VLOOKUP(D2458,#REF!,4,0))","v":{"$error":"#REF!"}},"国際戦略港湾","輸出","タイ",{"$f":"IF(H2458=\"\",\"\",VLOOKUP(H2458,#REF!,2,0))","v":{"$error":"#REF!"}},{"v":71969,"d":"71,969"},null,{"v":62249,"d":"62,249"},9720]
["R2","兵庫県",{"$f":"IF(D2459=\"\",\"\",VLOOKUP(D2459,#REF!,3,0))","v":{"$error":"#REF!"}},"神戸",{"$f":"IF(D2459=\"\",\"\",VLOOKUP(D2459,#REF!,4,0))","v":{"$error":"#REF!"}},"国際戦略港湾","輸出","フィリピン",{"$f":"IF(H2459=\"\",\"\",VLOOKUP(H2459,#REF!,2,0))","v":{"$error":"#REF!"}},{"v":14687,"d":"14,687"},null,{"v":9157,"d":"9,157"},5530]
["R2","兵庫県",{"$f":"IF(D2460=\"\",\"\",VLOOKUP(D2460,#REF!,3,0))","v":{"$error":"#REF!"}},"神戸",{"$f":"IF(D2460=\"\",\"\",VLOOKUP(D2460,#REF!,4,0))","v":{"$error":"#REF!"}},"国際戦略港湾","輸出","マレーシア",{"$f":"IF(H2460=\"\",\"\",VLOOKUP(H2460,#REF!,2,0))","v":{"$error":"#REF!"}},{"v":43953,"d":"43,953"},null,{"v":43119,"d":"43,119"},834]
["R2","兵庫県",{"$f":"IF(D2461=\"\",\"\",VLOOKUP(D2461,#REF!,3,0))","v":{"$error":"#REF!"}},"神戸",{"$f":"IF(D2461=\"\",\"\",VLOOKUP(D2461,#REF!,4,0))","v":{"$error":"#REF!"}},"国際戦略港湾","輸出","ベトナム",{"$f":"IF(H2461=\"\",\"\",VLOOKUP(H2461,#REF!,2,0))","v":{"$error":"#REF!"}},{"v":46678,"d":"46,678"},null,{"v":42544,"d":"42,544"},4134]
["R2","兵庫県",{"$f":"IF(D2462=\"\",\"\",VLOOKUP(D2462,#REF!,3,0))","v":{"$error":"#REF!"}},"神戸",{"$f":"IF(D2462=\"\",\"\",VLOOKUP(D2462,#REF!,4,0))","v":{"$error":"#REF!"}},"国際戦略港湾","輸出","インド",{"$f":"IF(H2462=\"\",\"\",VLOOKUP(H2462,#REF!,2,0))","v":{"$error":"#REF!"}},128,null,128,0]
["R2","兵庫県",{"$f":"IF(D2463=\"\",\"\",VLOOKUP(D2463,#REF!,3,0))","v":{"$error":"#REF!"}},"神戸",{"$f":"IF(D2463=\"\",\"\",VLOOKUP(D2463,#REF!,4,0))","v":{"$error":"#REF!"}},"国際戦略港湾","輸出","オーストラリア",{"$f":"IF(H2463=\"\",\"\",VLOOKUP(H2463,#REF!,2,0))","v":{"$error":"#REF!"}},241,null,241,0]
["R2","兵庫県",{"$f":"IF(D2464=\"\",\"\",VLOOKUP(D2464,#REF!,3,0))","v":{"$error":"#REF!"}},"神戸",{"$f":"IF(D2464=\"\",\"\",VLOOKUP(D2464,#REF!,4,0))","v":{"$error":"#REF!"}},"国際戦略港湾","輸出","仏領ポリネシア",{"$f":"IF(H2464=\"\",\"\",VLOOKUP(H2464,#REF!,2,0))","v":{"$error":"#REF!"}},98,null,98,0]
["R2","兵庫県",{"$f":"IF(D2465=\"\",\"\",VLOOKUP(D2465,#REF!,3,0))","v":{"$error":"#REF!"}},"神戸",{"$f":"IF(D2465=\"\",\"\",VLOOKUP(D2465,#REF!,4,0))","v":{"$error":"#REF!"}},"国際戦略港湾","輸出","グアム",{"$f":"IF(H2465=\"\",\"\",VLOOKUP(H2465,#REF!,2,0))","v":{"$error":"#REF!"}},47,null,47,0]
["R2","兵庫県",{"$f":"IF(D2466=\"\",\"\",VLOOKUP(D2466,#REF!,3,0))","v":{"$error":"#REF!"}},"神戸",{"$f":"IF(D2466=\"\",\"\",VLOOKUP(D2466,#REF!,4,0))","v":{"$error":"#REF!"}},"国際戦略港湾","輸出","サモア",{"$f":"IF(H2466=\"\",\"\",VLOOKUP(H2466,#REF!,2,0))","v":{"$error":"#REF!"}},155,null,155,0]
["R2","兵庫県",{"$f":"IF(D2467=\"\",\"\",VLOOKUP(D2467,#REF!,3,0))","v":{"$error":"#REF!"}},"神戸",{"$f":"IF(D2467=\"\",\"\",VLOOKUP(D2467,#REF!,4,0))","v":{"$error":"#REF!"}},"国際戦略港湾","輸出","ソロモン諸島",{"$f":"IF(H2467=\"\",\"\",VLOOKUP(H2467,#REF!,2,0))","v":{"$error":"#REF!"}},1,null,1,0]
["R2","兵庫県",{"$f":"IF(D2468=\"\",\"\",VLOOKUP(D2468,#REF!,3,0))","v":{"$error":"#REF!"}},"神戸",{"$f":"IF(D2468=\"\",\"\",VLOOKUP(D2468,#REF!,4,0))","v":{"$error":"#REF!"}},"国際戦略港湾","輸出","トンガ",{"$f":"IF(H2468=\"\",\"\",VLOOKUP(H2468,#REF!,2,0))","v":{"$error":"#REF!"}},6,null,6,0]
["R2","兵庫県",{"$f":"IF(D2469=\"\",\"\",VLOOKUP(D2469,#REF!,3,0))","v":{"$error":"#REF!"}},"神戸",{"$f":"IF(D2469=\"\",\"\",VLOOKUP(D2469,#REF!,4,0))","v":{"$error":"#REF!"}},"国際戦略港湾","輸出","ニューカレドニア",{"$f":"IF(H2469=\"\",\"\",VLOOKUP(H2469,#REF!,2,0))","v":{"$error":"#REF!"}},61,null,47,14]
["R2","兵庫県",{"$f":"IF(D2470=\"\",\"\",VLOOKUP(D2470,#REF!,3,0))","v":{"$error":"#REF!"}},"神戸",{"$f":"IF(D2470=\"\",\"\",VLOOKUP(D2470,#REF!,4,0))","v":{"$error":"#REF!"}},"国際戦略港湾","輸出","ニュージーランド",{"$f":"IF(H2470=\"\",\"\",VLOOKUP(H2470,#REF!,2,0))","v":{"$error":"#REF!"}},{"v":1698,"d":"1,698"},null,769,929]
["R2","兵庫県",{"$f":"IF(D2471=\"\",\"\",VLOOKUP(D2471,#REF!,3,0))","v":{"$error":"#REF!"}},"神戸",{"$f":"IF(D2471=\"\",\"\",VLOOKUP(D2471,#REF!,4,0))","v":{"$error":"#REF!"}},"国際戦略港湾","輸出","パプアニューギニア",{"$f":"IF(H2471=\"\",\"\",VLOOKUP(H2471,#REF!,2,0))","v":{"$error":"#REF!"}},1,null,1,0]
["R2","兵庫県",{"$f":"IF(D2472=\"\",\"\",VLOOKUP(D2472,#REF!,3,0))","v":{"$error":"#REF!"}},"神戸",{"$f":"IF(D2472=\"\",\"\",VLOOKUP(D2472,#REF!,4,0))","v":{"$error":"#REF!"}},"国際戦略港湾","輸出","フィジー",{"$f":"IF(H2472=\"\",\"\",VLOOKUP(H2472,#REF!,2,0))","v":{"$error":"#REF!"}},16,null,16,0]
["R2","兵庫県",{"$f":"IF(D2473=\"\",\"\",VLOOKUP(D2473,#REF!,3,0))","v":{"$error":"#REF!"}},"神戸",{"$f":"IF(D2473=\"\",\"\",VLOOKUP(D2473,#REF!,4,0))","v":{"$error":"#REF!"}},"国際戦略港湾","輸出","キリバス",{"$f":"IF(H2473=\"\",\"\",VLOOKUP(H2473,#REF!,2,0))","v":{"$error":"#REF!"}},13,null,13,0]
["R2","兵庫県",{"$f":"IF(D2474=\"\",\"\",VLOOKUP(D2474,#REF!,3,0))","v":{"$error":"#REF!"}},"神戸",{"$f":"IF(D2474=\"\",\"\",VLOOKUP(D2474,#REF!,4,0))","v":{"$error":"#REF!"}},"国際戦略港湾","輸出","バヌアツ",{"$f":"IF(H2474=\"\",\"\",VLOOKUP(H2474,#REF!,2,0))","v":{"$error":"#REF!"}},4,null,2,2]
["R2","兵庫県",{"$f":"IF(D2475=\"\",\"\",VLOOKUP(D2475,#REF!,3,0))","v":{"$error":"#REF!"}},"神戸",{"$f":"IF(D2475=\"\",\"\",VLOOKUP(D2475,#REF!,4,0))","v":{"$error":"#REF!"}},"国際戦略港湾","輸出","米領サモア",{"$f":"IF(H2475=\"\",\"\",VLOOKUP(H2475,#REF!,2,0))","v":{"$error":"#REF!"}},1,null,1,0]
["R2","兵庫県",{"$f":"IF(D2476=\"\",\"\",VLOOKUP(D2476,#REF!,3,0))","v":{"$error":"#REF!"}},"神戸",{"$f":"IF(D2476=\"\",\"\",VLOOKUP(D2476,#REF!,4,0))","v":{"$error":"#REF!"}},"国際戦略港湾","輸出","ミクロネシア連邦",{"$f":"IF(H2476=\"\",\"\",VLOOKUP(H2476,#REF!,2,0))","v":{"$error":"#REF!"}},68,null,68,0]
["R2","兵庫県",{"$f":"IF(D2477=\"\",\"\",VLOOKUP(D2477,#REF!,3,0))","v":{"$error":"#REF!"}},"神戸",{"$f":"IF(D2477=\"\",\"\",VLOOKUP(D2477,#REF!,4,0))","v":{"$error":"#REF!"}},"国際戦略港湾","輸出","マーシャル諸島",{"$f":"IF(H2477=\"\",\"\",VLOOKUP(H2477,#REF!,2,0))","v":{"$error":"#REF!"}},27,null,27,0]
["R2","兵庫県",{"$f":"IF(D2478=\"\",\"\",VLOOKUP(D2478,#REF!,3,0))","v":{"$error":"#REF!"}},"神戸",{"$f":"IF(D2478=\"\",\"\",VLOOKUP(D2478,#REF!,4,0))","v":{"$error":"#REF!"}},"国際戦略港湾","輸出","北マリアナ諸島",{"$f":"IF(H2478=\"\",\"\",VLOOKUP(H2478,#REF!,2,0))","v":{"$error":"#REF!"}},22,null,22,0]
["R2","兵庫県",{"$f":"IF(D2479=\"\",\"\",VLOOKUP(D2479,#REF!,3,0))","v":{"$error":"#REF!"}},"神戸",{"$f":"IF(D2479=\"\",\"\",VLOOKUP(D2479,#REF!,4,0))","v":{"$error":"#REF!"}},"国際戦略港湾","輸出","パラオ",{"$f":"IF(H2479=\"\",\"\",VLOOKUP(H2479,#REF!,2,0))","v":{"$error":"#REF!"}},30,null,30,0]
["R2","兵庫県",{"$f":"IF(D2480=\"\",\"\",VLOOKUP(D2480,#REF!,3,0))","v":{"$error":"#REF!"}},"神戸",{"$f":"IF(D2480=\"\",\"\",VLOOKUP(D2480,#REF!,4,0))","v":{"$error":"#REF!"}},"国際戦略港湾","輸出","南アフリカ",{"$f":"IF(H2480=\"\",\"\",VLOOKUP(H2480,#REF!,2,0))","v":{"$error":"#REF!"}},{"v":4214,"d":"4,214"},null,476,3738]
["R2","兵庫県",{"$f":"IF(D2481=\"\",\"\",VLOOKUP(D2481,#REF!,3,0))","v":{"$error":"#REF!"}},"神戸",{"$f":"IF(D2481=\"\",\"\",VLOOKUP(D2481,#REF!,4,0))","v":{"$error":"#REF!"}},"国際戦略港湾","輸出","モーリシャス",{"$f":"IF(H2481=\"\",\"\",VLOOKUP(H2481,#REF!,2,0))","v":{"$error":"#REF!"}},15,null,15,0]
["R2","兵庫県",{"$f":"IF(D2482=\"\",\"\",VLOOKUP(D2482,#REF!,3,0))","v":{"$error":"#REF!"}},"神戸",{"$f":"IF(D2482=\"\",\"\",VLOOKUP(D2482,#REF!,4,0))","v":{"$error":"#REF!"}},"国際戦略港湾","輸出","イギリス",{"$f":"IF(H2482=\"\",\"\",VLOOKUP(H2482,#REF!,2,0))","v":{"$error":"#REF!"}},{"v":1088,"d":"1,088"},null,{"v":1088,"d":"1,088"},0]
["R2","兵庫県",{"$f":"IF(D2483=\"\",\"\",VLOOKUP(D2483,#REF!,3,0))","v":{"$error":"#REF!"}},"神戸",{"$f":"IF(D2483=\"\",\"\",VLOOKUP(D2483,#REF!,4,0))","v":{"$error":"#REF!"}},"国際戦略港湾","輸出","オランダ",{"$f":"IF(H2483=\"\",\"\",VLOOKUP(H2483,#REF!,2,0))","v":{"$error":"#REF!"}},{"v":35645,"d":"35,645"},null,{"v":34923,"d":"34,923"},722]
["R2","兵庫県",{"$f":"IF(D2484=\"\",\"\",VLOOKUP(D2484,#REF!,3,0))","v":{"$error":"#REF!"}},"神戸",{"$f":"IF(D2484=\"\",\"\",VLOOKUP(D2484,#REF!,4,0))","v":{"$error":"#REF!"}},"国際戦略港湾","輸出","ドイツ",{"$f":"IF(H2484=\"\",\"\",VLOOKUP(H2484,#REF!,2,0))","v":{"$error":"#REF!"}},{"v":15042,"d":"15,042"},null,{"v":15037,"d":"15,037"},5]
["R2","兵庫県",{"$f":"IF(D2485=\"\",\"\",VLOOKUP(D2485,#REF!,3,0))","v":{"$error":"#REF!"}},"神戸",{"$f":"IF(D2485=\"\",\"\",VLOOKUP(D2485,#REF!,4,0))","v":{"$error":"#REF!"}},"国際戦略港湾","輸出","フランス",{"$f":"IF(H2485=\"\",\"\",VLOOKUP(H2485,#REF!,2,0))","v":{"$error":"#REF!"}},{"v":4268,"d":"4,268"},null,{"v":2804,"d":"2,804"},1464]
["R2","兵庫県",{"$f":"IF(D2486=\"\",\"\",VLOOKUP(D2486,#REF!,3,0))","v":{"$error":"#REF!"}},"神戸",{"$f":"IF(D2486=\"\",\"\",VLOOKUP(D2486,#REF!,4,0))","v":{"$error":"#REF!"}},"国際戦略港湾","輸出","ベルギー",{"$f":"IF(H2486=\"\",\"\",VLOOKUP(H2486,#REF!,2,0))","v":{"$error":"#REF!"}},9,null,9,0]
["R2","兵庫県",{"$f":"IF(D2487=\"\",\"\",VLOOKUP(D2487,#REF!,3,0))","v":{"$error":"#REF!"}},"神戸",{"$f":"IF(D2487=\"\",\"\",VLOOKUP(D2487,#REF!,4,0))","v":{"$error":"#REF!"}},"国際戦略港湾","輸出","ロシア",{"$f":"IF(H2487=\"\",\"\",VLOOKUP(H2487,#REF!,2,0))","v":{"$error":"#REF!"}},{"v":2370,"d":"2,370"},null,{"v":2370,"d":"2,370"},0]
["R2","兵庫県",{"$f":"IF(D2488=\"\",\"\",VLOOKUP(D2488,#REF!,3,0))","v":{"$error":"#REF!"}},"神戸",{"$f":"IF(D2488=\"\",\"\",VLOOKUP(D2488,#REF!,4,0))","v":{"$error":"#REF!"}},"国際戦略港湾","輸出","アメリカ合衆国",{"$f":"IF(H2488=\"\",\"\",VLOOKUP(H2488,#REF!,2,0))","v":{"$error":"#REF!"}},{"v":79844,"d":"79,844"},null,{"v":77721,"d":"77,721"},2123]
["R2","兵庫県",{"$f":"IF(D2489=\"\",\"\",VLOOKUP(D2489,#REF!,3,0))","v":{"$error":"#REF!"}},"神戸",{"$f":"IF(D2489=\"\",\"\",VLOOKUP(D2489,#REF!,4,0))","v":{"$error":"#REF!"}},"国際戦略港湾","輸出","カナダ",{"$f":"IF(H2489=\"\",\"\",VLOOKUP(H2489,#REF!,2,0))","v":{"$error":"#REF!"}},86,null,86,0]
["R2","兵庫県",{"$f":"IF(D2490=\"\",\"\",VLOOKUP(D2490,#REF!,3,0))","v":{"$error":"#REF!"}},"神戸",{"$f":"IF(D2490=\"\",\"\",VLOOKUP(D2490,#REF!,4,0))","v":{"$error":"#REF!"}},"国際戦略港湾","輸出","パナマ",{"$f":"IF(H2490=\"\",\"\",VLOOKUP(H2490,#REF!,2,0))","v":{"$error":"#REF!"}},10,null,10,0]
["R2","兵庫県",{"$f":"IF(D2491=\"\",\"\",VLOOKUP(D2491,#REF!,3,0))","v":{"$error":"#REF!"}},"神戸",{"$f":"IF(D2491=\"\",\"\",VLOOKUP(D2491,#REF!,4,0))","v":{"$error":"#REF!"}},"国際戦略港湾","輸出","メキシコ",{"$f":"IF(H2491=\"\",\"\",VLOOKUP(H2491,#REF!,2,0))","v":{"$error":"#REF!"}},20,null,20,0]
["R2","和歌山県",{"$f":"IF(D2492=\"\",\"\",VLOOKUP(D2492,#REF!,3,0))","v":{"$error":"#REF!"}},"和歌山下津",{"$f":"IF(D2492=\"\",\"\",VLOOKUP(D2492,#REF!,4,0))","v":{"$error":"#REF!"}},"国際拠点港湾","輸出","韓国",{"$f":"IF(H2492=\"\",\"\",VLOOKUP(H2492,#REF!,2,0))","v":{"$error":"#REF!"}},{"v":1436,"d":"1,436"},null,194,1242]
["R2","和歌山県",{"$f":"IF(D2493=\"\",\"\",VLOOKUP(D2493,#REF!,3,0))","v":{"$error":"#REF!"}},"和歌山下津",{"$f":"IF(D2493=\"\",\"\",VLOOKUP(D2493,#REF!,4,0))","v":{"$error":"#REF!"}},"国際拠点港湾","輸出","中国",{"$f":"IF(H2493=\"\",\"\",VLOOKUP(H2493,#REF!,2,0))","v":{"$error":"#REF!"}},10,null,10,0]
["R2","京都府",{"$f":"IF(D2494=\"\",\"\",VLOOKUP(D2494,#REF!,3,0))","v":{"$error":"#REF!"}},"舞鶴",{"$f":"IF(D2494=\"\",\"\",VLOOKUP(D2494,#REF!,4,0))","v":{"$error":"#REF!"}},"重要港湾","輸入","韓国",{"$f":"IF(H2494=\"\",\"\",VLOOKUP(H2494,#REF!,2,0))","v":{"$error":"#REF!"}},{"v":6314,"d":"6,314"},null,{"v":3208,"d":"3,208"},3106]
["R2","京都府",{"$f":"IF(D2495=\"\",\"\",VLOOKUP(D2495,#REF!,3,0))","v":{"$error":"#REF!"}},"舞鶴",{"$f":"IF(D2495=\"\",\"\",VLOOKUP(D2495,#REF!,4,0))","v":{"$error":"#REF!"}},"重要港湾","輸入","中国",{"$f":"IF(H2495=\"\",\"\",VLOOKUP(H2495,#REF!,2,0))","v":{"$error":"#REF!"}},{"v":2059,"d":"2,059"},null,{"v":2059,"d":"2,059"},0]
["R2","京都府",{"$f":"IF(D2496=\"\",\"\",VLOOKUP(D2496,#REF!,3,0))","v":{"$error":"#REF!"}},"舞鶴",{"$f":"IF(D2496=\"\",\"\",VLOOKUP(D2496,#REF!,4,0))","v":{"$error":"#REF!"}},"重要港湾","輸入","ロシア",{"$f":"IF(H2496=\"\",\"\",VLOOKUP(H2496,#REF!,2,0))","v":{"$error":"#REF!"}},32,null,11,21]
["R2","大阪府",{"$f":"IF(D2497=\"\",\"\",VLOOKUP(D2497,#REF!,3,0))","v":{"$error":"#REF!"}},"堺泉北",{"$f":"IF(D2497=\"\",\"\",VLOOKUP(D2497,#REF!,4,0))","v":{"$error":"#REF!"}},"国際拠点港湾","輸入","中国",{"$f":"IF(H2497=\"\",\"\",VLOOKUP(H2497,#REF!,2,0))","v":{"$error":"#REF!"}},{"v":16053,"d":"16,053"},null,{"v":15937,"d":"15,937"},116]
["R2","大阪府",{"$f":"IF(D2498=\"\",\"\",VLOOKUP(D2498,#REF!,3,0))","v":{"$error":"#REF!"}},"堺泉北",{"$f":"IF(D2498=\"\",\"\",VLOOKUP(D2498,#REF!,4,0))","v":{"$error":"#REF!"}},"国際拠点港湾","輸入","タイ",{"$f":"IF(H2498=\"\",\"\",VLOOKUP(H2498,#REF!,2,0))","v":{"$error":"#REF!"}},149,null,149,0]
["R2","大阪府",{"$f":"IF(D2499=\"\",\"\",VLOOKUP(D2499,#REF!,3,0))","v":{"$error":"#REF!"}},"堺泉北",{"$f":"IF(D2499=\"\",\"\",VLOOKUP(D2499,#REF!,4,0))","v":{"$error":"#REF!"}},"国際拠点港湾","輸入","ベトナム",{"$f":"IF(H2499=\"\",\"\",VLOOKUP(H2499,#REF!,2,0))","v":{"$error":"#REF!"}},770,null,770,0]
["R2","大阪府",{"$f":"IF(D2500=\"\",\"\",VLOOKUP(D2500,#REF!,3,0))","v":{"$error":"#REF!"}},"大阪",{"$f":"IF(D2500=\"\",\"\",VLOOKUP(D2500,#REF!,4,0))","v":{"$error":"#REF!"}},"国際戦略港湾","輸入","韓国",{"$f":"IF(H2500=\"\",\"\",VLOOKUP(H2500,#REF!,2,0))","v":{"$error":"#REF!"}},{"v":109594,"d":"109,594"},null,{"v":100954,"d":"100,954"},8640]
["R2","大阪府",{"$f":"IF(D2501=\"\",\"\",VLOOKUP(D2501,#REF!,3,0))","v":{"$error":"#REF!"}},"大阪",{"$f":"IF(D2501=\"\",\"\",VLOOKUP(D2501,#REF!,4,0))","v":{"$error":"#REF!"}},"国際戦略港湾","輸入","台湾",{"$f":"IF(H2501=\"\",\"\",VLOOKUP(H2501,#REF!,2,0))","v":{"$error":"#REF!"}},{"v":81647,"d":"81,647"},null,{"v":81376,"d":"81,376"},271]
["R2","大阪府",{"$f":"IF(D2502=\"\",\"\",VLOOKUP(D2502,#REF!,3,0))","v":{"$error":"#REF!"}},"大阪",{"$f":"IF(D2502=\"\",\"\",VLOOKUP(D2502,#REF!,4,0))","v":{"$error":"#REF!"}},"国際戦略港湾","輸入","中国",{"$f":"IF(H2502=\"\",\"\",VLOOKUP(H2502,#REF!,2,0))","v":{"$error":"#REF!"}},{"v":619831,"d":"619,831"},null,{"v":607563,"d":"607,563"},12268]
["R2","大阪府",{"$f":"IF(D2503=\"\",\"\",VLOOKUP(D2503,#REF!,3,0))","v":{"$error":"#REF!"}},"大阪",{"$f":"IF(D2503=\"\",\"\",VLOOKUP(D2503,#REF!,4,0))","v":{"$error":"#REF!"}},"国際戦略港湾","輸入","中国(ホンコン)",{"$f":"IF(H2503=\"\",\"\",VLOOKUP(H2503,#REF!,2,0))","v":{"$error":"#REF!"}},{"v":89265,"d":"89,265"},null,{"v":89175,"d":"89,175"},90]
["R2","大阪府",{"$f":"IF(D2504=\"\",\"\",VLOOKUP(D2504,#REF!,3,0))","v":{"$error":"#REF!"}},"大阪",{"$f":"IF(D2504=\"\",\"\",VLOOKUP(D2504,#REF!,4,0))","v":{"$error":"#REF!"}},"国際戦略港湾","輸入","カンボジア",{"$f":"IF(H2504=\"\",\"\",VLOOKUP(H2504,#REF!,2,0))","v":{"$error":"#REF!"}},9,null,9,0]
["R2","大阪府",{"$f":"IF(D2505=\"\",\"\",VLOOKUP(D2505,#REF!,3,0))","v":{"$error":"#REF!"}},"大阪",{"$f":"IF(D2505=\"\",\"\",VLOOKUP(D2505,#REF!,4,0))","v":{"$error":"#REF!"}},"国際戦略港湾","輸入","シンガポール",{"$f":"IF(H2505=\"\",\"\",VLOOKUP(H2505,#REF!,2,0))","v":{"$error":"#REF!"}},{"v":17026,"d":"17,026"},null,{"v":17006,"d":"17,006"},20]
["R2","大阪府",{"$f":"IF(D2506=\"\",\"\",VLOOKUP(D2506,#REF!,3,0))","v":{"$error":"#REF!"}},"大阪",{"$f":"IF(D2506=\"\",\"\",VLOOKUP(D2506,#REF!,4,0))","v":{"$error":"#REF!"}},"国際戦略港湾","輸入","タイ",{"$f":"IF(H2506=\"\",\"\",VLOOKUP(H2506,#REF!,2,0))","v":{"$error":"#REF!"}},{"v":63391,"d":"63,391"},null,{"v":63262,"d":"63,262"},129]
["R2","大阪府",{"$f":"IF(D2507=\"\",\"\",VLOOKUP(D2507,#REF!,3,0))","v":{"$error":"#REF!"}},"大阪",{"$f":"IF(D2507=\"\",\"\",VLOOKUP(D2507,#REF!,4,0))","v":{"$error":"#REF!"}},"国際戦略港湾","輸入","フィリピン",{"$f":"IF(H2507=\"\",\"\",VLOOKUP(H2507,#REF!,2,0))","v":{"$error":"#REF!"}},{"v":4450,"d":"4,450"},null,{"v":4447,"d":"4,447"},3]
["R2","大阪府",{"$f":"IF(D2508=\"\",\"\",VLOOKUP(D2508,#REF!,3,0))","v":{"$error":"#REF!"}},"大阪",{"$f":"IF(D2508=\"\",\"\",VLOOKUP(D2508,#REF!,4,0))","v":{"$error":"#REF!"}},"国際戦略港湾","輸入","マレーシア",{"$f":"IF(H2508=\"\",\"\",VLOOKUP(H2508,#REF!,2,0))","v":{"$error":"#REF!"}},{"v":27088,"d":"27,088"},null,{"v":27086,"d":"27,086"},2]
["R2","大阪府",{"$f":"IF(D2509=\"\",\"\",VLOOKUP(D2509,#REF!,3,0))","v":{"$error":"#REF!"}},"大阪",{"$f":"IF(D2509=\"\",\"\",VLOOKUP(D2509,#REF!,4,0))","v":{"$error":"#REF!"}},"国際戦略港湾","輸入","ベトナム",{"$f":"IF(H2509=\"\",\"\",VLOOKUP(H2509,#REF!,2,0))","v":{"$error":"#REF!"}},{"v":67168,"d":"67,168"},null,{"v":67096,"d":"67,096"},72]
["R2","大阪府",{"$f":"IF(D2510=\"\",\"\",VLOOKUP(D2510,#REF!,3,0))","v":{"$error":"#REF!"}},"大阪",{"$f":"IF(D2510=\"\",\"\",VLOOKUP(D2510,#REF!,4,0))","v":{"$error":"#REF!"}},"国際戦略港湾","輸入","オーストラリア",{"$f":"IF(H2510=\"\",\"\",VLOOKUP(H2510,#REF!,2,0))","v":{"$error":"#REF!"}},{"v":19729,"d":"19,729"},null,{"v":17552,"d":"17,552"},2177]
["R2","大阪府",{"$f":"IF(D2511=\"\",\"\",VLOOKUP(D2511,#REF!,3,0))","v":{"$error":"#REF!"}},"大阪",{"$f":"IF(D2511=\"\",\"\",VLOOKUP(D2511,#REF!,4,0))","v":{"$error":"#REF!"}},"国際戦略港湾","輸入","アメリカ合衆国",{"$f":"IF(H2511=\"\",\"\",VLOOKUP(H2511,#REF!,2,0))","v":{"$error":"#REF!"}},{"v":9860,"d":"9,860"},null,{"v":9414,"d":"9,414"},446]
["R2","大阪府",{"$f":"IF(D2512=\"\",\"\",VLOOKUP(D2512,#REF!,3,0))","v":{"$error":"#REF!"}},"大阪",{"$f":"IF(D2512=\"\",\"\",VLOOKUP(D2512,#REF!,4,0))","v":{"$error":"#REF!"}},"国際戦略港湾","輸入","カナダ",{"$f":"IF(H2512=\"\",\"\",VLOOKUP(H2512,#REF!,2,0))","v":{"$error":"#REF!"}},{"v":9710,"d":"9,710"},null,{"v":9446,"d":"9,446"},264]
["R2","兵庫県",{"$f":"IF(D2513=\"\",\"\",VLOOKUP(D2513,#REF!,3,0))","v":{"$error":"#REF!"}},"神戸",{"$f":"IF(D2513=\"\",\"\",VLOOKUP(D2513,#REF!,4,0))","v":{"$error":"#REF!"}},"国際戦略港湾","輸入","韓国",{"$f":"IF(H2513=\"\",\"\",VLOOKUP(H2513,#REF!,2,0))","v":{"$error":"#REF!"}},{"v":67284,"d":"67,284"},123,{"v":52363,"d":"52,363"},14921]
["R2","兵庫県",{"$f":"IF(D2514=\"\",\"\",VLOOKUP(D2514,#REF!,3,0))","v":{"$error":"#REF!"}},"神戸",{"$f":"IF(D2514=\"\",\"\",VLOOKUP(D2514,#REF!,4,0))","v":{"$error":"#REF!"}},"国際戦略港湾","輸入","台湾",{"$f":"IF(H2514=\"\",\"\",VLOOKUP(H2514,#REF!,2,0))","v":{"$error":"#REF!"}},{"v":52275,"d":"52,275"},108,{"v":50036,"d":"50,036"},2239]
["R2","兵庫県",{"$f":"IF(D2515=\"\",\"\",VLOOKUP(D2515,#REF!,3,0))","v":{"$error":"#REF!"}},"神戸",{"$f":"IF(D2515=\"\",\"\",VLOOKUP(D2515,#REF!,4,0))","v":{"$error":"#REF!"}},"国際戦略港湾","輸入","中国",{"$f":"IF(H2515=\"\",\"\",VLOOKUP(H2515,#REF!,2,0))","v":{"$error":"#REF!"}},{"v":307687,"d":"307,687"},{"v":4188,"d":"4,188"},{"v":295290,"d":"295,290"},12397]
["R2","兵庫県",{"$f":"IF(D2516=\"\",\"\",VLOOKUP(D2516,#REF!,3,0))","v":{"$error":"#REF!"}},"神戸",{"$f":"IF(D2516=\"\",\"\",VLOOKUP(D2516,#REF!,4,0))","v":{"$error":"#REF!"}},"国際戦略港湾","輸入","中国(ホンコン)",{"$f":"IF(H2516=\"\",\"\",VLOOKUP(H2516,#REF!,2,0))","v":{"$error":"#REF!"}},{"v":46014,"d":"46,014"},99,{"v":44198,"d":"44,198"},1816]
["R2","兵庫県",{"$f":"IF(D2517=\"\",\"\",VLOOKUP(D2517,#REF!,3,0))","v":{"$error":"#REF!"}},"神戸",{"$f":"IF(D2517=\"\",\"\",VLOOKUP(D2517,#REF!,4,0))","v":{"$error":"#REF!"}},"国際戦略港湾","輸入","インドネシア",{"$f":"IF(H2517=\"\",\"\",VLOOKUP(H2517,#REF!,2,0))","v":{"$error":"#REF!"}},{"v":12264,"d":"12,264"},236,{"v":12237,"d":"12,237"},27]
["R2","兵庫県",{"$f":"IF(D2518=\"\",\"\",VLOOKUP(D2518,#REF!,3,0))","v":{"$error":"#REF!"}},"神戸",{"$f":"IF(D2518=\"\",\"\",VLOOKUP(D2518,#REF!,4,0))","v":{"$error":"#REF!"}},"国際戦略港湾","輸入","カンボジア",{"$f":"IF(H2518=\"\",\"\",VLOOKUP(H2518,#REF!,2,0))","v":{"$error":"#REF!"}},23,23,23,0]
["R2","兵庫県",{"$f":"IF(D2519=\"\",\"\",VLOOKUP(D2519,#REF!,3,0))","v":{"$error":"#REF!"}},"神戸",{"$f":"IF(D2519=\"\",\"\",VLOOKUP(D2519,#REF!,4,0))","v":{"$error":"#REF!"}},"国際戦略港湾","輸入","シンガポール",{"$f":"IF(H2519=\"\",\"\",VLOOKUP(H2519,#REF!,2,0))","v":{"$error":"#REF!"}},{"v":57445,"d":"57,445"},190,{"v":56290,"d":"56,290"},1155]
["R2","兵庫県",{"$f":"IF(D2520=\"\",\"\",VLOOKUP(D2520,#REF!,3,0))","v":{"$error":"#REF!"}},"神戸",{"$f":"IF(D2520=\"\",\"\",VLOOKUP(D2520,#REF!,4,0))","v":{"$error":"#REF!"}},"国際戦略港湾","輸入","タイ",{"$f":"IF(H2520=\"\",\"\",VLOOKUP(H2520,#REF!,2,0))","v":{"$error":"#REF!"}},{"v":52454,"d":"52,454"},963,{"v":51548,"d":"51,548"},906]
["R2","兵庫県",{"$f":"IF(D2521=\"\",\"\",VLOOKUP(D2521,#REF!,3,0))","v":{"$error":"#REF!"}},"神戸",{"$f":"IF(D2521=\"\",\"\",VLOOKUP(D2521,#REF!,4,0))","v":{"$error":"#REF!"}},"国際戦略港湾","輸入","フィリピン",{"$f":"IF(H2521=\"\",\"\",VLOOKUP(H2521,#REF!,2,0))","v":{"$error":"#REF!"}},{"v":10278,"d":"10,278"},null,{"v":6778,"d":"6,778"},3500]
["R2","兵庫県",{"$f":"IF(D2522=\"\",\"\",VLOOKUP(D2522,#REF!,3,0))","v":{"$error":"#REF!"}},"神戸",{"$f":"IF(D2522=\"\",\"\",VLOOKUP(D2522,#REF!,4,0))","v":{"$error":"#REF!"}},"国際戦略港湾","輸入","マレーシア",{"$f":"IF(H2522=\"\",\"\",VLOOKUP(H2522,#REF!,2,0))","v":{"$error":"#REF!"}},{"v":33111,"d":"33,111"},15,{"v":32500,"d":"32,500"},611]
["R2","兵庫県",{"$f":"IF(D2523=\"\",\"\",VLOOKUP(D2523,#REF!,3,0))","v":{"$error":"#REF!"}},"神戸",{"$f":"IF(D2523=\"\",\"\",VLOOKUP(D2523,#REF!,4,0))","v":{"$error":"#REF!"}},"国際戦略港湾","輸入","ベトナム",{"$f":"IF(H2523=\"\",\"\",VLOOKUP(H2523,#REF!,2,0))","v":{"$error":"#REF!"}},{"v":40540,"d":"40,540"},160,{"v":39916,"d":"39,916"},624]
["R2","兵庫県",{"$f":"IF(D2524=\"\",\"\",VLOOKUP(D2524,#REF!,3,0))","v":{"$error":"#REF!"}},"神戸",{"$f":"IF(D2524=\"\",\"\",VLOOKUP(D2524,#REF!,4,0))","v":{"$error":"#REF!"}},"国際戦略港湾","輸入","インド",{"$f":"IF(H2524=\"\",\"\",VLOOKUP(H2524,#REF!,2,0))","v":{"$error":"#REF!"}},162,null,162,0]
["R2","兵庫県",{"$f":"IF(D2525=\"\",\"\",VLOOKUP(D2525,#REF!,3,0))","v":{"$error":"#REF!"}},"神戸",{"$f":"IF(D2525=\"\",\"\",VLOOKUP(D2525,#REF!,4,0))","v":{"$error":"#REF!"}},"国際戦略港湾","輸入","スリランカ",{"$f":"IF(H2525=\"\",\"\",VLOOKUP(H2525,#REF!,2,0))","v":{"$error":"#REF!"}},14,null,14,0]
["R2","兵庫県",{"$f":"IF(D2526=\"\",\"\",VLOOKUP(D2526,#REF!,3,0))","v":{"$error":"#REF!"}},"神戸",{"$f":"IF(D2526=\"\",\"\",VLOOKUP(D2526,#REF!,4,0))","v":{"$error":"#REF!"}},"国際戦略港湾","輸入","パキスタン",{"$f":"IF(H2526=\"\",\"\",VLOOKUP(H2526,#REF!,2,0))","v":{"$error":"#REF!"}},2,null,2,0]
["R2","兵庫県",{"$f":"IF(D2527=\"\",\"\",VLOOKUP(D2527,#REF!,3,0))","v":{"$error":"#REF!"}},"神戸",{"$f":"IF(D2527=\"\",\"\",VLOOKUP(D2527,#REF!,4,0))","v":{"$error":"#REF!"}},"国際戦略港湾","輸入","オーストラリア",{"$f":"IF(H2527=\"\",\"\",VLOOKUP(H2527,#REF!,2,0))","v":{"$error":"#REF!"}},18,null,18,0]
["R2","兵庫県",{"$f":"IF(D2528=\"\",\"\",VLOOKUP(D2528,#REF!,3,0))","v":{"$error":"#REF!"}},"神戸",{"$f":"IF(D2528=\"\",\"\",VLOOKUP(D2528,#REF!,4,0))","v":{"$error":"#REF!"}},"国際戦略港湾","輸入","仏領ポリネシア",{"$f":"IF(H2528=\"\",\"\",VLOOKUP(H2528,#REF!,2,0))","v":{"$error":"#REF!"}},3,null,3,0]
["R2","兵庫県",{"$f":"IF(D2529=\"\",\"\",VLOOKUP(D2529,#REF!,3,0))","v":{"$error":"#REF!"}},"神戸",{"$f":"IF(D2529=\"\",\"\",VLOOKUP(D2529,#REF!,4,0))","v":{"$error":"#REF!"}},"国際戦略港湾","輸入","サモア",{"$f":"IF(H2529=\"\",\"\",VLOOKUP(H2529,#REF!,2,0))","v":{"$error":"#REF!"}},3,null,3,0]
["R2","兵庫県",{"$f":"IF(D2530=\"\",\"\",VLOOKUP(D2530,#REF!,3,0))","v":{"$error":"#REF!"}},"神戸",{"$f":"IF(D2530=\"\",\"\",VLOOKUP(D2530,#REF!,4,0))","v":{"$error":"#REF!"}},"国際戦略港湾","輸入","ニュージーランド",{"$f":"IF(H2530=\"\",\"\",VLOOKUP(H2530,#REF!,2,0))","v":{"$error":"#REF!"}},{"v":7562,"d":"7,562"},null,{"v":7554,"d":"7,554"},8]
["R2","兵庫県",{"$f":"IF(D2531=\"\",\"\",VLOOKUP(D2531,#REF!,3,0))","v":{"$error":"#REF!"}},"神戸",{"$f":"IF(D2531=\"\",\"\",VLOOKUP(D2531,#REF!,4,0))","v":{"$error":"#REF!"}},"国際戦略港湾","輸入","パプアニューギニア",{"$f":"IF(H2531=\"\",\"\",VLOOKUP(H2531,#REF!,2,0))","v":{"$error":"#REF!"}},9,null,9,0]
["R2","兵庫県",{"$f":"IF(D2532=\"\",\"\",VLOOKUP(D2532,#REF!,3,0))","v":{"$error":"#REF!"}},"神戸",{"$f":"IF(D2532=\"\",\"\",VLOOKUP(D2532,#REF!,4,0))","v":{"$error":"#REF!"}},"国際戦略港湾","輸入","バヌアツ",{"$f":"IF(H2532=\"\",\"\",VLOOKUP(H2532,#REF!,2,0))","v":{"$error":"#REF!"}},6,null,6,0]
["R2","兵庫県",{"$f":"IF(D2533=\"\",\"\",VLOOKUP(D2533,#REF!,3,0))","v":{"$error":"#REF!"}},"神戸",{"$f":"IF(D2533=\"\",\"\",VLOOKUP(D2533,#REF!,4,0))","v":{"$error":"#REF!"}},"国際戦略港湾","輸入","ミクロネシア連邦",{"$f":"IF(H2533=\"\",\"\",VLOOKUP(H2533,#REF!,2,0))","v":{"$error":"#REF!"}},7,null,0,7]
["R2","兵庫県",{"$f":"IF(D2534=\"\",\"\",VLOOKUP(D2534,#REF!,3,0))","v":{"$error":"#REF!"}},"神戸",{"$f":"IF(D2534=\"\",\"\",VLOOKUP(D2534,#REF!,4,0))","v":{"$error":"#REF!"}},"国際戦略港湾","輸入","マーシャル諸島",{"$f":"IF(H2534=\"\",\"\",VLOOKUP(H2534,#REF!,2,0))","v":{"$error":"#REF!"}},3,null,0,3]
["R2","兵庫県",{"$f":"IF(D2535=\"\",\"\",VLOOKUP(D2535,#REF!,3,0))","v":{"$error":"#REF!"}},"神戸",{"$f":"IF(D2535=\"\",\"\",VLOOKUP(D2535,#REF!,4,0))","v":{"$error":"#REF!"}},"国際戦略港湾","輸入","南アフリカ",{"$f":"IF(H2535=\"\",\"\",VLOOKUP(H2535,#REF!,2,0))","v":{"$error":"#REF!"}},387,null,371,16]
["R2","兵庫県",{"$f":"IF(D2536=\"\",\"\",VLOOKUP(D2536,#REF!,3,0))","v":{"$error":"#REF!"}},"神戸",{"$f":"IF(D2536=\"\",\"\",VLOOKUP(D2536,#REF!,4,0))","v":{"$error":"#REF!"}},"国際戦略港湾","輸入","イギリス",{"$f":"IF(H2536=\"\",\"\",VLOOKUP(H2536,#REF!,2,0))","v":{"$error":"#REF!"}},{"v":2156,"d":"2,156"},5,{"v":1862,"d":"1,862"},294]
["R2","兵庫県",{"$f":"IF(D2537=\"\",\"\",VLOOKUP(D2537,#REF!,3,0))","v":{"$error":"#REF!"}},"神戸",{"$f":"IF(D2537=\"\",\"\",VLOOKUP(D2537,#REF!,4,0))","v":{"$error":"#REF!"}},"国際戦略港湾","輸入","オランダ",{"$f":"IF(H2537=\"\",\"\",VLOOKUP(H2537,#REF!,2,0))","v":{"$error":"#REF!"}},{"v":25677,"d":"25,677"},4,{"v":25574,"d":"25,574"},103]
["R2","兵庫県",{"$f":"IF(D2538=\"\",\"\",VLOOKUP(D2538,#REF!,3,0))","v":{"$error":"#REF!"}},"神戸",{"$f":"IF(D2538=\"\",\"\",VLOOKUP(D2538,#REF!,4,0))","v":{"$error":"#REF!"}},"国際戦略港湾","輸入","ドイツ",{"$f":"IF(H2538=\"\",\"\",VLOOKUP(H2538,#REF!,2,0))","v":{"$error":"#REF!"}},{"v":19945,"d":"19,945"},null,{"v":19803,"d":"19,803"},142]
["R2","兵庫県",{"$f":"IF(D2539=\"\",\"\",VLOOKUP(D2539,#REF!,3,0))","v":{"$error":"#REF!"}},"神戸",{"$f":"IF(D2539=\"\",\"\",VLOOKUP(D2539,#REF!,4,0))","v":{"$error":"#REF!"}},"国際戦略港湾","輸入","フランス",{"$f":"IF(H2539=\"\",\"\",VLOOKUP(H2539,#REF!,2,0))","v":{"$error":"#REF!"}},{"v":5467,"d":"5,467"},0,{"v":5433,"d":"5,433"},34]
["R2","兵庫県",{"$f":"IF(D2540=\"\",\"\",VLOOKUP(D2540,#REF!,3,0))","v":{"$error":"#REF!"}},"神戸",{"$f":"IF(D2540=\"\",\"\",VLOOKUP(D2540,#REF!,4,0))","v":{"$error":"#REF!"}},"国際戦略港湾","輸入","ロシア",{"$f":"IF(H2540=\"\",\"\",VLOOKUP(H2540,#REF!,2,0))","v":{"$error":"#REF!"}},{"v":2838,"d":"2,838"},null,{"v":1953,"d":"1,953"},885]
["R2","兵庫県",{"$f":"IF(D2541=\"\",\"\",VLOOKUP(D2541,#REF!,3,0))","v":{"$error":"#REF!"}},"神戸",{"$f":"IF(D2541=\"\",\"\",VLOOKUP(D2541,#REF!,4,0))","v":{"$error":"#REF!"}},"国際戦略港湾","輸入","アメリカ合衆国",{"$f":"IF(H2541=\"\",\"\",VLOOKUP(H2541,#REF!,2,0))","v":{"$error":"#REF!"}},{"v":189610,"d":"189,610"},{"v":2985,"d":"2,985"},{"v":151004,"d":"151,004"},38606]
["R2","兵庫県",{"$f":"IF(D2542=\"\",\"\",VLOOKUP(D2542,#REF!,3,0))","v":{"$error":"#REF!"}},"神戸",{"$f":"IF(D2542=\"\",\"\",VLOOKUP(D2542,#REF!,4,0))","v":{"$error":"#REF!"}},"国際戦略港湾","輸入","カナダ",{"$f":"IF(H2542=\"\",\"\",VLOOKUP(H2542,#REF!,2,0))","v":{"$error":"#REF!"}},{"v":22718,"d":"22,718"},333,{"v":20798,"d":"20,798"},1920]
["R2","兵庫県",{"$f":"IF(D2543=\"\",\"\",VLOOKUP(D2543,#REF!,3,0))","v":{"$error":"#REF!"}},"神戸",{"$f":"IF(D2543=\"\",\"\",VLOOKUP(D2543,#REF!,4,0))","v":{"$error":"#REF!"}},"国際戦略港湾","輸入","パナマ",{"$f":"IF(H2543=\"\",\"\",VLOOKUP(H2543,#REF!,2,0))","v":{"$error":"#REF!"}},{"v":2732,"d":"2,732"},151,{"v":1156,"d":"1,156"},1576]
["R2","兵庫県",{"$f":"IF(D2544=\"\",\"\",VLOOKUP(D2544,#REF!,3,0))","v":{"$error":"#REF!"}},"神戸",{"$f":"IF(D2544=\"\",\"\",VLOOKUP(D2544,#REF!,4,0))","v":{"$error":"#REF!"}},"国際戦略港湾","輸入","メキシコ",{"$f":"IF(H2544=\"\",\"\",VLOOKUP(H2544,#REF!,2,0))","v":{"$error":"#REF!"}},2,null,0,2]
["R2","和歌山県",{"$f":"IF(D2545=\"\",\"\",VLOOKUP(D2545,#REF!,3,0))","v":{"$error":"#REF!"}},"和歌山下津",{"$f":"IF(D2545=\"\",\"\",VLOOKUP(D2545,#REF!,4,0))","v":{"$error":"#REF!"}},"国際拠点港湾","輸入","韓国",{"$f":"IF(H2545=\"\",\"\",VLOOKUP(H2545,#REF!,2,0))","v":{"$error":"#REF!"}},{"v":2160,"d":"2,160"},null,{"v":2160,"d":"2,160"},0]
["R3","京都府",{"$f":"IF(D2546=\"\",\"\",VLOOKUP(D2546,[2]VLOOK!$A$1:$E$48,3,0))","v":26001},"舞鶴",{"$f":"IF(D2546=\"\",\"\",VLOOKUP(D2546,[2]VLOOK!$A$1:$E$48,4,0))","v":"甲種港湾"},"重要港湾","輸出","韓国",{"$f":"IF(H2546=\"\",\"\",VLOOKUP(H2546,[2]国名!$D$2:$E$284,2,0))","v":"アジア"},{"v":7271,"d":"7,271"},null,{"v":6418,"d":"6,418"},853]
["R3","京都府",{"$f":"IF(D2547=\"\",\"\",VLOOKUP(D2547,[2]VLOOK!$A$1:$E$48,3,0))","v":26001},"舞鶴",{"$f":"IF(D2547=\"\",\"\",VLOOKUP(D2547,[2]VLOOK!$A$1:$E$48,4,0))","v":"甲種港湾"},"重要港湾","輸出","中国",{"$f":"IF(H2547=\"\",\"\",VLOOKUP(H2547,[2]国名!$D$2:$E$284,2,0))","v":"アジア"},{"v":1674,"d":"1,674"},null,245,1429]
["R3","京都府",{"$f":"IF(D2548=\"\",\"\",VLOOKUP(D2548,[2]VLOOK!$A$1:$E$48,3,0))","v":26001},"舞鶴",{"$f":"IF(D2548=\"\",\"\",VLOOKUP(D2548,[2]VLOOK!$A$1:$E$48,4,0))","v":"甲種港湾"},"重要港湾","輸出","ロシア",{"$f":"IF(H2548=\"\",\"\",VLOOKUP(H2548,[2]国名!$D$2:$E$284,2,0))","v":"ヨーロッパ"},140,null,119,21]
["R3","大阪府",{"$f":"IF(D2549=\"\",\"\",VLOOKUP(D2549,[2]VLOOK!$A$1:$E$48,3,0))","v":27002},"堺泉北",{"$f":"IF(D2549=\"\",\"\",VLOOKUP(D2549,[2]VLOOK!$A$1:$E$48,4,0))","v":"甲種港湾"},"国際拠点港湾","輸出","韓国",{"$f":"IF(H2549=\"\",\"\",VLOOKUP(H2549,[2]国名!$D$2:$E$284,2,0))","v":"アジア"},782,null,66,716]
["R3","大阪府",{"$f":"IF(D2550=\"\",\"\",VLOOKUP(D2550,[2]VLOOK!$A$1:$E$48,3,0))","v":27002},"堺泉北",{"$f":"IF(D2550=\"\",\"\",VLOOKUP(D2550,[2]VLOOK!$A$1:$E$48,4,0))","v":"甲種港湾"},"国際拠点港湾","輸出","中国",{"$f":"IF(H2550=\"\",\"\",VLOOKUP(H2550,[2]国名!$D$2:$E$284,2,0))","v":"アジア"},{"v":15510,"d":"15,510"},null,{"v":1842,"d":"1,842"},13668]
["R3","大阪府",{"$f":"IF(D2551=\"\",\"\",VLOOKUP(D2551,[2]VLOOK!$A$1:$E$48,3,0))","v":27002},"堺泉北",{"$f":"IF(D2551=\"\",\"\",VLOOKUP(D2551,[2]VLOOK!$A$1:$E$48,4,0))","v":"甲種港湾"},"国際拠点港湾","輸出","タイ",{"$f":"IF(H2551=\"\",\"\",VLOOKUP(H2551,[2]国名!$D$2:$E$284,2,0))","v":"アジア"},30,null,30,0]
["R3","大阪府",{"$f":"IF(D2552=\"\",\"\",VLOOKUP(D2552,[2]VLOOK!$A$1:$E$48,3,0))","v":27002},"堺泉北",{"$f":"IF(D2552=\"\",\"\",VLOOKUP(D2552,[2]VLOOK!$A$1:$E$48,4,0))","v":"甲種港湾"},"国際拠点港湾","輸出","ベトナム",{"$f":"IF(H2552=\"\",\"\",VLOOKUP(H2552,[2]国名!$D$2:$E$284,2,0))","v":"アジア"},170,null,170,0]
["R3","大阪府",{"$f":"IF(D2553=\"\",\"\",VLOOKUP(D2553,[2]VLOOK!$A$1:$E$48,3,0))","v":27001},"大阪",{"$f":"IF(D2553=\"\",\"\",VLOOKUP(D2553,[2]VLOOK!$A$1:$E$48,4,0))","v":"甲種港湾"},"国際戦略港湾","輸出","韓国",{"$f":"IF(H2553=\"\",\"\",VLOOKUP(H2553,[2]国名!$D$2:$E$284,2,0))","v":"アジア"},{"v":145530,"d":"145,530"},null,{"v":82498,"d":"82,498"},63032]
["R3","大阪府",{"$f":"IF(D2554=\"\",\"\",VLOOKUP(D2554,[2]VLOOK!$A$1:$E$48,3,0))","v":27001},"大阪",{"$f":"IF(D2554=\"\",\"\",VLOOKUP(D2554,[2]VLOOK!$A$1:$E$48,4,0))","v":"甲種港湾"},"国際戦略港湾","輸出","台湾",{"$f":"IF(H2554=\"\",\"\",VLOOKUP(H2554,[2]国名!$D$2:$E$284,2,0))","v":"アジア"},{"v":85374,"d":"85,374"},null,{"v":68127,"d":"68,127"},17247]
["R3","大阪府",{"$f":"IF(D2555=\"\",\"\",VLOOKUP(D2555,[2]VLOOK!$A$1:$E$48,3,0))","v":27001},"大阪",{"$f":"IF(D2555=\"\",\"\",VLOOKUP(D2555,[2]VLOOK!$A$1:$E$48,4,0))","v":"甲種港湾"},"国際戦略港湾","輸出","中国",{"$f":"IF(H2555=\"\",\"\",VLOOKUP(H2555,[2]国名!$D$2:$E$284,2,0))","v":"アジア"},{"v":580348,"d":"580,348"},null,{"v":134114,"d":"134,114"},446234]
["R3","大阪府",{"$f":"IF(D2556=\"\",\"\",VLOOKUP(D2556,[2]VLOOK!$A$1:$E$48,3,0))","v":27001},"大阪",{"$f":"IF(D2556=\"\",\"\",VLOOKUP(D2556,[2]VLOOK!$A$1:$E$48,4,0))","v":"甲種港湾"},"国際戦略港湾","輸出","香港",{"$f":"IF(H2556=\"\",\"\",VLOOKUP(H2556,[2]国名!$D$2:$E$284,2,0))","v":"アジア"},{"v":45174,"d":"45,174"},null,{"v":32602,"d":"32,602"},12572]
["R3","大阪府",{"$f":"IF(D2557=\"\",\"\",VLOOKUP(D2557,[2]VLOOK!$A$1:$E$48,3,0))","v":27001},"大阪",{"$f":"IF(D2557=\"\",\"\",VLOOKUP(D2557,[2]VLOOK!$A$1:$E$48,4,0))","v":"甲種港湾"},"国際戦略港湾","輸出","カンボジア",{"$f":"IF(H2557=\"\",\"\",VLOOKUP(H2557,[2]国名!$D$2:$E$284,2,0))","v":"アジア"},820,null,820,0]
["R3","大阪府",{"$f":"IF(D2558=\"\",\"\",VLOOKUP(D2558,[2]VLOOK!$A$1:$E$48,3,0))","v":27001},"大阪",{"$f":"IF(D2558=\"\",\"\",VLOOKUP(D2558,[2]VLOOK!$A$1:$E$48,4,0))","v":"甲種港湾"},"国際戦略港湾","輸出","シンガポール",{"$f":"IF(H2558=\"\",\"\",VLOOKUP(H2558,[2]国名!$D$2:$E$284,2,0))","v":"アジア"},{"v":13917,"d":"13,917"},null,{"v":12298,"d":"12,298"},1619]
["R3","大阪府",{"$f":"IF(D2559=\"\",\"\",VLOOKUP(D2559,[2]VLOOK!$A$1:$E$48,3,0))","v":27001},"大阪",{"$f":"IF(D2559=\"\",\"\",VLOOKUP(D2559,[2]VLOOK!$A$1:$E$48,4,0))","v":"甲種港湾"},"国際戦略港湾","輸出","タイ",{"$f":"IF(H2559=\"\",\"\",VLOOKUP(H2559,[2]国名!$D$2:$E$284,2,0))","v":"アジア"},{"v":29409,"d":"29,409"},null,{"v":25053,"d":"25,053"},4356]
["R3","大阪府",{"$f":"IF(D2560=\"\",\"\",VLOOKUP(D2560,[2]VLOOK!$A$1:$E$48,3,0))","v":27001},"大阪",{"$f":"IF(D2560=\"\",\"\",VLOOKUP(D2560,[2]VLOOK!$A$1:$E$48,4,0))","v":"甲種港湾"},"国際戦略港湾","輸出","フィリピン",{"$f":"IF(H2560=\"\",\"\",VLOOKUP(H2560,[2]国名!$D$2:$E$284,2,0))","v":"アジア"},{"v":3087,"d":"3,087"},null,{"v":2843,"d":"2,843"},244]
["R3","大阪府",{"$f":"IF(D2561=\"\",\"\",VLOOKUP(D2561,[2]VLOOK!$A$1:$E$48,3,0))","v":27001},"大阪",{"$f":"IF(D2561=\"\",\"\",VLOOKUP(D2561,[2]VLOOK!$A$1:$E$48,4,0))","v":"甲種港湾"},"国際戦略港湾","輸出","マレーシア",{"$f":"IF(H2561=\"\",\"\",VLOOKUP(H2561,[2]国名!$D$2:$E$284,2,0))","v":"アジア"},{"v":19264,"d":"19,264"},null,{"v":18794,"d":"18,794"},470]
["R3","大阪府",{"$f":"IF(D2562=\"\",\"\",VLOOKUP(D2562,[2]VLOOK!$A$1:$E$48,3,0))","v":27001},"大阪",{"$f":"IF(D2562=\"\",\"\",VLOOKUP(D2562,[2]VLOOK!$A$1:$E$48,4,0))","v":"甲種港湾"},"国際戦略港湾","輸出","ベトナム",{"$f":"IF(H2562=\"\",\"\",VLOOKUP(H2562,[2]国名!$D$2:$E$284,2,0))","v":"アジア"},{"v":27817,"d":"27,817"},null,{"v":21402,"d":"21,402"},6415]
["R3","大阪府",{"$f":"IF(D2563=\"\",\"\",VLOOKUP(D2563,[2]VLOOK!$A$1:$E$48,3,0))","v":27001},"大阪",{"$f":"IF(D2563=\"\",\"\",VLOOKUP(D2563,[2]VLOOK!$A$1:$E$48,4,0))","v":"甲種港湾"},"国際戦略港湾","輸出","オーストラリア",{"$f":"IF(H2563=\"\",\"\",VLOOKUP(H2563,[2]国名!$D$2:$E$284,2,0))","v":"オセアニア"},{"v":5306,"d":"5,306"},null,{"v":3521,"d":"3,521"},1785]
["R3","大阪府",{"$f":"IF(D2564=\"\",\"\",VLOOKUP(D2564,[2]VLOOK!$A$1:$E$48,3,0))","v":27001},"大阪",{"$f":"IF(D2564=\"\",\"\",VLOOKUP(D2564,[2]VLOOK!$A$1:$E$48,4,0))","v":"甲種港湾"},"国際戦略港湾","輸出","ロシア",{"$f":"IF(H2564=\"\",\"\",VLOOKUP(H2564,[2]国名!$D$2:$E$284,2,0))","v":"ヨーロッパ"},36,null,36,0]
["R3","大阪府",{"$f":"IF(D2565=\"\",\"\",VLOOKUP(D2565,[2]VLOOK!$A$1:$E$48,3,0))","v":27001},"大阪",{"$f":"IF(D2565=\"\",\"\",VLOOKUP(D2565,[2]VLOOK!$A$1:$E$48,4,0))","v":"甲種港湾"},"国際戦略港湾","輸出","アメリカ合衆国",{"$f":"IF(H2565=\"\",\"\",VLOOKUP(H2565,[2]国名!$D$2:$E$284,2,0))","v":"北米"},{"v":2579,"d":"2,579"},null,{"v":2579,"d":"2,579"},0]
["R3","大阪府",{"$f":"IF(D2566=\"\",\"\",VLOOKUP(D2566,[2]VLOOK!$A$1:$E$48,3,0))","v":27001},"大阪",{"$f":"IF(D2566=\"\",\"\",VLOOKUP(D2566,[2]VLOOK!$A$1:$E$48,4,0))","v":"甲種港湾"},"国際戦略港湾","輸出","カナダ",{"$f":"IF(H2566=\"\",\"\",VLOOKUP(H2566,[2]国名!$D$2:$E$284,2,0))","v":"北米"},{"v":2963,"d":"2,963"},null,{"v":2962,"d":"2,962"},1]
["R3","兵庫県",{"$f":"IF(D2567=\"\",\"\",VLOOKUP(D2567,[2]VLOOK!$A$1:$E$48,3,0))","v":28001},"神戸",{"$f":"IF(D2567=\"\",\"\",VLOOKUP(D2567,[2]VLOOK!$A$1:$E$48,4,0))","v":"甲種港湾"},"国際戦略港湾","輸出","韓国",{"$f":"IF(H2567=\"\",\"\",VLOOKUP(H2567,[2]国名!$D$2:$E$284,2,0))","v":"アジア"},{"v":114730,"d":"114,730"},735,{"v":90737,"d":"90,737"},23993]
["R3","兵庫県",{"$f":"IF(D2568=\"\",\"\",VLOOKUP(D2568,[2]VLOOK!$A$1:$E$48,3,0))","v":28001},"神戸",{"$f":"IF(D2568=\"\",\"\",VLOOKUP(D2568,[2]VLOOK!$A$1:$E$48,4,0))","v":"甲種港湾"},"国際戦略港湾","輸出","台湾",{"$f":"IF(H2568=\"\",\"\",VLOOKUP(H2568,[2]国名!$D$2:$E$284,2,0))","v":"アジア"},{"v":116442,"d":"116,442"},{"v":2595,"d":"2,595"},{"v":107410,"d":"107,410"},9032]
["R3","兵庫県",{"$f":"IF(D2569=\"\",\"\",VLOOKUP(D2569,[2]VLOOK!$A$1:$E$48,3,0))","v":28001},"神戸",{"$f":"IF(D2569=\"\",\"\",VLOOKUP(D2569,[2]VLOOK!$A$1:$E$48,4,0))","v":"甲種港湾"},"国際戦略港湾","輸出","中国",{"$f":"IF(H2569=\"\",\"\",VLOOKUP(H2569,[2]国名!$D$2:$E$284,2,0))","v":"アジア"},{"v":353300,"d":"353,300"},{"v":6199,"d":"6,199"},{"v":192568,"d":"192,568"},160732]
["R3","兵庫県",{"$f":"IF(D2570=\"\",\"\",VLOOKUP(D2570,[2]VLOOK!$A$1:$E$48,3,0))","v":28001},"神戸",{"$f":"IF(D2570=\"\",\"\",VLOOKUP(D2570,[2]VLOOK!$A$1:$E$48,4,0))","v":"甲種港湾"},"国際戦略港湾","輸出","香港",{"$f":"IF(H2570=\"\",\"\",VLOOKUP(H2570,[2]国名!$D$2:$E$284,2,0))","v":"アジア"},{"v":63314,"d":"63,314"},983,{"v":56878,"d":"56,878"},6436]
["R3","兵庫県",{"$f":"IF(D2571=\"\",\"\",VLOOKUP(D2571,[2]VLOOK!$A$1:$E$48,3,0))","v":28001},"神戸",{"$f":"IF(D2571=\"\",\"\",VLOOKUP(D2571,[2]VLOOK!$A$1:$E$48,4,0))","v":"甲種港湾"},"国際戦略港湾","輸出","インドネシア",{"$f":"IF(H2571=\"\",\"\",VLOOKUP(H2571,[2]国名!$D$2:$E$284,2,0))","v":"アジア"},{"v":31437,"d":"31,437"},98,{"v":31437,"d":"31,437"},0]
["R3","兵庫県",{"$f":"IF(D2572=\"\",\"\",VLOOKUP(D2572,[2]VLOOK!$A$1:$E$48,3,0))","v":28001},"神戸",{"$f":"IF(D2572=\"\",\"\",VLOOKUP(D2572,[2]VLOOK!$A$1:$E$48,4,0))","v":"甲種港湾"},"国際戦略港湾","輸出","カンボジア",{"$f":"IF(H2572=\"\",\"\",VLOOKUP(H2572,[2]国名!$D$2:$E$284,2,0))","v":"アジア"},928,125,800,128]
["R3","兵庫県",{"$f":"IF(D2573=\"\",\"\",VLOOKUP(D2573,[2]VLOOK!$A$1:$E$48,3,0))","v":28001},"神戸",{"$f":"IF(D2573=\"\",\"\",VLOOKUP(D2573,[2]VLOOK!$A$1:$E$48,4,0))","v":"甲種港湾"},"国際戦略港湾","輸出","シンガポール",{"$f":"IF(H2573=\"\",\"\",VLOOKUP(H2573,[2]国名!$D$2:$E$284,2,0))","v":"アジア"},{"v":125064,"d":"125,064"},{"v":4333,"d":"4,333"},{"v":113597,"d":"113,597"},11466]
["R3","兵庫県",{"$f":"IF(D2574=\"\",\"\",VLOOKUP(D2574,[2]VLOOK!$A$1:$E$48,3,0))","v":28001},"神戸",{"$f":"IF(D2574=\"\",\"\",VLOOKUP(D2574,[2]VLOOK!$A$1:$E$48,4,0))","v":"甲種港湾"},"国際戦略港湾","輸出","タイ",{"$f":"IF(H2574=\"\",\"\",VLOOKUP(H2574,[2]国名!$D$2:$E$284,2,0))","v":"アジア"},{"v":71425,"d":"71,425"},{"v":2296,"d":"2,296"},{"v":68449,"d":"68,449"},2976]
["R3","兵庫県",{"$f":"IF(D2575=\"\",\"\",VLOOKUP(D2575,[2]VLOOK!$A$1:$E$48,3,0))","v":28001},"神戸",{"$f":"IF(D2575=\"\",\"\",VLOOKUP(D2575,[2]VLOOK!$A$1:$E$48,4,0))","v":"甲種港湾"},"国際戦略港湾","輸出","フィリピン",{"$f":"IF(H2575=\"\",\"\",VLOOKUP(H2575,[2]国名!$D$2:$E$284,2,0))","v":"アジア"},{"v":16174,"d":"16,174"},87,{"v":9347,"d":"9,347"},6827]
["R3","兵庫県",{"$f":"IF(D2576=\"\",\"\",VLOOKUP(D2576,[2]VLOOK!$A$1:$E$48,3,0))","v":28001},"神戸",{"$f":"IF(D2576=\"\",\"\",VLOOKUP(D2576,[2]VLOOK!$A$1:$E$48,4,0))","v":"甲種港湾"},"国際戦略港湾","輸出","マレーシア",{"$f":"IF(H2576=\"\",\"\",VLOOKUP(H2576,[2]国名!$D$2:$E$284,2,0))","v":"アジア"},{"v":38248,"d":"38,248"},null,{"v":38059,"d":"38,059"},189]
["R3","兵庫県",{"$f":"IF(D2577=\"\",\"\",VLOOKUP(D2577,[2]VLOOK!$A$1:$E$48,3,0))","v":28001},"神戸",{"$f":"IF(D2577=\"\",\"\",VLOOKUP(D2577,[2]VLOOK!$A$1:$E$48,4,0))","v":"甲種港湾"},"国際戦略港湾","輸出","ベトナム",{"$f":"IF(H2577=\"\",\"\",VLOOKUP(H2577,[2]国名!$D$2:$E$284,2,0))","v":"アジア"},{"v":53597,"d":"53,597"},701,{"v":47259,"d":"47,259"},6338]
["R3","兵庫県",{"$f":"IF(D2578=\"\",\"\",VLOOKUP(D2578,[2]VLOOK!$A$1:$E$48,3,0))","v":28001},"神戸",{"$f":"IF(D2578=\"\",\"\",VLOOKUP(D2578,[2]VLOOK!$A$1:$E$48,4,0))","v":"甲種港湾"},"国際戦略港湾","輸出","インド",{"$f":"IF(H2578=\"\",\"\",VLOOKUP(H2578,[2]国名!$D$2:$E$284,2,0))","v":"アジア"},3,1,3,0]
["R3","兵庫県",{"$f":"IF(D2579=\"\",\"\",VLOOKUP(D2579,[2]VLOOK!$A$1:$E$48,3,0))","v":28001},"神戸",{"$f":"IF(D2579=\"\",\"\",VLOOKUP(D2579,[2]VLOOK!$A$1:$E$48,4,0))","v":"甲種港湾"},"国際戦略港湾","輸出","オーストラリア",{"$f":"IF(H2579=\"\",\"\",VLOOKUP(H2579,[2]国名!$D$2:$E$284,2,0))","v":"オセアニア"},{"v":1148,"d":"1,148"},9,{"v":1094,"d":"1,094"},54]
["R3","兵庫県",{"$f":"IF(D2580=\"\",\"\",VLOOKUP(D2580,[2]VLOOK!$A$1:$E$48,3,0))","v":28001},"神戸",{"$f":"IF(D2580=\"\",\"\",VLOOKUP(D2580,[2]VLOOK!$A$1:$E$48,4,0))","v":"甲種港湾"},"国際戦略港湾","輸出","仏領ポリネシア",{"$f":"IF(H2580=\"\",\"\",VLOOKUP(H2580,[2]国名!$D$2:$E$284,2,0))","v":"オセアニア"},136,null,136,0]
["R3","兵庫県",{"$f":"IF(D2581=\"\",\"\",VLOOKUP(D2581,[2]VLOOK!$A$1:$E$48,3,0))","v":28001},"神戸",{"$f":"IF(D2581=\"\",\"\",VLOOKUP(D2581,[2]VLOOK!$A$1:$E$48,4,0))","v":"甲種港湾"},"国際戦略港湾","輸出","グアム",{"$f":"IF(H2581=\"\",\"\",VLOOKUP(H2581,[2]国名!$D$2:$E$284,2,0))","v":"オセアニア"},72,null,72,0]
["R3","兵庫県",{"$f":"IF(D2582=\"\",\"\",VLOOKUP(D2582,[2]VLOOK!$A$1:$E$48,3,0))","v":28001},"神戸",{"$f":"IF(D2582=\"\",\"\",VLOOKUP(D2582,[2]VLOOK!$A$1:$E$48,4,0))","v":"甲種港湾"},"国際戦略港湾","輸出","サモア",{"$f":"IF(H2582=\"\",\"\",VLOOKUP(H2582,[2]国名!$D$2:$E$284,2,0))","v":"オセアニア"},253,null,253,0]
["R3","兵庫県",{"$f":"IF(D2583=\"\",\"\",VLOOKUP(D2583,[2]VLOOK!$A$1:$E$48,3,0))","v":28001},"神戸",{"$f":"IF(D2583=\"\",\"\",VLOOKUP(D2583,[2]VLOOK!$A$1:$E$48,4,0))","v":"甲種港湾"},"国際戦略港湾","輸出","ソロモン諸島",{"$f":"IF(H2583=\"\",\"\",VLOOKUP(H2583,[2]国名!$D$2:$E$284,2,0))","v":"オセアニア"},2,null,2,0]
["R3","兵庫県",{"$f":"IF(D2584=\"\",\"\",VLOOKUP(D2584,[2]VLOOK!$A$1:$E$48,3,0))","v":28001},"神戸",{"$f":"IF(D2584=\"\",\"\",VLOOKUP(D2584,[2]VLOOK!$A$1:$E$48,4,0))","v":"甲種港湾"},"国際戦略港湾","輸出","トンガ",{"$f":"IF(H2584=\"\",\"\",VLOOKUP(H2584,[2]国名!$D$2:$E$284,2,0))","v":"オセアニア"},4,null,4,0]
["R3","兵庫県",{"$f":"IF(D2585=\"\",\"\",VLOOKUP(D2585,[2]VLOOK!$A$1:$E$48,3,0))","v":28001},"神戸",{"$f":"IF(D2585=\"\",\"\",VLOOKUP(D2585,[2]VLOOK!$A$1:$E$48,4,0))","v":"甲種港湾"},"国際戦略港湾","輸出","ニューカレドニア",{"$f":"IF(H2585=\"\",\"\",VLOOKUP(H2585,[2]国名!$D$2:$E$284,2,0))","v":"オセアニア"},58,null,56,2]
["R3","兵庫県",{"$f":"IF(D2586=\"\",\"\",VLOOKUP(D2586,[2]VLOOK!$A$1:$E$48,3,0))","v":28001},"神戸",{"$f":"IF(D2586=\"\",\"\",VLOOKUP(D2586,[2]VLOOK!$A$1:$E$48,4,0))","v":"甲種港湾"},"国際戦略港湾","輸出","ニュージーランド",{"$f":"IF(H2586=\"\",\"\",VLOOKUP(H2586,[2]国名!$D$2:$E$284,2,0))","v":"オセアニア"},{"v":1633,"d":"1,633"},null,895,738]
["R3","兵庫県",{"$f":"IF(D2587=\"\",\"\",VLOOKUP(D2587,[2]VLOOK!$A$1:$E$48,3,0))","v":28001},"神戸",{"$f":"IF(D2587=\"\",\"\",VLOOKUP(D2587,[2]VLOOK!$A$1:$E$48,4,0))","v":"甲種港湾"},"国際戦略港湾","輸出","パプアニューギニア",{"$f":"IF(H2587=\"\",\"\",VLOOKUP(H2587,[2]国名!$D$2:$E$284,2,0))","v":"オセアニア"},10,null,10,0]
["R3","兵庫県",{"$f":"IF(D2588=\"\",\"\",VLOOKUP(D2588,[2]VLOOK!$A$1:$E$48,3,0))","v":28001},"神戸",{"$f":"IF(D2588=\"\",\"\",VLOOKUP(D2588,[2]VLOOK!$A$1:$E$48,4,0))","v":"甲種港湾"},"国際戦略港湾","輸出","フィジー",{"$f":"IF(H2588=\"\",\"\",VLOOKUP(H2588,[2]国名!$D$2:$E$284,2,0))","v":"オセアニア"},31,null,31,0]
["R3","兵庫県",{"$f":"IF(D2589=\"\",\"\",VLOOKUP(D2589,[2]VLOOK!$A$1:$E$48,3,0))","v":28001},"神戸",{"$f":"IF(D2589=\"\",\"\",VLOOKUP(D2589,[2]VLOOK!$A$1:$E$48,4,0))","v":"甲種港湾"},"国際戦略港湾","輸出","ツバル",{"$f":"IF(H2589=\"\",\"\",VLOOKUP(H2589,[2]国名!$D$2:$E$284,2,0))","v":"オセアニア"},1,null,1,0]
["R3","兵庫県",{"$f":"IF(D2590=\"\",\"\",VLOOKUP(D2590,[2]VLOOK!$A$1:$E$48,3,0))","v":28001},"神戸",{"$f":"IF(D2590=\"\",\"\",VLOOKUP(D2590,[2]VLOOK!$A$1:$E$48,4,0))","v":"甲種港湾"},"国際戦略港湾","輸出","キリバス",{"$f":"IF(H2590=\"\",\"\",VLOOKUP(H2590,[2]国名!$D$2:$E$284,2,0))","v":"オセアニア"},3,null,3,0]
["R3","兵庫県",{"$f":"IF(D2591=\"\",\"\",VLOOKUP(D2591,[2]VLOOK!$A$1:$E$48,3,0))","v":28001},"神戸",{"$f":"IF(D2591=\"\",\"\",VLOOKUP(D2591,[2]VLOOK!$A$1:$E$48,4,0))","v":"甲種港湾"},"国際戦略港湾","輸出","バヌアツ",{"$f":"IF(H2591=\"\",\"\",VLOOKUP(H2591,[2]国名!$D$2:$E$284,2,0))","v":"オセアニア"},1,null,0,1]
["R3","兵庫県",{"$f":"IF(D2592=\"\",\"\",VLOOKUP(D2592,[2]VLOOK!$A$1:$E$48,3,0))","v":28001},"神戸",{"$f":"IF(D2592=\"\",\"\",VLOOKUP(D2592,[2]VLOOK!$A$1:$E$48,4,0))","v":"甲種港湾"},"国際戦略港湾","輸出","ミクロネシア",{"$f":"IF(H2592=\"\",\"\",VLOOKUP(H2592,[2]国名!$D$2:$E$284,2,0))","v":"オセアニア"},98,null,98,0]
["R3","兵庫県",{"$f":"IF(D2593=\"\",\"\",VLOOKUP(D2593,[2]VLOOK!$A$1:$E$48,3,0))","v":28001},"神戸",{"$f":"IF(D2593=\"\",\"\",VLOOKUP(D2593,[2]VLOOK!$A$1:$E$48,4,0))","v":"甲種港湾"},"国際戦略港湾","輸出","マーシャル諸島",{"$f":"IF(H2593=\"\",\"\",VLOOKUP(H2593,[2]国名!$D$2:$E$284,2,0))","v":"オセアニア"},47,null,47,0]
["R3","兵庫県",{"$f":"IF(D2594=\"\",\"\",VLOOKUP(D2594,[2]VLOOK!$A$1:$E$48,3,0))","v":28001},"神戸",{"$f":"IF(D2594=\"\",\"\",VLOOKUP(D2594,[2]VLOOK!$A$1:$E$48,4,0))","v":"甲種港湾"},"国際戦略港湾","輸出","北マリアナ諸島",{"$f":"IF(H2594=\"\",\"\",VLOOKUP(H2594,[2]国名!$D$2:$E$284,2,0))","v":"オセアニア"},32,null,32,0]
["R3","兵庫県",{"$f":"IF(D2595=\"\",\"\",VLOOKUP(D2595,[2]VLOOK!$A$1:$E$48,3,0))","v":28001},"神戸",{"$f":"IF(D2595=\"\",\"\",VLOOKUP(D2595,[2]VLOOK!$A$1:$E$48,4,0))","v":"甲種港湾"},"国際戦略港湾","輸出","パラオ",{"$f":"IF(H2595=\"\",\"\",VLOOKUP(H2595,[2]国名!$D$2:$E$284,2,0))","v":"オセアニア"},32,null,32,0]
["R3","兵庫県",{"$f":"IF(D2596=\"\",\"\",VLOOKUP(D2596,[2]VLOOK!$A$1:$E$48,3,0))","v":28001},"神戸",{"$f":"IF(D2596=\"\",\"\",VLOOKUP(D2596,[2]VLOOK!$A$1:$E$48,4,0))","v":"甲種港湾"},"国際戦略港湾","輸出","オランダ",{"$f":"IF(H2596=\"\",\"\",VLOOKUP(H2596,[2]国名!$D$2:$E$284,2,0))","v":"ヨーロッパ"},{"v":40893,"d":"40,893"},null,{"v":39878,"d":"39,878"},1015]
["R3","兵庫県",{"$f":"IF(D2597=\"\",\"\",VLOOKUP(D2597,[2]VLOOK!$A$1:$E$48,3,0))","v":28001},"神戸",{"$f":"IF(D2597=\"\",\"\",VLOOKUP(D2597,[2]VLOOK!$A$1:$E$48,4,0))","v":"甲種港湾"},"国際戦略港湾","輸出","ドイツ",{"$f":"IF(H2597=\"\",\"\",VLOOKUP(H2597,[2]国名!$D$2:$E$284,2,0))","v":"ヨーロッパ"},{"v":20005,"d":"20,005"},null,{"v":19992,"d":"19,992"},13]
["R3","兵庫県",{"$f":"IF(D2598=\"\",\"\",VLOOKUP(D2598,[2]VLOOK!$A$1:$E$48,3,0))","v":28001},"神戸",{"$f":"IF(D2598=\"\",\"\",VLOOKUP(D2598,[2]VLOOK!$A$1:$E$48,4,0))","v":"甲種港湾"},"国際戦略港湾","輸出","フランス",{"$f":"IF(H2598=\"\",\"\",VLOOKUP(H2598,[2]国名!$D$2:$E$284,2,0))","v":"ヨーロッパ"},{"v":3910,"d":"3,910"},null,{"v":3900,"d":"3,900"},10]
["R3","兵庫県",{"$f":"IF(D2599=\"\",\"\",VLOOKUP(D2599,[2]VLOOK!$A$1:$E$48,3,0))","v":28001},"神戸",{"$f":"IF(D2599=\"\",\"\",VLOOKUP(D2599,[2]VLOOK!$A$1:$E$48,4,0))","v":"甲種港湾"},"国際戦略港湾","輸出","ベルギー",{"$f":"IF(H2599=\"\",\"\",VLOOKUP(H2599,[2]国名!$D$2:$E$284,2,0))","v":"ヨーロッパ"},27,null,27,0]
["R3","兵庫県",{"$f":"IF(D2600=\"\",\"\",VLOOKUP(D2600,[2]VLOOK!$A$1:$E$48,3,0))","v":28001},"神戸",{"$f":"IF(D2600=\"\",\"\",VLOOKUP(D2600,[2]VLOOK!$A$1:$E$48,4,0))","v":"甲種港湾"},"国際戦略港湾","輸出","ロシア",{"$f":"IF(H2600=\"\",\"\",VLOOKUP(H2600,[2]国名!$D$2:$E$284,2,0))","v":"ヨーロッパ"},{"v":5040,"d":"5,040"},18,{"v":4947,"d":"4,947"},93]
["R3","兵庫県",{"$f":"IF(D2601=\"\",\"\",VLOOKUP(D2601,[2]VLOOK!$A$1:$E$48,3,0))","v":28001},"神戸",{"$f":"IF(D2601=\"\",\"\",VLOOKUP(D2601,[2]VLOOK!$A$1:$E$48,4,0))","v":"甲種港湾"},"国際戦略港湾","輸出","アメリカ合衆国",{"$f":"IF(H2601=\"\",\"\",VLOOKUP(H2601,[2]国名!$D$2:$E$284,2,0))","v":"北米"},{"v":89603,"d":"89,603"},{"v":1140,"d":"1,140"},{"v":89190,"d":"89,190"},413]
["R3","兵庫県",{"$f":"IF(D2602=\"\",\"\",VLOOKUP(D2602,[2]VLOOK!$A$1:$E$48,3,0))","v":28001},"神戸",{"$f":"IF(D2602=\"\",\"\",VLOOKUP(D2602,[2]VLOOK!$A$1:$E$48,4,0))","v":"甲種港湾"},"国際戦略港湾","輸出","カナダ",{"$f":"IF(H2602=\"\",\"\",VLOOKUP(H2602,[2]国名!$D$2:$E$284,2,0))","v":"北米"},90,null,90,0]
["R3","兵庫県",{"$f":"IF(D2603=\"\",\"\",VLOOKUP(D2603,[2]VLOOK!$A$1:$E$48,3,0))","v":28001},"神戸",{"$f":"IF(D2603=\"\",\"\",VLOOKUP(D2603,[2]VLOOK!$A$1:$E$48,4,0))","v":"甲種港湾"},"国際戦略港湾","輸出","パナマ",{"$f":"IF(H2603=\"\",\"\",VLOOKUP(H2603,[2]国名!$D$2:$E$284,2,0))","v":"北米"},33,null,33,0]
["R3","和歌山県",{"$f":"IF(D2604=\"\",\"\",VLOOKUP(D2604,[2]VLOOK!$A$1:$E$48,3,0))","v":30001},"和歌山下津",{"$f":"IF(D2604=\"\",\"\",VLOOKUP(D2604,[2]VLOOK!$A$1:$E$48,4,0))","v":"甲種港湾"},"国際拠点港湾","輸出","韓国",{"$f":"IF(H2604=\"\",\"\",VLOOKUP(H2604,[2]国名!$D$2:$E$284,2,0))","v":"アジア"},{"v":1537,"d":"1,537"},null,709,828]
["R3","和歌山県",{"$f":"IF(D2605=\"\",\"\",VLOOKUP(D2605,[2]VLOOK!$A$1:$E$48,3,0))","v":30001},"和歌山下津",{"$f":"IF(D2605=\"\",\"\",VLOOKUP(D2605,[2]VLOOK!$A$1:$E$48,4,0))","v":"甲種港湾"},"国際拠点港湾","輸出","中国",{"$f":"IF(H2605=\"\",\"\",VLOOKUP(H2605,[2]国名!$D$2:$E$284,2,0))","v":"アジア"},6,null,6,0]
["R3","京都府",{"$f":"IF(D2606=\"\",\"\",VLOOKUP(D2606,[2]VLOOK!$A$1:$E$48,3,0))","v":26001},"舞鶴",{"$f":"IF(D2606=\"\",\"\",VLOOKUP(D2606,[2]VLOOK!$A$1:$E$48,4,0))","v":"甲種港湾"},"重要港湾","輸入","韓国",{"$f":"IF(H2606=\"\",\"\",VLOOKUP(H2606,[2]国名!$D$2:$E$284,2,0))","v":"アジア"},{"v":3970,"d":"3,970"},null,{"v":2374,"d":"2,374"},1596]
["R3","京都府",{"$f":"IF(D2607=\"\",\"\",VLOOKUP(D2607,[2]VLOOK!$A$1:$E$48,3,0))","v":26001},"舞鶴",{"$f":"IF(D2607=\"\",\"\",VLOOKUP(D2607,[2]VLOOK!$A$1:$E$48,4,0))","v":"甲種港湾"},"重要港湾","輸入","中国",{"$f":"IF(H2607=\"\",\"\",VLOOKUP(H2607,[2]国名!$D$2:$E$284,2,0))","v":"アジア"},{"v":1563,"d":"1,563"},null,{"v":1563,"d":"1,563"},0]
["R3","京都府",{"$f":"IF(D2608=\"\",\"\",VLOOKUP(D2608,[2]VLOOK!$A$1:$E$48,3,0))","v":26001},"舞鶴",{"$f":"IF(D2608=\"\",\"\",VLOOKUP(D2608,[2]VLOOK!$A$1:$E$48,4,0))","v":"甲種港湾"},"重要港湾","輸入","ベトナム",{"$f":"IF(H2608=\"\",\"\",VLOOKUP(H2608,[2]国名!$D$2:$E$284,2,0))","v":"アジア"},2,null,2,0]
["R3","京都府",{"$f":"IF(D2609=\"\",\"\",VLOOKUP(D2609,[2]VLOOK!$A$1:$E$48,3,0))","v":26001},"舞鶴",{"$f":"IF(D2609=\"\",\"\",VLOOKUP(D2609,[2]VLOOK!$A$1:$E$48,4,0))","v":"甲種港湾"},"重要港湾","輸入","ロシア",{"$f":"IF(H2609=\"\",\"\",VLOOKUP(H2609,[2]国名!$D$2:$E$284,2,0))","v":"ヨーロッパ"},126,null,25,101]
["R3","大阪府",{"$f":"IF(D2610=\"\",\"\",VLOOKUP(D2610,[2]VLOOK!$A$1:$E$48,3,0))","v":27002},"堺泉北",{"$f":"IF(D2610=\"\",\"\",VLOOKUP(D2610,[2]VLOOK!$A$1:$E$48,4,0))","v":"甲種港湾"},"国際拠点港湾","輸入","中国",{"$f":"IF(H2610=\"\",\"\",VLOOKUP(H2610,[2]国名!$D$2:$E$284,2,0))","v":"アジア"},{"v":15190,"d":"15,190"},null,{"v":15020,"d":"15,020"},170]
["R3","大阪府",{"$f":"IF(D2611=\"\",\"\",VLOOKUP(D2611,[2]VLOOK!$A$1:$E$48,3,0))","v":27002},"堺泉北",{"$f":"IF(D2611=\"\",\"\",VLOOKUP(D2611,[2]VLOOK!$A$1:$E$48,4,0))","v":"甲種港湾"},"国際拠点港湾","輸入","タイ",{"$f":"IF(H2611=\"\",\"\",VLOOKUP(H2611,[2]国名!$D$2:$E$284,2,0))","v":"アジア"},129,null,129,0]
["R3","大阪府",{"$f":"IF(D2612=\"\",\"\",VLOOKUP(D2612,[2]VLOOK!$A$1:$E$48,3,0))","v":27002},"堺泉北",{"$f":"IF(D2612=\"\",\"\",VLOOKUP(D2612,[2]VLOOK!$A$1:$E$48,4,0))","v":"甲種港湾"},"国際拠点港湾","輸入","ベトナム",{"$f":"IF(H2612=\"\",\"\",VLOOKUP(H2612,[2]国名!$D$2:$E$284,2,0))","v":"アジア"},634,null,634,0]
["R3","大阪府",{"$f":"IF(D2613=\"\",\"\",VLOOKUP(D2613,[2]VLOOK!$A$1:$E$48,3,0))","v":27001},"大阪",{"$f":"IF(D2613=\"\",\"\",VLOOKUP(D2613,[2]VLOOK!$A$1:$E$48,4,0))","v":"甲種港湾"},"国際戦略港湾","輸入","韓国",{"$f":"IF(H2613=\"\",\"\",VLOOKUP(H2613,[2]国名!$D$2:$E$284,2,0))","v":"アジア"},{"v":122438,"d":"122,438"},null,{"v":115327,"d":"115,327"},7110]
["R3","大阪府",{"$f":"IF(D2614=\"\",\"\",VLOOKUP(D2614,[2]VLOOK!$A$1:$E$48,3,0))","v":27001},"大阪",{"$f":"IF(D2614=\"\",\"\",VLOOKUP(D2614,[2]VLOOK!$A$1:$E$48,4,0))","v":"甲種港湾"},"国際戦略港湾","輸入","台湾",{"$f":"IF(H2614=\"\",\"\",VLOOKUP(H2614,[2]国名!$D$2:$E$284,2,0))","v":"アジア"},{"v":77243,"d":"77,243"},null,{"v":76969,"d":"76,969"},274]
["R3","大阪府",{"$f":"IF(D2615=\"\",\"\",VLOOKUP(D2615,[2]VLOOK!$A$1:$E$48,3,0))","v":27001},"大阪",{"$f":"IF(D2615=\"\",\"\",VLOOKUP(D2615,[2]VLOOK!$A$1:$E$48,4,0))","v":"甲種港湾"},"国際戦略港湾","輸入","中国",{"$f":"IF(H2615=\"\",\"\",VLOOKUP(H2615,[2]国名!$D$2:$E$284,2,0))","v":"アジア"},{"v":672088,"d":"672,088"},null,{"v":661008,"d":"661,008"},11080]
["R3","大阪府",{"$f":"IF(D2616=\"\",\"\",VLOOKUP(D2616,[2]VLOOK!$A$1:$E$48,3,0))","v":27001},"大阪",{"$f":"IF(D2616=\"\",\"\",VLOOKUP(D2616,[2]VLOOK!$A$1:$E$48,4,0))","v":"甲種港湾"},"国際戦略港湾","輸入","香港",{"$f":"IF(H2616=\"\",\"\",VLOOKUP(H2616,[2]国名!$D$2:$E$284,2,0))","v":"アジア"},{"v":76562,"d":"76,562"},null,{"v":76514,"d":"76,514"},48]
["R3","大阪府",{"$f":"IF(D2617=\"\",\"\",VLOOKUP(D2617,[2]VLOOK!$A$1:$E$48,3,0))","v":27001},"大阪",{"$f":"IF(D2617=\"\",\"\",VLOOKUP(D2617,[2]VLOOK!$A$1:$E$48,4,0))","v":"甲種港湾"},"国際戦略港湾","輸入","シンガポール",{"$f":"IF(H2617=\"\",\"\",VLOOKUP(H2617,[2]国名!$D$2:$E$284,2,0))","v":"アジア"},{"v":16128,"d":"16,128"},null,{"v":16120,"d":"16,120"},8]
["R3","大阪府",{"$f":"IF(D2618=\"\",\"\",VLOOKUP(D2618,[2]VLOOK!$A$1:$E$48,3,0))","v":27001},"大阪",{"$f":"IF(D2618=\"\",\"\",VLOOKUP(D2618,[2]VLOOK!$A$1:$E$48,4,0))","v":"甲種港湾"},"国際戦略港湾","輸入","タイ",{"$f":"IF(H2618=\"\",\"\",VLOOKUP(H2618,[2]国名!$D$2:$E$284,2,0))","v":"アジア"},{"v":65594,"d":"65,594"},null,{"v":65557,"d":"65,557"},37]
["R3","大阪府",{"$f":"IF(D2619=\"\",\"\",VLOOKUP(D2619,[2]VLOOK!$A$1:$E$48,3,0))","v":27001},"大阪",{"$f":"IF(D2619=\"\",\"\",VLOOKUP(D2619,[2]VLOOK!$A$1:$E$48,4,0))","v":"甲種港湾"},"国際戦略港湾","輸入","フィリピン",{"$f":"IF(H2619=\"\",\"\",VLOOKUP(H2619,[2]国名!$D$2:$E$284,2,0))","v":"アジア"},{"v":6097,"d":"6,097"},null,{"v":6078,"d":"6,078"},19]
["R3","大阪府",{"$f":"IF(D2620=\"\",\"\",VLOOKUP(D2620,[2]VLOOK!$A$1:$E$48,3,0))","v":27001},"大阪",{"$f":"IF(D2620=\"\",\"\",VLOOKUP(D2620,[2]VLOOK!$A$1:$E$48,4,0))","v":"甲種港湾"},"国際戦略港湾","輸入","マレーシア",{"$f":"IF(H2620=\"\",\"\",VLOOKUP(H2620,[2]国名!$D$2:$E$284,2,0))","v":"アジア"},{"v":27183,"d":"27,183"},null,{"v":27183,"d":"27,183"},0]
["R3","大阪府",{"$f":"IF(D2621=\"\",\"\",VLOOKUP(D2621,[2]VLOOK!$A$1:$E$48,3,0))","v":27001},"大阪",{"$f":"IF(D2621=\"\",\"\",VLOOKUP(D2621,[2]VLOOK!$A$1:$E$48,4,0))","v":"甲種港湾"},"国際戦略港湾","輸入","ベトナム",{"$f":"IF(H2621=\"\",\"\",VLOOKUP(H2621,[2]国名!$D$2:$E$284,2,0))","v":"アジア"},{"v":64574,"d":"64,574"},null,{"v":64539,"d":"64,539"},35]
["R3","大阪府",{"$f":"IF(D2622=\"\",\"\",VLOOKUP(D2622,[2]VLOOK!$A$1:$E$48,3,0))","v":27001},"大阪",{"$f":"IF(D2622=\"\",\"\",VLOOKUP(D2622,[2]VLOOK!$A$1:$E$48,4,0))","v":"甲種港湾"},"国際戦略港湾","輸入","オーストラリア",{"$f":"IF(H2622=\"\",\"\",VLOOKUP(H2622,[2]国名!$D$2:$E$284,2,0))","v":"オセアニア"},{"v":18517,"d":"18,517"},null,{"v":15444,"d":"15,444"},3073]
["R3","大阪府",{"$f":"IF(D2623=\"\",\"\",VLOOKUP(D2623,[2]VLOOK!$A$1:$E$48,3,0))","v":27001},"大阪",{"$f":"IF(D2623=\"\",\"\",VLOOKUP(D2623,[2]VLOOK!$A$1:$E$48,4,0))","v":"甲種港湾"},"国際戦略港湾","輸入","ロシア",{"$f":"IF(H2623=\"\",\"\",VLOOKUP(H2623,[2]国名!$D$2:$E$284,2,0))","v":"ヨーロッパ"},116,null,116,0]
["R3","大阪府",{"$f":"IF(D2624=\"\",\"\",VLOOKUP(D2624,[2]VLOOK!$A$1:$E$48,3,0))","v":27001},"大阪",{"$f":"IF(D2624=\"\",\"\",VLOOKUP(D2624,[2]VLOOK!$A$1:$E$48,4,0))","v":"甲種港湾"},"国際戦略港湾","輸入","アメリカ合衆国",{"$f":"IF(H2624=\"\",\"\",VLOOKUP(H2624,[2]国名!$D$2:$E$284,2,0))","v":"北米"},{"v":9077,"d":"9,077"},null,{"v":7823,"d":"7,823"},1254]
["R3","大阪府",{"$f":"IF(D2625=\"\",\"\",VLOOKUP(D2625,[2]VLOOK!$A$1:$E$48,3,0))","v":27001},"大阪",{"$f":"IF(D2625=\"\",\"\",VLOOKUP(D2625,[2]VLOOK!$A$1:$E$48,4,0))","v":"甲種港湾"},"国際戦略港湾","輸入","カナダ",{"$f":"IF(H2625=\"\",\"\",VLOOKUP(H2625,[2]国名!$D$2:$E$284,2,0))","v":"北米"},{"v":10849,"d":"10,849"},null,{"v":9807,"d":"9,807"},1042]
["R3","兵庫県",{"$f":"IF(D2626=\"\",\"\",VLOOKUP(D2626,[2]VLOOK!$A$1:$E$48,3,0))","v":28001},"神戸",{"$f":"IF(D2626=\"\",\"\",VLOOKUP(D2626,[2]VLOOK!$A$1:$E$48,4,0))","v":"甲種港湾"},"国際戦略港湾","輸入","韓国",{"$f":"IF(H2626=\"\",\"\",VLOOKUP(H2626,[2]国名!$D$2:$E$284,2,0))","v":"アジア"},{"v":75127,"d":"75,127"},30,{"v":61991,"d":"61,991"},13136]
["R3","兵庫県",{"$f":"IF(D2627=\"\",\"\",VLOOKUP(D2627,[2]VLOOK!$A$1:$E$48,3,0))","v":28001},"神戸",{"$f":"IF(D2627=\"\",\"\",VLOOKUP(D2627,[2]VLOOK!$A$1:$E$48,4,0))","v":"甲種港湾"},"国際戦略港湾","輸入","台湾",{"$f":"IF(H2627=\"\",\"\",VLOOKUP(H2627,[2]国名!$D$2:$E$284,2,0))","v":"アジア"},{"v":57696,"d":"57,696"},null,{"v":55692,"d":"55,692"},2004]
["R3","兵庫県",{"$f":"IF(D2628=\"\",\"\",VLOOKUP(D2628,[2]VLOOK!$A$1:$E$48,3,0))","v":28001},"神戸",{"$f":"IF(D2628=\"\",\"\",VLOOKUP(D2628,[2]VLOOK!$A$1:$E$48,4,0))","v":"甲種港湾"},"国際戦略港湾","輸入","中国",{"$f":"IF(H2628=\"\",\"\",VLOOKUP(H2628,[2]国名!$D$2:$E$284,2,0))","v":"アジア"},{"v":342609,"d":"342,609"},{"v":1858,"d":"1,858"},{"v":331697,"d":"331,697"},10912]
["R3","兵庫県",{"$f":"IF(D2629=\"\",\"\",VLOOKUP(D2629,[2]VLOOK!$A$1:$E$48,3,0))","v":28001},"神戸",{"$f":"IF(D2629=\"\",\"\",VLOOKUP(D2629,[2]VLOOK!$A$1:$E$48,4,0))","v":"甲種港湾"},"国際戦略港湾","輸入","香港",{"$f":"IF(H2629=\"\",\"\",VLOOKUP(H2629,[2]国名!$D$2:$E$284,2,0))","v":"アジア"},{"v":40255,"d":"40,255"},null,{"v":39513,"d":"39,513"},742]
["R3","兵庫県",{"$f":"IF(D2630=\"\",\"\",VLOOKUP(D2630,[2]VLOOK!$A$1:$E$48,3,0))","v":28001},"神戸",{"$f":"IF(D2630=\"\",\"\",VLOOKUP(D2630,[2]VLOOK!$A$1:$E$48,4,0))","v":"甲種港湾"},"国際戦略港湾","輸入","インドネシア",{"$f":"IF(H2630=\"\",\"\",VLOOKUP(H2630,[2]国名!$D$2:$E$284,2,0))","v":"アジア"},{"v":17466,"d":"17,466"},2,{"v":17341,"d":"17,341"},125]
["R3","兵庫県",{"$f":"IF(D2631=\"\",\"\",VLOOKUP(D2631,[2]VLOOK!$A$1:$E$48,3,0))","v":28001},"神戸",{"$f":"IF(D2631=\"\",\"\",VLOOKUP(D2631,[2]VLOOK!$A$1:$E$48,4,0))","v":"甲種港湾"},"国際戦略港湾","輸入","カンボジア",{"$f":"IF(H2631=\"\",\"\",VLOOKUP(H2631,[2]国名!$D$2:$E$284,2,0))","v":"アジア"},7,1,7,0]
["R3","兵庫県",{"$f":"IF(D2632=\"\",\"\",VLOOKUP(D2632,[2]VLOOK!$A$1:$E$48,3,0))","v":28001},"神戸",{"$f":"IF(D2632=\"\",\"\",VLOOKUP(D2632,[2]VLOOK!$A$1:$E$48,4,0))","v":"甲種港湾"},"国際戦略港湾","輸入","シンガポール",{"$f":"IF(H2632=\"\",\"\",VLOOKUP(H2632,[2]国名!$D$2:$E$284,2,0))","v":"アジア"},{"v":69090,"d":"69,090"},860,{"v":67755,"d":"67,755"},1335]
["R3","兵庫県",{"$f":"IF(D2633=\"\",\"\",VLOOKUP(D2633,[2]VLOOK!$A$1:$E$48,3,0))","v":28001},"神戸",{"$f":"IF(D2633=\"\",\"\",VLOOKUP(D2633,[2]VLOOK!$A$1:$E$48,4,0))","v":"甲種港湾"},"国際戦略港湾","輸入","タイ",{"$f":"IF(H2633=\"\",\"\",VLOOKUP(H2633,[2]国名!$D$2:$E$284,2,0))","v":"アジア"},{"v":54298,"d":"54,298"},{"v":1240,"d":"1,240"},{"v":53955,"d":"53,955"},343]
["R3","兵庫県",{"$f":"IF(D2634=\"\",\"\",VLOOKUP(D2634,[2]VLOOK!$A$1:$E$48,3,0))","v":28001},"神戸",{"$f":"IF(D2634=\"\",\"\",VLOOKUP(D2634,[2]VLOOK!$A$1:$E$48,4,0))","v":"甲種港湾"},"国際戦略港湾","輸入","フィリピン",{"$f":"IF(H2634=\"\",\"\",VLOOKUP(H2634,[2]国名!$D$2:$E$284,2,0))","v":"アジア"},{"v":16527,"d":"16,527"},null,{"v":12511,"d":"12,511"},4016]
["R3","兵庫県",{"$f":"IF(D2635=\"\",\"\",VLOOKUP(D2635,[2]VLOOK!$A$1:$E$48,3,0))","v":28001},"神戸",{"$f":"IF(D2635=\"\",\"\",VLOOKUP(D2635,[2]VLOOK!$A$1:$E$48,4,0))","v":"甲種港湾"},"国際戦略港湾","輸入","マレーシア",{"$f":"IF(H2635=\"\",\"\",VLOOKUP(H2635,[2]国名!$D$2:$E$284,2,0))","v":"アジア"},{"v":31533,"d":"31,533"},null,{"v":31258,"d":"31,258"},275]
["R3","兵庫県",{"$f":"IF(D2636=\"\",\"\",VLOOKUP(D2636,[2]VLOOK!$A$1:$E$48,3,0))","v":28001},"神戸",{"$f":"IF(D2636=\"\",\"\",VLOOKUP(D2636,[2]VLOOK!$A$1:$E$48,4,0))","v":"甲種港湾"},"国際戦略港湾","輸入","ベトナム",{"$f":"IF(H2636=\"\",\"\",VLOOKUP(H2636,[2]国名!$D$2:$E$284,2,0))","v":"アジア"},{"v":38756,"d":"38,756"},151,{"v":38497,"d":"38,497"},259]
["R3","兵庫県",{"$f":"IF(D2637=\"\",\"\",VLOOKUP(D2637,[2]VLOOK!$A$1:$E$48,3,0))","v":28001},"神戸",{"$f":"IF(D2637=\"\",\"\",VLOOKUP(D2637,[2]VLOOK!$A$1:$E$48,4,0))","v":"甲種港湾"},"国際戦略港湾","輸入","オーストラリア",{"$f":"IF(H2637=\"\",\"\",VLOOKUP(H2637,[2]国名!$D$2:$E$284,2,0))","v":"オセアニア"},2,null,2,0]
["R3","兵庫県",{"$f":"IF(D2638=\"\",\"\",VLOOKUP(D2638,[2]VLOOK!$A$1:$E$48,3,0))","v":28001},"神戸",{"$f":"IF(D2638=\"\",\"\",VLOOKUP(D2638,[2]VLOOK!$A$1:$E$48,4,0))","v":"甲種港湾"},"国際戦略港湾","輸入","仏領ポリネシア",{"$f":"IF(H2638=\"\",\"\",VLOOKUP(H2638,[2]国名!$D$2:$E$284,2,0))","v":"オセアニア"},13,null,4,9]
["R3","兵庫県",{"$f":"IF(D2639=\"\",\"\",VLOOKUP(D2639,[2]VLOOK!$A$1:$E$48,3,0))","v":28001},"神戸",{"$f":"IF(D2639=\"\",\"\",VLOOKUP(D2639,[2]VLOOK!$A$1:$E$48,4,0))","v":"甲種港湾"},"国際戦略港湾","輸入","グアム",{"$f":"IF(H2639=\"\",\"\",VLOOKUP(H2639,[2]国名!$D$2:$E$284,2,0))","v":"オセアニア"},12,null,0,12]
["R3","兵庫県",{"$f":"IF(D2640=\"\",\"\",VLOOKUP(D2640,[2]VLOOK!$A$1:$E$48,3,0))","v":28001},"神戸",{"$f":"IF(D2640=\"\",\"\",VLOOKUP(D2640,[2]VLOOK!$A$1:$E$48,4,0))","v":"甲種港湾"},"国際戦略港湾","輸入","ニューカレドニア",{"$f":"IF(H2640=\"\",\"\",VLOOKUP(H2640,[2]国名!$D$2:$E$284,2,0))","v":"オセアニア"},6,null,2,4]
["R3","兵庫県",{"$f":"IF(D2641=\"\",\"\",VLOOKUP(D2641,[2]VLOOK!$A$1:$E$48,3,0))","v":28001},"神戸",{"$f":"IF(D2641=\"\",\"\",VLOOKUP(D2641,[2]VLOOK!$A$1:$E$48,4,0))","v":"甲種港湾"},"国際戦略港湾","輸入","ニュージーランド",{"$f":"IF(H2641=\"\",\"\",VLOOKUP(H2641,[2]国名!$D$2:$E$284,2,0))","v":"オセアニア"},{"v":8197,"d":"8,197"},438,{"v":6942,"d":"6,942"},1255]
["R3","兵庫県",{"$f":"IF(D2642=\"\",\"\",VLOOKUP(D2642,[2]VLOOK!$A$1:$E$48,3,0))","v":28001},"神戸",{"$f":"IF(D2642=\"\",\"\",VLOOKUP(D2642,[2]VLOOK!$A$1:$E$48,4,0))","v":"甲種港湾"},"国際戦略港湾","輸入","パプアニューギニア",{"$f":"IF(H2642=\"\",\"\",VLOOKUP(H2642,[2]国名!$D$2:$E$284,2,0))","v":"オセアニア"},23,null,18,5]
["R3","兵庫県",{"$f":"IF(D2643=\"\",\"\",VLOOKUP(D2643,[2]VLOOK!$A$1:$E$48,3,0))","v":28001},"神戸",{"$f":"IF(D2643=\"\",\"\",VLOOKUP(D2643,[2]VLOOK!$A$1:$E$48,4,0))","v":"甲種港湾"},"国際戦略港湾","輸入","バヌアツ",{"$f":"IF(H2643=\"\",\"\",VLOOKUP(H2643,[2]国名!$D$2:$E$284,2,0))","v":"オセアニア"},2,null,2,0]
["R3","兵庫県",{"$f":"IF(D2644=\"\",\"\",VLOOKUP(D2644,[2]VLOOK!$A$1:$E$48,3,0))","v":28001},"神戸",{"$f":"IF(D2644=\"\",\"\",VLOOKUP(D2644,[2]VLOOK!$A$1:$E$48,4,0))","v":"甲種港湾"},"国際戦略港湾","輸入","ミクロネシア",{"$f":"IF(H2644=\"\",\"\",VLOOKUP(H2644,[2]国名!$D$2:$E$284,2,0))","v":"オセアニア"},32,null,0,32]
["R3","兵庫県",{"$f":"IF(D2645=\"\",\"\",VLOOKUP(D2645,[2]VLOOK!$A$1:$E$48,3,0))","v":28001},"神戸",{"$f":"IF(D2645=\"\",\"\",VLOOKUP(D2645,[2]VLOOK!$A$1:$E$48,4,0))","v":"甲種港湾"},"国際戦略港湾","輸入","マーシャル諸島",{"$f":"IF(H2645=\"\",\"\",VLOOKUP(H2645,[2]国名!$D$2:$E$284,2,0))","v":"オセアニア"},4,null,0,4]
["R3","兵庫県",{"$f":"IF(D2646=\"\",\"\",VLOOKUP(D2646,[2]VLOOK!$A$1:$E$48,3,0))","v":28001},"神戸",{"$f":"IF(D2646=\"\",\"\",VLOOKUP(D2646,[2]VLOOK!$A$1:$E$48,4,0))","v":"甲種港湾"},"国際戦略港湾","輸入","オランダ",{"$f":"IF(H2646=\"\",\"\",VLOOKUP(H2646,[2]国名!$D$2:$E$284,2,0))","v":"ヨーロッパ"},{"v":26598,"d":"26,598"},null,{"v":26488,"d":"26,488"},110]
["R3","兵庫県",{"$f":"IF(D2647=\"\",\"\",VLOOKUP(D2647,[2]VLOOK!$A$1:$E$48,3,0))","v":28001},"神戸",{"$f":"IF(D2647=\"\",\"\",VLOOKUP(D2647,[2]VLOOK!$A$1:$E$48,4,0))","v":"甲種港湾"},"国際戦略港湾","輸入","ドイツ",{"$f":"IF(H2647=\"\",\"\",VLOOKUP(H2647,[2]国名!$D$2:$E$284,2,0))","v":"ヨーロッパ"},{"v":18342,"d":"18,342"},null,{"v":18188,"d":"18,188"},154]
["R3","兵庫県",{"$f":"IF(D2648=\"\",\"\",VLOOKUP(D2648,[2]VLOOK!$A$1:$E$48,3,0))","v":28001},"神戸",{"$f":"IF(D2648=\"\",\"\",VLOOKUP(D2648,[2]VLOOK!$A$1:$E$48,4,0))","v":"甲種港湾"},"国際戦略港湾","輸入","フランス",{"$f":"IF(H2648=\"\",\"\",VLOOKUP(H2648,[2]国名!$D$2:$E$284,2,0))","v":"ヨーロッパ"},{"v":6890,"d":"6,890"},null,{"v":6829,"d":"6,829"},61]
["R3","兵庫県",{"$f":"IF(D2649=\"\",\"\",VLOOKUP(D2649,[2]VLOOK!$A$1:$E$48,3,0))","v":28001},"神戸",{"$f":"IF(D2649=\"\",\"\",VLOOKUP(D2649,[2]VLOOK!$A$1:$E$48,4,0))","v":"甲種港湾"},"国際戦略港湾","輸入","ロシア",{"$f":"IF(H2649=\"\",\"\",VLOOKUP(H2649,[2]国名!$D$2:$E$284,2,0))","v":"ヨーロッパ"},{"v":3932,"d":"3,932"},null,{"v":2665,"d":"2,665"},1267]
["R3","兵庫県",{"$f":"IF(D2650=\"\",\"\",VLOOKUP(D2650,[2]VLOOK!$A$1:$E$48,3,0))","v":28001},"神戸",{"$f":"IF(D2650=\"\",\"\",VLOOKUP(D2650,[2]VLOOK!$A$1:$E$48,4,0))","v":"甲種港湾"},"国際戦略港湾","輸入","アメリカ合衆国",{"$f":"IF(H2650=\"\",\"\",VLOOKUP(H2650,[2]国名!$D$2:$E$284,2,0))","v":"北米"},{"v":159372,"d":"159,372"},{"v":12553,"d":"12,553"},{"v":128327,"d":"128,327"},31044]
["R3","兵庫県",{"$f":"IF(D2651=\"\",\"\",VLOOKUP(D2651,[2]VLOOK!$A$1:$E$48,3,0))","v":28001},"神戸",{"$f":"IF(D2651=\"\",\"\",VLOOKUP(D2651,[2]VLOOK!$A$1:$E$48,4,0))","v":"甲種港湾"},"国際戦略港湾","輸入","カナダ",{"$f":"IF(H2651=\"\",\"\",VLOOKUP(H2651,[2]国名!$D$2:$E$284,2,0))","v":"北米"},{"v":28832,"d":"28,832"},{"v":1659,"d":"1,659"},{"v":21007,"d":"21,007"},7825]
["R3","兵庫県",{"$f":"IF(D2652=\"\",\"\",VLOOKUP(D2652,[2]VLOOK!$A$1:$E$48,3,0))","v":28001},"神戸",{"$f":"IF(D2652=\"\",\"\",VLOOKUP(D2652,[2]VLOOK!$A$1:$E$48,4,0))","v":"甲種港湾"},"国際戦略港湾","輸入","パナマ",{"$f":"IF(H2652=\"\",\"\",VLOOKUP(H2652,[2]国名!$D$2:$E$284,2,0))","v":"北米"},{"v":1166,"d":"1,166"},536,941,225]
["R3","和歌山県",{"$f":"IF(D2653=\"\",\"\",VLOOKUP(D2653,[2]VLOOK!$A$1:$E$48,3,0))","v":30001},"和歌山下津",{"$f":"IF(D2653=\"\",\"\",VLOOKUP(D2653,[2]VLOOK!$A$1:$E$48,4,0))","v":"甲種港湾"},"国際拠点港湾","輸入","韓国",{"$f":"IF(H2653=\"\",\"\",VLOOKUP(H2653,[2]国名!$D$2:$E$284,2,0))","v":"アジア"},{"v":1675,"d":"1,675"},null,{"v":1675,"d":"1,675"},0]